{"text_format":"1","workbook":"xlsx","n_sheets":40,"sheets":["Settings","Information","Technical Guidelines","Economic definitions","Revenue","Admin","2","3","4","5","6","7","8","9","10","11","12","13","14","15","Expend summary","CashFlow","CashFlowDiff","FinancialPosition","RelatedPartyRevenue","Personnel","Infrastructure","ENESummary","Graphs","TrendsAnalysis","PersonnelPub","PersonnelTrends","PerformInfoPub","InfraS Summary","Checks","Consolidation","SOSUC","Govt Acc financing table","Sign-Off","Metadata"],"not_rendered":{"charts":7,"images":5,"macros":1,"external_links":5,"defined_names":3180,"comments":6,"pivot_tables":0},"unopened":[],"bounds":{"document_bytes":16777216,"sheet_cells":100000,"rows_first":2000,"rows_last":500,"rows_between":2000,"halvings":0,"cell_chars":16384,"cell_head_chars":4096},"cells_cut":0,"cells_raw":0,"read":"whole","date_system":"1900"}

{"sheet":"Settings","index":0,"n_rows":234,"n_cols":67,"rows_kept":234,"cut":false,"hidden":true,"merged":[[13,40,13,54],[13,57,13,63],[13,25,13,37]]}
[null,null,"Department Database","Entities name ENE publication","Entities name Database","Examiner","ExamTel","ExamMail","TechName","TechTel","TechMail","Type","Consol","PFMA","PE_No1","PE_No","Entity Abbreviation"]
[null,null,{"$f":"INDEX(($C$17:$C$240),MATCH($E$2,$E$17:$E$240,0))","v":"Public Enterprises"},{"$f":"INDEX(($D$17:$D$240),MATCH($E$2,$E$17:$E$240,0))","v":"Transnet Limited"},{"$f":"Information!A14","v":"Transnet Limited"},{"$f":"INDEX(($F$17:$F$240),MATCH($E$2,$E$17:$E$240,0))","v":"Isaac Kurasha"},{"$f":"INDEX(($G$17:$G$240),MATCH($E$2,$E$17:$E$240,0))","v":"(012) 315 5213"},{"$f":"INDEX(($H$17:$H$240),MATCH($E$2,$E$17:$E$240,0))","v":"Isaac.Kurasha@treasury.gov.za"},{"$f":"INDEX(($I$17:$I$240),MATCH($E$2,$E$17:$E$240,0))","v":"Sihle Manqele"},{"$f":"INDEX(($J$17:$J$240),MATCH($E$2,$E$17:$E$240,0))","v":"(012) 406 9174"},{"$f":"INDEX(($K$17:$K$240),MATCH($E$2,$E$17:$E$240,0))","v":"Sihle.Manqele@treasury.gov.za"},{"$f":"INDEX(($L$17:$L$240),MATCH($E$2,$E$17:$E$240,0))","v":1},{"$f":"INDEX(($M$17:$M$240),MATCH($E$2,$E$17:$E$240,0))","v":3},{"$f":"INDEX(($N$17:$N$240),MATCH($E$2,$E$17:$E$240,0))","v":2},{"$f":"INDEX(($O$17:$O$240),MATCH($E$2,$E$17:$E$240,0))","v":"PE196"},{"$f":"INDEX(($P$17:$P$240),MATCH($E$2,$E$17:$E$240,0))","v":196},{"$f":"INDEX(($Q$17:$Q$240),MATCH($E$2,$E$17:$E$240,0))","v":"Transnet"}]
[]
[]
[]
[]
[]
[]
[]
[]
[]
[]
[]
[null,null,null,null,null,null,null,null,null,null,null,null,null,null,null,null,null,null,null,null,null,null,null,null,null,"Related Party",null,null,null,null,null,null,null,null,null,null,null,null,null,null,"Personnel",null,null,null,null,null,null,null,null,null,null,null,null,null,null,null,null,"Infrastructure"]
[null,null,null,null,null,null,null,null,null,null,null,null,null,null,null,null,null,null,null,null,null,null,null,null,null,null,null,{"$f":"COUNTA(AB18:AB236)","v":41},{"$f":"COUNTA(AC18:AC235)","v":146},{"$f":"COUNTA(AD18:AD235)","v":16},{"$f":"COUNTA(AE18:AE236)","v":14},16,15,13,14,15,14,{"$f":"COUNTA(AL18:AL236)","v":15},null,null,null,null,null,null,{"$f":"COUNTA(AS18:AS20)","v":3},{"$f":"COUNTA(AT18:AT20)","v":3},{"$f":"COUNTA(AU18:AU19)","v":2},2,2,2,2,2]
[null,null,"Department","EntityNameENE","EntityName","Examiner","ExamTel","ExamMail","TechName","TechTel","TechMail","Type_Code","ConsolIndi","PFMA","PE_No1","PE_No","ENT_Abrev","Sorce",null,"Years",null,null,"Priorities",null,null,"Entity revenue","Related Party category","Related Party Name",null,null,null,null,null,null,null,null,null,null,null,null,"Level","Salary Level","Salary Level 202022","Occupation",null,null,null,null,null,null,null,null,"Category","Occupation","Components of Remuneration",null,null,"SIP Category","InfraList1","InfraList2","InfraList3","InfraList4","SCOA level",null,null,null,"Headings"]
[null,null,"Science and Innovation","Academy of Science of South Africa","Academy of Science of South Africa","Thabiso Molewa","(012) 395 6780","thabiso.molewa@treasury.gov.za","Vuyo Ngqukumba","(012) 315 5760","Vuyo.Ngqukumba@treasury.gov.za",1,1,"Not listed","PE8",8,"ASSAF",202324,null,"2019/20",null,null,"Priority 1: A Capable, Ethical and Developmental State",null,null,"Advertising","National Department","National Department","Other Public Entities","Eastern Cape  ","Free State  ","Gauteng","Kwazulu-Natal","Limpopo","Mpumalanga","Northern Cape","North West","Western Cape",null,null,1,"≤104 071",null,"Executive Board Members","Executive Board Members","Executive Management","Senior Management","Middle Management","Professionals","Skilled","Semi-skilled","Very low skilled","Permanent","Actors","Guaranteed package",null,null,"Not related to SIPs","Programme","New infrastructure assets","Site identification","Mega","Residential buildings",null,null,null,"Budget"]
[null,null,"National Treasury","Accounting Standards Board","Accounting Standards Board","Mokgatla Tema ","(012) 315 5948","mokgatla.tema@treasury.gov.za","Patrick Mbedzi","(012) 315 5912","Patrick.Mbedzi@treasury.gov.za",1,1,"3A","PE7",7,"ASB",202324,null,"2020/21",null,null,"Priority 2: Economic Transformation and Job Creation",null,null,"Communication (G&S)","Other Public Entities","Science and Innovation","Academy of Science of South Africa","Office of the Premier","Office of the Premier","Office of the Premier","Office of the Premier","Office of the Premier","Office of the Premier","Office of the Premier","Office of the Premier","Premier",null,null,2,"104 072 - 124 433",null,"Executive Management","Guaranteed package","Guaranteed package","Guaranteed package","Guaranteed package","Guaranteed package","Guaranteed package","Guaranteed package","Guaranteed package","Temporary/Contract","Adjudicators","Performance bonus",null,null,"SIP 1: Unlocking the northern mineral belt with Waterberg as Catalyst","Project ","Upgrading and additions","Pre-feasibility","Large","Non-residential buildings",null,null,null,"Audited\noutcome"]
[null,null,"International Relations and Cooperation","African Renaissance and International Cooperation Fund","African Renaissance and International Cooperation Fund","George Tembo","(012) 315 5514","george.tembo@treasury.gov.za","Patrick Mbedzi","(012) 315 5912","Patrick.Mbedzi@treasury.gov.za",3,1,"3A","PE2",2,"ARICF",202324,null,"2021/22",null,null,"Priority 3: Education, Skills and Health",null,null,"Computer services","Eastern Cape  ","National Treasury","Accounting Standards Board","Provincial Legislature","Provincial Legislature","Provincial Legislature","Provincial Legislature","Provincial Legislature","Provincial Legislature","Provincial Legislature","Provincial Legislature","Transport and Public Works",null,null,3,"124 434 - 147 459",null,"Senior Management","Performance bonus","Performance bonus","Other","Other","Other","Other","Other","Other",null,"Administrative and related professionals","Other",null,null,"SIP 2: Durban-Free State Gauteng Logistics and Industrial Corridor",null,"Rehabilitation and refurbishment","Feasibility","Small","Investment property",null,null,null,"Budget"]
[null,null,"Public Works and Infrastructure","Agrément South Africa","Agrément South Africa","George Tembo","(012) 315 5514","george.tembo@treasury.gov.za","Patrick Mbedzi","(012) 315 5912","Patrick.Mbedzi@treasury.gov.za",1,1,"3A","PE246",246,"ASA",202324,null,"2022/23",null,null,"Priority 4: Consolidating the Social Wage through Reliable and Quality Basic Services",null,null,"Consultants: Business and advisory services","Free State  ","International Relations and Cooperation","African Renaissance and International Cooperation Fund","Health","Economic, Small Business Development, Tourism and Environmental Affairs","Economic Development","Health","Health","Provincial Treasury","Transport, Safety and Liaison","Health","Agriculture",null,null,4,"147 460 - 176 308",null,"Middle Management","Other","Other",null,null,null,null,null,null,null,"Agriculture related",null,null,null,"Sip 3: South eastern note and corridor development",null,"Maintenance and repair","Design",null,"Heritage assets",null,null,null,"Audited\noutcome"]
[null,null,"Agriculture, Land Reform and Rural Development","Agricultural land holding account","Agricultural Land Holding Account","Humbelani Ramuedzisi","(012) 315 5585","humbelani.ramuedzisi@treasury.gov.za","Vuyo Ngqukumba","(012) 315 5760","Vuyo.Ngqukumba@treasury.gov.za",1,1,"Not listed","PE62",62,"ALHA",202324,null,"2023/24",null,null,"Priority 5: Spatial Integration, Human Settlements and Local Government",null,null,"Infrastructure and planning services","Gauteng","Public Works and Infrastructure","Agrement South Africa","Social Development","Provincial Treasury","Health","Social Development","Social Development","Co-Operative Governance and Traditional Affairs","Education","Arts, Culture, Sports and Recreation","Economic Development and Tourism",null,null,5,"176 309 - 211 712",null,"Professionals",null,null,null,null,null,null,null,null,null,"Analysts",null,null,null,"SIP 4: Unlocking the economic opportunities in the Both West Province",null,null,"Tender",null,"Other fixed structures",null,null,null,"Budget"]
[null,null,"Agriculture, Land Reform and Rural Development","Agricultural Research Council","Agricultural Research Council","Humbelani Ramuedzisi","(012) 315 5585","humbelani.ramuedzisi@treasury.gov.za","Vuyo Ngqukumba","(012) 315 5760","Vuyo.Ngqukumba@treasury.gov.za",1,1,"3A","PE5",5,"ARC",202324,null,"2024/25",null,null,"Priority 6: Social Cohesion and Safer Communities",null,null,"Laboratory services","Kwazulu-Natal","Agriculture, Land Reform and Rural Development","Agricultural Land Holding Account","Roads and Public Works","Health","Education","Education","Roads and Public Works","Agriculture, Rural Development, Land and Environmental Affairs","Roads and Public Works","Community Safety and Transport Management","Cultural Affairs and Sport",null,null,6,"211 713 - 261 370",null,"Skilled",null,null,null,null,null,null,null,null,null,"Appraisers-valuers and related professionals",null,null,null,"SIP 5: Saldanha-Northern Cape Development Corridor",null,null,"Construction",null,null,null,null,null,"Audited\noutcome"]
[null,null,"Higher Education and Training","Agricultural Sector Education and Training Authority","Agricultural Sector Education and Training Authority","Spencer Janari","(012) 315 5436","spencer.janari@treasury.gov.za","Vuyo Ngqukumba","(012) 315 5760","Vuyo.Ngqukumba@treasury.gov.za",2,3,"3A","PE214",214,"AgriSETA",202324,null,"2025/26",null,null,"Priority 7: A Better Africa and World",null,null,"Legal services (G&S)","Limpopo","Higher Education and Training","Agricultural Research Council","Education","Education","Social Development","Cooperative Governance and Traditional Affairs","Education","Economic Development and Tourism","Economic Development and Tourism","Economic Development, Environment, Conservation and Tourism","Local Government",null,null,7,"261 371 - 321 542",null,"Semi-skilled",null,null,null,null,null,null,null,null,null,"Architects and related professionals",null,null,null,"SIP 6: Integrated municipal infrastructure project",null,null,"Hand over",null,null,null,null,null,"Budget\nestimate"]
[null,null,"Transport","Air Traffic and Navigation Services Company Limited","Air Traffic and Navigation Services Company","Luyolo Ntlangula","(012) 315 5571","luyolo.ntlangula@treasury.gov.za","Mntazi Msiza","(012) 315 5876","Mntazi.msiza@treasury.gov.za",1,3,2,"PE9",9,"ATNS",202324,null,null,null,null,null,null,null,"Science and technological services","Mpumalanga","Transport","Amatola Water Board","Local Government and Traditional Affairs","Social Development","Cooperative Governance and Traditional Affairs","Agriculture and Rural Development","Local Government and Traditional Affairs","Education","Sport,  Arts and Culture","Education","Provincial Parliament",null,null,8,"321 543 - 382 244",null,"Very low skilled",null,null,null,null,null,null,null,null,null,"Archivists and related professionals",null,null,null,"SIP 7: Integrated urban space and public transport programme",null,null,"Handed over",null,null,null,null,null,"Approved budget"]
[null,null,"Transport","The Airports Company Limited","Airports Company","Luyolo Ntlangula","(012) 315 5571","luyolo.ntlangula@treasury.gov.za","Mntazi Msiza","(012) 315 5876","Mntazi.msiza@treasury.gov.za",1,3,2,"PE1",1,"ACSA",202324,null,null,null,null,null,null,null,"Contractors","Northern Cape","Public Enterprises","Armaments Corporation of South Africa Limited","Rural Development and Agrarian Reform","Cooperative Governance and Traditional Affairs","Human Settlements","Economic Development, Environmental Affairs and Tourism","Rural Development and Agrarian Reform","Public Works, Roads and Transport","Provincial Treasury","Local Government and Traditional Affairs","Provincial Treasury",null,null,9,"382 245 - 477 090",null,null,null,null,null,null,null,null,null,null,null,"Artisans and related professionals",null,null,null,"SIP 8: Green energy in support of the South African economy",null,null,"On hold",null,null,null,null,null,"Changes from \nbudget estimate"]
[null,null,"Public Enterprises","Alexkor Limited","Alexkor Limited","Isaac Kurasha","(012) 315 5213","Isaac.Kurasha@treasury.gov.za","Sihle Manqele","(012) 406 9174","Sihle.Manqele@treasury.gov.za",1,3,2,"PE4",4,"Alexkor",202324,null,null,null,null,null,null,null,"Agency and support/outsourced services","North West","Water and Sanitation","Bloem Water","Economic Development, Environmental Affairs and Tourism","Public Works and Infrastructure","Roads and Transport","Transport","Economic Development, Environmental Affairs and Tourism","Community Safety, Security and Liaison","Cooperative Governance, Human Settlements and Traditional Affairs","Human Settlements","Community Safety",null,null,10,"477 091 - 744 255",null,null,null,null,null,null,null,null,null,null,null,"Arts and culture related ",null,null,null,"SIP 9: Electricity generations to support socio-economic development",null,null,"Complete",null,null,null,null,null,"Budget\nestimate"]
[null,null,"Water and Sanitation","Amatola Water Board","Amatola Water Board","Iqbal Mahomed Alli","(012) 315 5809","iqbal.mahomedalli@treasury.gov.za","Mntazi Msiza","(012) 315 5876","Mntazi.msiza@treasury.gov.za",1,3,"3B","PE215",215,"Amatola",202324,null,null,null,null,null,null,null,"Fleet services (including government motor transport)","Western Cape","Sport, Arts and Culture","Boxing South Africa","Transport","Police, Roads and Transport","Community Safety","Human Settlements","Transport","Health","Health","Public Works and Roads","Education",null,null,11,"744 256 - 882 041",null,null,null,null,null,null,null,null,null,null,null,"Asset controllers and related professionals ",null,null,null,"SIP 10: Electricity transmission and distribution for all",null,null,"On-going",null,null,null,null,null,"Revised\nbudget\nestimate"]
[null,null,"Sport, Arts and Culture","National English Literary Museum","Amazwi – South African Museum of Literature ","Judy Naidoo","(012) 315 5269","judy.naidoo@treasury.gov.za","Patrick Mbedzi","(012) 315 5912","Patrick.Mbedzi@treasury.gov.za",1,3,"3A","PE191",191,"Amazwi",202324,null,null,null,null,null,null,null,"Housing",null,"Defence","Brand SA","Human Settlements","Agriculture and Rural Development","Agriculture and Rural Development","Provincial Treasury","Provincial Planning and Treasury","Culture, Sport and Recreation","Social Development","Provincial Planning and Treasury","Health",null,null,12,"882 042 - 1 073 185",null,null,null,null,null,null,null,null,null,null,null,"Attendants",null,null,null,"SIP 11: Agri-logistics and rural infrastructure",null,null,null,null,null,null,null,null,"Changes from budget estimate"]
[null,null,"Defence","Armaments Corporation of South Africa, Limited","Armaments Corporation of South Africa Limited","Mashudu Bidzha","(012) 315 5344","mashudu.bidzha@treasury.gov.za","Mntazi Msiza","(012) 315 5876","Mntazi.msiza@treasury.gov.za",1,1,2,"PE6",6,"ARMSCOR",202324,null,null,null,null,null,null,null,"Inventory: Clothing material and accessories",null,"Government Communication and Information System","Breede-Gouritz Catchment Management Agency","Provincial Planning and Treasury","Sport, Arts, Culture and Recreation ","Sport, Arts, Culture and Recreation","Arts and Culture","Sport, Recreation, Arts and Culture","Social Development","Agriculture, Land Reform and Rural Development","Social Development","Social Development",null,null,13,"1 0731 86 - 1 269 951",null,null,null,null,null,null,null,null,null,null,null,"Auditors and related professionals",null,null,null,"SIP 12: Revitalisation of public hospitals and other health facilities",null,null,null,null,null,null,null,null,"Budget\nestimate"]
[null,null,"Sport, Arts and Culture","Artscape","Artscape","Judy Naidoo","(012) 315 5269","judy.naidoo@treasury.gov.za","Patrick Mbedzi","(012) 315 5912","Patrick.Mbedzi@treasury.gov.za",1,3,"3A","PE217",217,"Artscape",202324,null,null,null,null,null,null,null,"Inventory: Farming supplies",null,"Communications and Digital Technologies","Castle Control Board","Sport, Recreation, Arts and Culture","Human Settlements","E-Government","Public Works",null,"Human Settlements",null,"Agriculture and Rural Development","Human Settlements",null,null,14,"1 269 952 - 1 544 413",null,null,null,null,null,null,null,null,null,null,null,"Authors journalists and other writers",null,null,null,"SIP 13:  National school build programme",null,null,null,null,null,null,null,null,"Revised\nbudget\nestimate"]
[null,null,"Higher Education and Training","Banking Sector Education and Training Authority","Banking Sector Education and Training Authority","Spencer Janari","(012) 315 5436","spencer.janari@treasury.gov.za","Vuyo Ngqukumba","(012) 315 5760","Vuyo.Ngqukumba@treasury.gov.za",2,3,"3A","PE218",218,"BankSETA",202324,null,null,null,null,null,null,null,"Inventory: Food and food supplies",null,"Mineral Resources and Energy","Commission for Conciliation Mediation & Arbitration","Safety and Liaison",null,"Provincial Treasury","Sport and Recreation",null,null,"",null,"Environmental Affairs and Development Planning",null,null,15,"1 544 414 - 2 008 211",null,null,null,null,null,null,null,null,null,null,null,"Auxiliary and related workers ",null,null,null,"SIP 14: Higher education infrastructure",null,null,null,null,null,null,null,null,"Changes from budget estimate"]
[null,null,"Water and Sanitation","Bloem Water Board","Bloem Water","Iqbal Mahomed Alli","(012) 315 5809","iqbal.mahomedalli@treasury.gov.za","Mntazi Msiza","(012) 315 5876","Mntazi.msiza@treasury.gov.za",1,3,"3B","PE220",220,"Bloem",202324,null,null,null,null,null,null,null,"Inventory: Fuel, oil and gas",null,"Employment and Labour","Community Schemes Ombud Service","",null,"Infrastructure Development","Community Safety and Liaison",null,null,"",null,null,null,null,16,"2 008 212 - 2 262 253",null,null,null,null,null,null,null,null,null,null,null,"Aviation related ",null,null,null,"SIP 15: Expanding access to communication technology",null,null,null,null,null,null,null,null,"Planning\nbudget \nestimate"]
[null,null,"Sport, Arts and Culture","Boxing SA","Boxing South Africa","Judy Naidoo","(012) 315 5269","judy.naidoo@treasury.gov.za","Patrick Mbedzi","(012) 315 5912","Patrick.Mbedzi@treasury.gov.za",1,1,"3A","PE12",12,"BSA",202324,null,null,null,null,null,null,null,"Inventory: Learner and teacher support material",null,"Human Settlements","Companies and Intellectual Property Commission","","","",null,"","","","","",null,null,17,"2 262 254 - 2 556 940",null,null,null,null,null,null,null,null,null,null,null,"Board Members",null,null,null,"SIP 16: SKA and Meerkat"]
[null,null,"Government Communication and Information System","Brand South Africa","Brand SA","Mokgatla Tema ","(012) 315 5948","mokgatla.tema@treasury.gov.za","Mntazi Msiza","(012) 315 5876","Mntazi.msiza@treasury.gov.za",1,1,"3A","PE51",51,"BrandSA",202324,null,null,null,null,null,null,null,"Inventory: Materials and supplies",null,"Trade, Industry and Competition","Companies Tribunal",null,null,null,null,null,null,null,null,null,null,null,18,"2 556 941 - 2 891 384",null,null,null,null,null,null,null,null,null,null,null,"Business support and related professionals",null,null,null,"SIP 17: Regional integration for African Cooperation and development"]
[null,null,"Water and Sanitation","Breede-Gouritz Catchment Management Agency","Breede-Gouritz Catchment Management Agency","Iqbal Mahomed Alli","(012) 315 5809","iqbal.mahomedalli@treasury.gov.za","Mntazi Msiza","(012) 315 5876","Mntazi.msiza@treasury.gov.za",1,1,"3A","PE225",225,"BGCMA",202324,null,null,null,null,null,null,null,"Inventory: Medical supplies",null,"Health","Competition Commission",null,null,null,null,null,null,null,null,null,null,null,19,"2 891 385 - 3 270 976",null,null,null,null,null,null,null,null,null,null,null,"CAE (Chief Audit Executive)",null,null,null,"SIP 18. Water and sanitation master plan"]
[null,null,"Communications and Digital Technologies","Broadband Infraco (Proprietary) Limited","Broadband Infraco Limited","Keitumetse Motshegwe","(012) 395 6750","keitumetse.motshegwe@treasury.gov.za","Mntazi Msiza","(012) 315 5876","Mntazi.msiza@treasury.gov.za",1,3,"3A","PE224",224,"Broadband",202324,null,null,null,null,null,null,null,"Inventory: Medicine",null,"Dummy","Competition Tribunal",null,null,null,null,null,null,null,null,null,null,null,20,"3 270 977 - 3 701 816",null,null,null,null,null,null,null,null,null,null,null,"Call centre operator "]
[null,null,"Defence","Castle Control Board","Castle Control Board","Mashudu Bidzha","(012) 315 5344","mashudu.bidzha@treasury.gov.za","Mntazi Msiza","(012) 315 5876","Mntazi.msiza@treasury.gov.za",1,1,"3A","PE16",16,"CCB",202324,null,null,null,null,null,null,null,"Medsas inventory interface",null,"Home Affairs","Construction Industry Development Board",null,null,null,null,null,null,null,null,null,null,null,21,"3 701 817 - 4 190 815",null,null,null,null,null,null,null,null,null,null,null,"Caretakers"]
[null,null,"Mineral Resources and Energy","CEF (Proprietary) Limited","CEF (Pty) Ltd","Nomagugu Madikane","(012) 315 5312","nomagugu.madikane@treasury.gov.za","Sihle Manqele","(012) 406 9174","Sihle.Manqele@treasury.gov.za",3,3,2,"PE18",18,"CEF",202324,null,null,null,null,null,null,null,"Inventory: Other supplies",null,"Forestry, Fisheries and the Environment","Council for Geoscience",null,null,null,null,null,null,null,null,null,null,null,22,"≥ 4 190 816",null,null,null,null,null,null,null,null,null,null,null,"Cartographers surveyors and related technicaians"]
[null,null,"Higher Education and Training","Chemical Industries Education and Training Authority","Chemical Industries Education and Training Authority","Spencer Janari","(012) 315 5436","spencer.janari@treasury.gov.za","Vuyo Ngqukumba","(012) 315 5760","Vuyo.Ngqukumba@treasury.gov.za",2,3,"3A","PE165",165,"CHIETA",202324,null,null,null,null,null,null,null,"Consumable supplies",null,"Justice and Constitutional Development","Council for Medical Schemes",null,null,null,null,null,null,null,null,null,null,null,null,null,null,null,null,null,null,null,null,null,null,null,null,"Case management officer"]
[null,null,"Employment and Labour","Commission for Conciliation, Mediation and Arbitration","Commission for Conciliation Mediation & Arbitration","Judy Naidoo","(012) 315 5269","judy.naidoo@treasury.gov.za","Sihle Manqele","(012) 406 9174","Sihle.Manqele@treasury.gov.za",1,1,"3A","PE17",17,"CCMA",202324,null,null,null,null,null,null,null,"Consumables: Stationery, printing and office supplies",null,"Cooperative Governance","Council for Scientific and Industrial Research",null,null,null,null,null,null,null,null,null,null,null,null,null,null,null,null,null,null,null,null,null,null,null,null,"Case officer"]
[null,null,"Human Settlements","Community Schemes Ombud Service","Community Schemes Ombud Service","Lindiwe Ngcongwane","(012) 315 5357","Lindiwe.Ngcongwane@treasury.gov.za","Sihle Manqele","(012) 406 9174","Sihle.Manqele@treasury.gov.za",1,1,"3A","PE240",240,"CSOS",202324,null,null,null,null,null,null,null,"Operating leases",null,"Social Development","Council for the Built Environment",null,null,null,null,null,null,null,null,null,null,null,null,null,null,null,null,null,null,null,null,null,null,null,null,"Catering and related"]
[null,null,"Trade, Industry and Competition","Companies and Intellectual Property Commission","Companies and Intellectual Property Commission","Isaac Kurasha","(012) 315 5213","Isaac.Kurasha@treasury.gov.za","Sihle Manqele","(012) 406 9174","Sihle.Manqele@treasury.gov.za",1,1,"3A","PE22",22,"CIPC",202324,null,null,null,null,null,null,null,"Rental and hiring",null,"National School of Government","Council on Higher Education",null,null,null,null,null,null,null,null,null,null,null,null,null,null,null,null,null,null,null,null,null,null,null,null,"CEO (Chief Executive Officer)"]
[null,null,"Trade, Industry and Competition","Companies Tribunal","Companies Tribunal","Isaac Kurasha","(012) 315 5213","Isaac.Kurasha@treasury.gov.za","Sihle Manqele","(012) 406 9174","Sihle.Manqele@treasury.gov.za",1,1,"3A","PE230",230,"CT",202324,null,null,null,null,null,null,null,"Property payments",null,"Women, Youth and Persons with Disabilities","Cross-Border Road Transport Agency",null,null,null,null,null,null,null,null,null,null,null,null,null,null,null,null,null,null,null,null,null,null,null,null,"CFO (Chief Financial Officer)"]
[null,null,"Health","Compensation Commissioner for Occupational Diseases in Mines and Works","Compensation Commissioner For Occupational Diseases in Mines and Works","Refiloe Thokoa","(012) 395 6559","refiloe.thokoa@treasury.gov.za","Victor Ramphele","082 561 5029","Victor.Ramphele@treasury.gov.za",4,4,"Not listed","PE60",60,"CCOD",202324,null,null,null,null,null,null,null,"Transport provided: Departmental activity",null,"Police","Driving License Card Account",null,null,null,null,null,null,null,null,null,null,null,null,null,null,null,null,null,null,null,null,null,null,null,null,"Chairperson"]
[null,null,"Employment and Labour","Compensation Fund","Compensation Fund, including Reserve Fund","Judy Naidoo","(012) 315 5269","judy.naidoo@treasury.gov.za","Sihle Manqele","(012) 406 9174","Sihle.Manqele@treasury.gov.za",4,4,"3A","PE26",26,"CompFund",202324,null,null,null,null,null,null,null,"Training and development",null,"Small Business Development","Estate Agency Affairs Board",null,null,null,null,null,null,null,null,null,null,null,null,null,null,null,null,null,null,null,null,null,null,null,null,"CIO (Chief Information Officer)"]
[null,null,"Trade, Industry and Competition","Competition Commission","Competition Commission","Isaac Kurasha","(012) 315 5213","Isaac.Kurasha@treasury.gov.za","Sihle Manqele","(012) 406 9174","Sihle.Manqele@treasury.gov.za",1,1,"3A","PE25",25,"CC",202324,null,null,null,null,null,null,null,"Operating payments",null,"Basic Education","Estate Agents Fidelity Fund",null,null,null,null,null,null,null,null,null,null,null,null,null,null,null,null,null,null,null,null,null,null,null,null,"Cleaners"]
[null,null,"Trade, Industry and Competition","Competition Tribunal","Competition Tribunal","Isaac Kurasha","(012) 315 5213","Isaac.Kurasha@treasury.gov.za","Sihle Manqele","(012) 406 9174","Sihle.Manqele@treasury.gov.za",1,1,"3A","PE27",27,"CT",202324,null,null,null,null,null,null,null,"Venues and facilities",null,"Tourism","Film and Publication Board",null,null,null,null,null,null,null,null,null,null,null,null,null,null,null,null,null,null,null,null,null,null,null,null,"Commissioners"]
[null,null,"Higher Education and Training","Construction Education and Training Authority","Construction Education and Training Authority","Spencer Janari","(012) 315 5436","spencer.janari@treasury.gov.za","Vuyo Ngqukumba","(012) 315 5760","Vuyo.Ngqukumba@treasury.gov.za",2,3,"3A","PE223",223,"CETA",202324,null,null,null,null,null,null,null,null,null,"Traditional Affairs","Financial Intelligence Centre",null,null,null,null,null,null,null,null,null,null,null,null,null,null,null,null,null,null,null,null,null,null,null,null,"Committee officials"]
[null,null,"Public Works and Infrastructure","Construction Industry Development Board","Construction Industry Development Board","George Tembo","(012) 315 5514","george.tembo@treasury.gov.za","Patrick Mbedzi","(012) 315 5912","Patrick.Mbedzi@treasury.gov.za",1,1,"3A","PE21",21,"CIDB",202324,null,null,null,null,null,null,null,null,null,"Environment, Forestry and Fisheries","Financial Sector Conduct Authority ",null,null,null,null,null,null,null,null,null,null,null,null,null,null,null,null,null,null,null,null,null,null,null,null,"Communication and information related"]
[null,null,"Mineral Resources and Energy","Council for Geoscience","Council for Geoscience","Nomagugu Madikane","(012) 315 5312","nomagugu.madikane@treasury.gov.za","Sihle Manqele","(012) 406 9174","Sihle.Manqele@treasury.gov.za",1,1,"3A","PE43",43,"GeoScience",202324,null,null,null,null,null,null,null,null,null,"Human Settlements","Government Pensions Administration Agency",null,null,null,null,null,null,null,null,null,null,null,null,null,null,null,null,null,null,null,null,null,null,null,null,"Compliance officers"]
[null,null,"Health","Council for Medical Schemes","Council for Medical Schemes","Refiloe Thokoa","(012) 395 6559","refiloe.thokoa@treasury.gov.za","Victor Ramphele","082 561 5029","Victor.Ramphele@treasury.gov.za",1,1,"3A","PE24",24,"CMS",202324,null,null,null,null,null,null,null,null,null,"Mineral Resources and Energy","Government Printing Works",null,null,null,null,null,null,null,null,null,null,null,null,null,null,null,null,null,null,null,null,null,null,null,null,"Consultants"]
[null,null,"Science and Innovation","Council for Scientific and Industrial Research","Council for Scientific and Industrial Research","Thabiso Molewa","(012) 395 6780","thabiso.molewa@treasury.gov.za","Vuyo Ngqukumba","(012) 315 5760","Vuyo.Ngqukumba@treasury.gov.za",1,1,"3B","PE29",29,"CSIR",202324,null,null,null,null,null,null,null,null,null,"Science and Innovation","Government Technical Advisory Centre",null,null,null,null,null,null,null,null,null,null,null,null,null,null,null,null,null,null,null,null,null,null,null,null,"COO (Chief Operating Officer)"]
[null,null,"Public Works and Infrastructure","Council for the Built Environment","Council for the Built Environment","George Tembo","(012) 315 5514","george.tembo@treasury.gov.za","Patrick Mbedzi","(012) 315 5912","Patrick.Mbedzi@treasury.gov.za",1,1,"3A","PE14",14,"CBE",202324,null,null,null,null,null,null,null,null,null,"Small Business Development","Housing Development Agency",null,null,null,null,null,null,null,null,null,null,null,null,null,null,null,null,null,null,null,null,null,null,null,null,"Council members"]
[null,null,"Higher Education and Training","Council on Higher Education","Council on Higher Education","Spencer Janari","(012) 315 5436","spencer.janari@treasury.gov.za","Vuyo Ngqukumba","(012) 315 5760","Vuyo.Ngqukumba@treasury.gov.za",1,1,"3A","PE20",20,"CHE",202324,null,null,null,null,null,null,null,null,null,"Sports, Arts and Culture","Human Sciences Research Council",null,null,null,null,null,null,null,null,null,null,null,null,null,null,null,null,null,null,null,null,null,null,null,null,"Data analyst"]
[null,null,"Transport","Cross-Border Road Transport Agency","Cross-Border Road Transport Agency","Luyolo Ntlangula","(012) 315 5571","luyolo.ntlangula@treasury.gov.za","Mntazi Msiza","(012) 315 5876","Mntazi.msiza@treasury.gov.za",1,1,"3A","PE15",15,"CBRTA",202324,null,null,null,null,null,null,null,null,null,"Tourism","Independent Development Trust",null,null,null,null,null,null,null,null,null,null,null,null,null,null,null,null,null,null,null,null,null,null,null,null,"Data capturer"]
[null,null,"Higher Education and Training","Culture, Arts, Tourism, Hospitality and Sports Education and Training Authority","Culture, Arts, Tourism, Hospitality and Sports Education and Training Authority","Spencer Janari","(012) 315 5436","spencer.janari@treasury.gov.za","Vuyo Ngqukumba","(012) 315 5760","Vuyo.Ngqukumba@treasury.gov.za",2,3,"3A","PE206",206,"CATHSETA",202324,null,null,null,null,null,null,null,null,null,"Trade, Industry and Competition","Independent Regulatory Board for Auditors",null,null,null,null,null,null,null,null,null,null,null,null,null,null,null,null,null,null,null,null,null,null,null,null,"Deeds officer"]
[null,null,"Public Enterprises","DENEL (Pty) Ltd","DENEL (Pty) Ltd","Isaac Kurasha","(012) 315 5213","Isaac.Kurasha@treasury.gov.za","Sihle Manqele","(012) 406 9174","Sihle.Manqele@treasury.gov.za",1,3,2,"PE32",32,"DENEL",202324,null,null,null,null,null,null,null,null,null,"Transport","Ingonyama Trust Board",null,null,null,null,null,null,null,null,null,null,null,null,null,null,null,null,null,null,null,null,null,null,null,null,"Distribution offer"]
[null,null,"National Treasury","Development Bank of Southern Africa","Development Bank of Southern Africa","Mokgatla Tema ","(012) 315 5948","mokgatla.tema@treasury.gov.za","Patrick Mbedzi","(012) 315 5912","Patrick.Mbedzi@treasury.gov.za",3,3,2,"PE30",30,"DBSA",202324,null,null,null,null,null,null,null,null,null,"Water and Sanitation","Inkomati-Usuthu Catchment Management Agency",null,null,null,null,null,null,null,null,null,null,null,null,null,null,null,null,null,null,null,null,null,null,null,null,"Draught and related trades"]
[null,null,"Sport, Arts and Culture","Afrikaans Language Museum and Language Monument","Die Afrikaanse Taal Museum","Judy Naidoo","(012) 315 5269","judy.naidoo@treasury.gov.za","Patrick Mbedzi","(012) 315 5912","Patrick.Mbedzi@treasury.gov.za",1,3,"3A","PE213",213,"TaalMuseum",202324,null,null,null,null,null,null,null,null,null,null,"International Trade Administration Commission",null,null,null,null,null,null,null,null,null,null,null,null,null,null,null,null,null,null,null,null,null,null,null,null,"Drivers"]
[null,null,"Sport, Arts and Culture","Ditsong: Museums of South Africa","Ditsong: Museums of South Africa","Judy Naidoo","(012) 315 5269","judy.naidoo@treasury.gov.za","Patrick Mbedzi","(012) 315 5912","Patrick.Mbedzi@treasury.gov.za",1,3,"3A","PE193",193,"DitsongM",202324,null,null,null,null,null,null,null,null,null,null,"iSimangaliso Wetland Park",null,null,null,null,null,null,null,null,null,null,null,null,null,null,null,null,null,null,null,null,null,null,null,null,"Earth moving and related plant operator"]
[null,null,"Transport","Driving License Card Account","Driving License Card Account","Luyolo Ntlangula","(012) 315 5571","luyolo.ntlangula@treasury.gov.za","Mntazi Msiza","(012) 315 5876","Mntazi.msiza@treasury.gov.za",1,1,"Not listed","PE162",162,"DLCA",202324,null,null,null,null,null,null,null,null,null,null,"Legal Aid South Africa",null,null,null,null,null,null,null,null,null,null,null,null,null,null,null,null,null,null,null,null,null,null,null,null,"Earth science and related professionals"]
[null,null,"Dummy","Dummy","Dummy","Dummy","Dummy",0,0,0,0,0,0,0,0,0,0,202324,null,null,null,null,null,null,null,null,null,null,"Lepelle Northern Water",null,null,null,null,null,null,null,null,null,null,null,null,null,null,null,null,null,null,null,null,null,null,null,null,"Economists"]
[null,null,"Higher Education and Training","Education, Training and Development Practices SETA","Education, Training and Development Practices SETA","Spencer Janari","(012) 315 5436","spencer.janari@treasury.gov.za","Vuyo Ngqukumba","(012) 315 5760","Vuyo.Ngqukumba@treasury.gov.za",2,3,"3A","PE168",168,"ETDP",202324,null,null,null,null,null,null,null,null,null,null,"Magalies Water",null,null,null,null,null,null,null,null,null,null,null,null,null,null,null,null,null,null,null,null,null,null,null,null,"Editor"]
[null,null,"Higher Education and Training","Energy and Water Sector Education and Training Authority","Energy and Water Sector Education and Training Authority","Spencer Janari","(012) 315 5436","spencer.janari@treasury.gov.za","Vuyo Ngqukumba","(012) 315 5760","Vuyo.Ngqukumba@treasury.gov.za",2,3,"3A","PE167",167,"EWSETA",202324,null,null,null,null,null,null,null,null,null,null,"Marine Living Resources Fund",null,null,null,null,null,null,null,null,null,null,null,null,null,null,null,null,null,null,null,null,null,null,null,null,"Education Officer"]
[null,null,"Public Enterprises","ESKOM","ESKOM","Isaac Kurasha","(012) 315 5213","Isaac.Kurasha@treasury.gov.za","Sihle Manqele","(012) 406 9174","Sihle.Manqele@treasury.gov.za",1,3,2,"PE164",164,"ESKOM",202324,null,null,null,null,null,null,null,null,null,null,"Media Development Diversity Agency",null,null,null,null,null,null,null,null,null,null,null,null,null,null,null,null,null,null,null,null,null,null,null,null,"Emergency service related "]
[null,null,"Human Settlements","Estate Agency Affairs Board","Estate Agency Affairs Board","Lindiwe Ngcongwane","(012) 315 5357","Lindiwe.Ngcongwane@treasury.gov.za","Sihle Manqele","(012) 406 9174","Sihle.Manqele@treasury.gov.za",1,1,"3A","PE33",33,"EAAB",202324,null,null,null,null,null,null,null,null,null,null,"Medical Research Council of South Africa",null,null,null,null,null,null,null,null,null,null,null,null,null,null,null,null,null,null,null,null,null,null,null,null,"Engineers and related professionals"]
[null,null,"Human Settlements","Estate Agents Fidelity Fund","Estate Agents Fidelity Fund","Lindiwe Ngcongwane","(012) 315 5357","Lindiwe.Ngcongwane@treasury.gov.za","Sihle Manqele","(012) 406 9174","Sihle.Manqele@treasury.gov.za",1,1,"Not listed","PE241",241,"EAFF",202324,null,null,null,null,null,null,null,null,null,null,"Mhlathuze Water",null,null,null,null,null,null,null,null,null,null,null,null,null,null,null,null,null,null,null,null,null,null,null,null,"Examiners"]
[null,null,"Trade, Industry and Competition","Export Credit Insurance Corporation of South Africa Limited","Export Credit Insurance Corporation of South Africa Limited","Isaac Kurasha","(012) 315 5213","Isaac.Kurasha@treasury.gov.za","Sihle Manqele","(012) 406 9174","Sihle.Manqele@treasury.gov.za",3,3,"3B","PE34",34,"ECIC",202324,null,null,null,null,null,null,null,null,null,null,"Mine Health and Safety Council",null,null,null,null,null,null,null,null,null,null,null,null,null,null,null,null,null,null,null,null,null,null,null,null,"Executive assistant"]
[null,null,"Higher Education and Training","Fibre Processing Manufacturing Sector Education and Training Authority","Fibre Processing Manufacturing Sector Education and Training Authority","Spencer Janari","(012) 315 5436","spencer.janari@treasury.gov.za","Vuyo Ngqukumba","(012) 315 5760","Vuyo.Ngqukumba@treasury.gov.za",2,3,"3A","PE237",237,"FPMSETA",202324,null,null,null,null,null,null,null,null,null,null,"Mintek",null,null,null,null,null,null,null,null,null,null,null,null,null,null,null,null,null,null,null,null,null,null,null,null,"Executive Director"]
[null,null,"Communications and Digital Technologies","Film and Publication Board","Film and Publication Board","Keitumetse Motshegwe","(012) 395 6750","keitumetse.motshegwe@treasury.gov.za","Mntazi Msiza","(012) 315 5876","Mntazi.msiza@treasury.gov.za",1,1,"3A","PE40",40,"FPB",202324,null,null,null,null,null,null,null,null,null,null,"Municipal Infrastructure Support Agency",null,null,null,null,null,null,null,null,null,null,null,null,null,null,null,null,null,null,null,null,null,null,null,null,"Executives (Exco Members)"]
[null,null,"Higher Education and Training","Financial and Accounting Services SETA","Financial and Accounting Services SETA","Spencer Janari","(012) 315 5436","spencer.janari@treasury.gov.za","Vuyo Ngqukumba","(012) 315 5760","Vuyo.Ngqukumba@treasury.gov.za",2,3,"3A","PE169",169,"FASSETA",202324,null,null,null,null,null,null,null,null,null,null,"National Agricultural Marketing Council",null,null,null,null,null,null,null,null,null,null,null,null,null,null,null,null,null,null,null,null,null,null,null,null,"Facilities Officer"]
[null,null,"National Treasury","Financial Intelligence Centre","Financial Intelligence Centre","Mokgatla Tema ","(012) 315 5948","mokgatla.tema@treasury.gov.za","Patrick Mbedzi","(012) 315 5912","Patrick.Mbedzi@treasury.gov.za",1,1,"3A","PE39",39,"FIC",202324,null,null,null,null,null,null,null,null,null,null,"National Arts Council of South Africa",null,null,null,null,null,null,null,null,null,null,null,null,null,null,null,null,null,null,null,null,null,null,null,null,"Financial and related professionals"]
[null,null,"National Treasury","Financial Sector Conduct Authority","Financial Sector Conduct Authority","Mokgatla Tema ","(012) 315 5948","mokgatla.tema@treasury.gov.za","Patrick Mbedzi","(012) 315 5912","Patrick.Mbedzi@treasury.gov.za",1,1,"3A","PE249",249,"FSCA",202324,null,null,null,null,null,null,null,null,null,null,"National Consumer Commission",null,null,null,null,null,null,null,null,null,null,null,null,null,null,null,null,null,null,null,null,null,null,null,null,"Geography and environmental sciences related"]
[null,null,"Higher Education and Training","Food and Beverages Manufacturing Industry","Food and Beverages Manufacturing Industry","Spencer Janari","(012) 315 5436","spencer.janari@treasury.gov.za","Vuyo Ngqukumba","(012) 315 5760","Vuyo.Ngqukumba@treasury.gov.za",2,3,"3A","PE171",171,"FoodBev",202324,null,null,null,null,null,null,null,null,null,null,"National Consumer Tribunal",null,null,null,null,null,null,null,null,null,null,null,null,null,null,null,null,null,null,null,null,null,null,null,null,"Health related"]
[null,null,"Sport, Arts and Culture","Freedom Park Trust","Freedom Park Trust","Judy Naidoo","(012) 315 5269","judy.naidoo@treasury.gov.za","Patrick Mbedzi","(012) 315 5912","Patrick.Mbedzi@treasury.gov.za",1,3,"3A","PE41",41,"FPT",202324,null,null,null,null,null,null,null,null,null,null,"National Credit Regulator",null,null,null,null,null,null,null,null,null,null,null,null,null,null,null,null,null,null,null,null,null,null,null,null,"Human resources and related professionals"]
[null,null,"National Treasury","Government Pensions Administration Agency","Government Pensions Administration Agency","Mokgatla Tema ","(012) 315 5948","mokgatla.tema@treasury.gov.za","Patrick Mbedzi","(012) 315 5912","Patrick.Mbedzi@treasury.gov.za",1,1,"Not listed","PE61",61,"GPAA",202324,null,null,null,null,null,null,null,null,null,null,"National Development Agency",null,null,null,null,null,null,null,null,null,null,null,null,null,null,null,null,null,null,null,null,null,null,null,null,"ICT (Information and Communications Technology)"]
[null,null,"Home Affairs","Government Printing Works","Government Printing Works","Timothy Murwa","(012) 315 5002","timothy.murwa@treasury.gov.za","Busi Motlhabedi","(012) 395 6657","Busi.Motlhabedi@treasury.gov.za",1,1,"Not listed","PE44",44,"GPW",202324,null,null,null,null,null,null,null,null,null,null,"National Economic Development and Labour Council",null,null,null,null,null,null,null,null,null,null,null,null,null,null,null,null,null,null,null,null,null,null,null,null,"Inspectors/Investigators"]
[null,null,"National Treasury","Government Technical Advisory Centre","Government Technical Advisory Centre","Mokgatla Tema ","(012) 315 5948","mokgatla.tema@treasury.gov.za","Patrick Mbedzi","(012) 315 5912","Patrick.Mbedzi@treasury.gov.za",1,1,"Not listed","PE245",245,"GTAC",202324,null,null,null,null,null,null,null,null,null,null,"National Electronic Media Institute of South Africa",null,null,null,null,null,null,null,null,null,null,null,null,null,null,null,null,null,null,null,null,null,null,null,null,"Interns/Trainees"]
[null,null,"Higher Education and Training","Health and Welfare Sector Education and Training Authority","Health and Welfare Sector Education and Training Authority","Spencer Janari","(012) 315 5436","spencer.janari@treasury.gov.za","Vuyo Ngqukumba","(012) 315 5760","Vuyo.Ngqukumba@treasury.gov.za",2,3,"3A","PE172",172,"HWSETA",202324,null,null,null,null,null,null,null,null,null,null,"National Empowerment Fund",null,null,null,null,null,null,null,null,null,null,null,null,null,null,null,null,null,null,null,null,null,null,null,null,"Judges"]
[null,null,"Human Settlements","Housing Development Agency","Housing Development Agency","Lindiwe Ngcongwane","(012) 315 5357","Lindiwe.Ngcongwane@treasury.gov.za","Sihle Manqele","(012) 406 9174","Sihle.Manqele@treasury.gov.za",1,1,"3A","PE139",139,"HDA",202324,null,null,null,null,null,null,null,null,null,null,"National Energy Regulator of South Africa",null,null,null,null,null,null,null,null,null,null,null,null,null,null,null,null,null,null,null,null,null,null,null,null,"Labour related"]
[null,null,"Science and Innovation","Human Sciences Research Council","Human Sciences Research Council","Thabiso Molewa","(012) 395 6780","thabiso.molewa@treasury.gov.za","Vuyo Ngqukumba","(012) 315 5760","Vuyo.Ngqukumba@treasury.gov.za",1,1,"3A","PE46",46,"HSRC",202324,null,null,null,null,null,null,null,null,null,null,"National Film and Video Foundation of South Africa",null,null,null,null,null,null,null,null,null,null,null,null,null,null,null,null,null,null,null,null,null,null,null,null,"Language practitioners interpreters & other commun"]
[null,null,"Public Works and Infrastructure","The Independent Development Trust","Independent Development Trust","George Tembo","(012) 315 5514","george.tembo@treasury.gov.za","Patrick Mbedzi","(012) 315 5912","Patrick.Mbedzi@treasury.gov.za",3,1,2,"PE49",49,"IDT",202324,null,null,null,null,null,null,null,null,null,null,"National Gambling Board of South Africa",null,null,null,null,null,null,null,null,null,null,null,null,null,null,null,null,null,null,null,null,null,null,null,null,"Lecturer"]
[null,null,"National Treasury","Independent Regulatory Board for Auditors","Independent Regulatory Board for Auditors","Mokgatla Tema ","(012) 315 5948","mokgatla.tema@treasury.gov.za","Patrick Mbedzi","(012) 315 5912","Patrick.Mbedzi@treasury.gov.za",1,1,"3A","PE53",53,"IRBA",202324,null,null,null,null,null,null,null,null,null,null,"National Health Laboratory Service",null,null,null,null,null,null,null,null,null,null,null,null,null,null,null,null,null,null,null,null,null,null,null,null,"Legal related"]
[null,null,"Trade, Industry and Competition","Industrial Development Corporation of South Africa, Limited","Industrial Development Corporation of South Africa Limited","Isaac Kurasha","(012) 315 5213","Isaac.Kurasha@treasury.gov.za","Sihle Manqele","(012) 406 9174","Sihle.Manqele@treasury.gov.za",3,3,2,"PE48",48,"IDC",202324,null,null,null,null,null,null,null,null,null,null,"National Heritage Council of South Africa",null,null,null,null,null,null,null,null,null,null,null,null,null,null,null,null,null,null,null,null,null,null,null,null,"Librarians and related"]
[null,null,"Agriculture, Land Reform and Rural Development","KwaZulu-Natal Ingonyama Trust Board","Ingonyama Trust Board","Humbelani Ramuedzisi","(012) 315 5585","humbelani.ramuedzisi@treasury.gov.za","Vuyo Ngqukumba","(012) 315 5760","Vuyo.Ngqukumba@treasury.gov.za",1,1,"3A","PE52",52,"ITB",202324,null,null,null,null,null,null,null,null,null,null,"National Home Builders Registration Council",null,null,null,null,null,null,null,null,null,null,null,null,null,null,null,null,null,null,null,null,null,null,null,null,"Life sciences related"]
[null,null,"Water and Sanitation","Inkomati-Usuthu Catchment Management Agency","Inkomati-Usuthu Catchment Management Agency","Iqbal Mahomed Alli","(012) 315 5809","iqbal.mahomedalli@treasury.gov.za","Mntazi Msiza","(012) 315 5876","Mntazi.msiza@treasury.gov.za",1,1,"3A","PE156",156,"IUCMA",202324,null,null,null,null,null,null,null,null,null,null,"National Housing Finance Corporation Limited",null,null,null,null,null,null,null,null,null,null,null,null,null,null,null,null,null,null,null,null,null,null,null,null,"Marketing related"]
[null,null,"Higher Education and Training","Insurance Sector Education and Training Authority","Insurance Sector Education and Training Authority","Spencer Janari","(012) 315 5436","spencer.janari@treasury.gov.za","Vuyo Ngqukumba","(012) 315 5760","Vuyo.Ngqukumba@treasury.gov.za",2,3,"3A","PE174",174,"ISETA",202324,null,null,null,null,null,null,null,null,null,null,"National Lotteries Commission",null,null,null,null,null,null,null,null,null,null,null,null,null,null,null,null,null,null,null,null,null,null,null,null,"Mathematicians and related professionals"]
[null,null,"Trade, Industry and Competition","International Trade Administration Commission","International Trade Administration Commission","Isaac Kurasha","(012) 315 5213","Isaac.Kurasha@treasury.gov.za","Sihle Manqele","(012) 406 9174","Sihle.Manqele@treasury.gov.za",1,1,"3A","PE55",55,"ITAC",202324,null,null,null,null,null,null,null,null,null,null,"National Lotteries Commission Distribution Trust Fund",null,null,null,null,null,null,null,null,null,null,null,null,null,null,null,null,null,null,null,null,null,null,null,null,"Medical officer"]
[null,null,"Forestry, Fisheries and the Environment","iSimangaliso Wetland Park Authority","iSimangaliso Wetland Park","Ashley Ramasimu","(012) 315 5166","ashley.ramasimu@treasury.gov.za","Vuyo Ngqukumba","(012) 315 5760","Vuyo.Ngqukumba@treasury.gov.za",1,1,"3A","PE54",54,"ISIMANGALISO",202324,null,null,null,null,null,null,null,null,null,null,"National Metrology Institute of South Africa",null,null,null,null,null,null,null,null,null,null,null,null,null,null,null,null,null,null,null,null,null,null,null,null,"Medical related"]
[null,null,"Sport, Arts and Culture","Iziko Museums of South Africa","Iziko Museums of Cape Town","Judy Naidoo","(012) 315 5269","judy.naidoo@treasury.gov.za","Patrick Mbedzi","(012) 315 5912","Patrick.Mbedzi@treasury.gov.za",1,3,"3A","PE176",176,"Iziko",202324,null,null,null,null,null,null,null,null,null,null,"National Nuclear Regulator",null,null,null,null,null,null,null,null,null,null,null,null,null,null,null,null,null,null,null,null,null,null,null,null,"Messengers"]
[null,null,"Sport, Arts and Culture","Natal Museum","KwaZulu-Natal Museum","Judy Naidoo","(012) 315 5269","judy.naidoo@treasury.gov.za","Patrick Mbedzi","(012) 315 5912","Patrick.Mbedzi@treasury.gov.za",1,3,"3A","PE188",188,"Kwa-ZuluM",202324,null,null,null,null,null,null,null,null,null,null,"National Regulator for Compulsory Specifications",null,null,null,null,null,null,null,null,null,null,null,null,null,null,null,null,null,null,null,null,null,null,null,null,"Ombudsman"]
[null,null,"National Treasury","Land and Agricultural Development Bank of South Africa","Land and Agricultural Development Bank of South Africa","Mokgatla Tema ","(012) 315 5948","mokgatla.tema@treasury.gov.za","Patrick Mbedzi","(012) 315 5912","Patrick.Mbedzi@treasury.gov.za",3,3,2,"PE59",59,"Land Bank",202324,null,null,null,null,null,null,null,null,null,null,"National Research Foundation",null,null,null,null,null,null,null,null,null,null,null,null,null,null,null,null,null,null,null,null,null,null,null,null,"Pathologist"]
[null,null,"Justice and Constitutional Development","Legal Aid South Africa","Legal Aid South Africa","Werner  Krause ","(012) 315 5211 ","Werner.Krause@treasury.gov.za","Mntazi Msiza","(012) 315 5876","Mntazi.msiza@treasury.gov.za",1,1,"3A","PE58",58,"LASA",202324,null,null,null,null,null,null,null,null,null,null,"National school of government",null,null,null,null,null,null,null,null,null,null,null,null,null,null,null,null,null,null,null,null,null,null,null,null,"Personal Assistants"]
[null,null,"Water and Sanitation","Lepelle Northern Water Board","Lepelle Northern Water","Iqbal Mahomed Alli","(012) 315 5809","iqbal.mahomedalli@treasury.gov.za","Mntazi Msiza","(012) 315 5876","Mntazi.msiza@treasury.gov.za",1,3,"3B","PE177",177,"Lepelle",202324,null,null,null,null,null,null,null,null,null,null,"National Skills Fund",null,null,null,null,null,null,null,null,null,null,null,null,null,null,null,null,null,null,null,null,null,null,null,null,"Pharmacists"]
[null,null,"Higher Education and Training","Local Government Education and Training Authority","Local Government Education and Training Authority","Spencer Janari","(012) 315 5436","spencer.janari@treasury.gov.za","Vuyo Ngqukumba","(012) 315 5760","Vuyo.Ngqukumba@treasury.gov.za",2,3,"3A","PE178",178,"LGSETA",202324,null,null,null,null,null,null,null,null,null,null,"National Student Financial Aid Scheme",null,null,null,null,null,null,null,null,null,null,null,null,null,null,null,null,null,null,null,null,null,null,null,null,"Physicists"]
[null,null,"Sport, Arts and Culture","Luthuli Museum","Luthuli Museum","Judy Naidoo","(012) 315 5269","judy.naidoo@treasury.gov.za","Patrick Mbedzi","(012) 315 5912","Patrick.Mbedzi@treasury.gov.za",1,3,"3A","PE180",180,"LuthuliM",202324,null,null,null,null,null,null,null,null,null,null,"National Urban Reconstruction and Housing Agency",null,null,null,null,null,null,null,null,null,null,null,null,null,null,null,null,null,null,null,null,null,null,null,null,"Police"]
[null,null,"Water and Sanitation","Magalies Water Board","Magalies Water","Iqbal Mahomed Alli","(012) 315 5809","iqbal.mahomedalli@treasury.gov.za","Mntazi Msiza","(012) 315 5876","Mntazi.msiza@treasury.gov.za",1,3,"3B","PE181",181,"Magalies",202324,null,null,null,null,null,null,null,null,null,null,"National Youth Development Agency",null,null,null,null,null,null,null,null,null,null,null,null,null,null,null,null,null,null,null,null,null,null,null,null,"Programmers and related professionals"]
[null,null,"Sport, Arts and Culture","Mandela Bay Theatre Complex ","Mandela Bay Theatre Complex ","Judy Naidoo","(012) 315 5269","judy.naidoo@treasury.gov.za","Patrick Mbedzi","(012) 315 5912","Patrick.Mbedzi@treasury.gov.za",1,3,"Not listed","PE251",251,"MBTC",202324,null,null,null,null,null,null,null,null,null,null,"Office of Health Standards Compliance",null,null,null,null,null,null,null,null,null,null,null,null,null,null,null,null,null,null,null,null,null,null,null,null,"Records management related"]
[null,null,"Higher Education and Training","Manufacturing, Engineering and Related Services Education and Training Authority","Manufacturing, Engineering and Related Services Education and Training Authority","Spencer Janari","(012) 315 5436","spencer.janari@treasury.gov.za","Vuyo Ngqukumba","(012) 315 5760","Vuyo.Ngqukumba@treasury.gov.za",2,3,"3A","PE184",184,"MERSETA",202324,null,null,null,null,null,null,null,null,null,null,"Office of the Ombud for Financial Service Providers",null,null,null,null,null,null,null,null,null,null,null,null,null,null,null,null,null,null,null,null,null,null,null,null,"Researchers"]
[null,null,"Forestry, Fisheries and the Environment","Marine Living Resources Fund","Marine Living Resources Fund","Ashley Ramasimu","(012) 315 5166","ashley.ramasimu@treasury.gov.za","Vuyo Ngqukumba","(012) 315 5760","Vuyo.Ngqukumba@treasury.gov.za",1,1,"3A","PE66",66,"MLRF",202324,null,null,null,null,null,null,null,null,null,null,"Office of the Pension Funds Adjudicator",null,null,null,null,null,null,null,null,null,null,null,null,null,null,null,null,null,null,null,null,null,null,null,null,"Risk management related"]
[null,null,"Sport, Arts and Culture","Market Theatre Foundation","Market Theatre Foundation","Judy Naidoo","(012) 315 5269","judy.naidoo@treasury.gov.za","Patrick Mbedzi","(012) 315 5912","Patrick.Mbedzi@treasury.gov.za",1,3,"3A","PE183",183,"Marketh",202324,null,null,null,null,null,null,null,null,null,null,"Onderstepoort Biological Products Limited",null,null,null,null,null,null,null,null,null,null,null,null,null,null,null,null,null,null,null,null,null,null,null,null,"Safety and security related"]
[null,null,"Government Communication and Information System","Media Development Diversity Agency","Media Development Diversity Agency","Mokgatla Tema ","(012) 315 5948","mokgatla.tema@treasury.gov.za","Mntazi Msiza","(012) 315 5876","Mntazi.msiza@treasury.gov.za",1,1,"3A","PE63",63,"MDDA",202324,null,null,null,null,null,null,null,null,null,null,"Overberg Water",null,null,null,null,null,null,null,null,null,null,null,null,null,null,null,null,null,null,null,null,null,null,null,null,"Sales related"]
[null,null,"Higher Education and Training","Media, Information and Communication Technologies Sector Education and Training Authority","Media, Information and Communication Technologies Sector Education and Training Authority","Spencer Janari","(012) 315 5436","spencer.janari@treasury.gov.za","Vuyo Ngqukumba","(012) 315 5760","Vuyo.Ngqukumba@treasury.gov.za",2,3,"3A","PE175",175,"MICTSETTA",202324,null,null,null,null,null,null,null,null,null,null,"Passenger Rail Agency of South Africa",null,null,null,null,null,null,null,null,null,null,null,null,null,null,null,null,null,null,null,null,null,null,null,null,"Seamstress"]
[null,null,"Water and Sanitation","Mhlathuze Water Board","Mhlathuze Water","Iqbal Mahomed Alli","(012) 315 5809","iqbal.mahomedalli@treasury.gov.za","Mntazi Msiza","(012) 315 5876","Mntazi.msiza@treasury.gov.za",1,3,"3B","PE185",185,"Mhlathuze",202324,null,null,null,null,null,null,null,null,null,null,"Perishable Products Export Control Board",null,null,null,null,null,null,null,null,null,null,null,null,null,null,null,null,null,null,null,null,null,null,null,null,"Social work and related professionals"]
[null,null,"Mineral Resources and Energy","Mine Health and Safety Council","Mine Health and Safety Council","Nomagugu Madikane","(012) 315 5312","nomagugu.madikane@treasury.gov.za","Sihle Manqele","(012) 406 9174","Sihle.Manqele@treasury.gov.za",1,1,"3A","PE64",64,"MHSC",202324,null,null,null,null,null,null,null,null,null,null,"Ports Regulator of South Africa",null,null,null,null,null,null,null,null,null,null,null,null,null,null,null,null,null,null,null,null,null,null,null,null,"Statisticians and related professionals"]
[null,null,"Higher Education and Training","Mining Qualifications Authority","Mining Qualifications Authority","Spencer Janari","(012) 315 5436","spencer.janari@treasury.gov.za","Vuyo Ngqukumba","(012) 315 5760","Vuyo.Ngqukumba@treasury.gov.za",2,3,"3A","PE186",186,"MQA",202324,null,null,null,null,null,null,null,null,null,null,"Private Security Industry Regulatory Authority",null,null,null,null,null,null,null,null,null,null,null,null,null,null,null,null,null,null,null,null,null,null,null,null,"Supply chain related"]
[null,null,"Mineral Resources and Energy","Council for Mineral Technology","Mintek","Nomagugu Madikane","(012) 315 5312","nomagugu.madikane@treasury.gov.za","Sihle Manqele","(012) 406 9174","Sihle.Manqele@treasury.gov.za",1,1,"3B","PE65",65,"Mintek",202324,null,null,null,null,null,null,null,null,null,null,"Productivity SA",null,null,null,null,null,null,null,null,null,null,null,null,null,null,null,null,null,null,null,null,null,null,null,null,"Teachers"]
[null,null,"Cooperative Governance","Municipal Infrastructure Support Agent","Municipal Infrastructure Support Agency","Millicent Mulaudzi","(012) 395 6576","millicent.mulaudzi@treasury.gov.za","Tumi Tjale","(012) 395 6561","Tumi.Tjale@treasury.gov.za",1,1,"Not listed","PE244",244,"MISA",202324,null,null,null,null,null,null,null,null,null,null,"Property Management Trading Entity",null,null,null,null,null,null,null,null,null,null,null,null,null,null,null,null,null,null,null,null,null,null,null,null,"Technicians"]
[null,null,"Agriculture, Land Reform and Rural Development","National Agricultural Marketing Council","National Agricultural Marketing Council","Humbelani Ramuedzisi","(012) 315 5585","humbelani.ramuedzisi@treasury.gov.za","Vuyo Ngqukumba","(012) 315 5760","Vuyo.Ngqukumba@treasury.gov.za",1,1,"3A","PE68",68,"NAMC",202324,null,null,null,null,null,null,null,null,null,null,"Public Investment Corporation Limited",null,null,null,null,null,null,null,null,null,null,null,null,null,null,null,null,null,null,null,null,null,null,null,null,"Tour Guide"]
[null,null,"Sport, Arts and Culture","National Arts Council","National Arts Council","Judy Naidoo","(012) 315 5269","judy.naidoo@treasury.gov.za","Patrick Mbedzi","(012) 315 5912","Patrick.Mbedzi@treasury.gov.za",1,1,"3A","PE67",67,"NAC",202324,null,null,null,null,null,null,null,null,null,null,"Quality Council for Trades and Occupations",null,null,null,null,null,null,null,null,null,null,null,null,null,null,null,null,null,null,null,null,null,null,null,null,"Training and development related"]
[null,null,"Trade, Industry and Competition","National Consumer Commission","National Consumer Commission","Isaac Kurasha","(012) 315 5213","Isaac.Kurasha@treasury.gov.za","Sihle Manqele","(012) 406 9174","Sihle.Manqele@treasury.gov.za",1,1,"3A","PE124",124,"NCC",202324,null,null,null,null,null,null,null,null,null,null,"Railway Safety Regulator",null,null,null,null,null,null,null,null,null,null,null,null,null,null,null,null,null,null,null,null,null,null,null,null,"Tribunal member"]
[null,null,"Trade, Industry and Competition","National Consumer Tribunal","National Consumer Tribunal","Isaac Kurasha","(012) 315 5213","Isaac.Kurasha@treasury.gov.za","Sihle Manqele","(012) 406 9174","Sihle.Manqele@treasury.gov.za",1,1,"3A","PE71",71,"NCT",202324,null,null,null,null,null,null,null,null,null,null,"Rand Water",null,null,null,null,null,null,null,null,null,null,null,null,null,null,null,null,null,null,null,null,null,null,null,null,"Ushers"]
[null,null,"Trade, Industry and Competition","National Credit Regulator","National Credit Regulator","Isaac Kurasha","(012) 315 5213","Isaac.Kurasha@treasury.gov.za","Sihle Manqele","(012) 406 9174","Sihle.Manqele@treasury.gov.za",1,1,"3A","PE70",70,"NCR",202324,null,null,null,null,null,null,null,null,null,null,"Registration of Deeds Trading Entity",null,null,null,null,null,null,null,null,null,null,null,null,null,null,null,null,null,null,null,null,null,null,null,null,"Wardrobe specialist"]
[null,null,"Social Development","National Development Agency","National Development Agency","Lindi Mzankomo","(012) 315 5256","lindi.mzankomo@treasury.gov.za","Vuyo Ngqukumba","(012) 315 5760","Vuyo.Ngqukumba@treasury.gov.za",1,1,"3A","PE72",72,"NDA",202324,null,null,null,null,null,null,null,null,null,null,"Road Traffic Infringement Agency",null,null,null,null,null,null,null,null,null,null,null,null,null,null,null,null,null,null,null,null,null,null,null,null,"Workshop officer"]
[null,null,"Employment and Labour","National Economic, Development and Labour Council","National Economic Development and Labour Council","Judy Naidoo","(012) 315 5269","judy.naidoo@treasury.gov.za","Sihle Manqele","(012) 406 9174","Sihle.Manqele@treasury.gov.za",1,1,"3A","PE74",74,"NEDLAC",202324,null,null,null,null,null,null,null,null,null,null,"Road Traffic Management Corporation",null,null,null,null,null,null,null,null,null,null,null,null,null,null,null,null,null,null,null,null,null,null,null,null,"Other: Please specify"]
[null,null,"Communications and Digital Technologies","National Electronic Media Institute of South Africa","National Electronic Media Institute of South Africa","Keitumetse Motshegwe","(012) 395 6750","keitumetse.motshegwe@treasury.gov.za","Mntazi Msiza","(012) 315 5876","Mntazi.msiza@treasury.gov.za",1,1,"3A","PE76",76,"NEMISA",202324,null,null,null,null,null,null,null,null,null,null,"Rural Housing Loan Fund"]
[null,null,"Trade, Industry and Competition","National Empowerment Fund","National Empowerment Fund","Isaac Kurasha","(012) 315 5213","Isaac.Kurasha@treasury.gov.za","Sihle Manqele","(012) 406 9174","Sihle.Manqele@treasury.gov.za",3,1,"3A","PE75",75,"NEF",202324,null,null,null,null,null,null,null,null,null,null,"SA Bureau of Standards"]
[null,null,"Mineral Resources and Energy","National Energy Regulator","National Energy Regulator of South Africa","Nomagugu Madikane","(012) 315 5312","nomagugu.madikane@treasury.gov.za","Sihle Manqele","(012) 406 9174","Sihle.Manqele@treasury.gov.za",1,1,"3A","PE77",77,"NERSA",202324,null,null,null,null,null,null,null,null,null,null,"Sedibeng Water"]
[null,null,"Sport, Arts and Culture","National Film and Video Foundation","National Film and Video Foundation","Judy Naidoo","(012) 315 5269","judy.naidoo@treasury.gov.za","Patrick Mbedzi","(012) 315 5912","Patrick.Mbedzi@treasury.gov.za",1,1,"3A","PE78",78,"NFVF",202324,null,null,null,null,null,null,null,null,null,null,"Sentech Limited"]
[null,null,"Trade, Industry and Competition","National Gambling Board","National Gambling Board of South Africa","Isaac Kurasha","(012) 315 5213","Isaac.Kurasha@treasury.gov.za","Sihle Manqele","(012) 406 9174","Sihle.Manqele@treasury.gov.za",1,1,"3A","PE79",79,"NGB",202324,null,null,null,null,null,null,null,null,null,null,"Small Enterprise Development Agency"]
[null,null,"Health","National Health Laboratory Service","National Health Laboratory Service","Refiloe Thokoa","(012) 395 6559","refiloe.thokoa@treasury.gov.za","Victor Ramphele","082 561 5029","Victor.Ramphele@treasury.gov.za",1,1,"3A","PE83",83,"NHLS",202324,null,null,null,null,null,null,null,null,null,null,"South African Airways (Pty) Limited"]
[null,null,"Sport, Arts and Culture","National Heritage Council","National Heritage Council","Judy Naidoo","(012) 315 5269","judy.naidoo@treasury.gov.za","Patrick Mbedzi","(012) 315 5912","Patrick.Mbedzi@treasury.gov.za",1,1,"3A","PE81",81,"NHC",202324,null,null,null,null,null,null,null,null,null,null,"South African Civil Aviation Authority"]
[null,null,"Human Settlements","National Home Builders Registration Council","National Home Builders Registration Council","Lindiwe Ngcongwane","(012) 315 5357","Lindiwe.Ngcongwane@treasury.gov.za","Sihle Manqele","(012) 406 9174","Sihle.Manqele@treasury.gov.za",1,1,"3A","PE80",80,"NHBRC",202324,null,null,null,null,null,null,null,null,null,null,"South African Council for Educators"]
[null,null,"Human Settlements","National Housing Finance Corporation","National Housing Finance Corporation Limited","Lindiwe Ngcongwane","(012) 315 5357","Lindiwe.Ngcongwane@treasury.gov.za","Sihle Manqele","(012) 406 9174","Sihle.Manqele@treasury.gov.za",3,1,"3A","PE82",82,"NHFC",202324,null,null,null,null,null,null,null,null,null,null,"South African Diamond and Precious Metals Regulator"]
[null,null,"Sport, Arts and Culture","National Library of South Africa","National Library of South Africa","Judy Naidoo","(012) 315 5269","judy.naidoo@treasury.gov.za","Patrick Mbedzi","(012) 315 5912","Patrick.Mbedzi@treasury.gov.za",1,3,"3A","PE189",189,"NLSA",202324,null,null,null,null,null,null,null,null,null,null,"South African Health Products Regulatory Authority"]
[null,null,"Trade, Industry and Competition","National Lotteries Commission","National Lotteries Commission","Isaac Kurasha","(012) 315 5213","Isaac.Kurasha@treasury.gov.za","Sihle Manqele","(012) 406 9174","Sihle.Manqele@treasury.gov.za",1,1,"3A","PE84",84,"NLB",202324,null,null,null,null,null,null,null,null,null,null,"South African Heritage Resources Agency"]
[null,null,"Trade, Industry and Competition","National Lotteries Commission Distribution Trust Fund","National Lotteries Commission Distribution Trust Fund","Isaac Kurasha","(012) 315 5213","Isaac.Kurasha@treasury.gov.za","Sihle Manqele","(012) 406 9174","Sihle.Manqele@treasury.gov.za",1,1,"Not listed","PE227",227,"NLBDTF",202324,null,null,null,null,null,null,null,null,null,null,"South African Local Government Association"]
[null,null,"Trade, Industry and Competition","National Metrology Institute of South Africa","National Metrology Institute of South Africa","Isaac Kurasha","(012) 315 5213","Isaac.Kurasha@treasury.gov.za","Sihle Manqele","(012) 406 9174","Sihle.Manqele@treasury.gov.za",1,1,"3A","PE85",85,"NMISA",202324,null,null,null,null,null,null,null,null,null,null,"South African Maritime Safety Authority"]
[null,null,"Sport, Arts and Culture","Naional Museum","National Museum, Bloemfontein","Judy Naidoo","(012) 315 5269","judy.naidoo@treasury.gov.za","Patrick Mbedzi","(012) 315 5912","Patrick.Mbedzi@treasury.gov.za",1,3,"3A","PE190",190,"NationalM",202324,null,null,null,null,null,null,null,null,null,null,"South African National Accreditation System"]
[null,null,"Mineral Resources and Energy","National Nuclear Regulator","National Nuclear Regulator","Nomagugu Madikane","(012) 315 5312","nomagugu.madikane@treasury.gov.za","Sihle Manqele","(012) 406 9174","Sihle.Manqele@treasury.gov.za",1,1,"3A","PE86",86,"NNR",202324,null,null,null,null,null,null,null,null,null,null,"South African National Biodiversity Institute"]
[null,null,"Trade, Industry and Competition","National Regulator for Compulsory Specifications of South Africa","National Regulator for Compulsory Specifications","Isaac Kurasha","(012) 315 5213","Isaac.Kurasha@treasury.gov.za","Sihle Manqele","(012) 406 9174","Sihle.Manqele@treasury.gov.za",1,1,"3A","PE159",159,"NRCS",202324,null,null,null,null,null,null,null,null,null,null,"South African National Energy Development Institute"]
[null,null,"Science and Innovation","National Research Foundation","National Research Foundation","Thabiso Molewa","(012) 395 6780","thabiso.molewa@treasury.gov.za","Vuyo Ngqukumba","(012) 315 5760","Vuyo.Ngqukumba@treasury.gov.za",1,1,"3A","PE88",88,"NRF",202324,null,null,null,null,null,null,null,null,null,null,"South African National Parks"]
[null,null,"National School of Government","The National School of Government Trading Account","National school of government","George Tembo","(012) 315 5514","george.tembo@treasury.gov.za","Patrick Mbedzi","(012) 315 5912","Patrick.Mbedzi@treasury.gov.za",1,1,"Not listed","PE115",115,"PALAMA",202324,null,null,null,null,null,null,null,null,null,null,"South African National Space Agency"]
[null,null,"Higher Education and Training","National Student Financial Aid Scheme","National Student Financial Aid Scheme","Spencer Janari","(012) 315 5436","spencer.janari@treasury.gov.za","Vuyo Ngqukumba","(012) 315 5760","Vuyo.Ngqukumba@treasury.gov.za",3,1,"3A","PE90",90,"NSFAS",202324,null,null,null,null,null,null,null,null,null,null,"South African Nuclear Energy Corporation Limited"]
[null,null,"Women, Youth and Persons with Disabilities","National Youth Development Agency","National Youth Development Agency","Lindi Mzankomo","(012) 315 5256","lindi.mzankomo@treasury.gov.za","Patrick Mbedzi","(012) 315 5912","Patrick.Mbedzi@treasury.gov.za",3,1,"3A","PE92",92,"NYDA",202324,null,null,null,null,null,null,null,null,null,null,"South African Qualifications Authority"]
[null,null,"Sport, Arts and Culture","Nelson Mandela Museum","Nelson Mandela National Museum","Judy Naidoo","(012) 315 5269","judy.naidoo@treasury.gov.za","Patrick Mbedzi","(012) 315 5912","Patrick.Mbedzi@treasury.gov.za",1,3,"3A","PE192",192,"NelsonM",202324,null,null,null,null,null,null,null,null,null,null,"South African Revenue Service"]
[null,null,"Health","Office of Health Standards Compliance","Office of Health Standards Compliance","Refiloe Thokoa","(012) 395 6559","refiloe.thokoa@treasury.gov.za","Victor Ramphele","082 561 5029","Victor.Ramphele@treasury.gov.za",1,1,"3A","PE242",242,"OHSC",202324,null,null,null,null,null,null,null,null,null,null,"South African Social Security Agency"]
[null,null,"National Treasury","Office of the Ombudsman for Financial Services Providers","Office of the Ombud for Financial Service Providers","Mokgatla Tema ","(012) 315 5948","mokgatla.tema@treasury.gov.za","Patrick Mbedzi","(012) 315 5912","Patrick.Mbedzi@treasury.gov.za",1,1,"3A","PE37",37,"FAIS",202324,null,null,null,null,null,null,null,null,null,null,"South African Tourism"]
[null,null,"National Treasury","Office of the Pension Funds Adjudicator","Office of the Pension Funds Adjudicator","Mokgatla Tema ","(012) 315 5948","mokgatla.tema@treasury.gov.za","Patrick Mbedzi","(012) 315 5912","Patrick.Mbedzi@treasury.gov.za",1,1,"3A","PE232",232,"OPFA",202324,null,null,null,null,null,null,null,null,null,null,"South African Weather Service"]
[null,null,"Agriculture, Land Reform and Rural Development","Office of the Valuer-General","Office of the Valuer-General","Humbelani Ramuedzisi","(012) 315 5585","humbelani.ramuedzisi@treasury.gov.za","Vuyo Ngqukumba","(012) 315 5760","Vuyo.Ngqukumba@treasury.gov.za",1,1,"3A","PE248",248,"OVG",202324,null,null,null,null,null,null,null,null,null,null,"Special Investigating Unit"]
[null,null,"National Treasury","Ombud Council","Ombud Council","Mokgatla Tema ","(012) 315 5948","mokgatla.tema@treasury.gov.za","Patrick Mbedzi","(012) 315 5912","Patrick.Mbedzi@treasury.gov.za",1,1,"Not listed","PE250",250," OmbudCouncil",202324,null,null,null,null,null,null,null,null,null,null,"State Diamond Trader"]
[null,null,"Agriculture, Land Reform and Rural Development","Onderstepoort Biological Products","Onderstepoort Biological Products","Humbelani Ramuedzisi","(012) 315 5585","humbelani.ramuedzisi@treasury.gov.za","Vuyo Ngqukumba","(012) 315 5760","Vuyo.Ngqukumba@treasury.gov.za",1,1,"3B","PE93",93,"OBP",202324,null,null,null,null,null,null,null,null,null,null,"State Information Technology Agency"]
[null,null,"Water and Sanitation","Overberg Water Board","Overberg Water","Iqbal Mahomed Alli","(012) 315 5809","iqbal.mahomedalli@treasury.gov.za","Mntazi Msiza","(012) 315 5876","Mntazi.msiza@treasury.gov.za",1,3,"3B","PE194",194,"Overberg",202324,null,null,null,null,null,null,null,null,null,null,"Technology Innovation Agency"]
[null,null,"Transport","Passenger Rail Agency of South Africa","Passenger Rail Agency of South Africa","Luyolo Ntlangula","(012) 315 5571","luyolo.ntlangula@treasury.gov.za","Mntazi Msiza","(012) 315 5876","Mntazi.msiza@treasury.gov.za",1,1,"3B","PE125",125,"PRASA",202324,null,null,null,null,null,null,null,null,null,null,"The Commission for the Promotion and Protection of the Rights of Cultural, Religious and Linguistic Communities"]
[null,null,"Sport, Arts and Culture","Performing Arts Council of the Free State","Performing Arts Council of the Free State","Judy Naidoo","(012) 315 5269","judy.naidoo@treasury.gov.za","Patrick Mbedzi","(012) 315 5912","Patrick.Mbedzi@treasury.gov.za",1,3,"3A","PE195",195,"PACOFS",202324,null,null,null,null,null,null,null,null,null,null,"The Commission on Gender Equality"]
[null,null,"Agriculture, Land Reform and Rural Development","Perishable Products Export Control Board Ltd","Perishable Products Export Control Board","Humbelani Ramuedzisi","(012) 315 5585","humbelani.ramuedzisi@treasury.gov.za","Vuyo Ngqukumba","(012) 315 5760","Vuyo.Ngqukumba@treasury.gov.za",1,1,"3A","PE99",99,"PPECB",202324,null,null,null,null,null,null,null,null,null,null,"The Co-operative Banks Development Agency"]
[null,null,"Transport","Ports Regulator of South Africa","Ports Regulator of South Africa","Luyolo Ntlangula","(012) 315 5571","luyolo.ntlangula@treasury.gov.za","Mntazi Msiza","(012) 315 5876","Mntazi.msiza@treasury.gov.za",1,1,"3A","PE10",10,"Ports Reg",202324,null,null,null,null,null,null,null,null,null,null,"The Financial and Fiscal Commission"]
[null,null,"Communications and Digital Technologies","PostBank","PostBank","Keitumetse Motshegwe","(012) 395 6750","keitumetse.motshegwe@treasury.gov.za","Mntazi Msiza","(012) 315 5876","Mntazi.msiza@treasury.gov.za",3,3,"Not listed","PE252",252,"PostBank",202324,null,null,null,null,null,null,null,null,null,null,"The Independent Communications Authority of South Africa"]
[null,null,"Police","Private Security Industry Regulatory Authority","Private Security Industry Regulatory Authority","Nompumelelo Radebe","(012) 315 5957","nompumelelo.radebe@treasury.gov.za","Mntazi Msiza","(012) 315 5876","Mntazi.msiza@treasury.gov.za",1,1,"3A","PE11",11,"PSIRA",202324,null,null,null,null,null,null,null,null,null,null,"The Independent Electoral Commission"]
[null,null,"Employment and Labour","Productivity South Africa","Productivity SA","Judy Naidoo","(012) 315 5269","judy.naidoo@treasury.gov.za","Sihle Manqele","(012) 406 9174","Sihle.Manqele@treasury.gov.za",1,1,"3A","PE87",87,"ProductivitySA",202324,null,null,null,null,null,null,null,null,null,null,"The Municipal Demarcation Board"]
[null,null,"Public Works and Infrastructure","The Property Management Trading Account","Property Management Trading Entity","George Tembo","(012) 315 5514","george.tembo@treasury.gov.za","Patrick Mbedzi","(012) 315 5912","Patrick.Mbedzi@treasury.gov.za",1,1,"Not listed","PE98",98,"PMTE",202324,null,null,null,null,null,null,null,null,null,null,"The Pan South African Language Board"]
[null,null,"National Treasury","Public Investment Corporation","Public Investment Corporation Limited","Mokgatla Tema ","(012) 315 5948","mokgatla.tema@treasury.gov.za","Patrick Mbedzi","(012) 315 5912","Patrick.Mbedzi@treasury.gov.za",3,1,"3B","PE97",97,"PIC",202324,null,null,null,null,null,null,null,null,null,null,"The Public Protector of South Africa"]
[null,null,"Higher Education and Training","Public Service Sector Education and Training Authority","Public Service Sector Education and Training Authority","Spencer Janari","(012) 315 5436","spencer.janari@treasury.gov.za","Vuyo Ngqukumba","(012) 315 5760","Vuyo.Ngqukumba@treasury.gov.za",2,3,"3A","PE226",226,"PSETA",202324,null,null,null,null,null,null,null,null,null,null,"The Social Housing Regulatory Authority"]
[null,null,"Higher Education and Training","Quality Council for Trades and Occupations","Quality Council for Trades and Occupations","Spencer Janari","(012) 315 5436","spencer.janari@treasury.gov.za","Vuyo Ngqukumba","(012) 315 5760","Vuyo.Ngqukumba@treasury.gov.za",1,1,"3A","PE235",235,"QCTO",202324,null,null,null,null,null,null,null,null,null,null,"The South African Human Rights Commission"]
[null,null,"Transport","Railway Safety Regulator","Railway Safety Regulator","Luyolo Ntlangula","(012) 315 5571","luyolo.ntlangula@treasury.gov.za","Mntazi Msiza","(012) 315 5876","Mntazi.msiza@treasury.gov.za",1,1,"3A","PE103",103,"RSR",202324,null,null,null,null,null,null,null,null,null,null,"The South African Institute for Drug-free Sport"]
[null,null,"Water and Sanitation","Rand Water Board","Rand Water","Iqbal Mahomed Alli","(012) 315 5809","iqbal.mahomedalli@treasury.gov.za","Mntazi Msiza","(012) 315 5876","Mntazi.msiza@treasury.gov.za",1,3,"3B","PE199",199,"RandWater",202324,null,null,null,null,null,null,null,null,null,null,"The South African National Roads Agency Limited"]
[null,null,"Agriculture, Land Reform and Rural Development","Registration of Deeds Trading Account","Registration of Deeds Trading Entity","Humbelani Ramuedzisi","(012) 315 5585","humbelani.ramuedzisi@treasury.gov.za","Vuyo Ngqukumba","(012) 315 5760","Vuyo.Ngqukumba@treasury.gov.za",1,1,"Not listed","PE31",31,"DEEDS",202324,null,null,null,null,null,null,null,null,null,null,"The Water Services Trading Entity"]
[null,null,"Transport","Road Accident Fund","Road Accident Fund","Luyolo Ntlangula","(012) 315 5571","luyolo.ntlangula@treasury.gov.za","Mntazi Msiza","(012) 315 5876","Mntazi.msiza@treasury.gov.za",4,4,"3A","PE101",101,"RAF",202324,null,null,null,null,null,null,null,null,null,null,"Trans-Caledon Tunnel Authority"]
[null,null,"Transport","Road Traffic Infringement Agency","Road Traffic Infringement Agency","Luyolo Ntlangula","(012) 315 5571","luyolo.ntlangula@treasury.gov.za","Mntazi Msiza","(012) 315 5876","Mntazi.msiza@treasury.gov.za",1,1,"3A","PE229",229,"RTIA",202324,null,null,null,null,null,null,null,null,null,null,"uMalusi Council for Quality Assurance in General and Further Education and Training"]
[null,null,"Transport","Road Traffic Management Corporation","Road Traffic Management Corporation","Luyolo Ntlangula","(012) 315 5571","luyolo.ntlangula@treasury.gov.za","Mntazi Msiza","(012) 315 5876","Mntazi.msiza@treasury.gov.za",1,1,"3A","PE104",104,"RTMC",202324,null,null,null,null,null,null,null,null,null,null,"Umgeni Water"]
[null,null,"Sport, Arts and Culture","Robben Island Museum","Robben Island Museum","Judy Naidoo","(012) 315 5269","judy.naidoo@treasury.gov.za","Patrick Mbedzi","(012) 315 5912","Patrick.Mbedzi@treasury.gov.za",1,3,"3A","PE200",200,"RobbenM",202324,null,null,null,null,null,null,null,null,null,null,"Universal Service and Access Agency of South Africa"]
[null,null,"Trade, Industry and Competition","South African Bureau of Standards","SA Bureau of Standards","Isaac Kurasha","(012) 315 5213","Isaac.Kurasha@treasury.gov.za","Sihle Manqele","(012) 406 9174","Sihle.Manqele@treasury.gov.za",1,1,"3B","PE108",108,"SABS",202324,null,null,null,null,null,null,null,null,null,null,"Universal Service and Access Fund"]
[null,null,"Sport, Arts and Culture","South African Institute for Drug-Free Sport","SA Institute for Drug-free Sport","Judy Naidoo","(012) 315 5269","judy.naidoo@treasury.gov.za","Patrick Mbedzi","(012) 315 5912","Patrick.Mbedzi@treasury.gov.za",1,1,"3A","PE112",112,"SAIDS",202324,null,null,null,null,null,null,null,null,null,null,"Water Research Commission"]
[null,null,"Health","South African Medical Research Council","SA Medical Research Council","Refiloe Thokoa","(012) 395 6559","refiloe.thokoa@treasury.gov.za","Victor Ramphele","082 561 5029","Victor.Ramphele@treasury.gov.za",1,1,"3A","PE116",116,"SAMRC",202324]
[null,null,"Transport","South African National Roads Agency","SA National Roads Agency","Luyolo Ntlangula","(012) 315 5571","luyolo.ntlangula@treasury.gov.za","Mntazi Msiza","(012) 315 5876","Mntazi.msiza@treasury.gov.za",1,1,"3A","PE121",121,"SANRAL",202324]
[null,null,"Higher Education and Training","Safety and Security Education and Training Authority","Safety and Security Education and Training Authority","Spencer Janari","(012) 315 5436","spencer.janari@treasury.gov.za","Vuyo Ngqukumba","(012) 315 5760","Vuyo.Ngqukumba@treasury.gov.za",2,3,"3A","PE201",201,"SASSETA",202324]
[null,null,"National Treasury","South African Special Risks Insurance Association","Sasria Limited","Mokgatla Tema ","(012) 315 5948","mokgatla.tema@treasury.gov.za","Patrick Mbedzi","(012) 315 5912","Patrick.Mbedzi@treasury.gov.za",3,3,"3B","PE128",128,"SASRIA",202324]
[null,null,"Water and Sanitation","Sedibeng Water Board","Sedibeng Water","Iqbal Mahomed Alli","(012) 315 5809","iqbal.mahomedalli@treasury.gov.za","Mntazi Msiza","(012) 315 5876","Mntazi.msiza@treasury.gov.za",1,3,"3B","PE202",202,"Sedibeng",202324]
[null,null,"Communications and Digital Technologies","Sentech (Pty) Ltd","Sentech Limited","Keitumetse Motshegwe","(012) 395 6750","keitumetse.motshegwe@treasury.gov.za","Mntazi Msiza","(012) 315 5876","Mntazi.msiza@treasury.gov.za",1,1,"3B","PE132",132,"SENTECH",202324]
[null,null,"Higher Education and Training","Services Sector Education and Training Authority","Services Sector Education and Training Authority","Spencer Janari","(012) 315 5436","spencer.janari@treasury.gov.za","Vuyo Ngqukumba","(012) 315 5760","Vuyo.Ngqukumba@treasury.gov.za",2,3,"3A","PE203",203,"SSETA",202324]
[null,null,"Small Business Development","Small Enterprise Development Agency","Small Enterprise Development Agency","Nico Likhethe","(012) 315 5773","nico.likhethe@treasury.gov.za","Sihle Manqele","(012) 406 9174","Sihle.Manqele@treasury.gov.za",3,1,"3A","PE131",131,"SEDA",202324]
[null,null,"Trade, Industry and Competition","Small Enterprise Finance Agency","Small Enterprise Finance Agency","Isaac Kurasha","(012) 315 5213","Isaac.Kurasha@treasury.gov.za","Sihle Manqele","(012) 406 9174","Sihle.Manqele@treasury.gov.za",3,3,"3B","PE238",238,"SAFA",202324]
[null,null,"Public Enterprises","South African Airways (Pty) Limited","South African Airways (Pty) Limited","Isaac Kurasha","(012) 315 5213","Isaac.Kurasha@treasury.gov.za","Sihle Manqele","(012) 406 9174","Sihle.Manqele@treasury.gov.za",1,3,2,"PE163",163,"SAA",202324]
[null,null,"Communications and Digital Technologies","South African Broadcasting Corporation Ltd","South African Broadcasting Corporation Limited","Keitumetse Motshegwe","(012) 395 6750","keitumetse.motshegwe@treasury.gov.za","Mntazi Msiza","(012) 315 5876","Mntazi.msiza@treasury.gov.za",1,3,2,"PE107",107,"SABC",202324]
[null,null,"Transport","South African Civil Aviation Authority","South African Civil Aviation Authority","Luyolo Ntlangula","(012) 315 5571","luyolo.ntlangula@treasury.gov.za","Mntazi Msiza","(012) 315 5876","Mntazi.msiza@treasury.gov.za",1,1,"3A","PE13",13,"CAA",202324]
[null,null,"Basic Education","South African Council for Educators","South African Council for Educators","Spencer Janari","(012) 315 5436","spencer.janari@treasury.gov.za","Vuyo Ngqukumba","(012) 315 5760","Vuyo.Ngqukumba@treasury.gov.za",1,1,"3A","PE109",109,"SACE",202324]
[null,null,"Mineral Resources and Energy","South African Diamond and Precious Metals Regulator","South African Diamond and Precious Metals Regulator","Nomagugu Madikane","(012) 315 5312","nomagugu.madikane@treasury.gov.za","Sihle Manqele","(012) 406 9174","Sihle.Manqele@treasury.gov.za",1,1,"3A","PE105",105,"SADPMR",202324]
[null,null,"Public Enterprises","South African Express (Pty) Limited","South African Express (Pty) Limited","Isaac Kurasha","(012) 315 5213","Isaac.Kurasha@treasury.gov.za","Sihle Manqele","(012) 406 9174","Sihle.Manqele@treasury.gov.za",1,3,2,"PE160",160,"SAX",202324]
[null,null,"Public Enterprises","South African Forestry Company Limited","South African Forestry Company Limited","Isaac Kurasha","(012) 315 5213","Isaac.Kurasha@treasury.gov.za","Sihle Manqele","(012) 406 9174","Sihle.Manqele@treasury.gov.za",1,3,2,"PE110",110,"SAFCOL",202324]
[null,null,"Health","South African Health Products Regulatory Authority","South African Health Products Regulatory Authority","Refiloe Thokoa","(012) 395 6559","refiloe.thokoa@treasury.gov.za","Victor Ramphele","082 561 5029","Victor.Ramphele@treasury.gov.za",1,1,"3A","PE247",247,"SAHPRA",202324]
[null,null,"Sport, Arts and Culture","South African Heritage Resources Agency","South African Heritage Resources Agency","Judy Naidoo","(012) 315 5269","judy.naidoo@treasury.gov.za","Patrick Mbedzi","(012) 315 5912","Patrick.Mbedzi@treasury.gov.za",1,1,"3A","PE111",111,"SAHRA",202324]
[null,null,"Sport, Arts and Culture","South African Library for the Blind","South African Library for the Blind","Judy Naidoo","(012) 315 5269","judy.naidoo@treasury.gov.za","Patrick Mbedzi","(012) 315 5912","Patrick.Mbedzi@treasury.gov.za",1,3,"3A","PE179",179,"SALB",202324]
[null,null,"Cooperative Governance","South African Local Government Association","South African Local Government Association","Millicent Mulaudzi","(012) 395 6576","millicent.mulaudzi@treasury.gov.za","Tumi Tjale","(012) 395 6561","Tumi.Tjale@treasury.gov.za",1,1,"3A","PE113",113,"SALGA",202324]
[null,null,"Transport","South African Maritime Safety Authority","South African Maritime Safety Authority","Luyolo Ntlangula","(012) 315 5571","luyolo.ntlangula@treasury.gov.za","Mntazi Msiza","(012) 315 5876","Mntazi.msiza@treasury.gov.za",1,1,"3A","PE117",117,"SAMSA",202324]
[null,null,"Trade, Industry and Competition","South African National Accreditation System","South African National Accreditation System","Isaac Kurasha","(012) 315 5213","Isaac.Kurasha@treasury.gov.za","Sihle Manqele","(012) 406 9174","Sihle.Manqele@treasury.gov.za",1,1,"3A","PE119",119,"SANAS",202324]
[null,null,"Forestry, Fisheries and the Environment","South African National Biodiversity Institute","South African National Biodiversity Institute","Ashley Ramasimu","(012) 315 5166","ashley.ramasimu@treasury.gov.za","Vuyo Ngqukumba","(012) 315 5760","Vuyo.Ngqukumba@treasury.gov.za",1,1,"3A","PE120",120,"SANBI",202324]
[null,null,"Mineral Resources and Energy","South African National Energy Development Institute","South African National Energy Development Institute","Nomagugu Madikane","(012) 315 5312","nomagugu.madikane@treasury.gov.za","Sihle Manqele","(012) 406 9174","Sihle.Manqele@treasury.gov.za",1,1,"3B","PE155",155,"SANEDI",202324]
[null,null,"Forestry, Fisheries and the Environment","South African National Parks","South African National Parks","Ashley Ramasimu","(012) 315 5166","ashley.ramasimu@treasury.gov.za","Vuyo Ngqukumba","(012) 315 5760","Vuyo.Ngqukumba@treasury.gov.za",1,1,"3A","PE118",118,"SANPARKS",202324]
[null,null,"Science and Innovation","South African National Space Agency","South African National Space Agency","Thabiso Molewa","(012) 395 6780","thabiso.molewa@treasury.gov.za","Vuyo Ngqukumba","(012) 315 5760","Vuyo.Ngqukumba@treasury.gov.za",1,1,"3A","PE233",233,"SANSA",202324]
[null,null,"Mineral Resources and Energy","South African Nuclear Energy Corporation Limited","South African Nuclear Energy Corporation Limited","Nomagugu Madikane","(012) 315 5312","nomagugu.madikane@treasury.gov.za","Sihle Manqele","(012) 406 9174","Sihle.Manqele@treasury.gov.za",1,1,2,"PE73",73,"NECSA",202324]
[null,null,"Communications and Digital Technologies","South African Post Office SOC Ltd","South African Post Office Limited","Keitumetse Motshegwe","(012) 395 6750","keitumetse.motshegwe@treasury.gov.za","Mntazi Msiza","(012) 315 5876","Mntazi.msiza@treasury.gov.za",1,3,2,"PE122",122,"SAPO",202324]
[null,null,"Higher Education and Training","South African Qualifications Authority","South African Qualifications Authority","Spencer Janari","(012) 315 5436","spencer.janari@treasury.gov.za","Vuyo Ngqukumba","(012) 315 5760","Vuyo.Ngqukumba@treasury.gov.za",1,1,"3A","PE123",123,"SAQA",202324]
[null,null,"National Treasury","South African Revenue Service","South African Revenue Service","Mokgatla Tema ","(012) 315 5948","mokgatla.tema@treasury.gov.za","Patrick Mbedzi","(012) 315 5912","Patrick.Mbedzi@treasury.gov.za",1,1,"3A","PE126",126,"SARS",202324]
[null,null,"Social Development","South African Social Security Agency","South African Social Security Agency","Lindi Mzankomo","(012) 315 5256","lindi.mzankomo@treasury.gov.za","Vuyo Ngqukumba","(012) 315 5760","Vuyo.Ngqukumba@treasury.gov.za",5,1,"3A","PE129",129,"SASSA",202324]
[null,null,"Tourism","South African Tourism","South African Tourism","Tumelo Mokgoshi ","(012) 395 6777","Tumelo.Mokgoshi@treasury.gov.za","Sihle Manqele","(012) 406 9174","Sihle.Manqele@treasury.gov.za",1,1,"3A","PE106",106,"SA TOUR",202324]
[null,null,"Forestry, Fisheries and the Environment","South African Weather Service","South African Weather Service","Ashley Ramasimu","(012) 315 5166","ashley.ramasimu@treasury.gov.za","Vuyo Ngqukumba","(012) 315 5760","Vuyo.Ngqukumba@treasury.gov.za",1,1,"3A","PE130",130,"SAWS",202324]
[null,null,"Justice and Constitutional Development","Special Investigating Unit","Special Investigating Unit","Werner  Krause ","(012) 315 5211 ","Werner.Krause@treasury.gov.za","Mntazi Msiza","(012) 315 5876","Mntazi.msiza@treasury.gov.za",1,1,"3A","PE136",136,"SIU",202324]
[null,null,"Mineral Resources and Energy","State Diamond Trader","State Diamond Trader","Nomagugu Madikane","(012) 315 5312","nomagugu.madikane@treasury.gov.za","Sihle Manqele","(012) 406 9174","Sihle.Manqele@treasury.gov.za",1,1,"3B","PE23",23,"SDT",202324]
[null,null,"Communications and Digital Technologies","State Information Technology Agency (Pty) Ltd","State Information Technology Agency","Keitumetse Motshegwe","(012) 395 6750","keitumetse.motshegwe@treasury.gov.za","Mntazi Msiza","(012) 315 5876","Mntazi.msiza@treasury.gov.za",1,1,"3A","PE135",135,"SITA",202324]
[null,null,"Science and Innovation","Technology Innovation Agency","Technology Innovation Agency","Thabiso Molewa","(012) 395 6780","thabiso.molewa@treasury.gov.za","Vuyo Ngqukumba","(012) 315 5760","Vuyo.Ngqukumba@treasury.gov.za",1,1,"3A","PE234",234,"TIA",202324]
[null,null,"Traditional Affairs","The Commission for the Promotion and Protection of the Rights of Cultural, Religious and Linguistic Communities","The Commission for the Promotion and Protection of the Rights of Cultural, Religious and Linguistic Communities","Millicent Mulaudzi","(012) 395 6576","millicent.mulaudzi@treasury.gov.za","Tumi Tjale","(012) 395 6561","Tumi.Tjale@treasury.gov.za",1,1,1,"PE28",28,"CRCCOM",202324]
[null,null,"Women, Youth and Persons with Disabilities","Commission for Gender Equality","The Commission on Gender Equality","Lindi Mzankomo","(012) 315 5256","lindi.mzankomo@treasury.gov.za","Patrick Mbedzi","(012) 315 5912","Patrick.Mbedzi@treasury.gov.za",1,1,1,"PE19",19,"CGE",202324]
[null,null,"National Treasury","Cooperatives Banks Development Agency","The Co-operative Banks Development Agency","Mokgatla Tema ","(012) 315 5948","mokgatla.tema@treasury.gov.za","Patrick Mbedzi","(012) 315 5912","Patrick.Mbedzi@treasury.gov.za",1,1,"3A","PE157",157,"CBDA",202324]
[null,null,"National Treasury","Financial and Fiscal Commission","The Financial and Fiscal Commission","Mokgatla Tema ","(012) 315 5948","mokgatla.tema@treasury.gov.za","Patrick Mbedzi","(012) 315 5912","Patrick.Mbedzi@treasury.gov.za",1,1,1,"PE38",38,"FFC",202324]
[null,null,"Communications and Digital Technologies","Independent Communications Authority of South Africa","The Independent Communications Authority of South Africa","Keitumetse Motshegwe","(012) 395 6750","keitumetse.motshegwe@treasury.gov.za","Mntazi Msiza","(012) 315 5876","Mntazi.msiza@treasury.gov.za",1,1,1,"PE47",47,"ICASA",202324]
[null,null,"Home Affairs","Electoral Commission","The Independent Electoral Commission","Timothy Murwa","(012) 315 5002","timothy.murwa@treasury.gov.za","Busi Motlhabedi","(012) 395 6657","Busi.Motlhabedi@treasury.gov.za",1,1,1,"PE50",50,"IEC",202324]
[null,null,"Cooperative Governance","Municipal Demarcation Board","The Municipal Demarcation Board","Millicent Mulaudzi","(012) 395 6576","millicent.mulaudzi@treasury.gov.za","Tumi Tjale","(012) 395 6561","Tumi.Tjale@treasury.gov.za",1,1,1,"PE154",154,"MDB",202324]
[null,null,"Mineral Resources and Energy","National Radioactive Waste Disposal Institute","The National Radioactive Waste Disposal Institute","Nomagugu Madikane","(012) 315 5312","nomagugu.madikane@treasury.gov.za","Sihle Manqele","(012) 406 9174","Sihle.Manqele@treasury.gov.za",1,1,"3A","PE236",236,"NRWDI",202324]
[null,null,"Higher Education and Training","The National Skills Fund","The National Skills Fund","Spencer Janari","(012) 315 5436","spencer.janari@treasury.gov.za","Vuyo Ngqukumba","(012) 315 5760","Vuyo.Ngqukumba@treasury.gov.za",2,1,"3A","PE89",89,"NSF",202324]
[null,null,"Sport, Arts and Culture","Pan South African Language Board","The Pan South African Language Board","Judy Naidoo","(012) 315 5269","judy.naidoo@treasury.gov.za","Patrick Mbedzi","(012) 315 5912","Patrick.Mbedzi@treasury.gov.za",1,1,1,"PE94",94,"PANSALB",202324]
[null,null,"Sport, Arts and Culture","The Playhouse Company","The Playhouse Company","Judy Naidoo","(012) 315 5269","judy.naidoo@treasury.gov.za","Patrick Mbedzi","(012) 315 5912","Patrick.Mbedzi@treasury.gov.za",1,3,"3A","PE198",198,"Playhouse",202324]
[null,null,"Justice and Constitutional Development","Public Protector of South Africa","The Public Protector of South Africa","Elvis Ramafamba","(012) 315 5204","elvis.ramafamba @treasury.gov.za","Mntazi Msiza","(012) 315 5876","Mntazi.msiza@treasury.gov.za",1,1,1,"PE100",100,"PPSA",202324]
[null,null,"Human Settlements","Social Housing Regulatory Authority","The Social Housing Regulatory Authority","Lindiwe Ngcongwane","(012) 315 5357","Lindiwe.Ngcongwane@treasury.gov.za","Sihle Manqele","(012) 406 9174","Sihle.Manqele@treasury.gov.za",1,1,"3A","PE228",228,"SHRA",202324]
[null,null,"Justice and Constitutional Development","South African Human Rights Commission","The South African Human Rights Commission","Elvis Ramafamba","(012) 315 5204","elvis.ramafamba @treasury.gov.za","Mntazi Msiza","(012) 315 5876","Mntazi.msiza@treasury.gov.za",1,1,1,"PE45",45,"SAHRC",202324]
[null,null,"Sport, Arts and Culture","Renaissance Theatre","The South African State Theatre","Judy Naidoo","(012) 315 5269","judy.naidoo@treasury.gov.za","Patrick Mbedzi","(012) 315 5912","Patrick.Mbedzi@treasury.gov.za",1,3,"3A","PE204",204,"Stateth",202324]
[null,null,"Water and Sanitation","The Water Services Trading Entity","The Water Services Trading Entity","Iqbal Mahomed Alli","(012) 315 5809","iqbal.mahomedalli@treasury.gov.za","Mntazi Msiza","(012) 315 5876","Mntazi.msiza@treasury.gov.za",1,1,"Not listed","PE147",147,"WTE",202324]
[null,null,"Water and Sanitation","Trans-Caledon Tunnel Authority","Trans-Caledon Tunnel Authority","Iqbal Mahomed Alli","(012) 315 5809","iqbal.mahomedalli@treasury.gov.za","Mntazi Msiza","(012) 315 5876","Mntazi.msiza@treasury.gov.za",1,1,2,"PE137",137,"TCTA",202324]
[null,null,"Public Enterprises","Transnet Limited","Transnet Limited","Isaac Kurasha","(012) 315 5213","Isaac.Kurasha@treasury.gov.za","Sihle Manqele","(012) 406 9174","Sihle.Manqele@treasury.gov.za",1,3,2,"PE196",196,"Transnet",202324]
[null,null,"Higher Education and Training","Transport Education and Training Authority","Transport Education and Training Authority","Spencer Janari","(012) 315 5436","spencer.janari@treasury.gov.za","Vuyo Ngqukumba","(012) 315 5760","Vuyo.Ngqukumba@treasury.gov.za",2,3,"3A","PE205",205,"TETA",202324]
[null,null,"Basic Education","Umalusi Council for Quality Assurance in General and Further Education and Training","uMalusi Council for Quality Assurance in General and Further Education and Training","Spencer Janari","(012) 315 5436","spencer.janari@treasury.gov.za","Vuyo Ngqukumba","(012) 315 5760","Vuyo.Ngqukumba@treasury.gov.za",1,1,"3A","PE142",142,"uMalusi",202324]
[null,null,"Water and Sanitation","Umgeni Water Board","Umgeni Water","Iqbal Mahomed Alli","(012) 315 5809","iqbal.mahomedalli@treasury.gov.za","Mntazi Msiza","(012) 315 5876","Mntazi.msiza@treasury.gov.za",1,3,"3B","PE207",207,"Umgeni",202324]
[null,null,"Sport, Arts and Culture","Voortrekker Museum","uMsunduzi Museum","Judy Naidoo","(012) 315 5269","judy.naidoo@treasury.gov.za","Patrick Mbedzi","(012) 315 5912","Patrick.Mbedzi@treasury.gov.za",1,3,"3A","PE208",208,"VoortrekerM",202324]
[null,null,"Employment and Labour","Unemployment Insurance Fund","Unemployment Insurance Fund","Judy Naidoo","(012) 315 5269","judy.naidoo@treasury.gov.za","Sihle Manqele","(012) 406 9174","Sihle.Manqele@treasury.gov.za",4,4,"3A","PE141",141,"UIF",202324]
[null,null,"Communications and Digital Technologies","Universal Service and Access Agency of South Africa","Universal Service and Access Agency of South Africa","Keitumetse Motshegwe","(012) 395 6750","keitumetse.motshegwe@treasury.gov.za","Mntazi Msiza","(012) 315 5876","Mntazi.msiza@treasury.gov.za",1,1,"3A","PE143",143,"USAASA",202324]
[null,null,"Communications and Digital Technologies","Universal Service and Access Fund","Universal Service and Access Fund","Keitumetse Motshegwe","(012) 395 6750","keitumetse.motshegwe@treasury.gov.za","Mntazi Msiza","(012) 315 5876","Mntazi.msiza@treasury.gov.za",1,1,"3A","PE144",144,"USAF",202324]
[null,null,"Sport, Arts and Culture","War Museum of the Boer Republics","War Museum of the Boer Republics","Judy Naidoo","(012) 315 5269","judy.naidoo@treasury.gov.za","Patrick Mbedzi","(012) 315 5912","Patrick.Mbedzi@treasury.gov.za",1,3,"3A","PE210",210,"WarM",202324]
[null,null,"Water and Sanitation","Water Research Commission","Water Research Commission","Iqbal Mahomed Alli","(012) 315 5809","iqbal.mahomedalli@treasury.gov.za","Mntazi Msiza","(012) 315 5876","Mntazi.msiza@treasury.gov.za",1,1,"3A","PE148",148,"WRC",202324]
[null,null,"Higher Education and Training","Wholesale and Retail Sector Education and Training Authority","Wholesale and Retail Sector Education and Training Authority","Spencer Janari","(012) 315 5436","spencer.janari@treasury.gov.za","Vuyo Ngqukumba","(012) 315 5760","Vuyo.Ngqukumba@treasury.gov.za",2,3,"3A","PE209",209,"WRSETA",202324]
[null,null,"Sport, Arts and Culture","William Humphreys Art Gallery","William Humphreys Art Gallery","Judy Naidoo","(012) 315 5269","judy.naidoo@treasury.gov.za","Patrick Mbedzi","(012) 315 5912","Patrick.Mbedzi@treasury.gov.za",1,3,"3A","PE211",211,"WilliamH",202324]
[null,null,"Sport, Arts and Culture","Performing arts institutions","ZArts Institutions Consolidation","Judy Naidoo","(012) 315 5269","judy.naidoo@treasury.gov.za","Patrick Mbedzi","(012) 315 5912","Patrick.Mbedzi@treasury.gov.za",1,1,"3A","PE149",149,"Zarts",202324]
[null,null,"Sport, Arts and Culture","Heritage Institutions","ZCultural Institutions Consolidation","Judy Naidoo","(012) 315 5269","judy.naidoo@treasury.gov.za","Patrick Mbedzi","(012) 315 5912","Patrick.Mbedzi@treasury.gov.za",1,1,"3A","PE150",150,"Zcultural",202324]
[null,null,"Sport, Arts and Culture","Libraries","ZLibraries Consolidation","Judy Naidoo","(012) 315 5269","judy.naidoo@treasury.gov.za","Patrick Mbedzi","(012) 315 5912","Patrick.Mbedzi@treasury.gov.za",1,1,"3A","PE151",151,"Zlibraries",202324]
[null,null,"Higher Education and Training","Sector education and training authorities","ZSETAs Consolidation","Spencer Janari","(012) 315 5436","spencer.janari@treasury.gov.za","Vuyo Ngqukumba","(012) 315 5760","Vuyo.Ngqukumba@treasury.gov.za",2,1,"3A","PE152",152,"ZSETAS",202324]
[null,null,"Water and Sanitation","Consolidated Water Boards","ZWater Boards Consolidation","Iqbal Mahomed Alli","(012) 315 5809","iqbal.mahomedalli@treasury.gov.za","Mntazi Msiza","(012) 315 5876","Mntazi.msiza@treasury.gov.za",1,1,"3B","PE153",153,"Zwaterboards",202324]

{"sheet":"Information","index":1,"n_rows":24,"n_cols":3,"rows_kept":24,"cut":false,"hidden":false,"merged":[]}
[]
[]
[]
[]
[]
[]
[]
[]
[]
[]
[]
[]
[]
["Transnet Limited"]
[]
[{"$f":"Settings!C2","v":"Public Enterprises"}]
[]
["datafilepe@treasury.gov.za"]
[]
[]
["Budget Examiner:",null,"Technical Assistant:"]
[{"$f":"Settings!F2","v":"Isaac Kurasha"},null,{"$f":"Settings!I2","v":"Sihle Manqele"}]
[{"$f":"Settings!G2","v":"(012) 315 5213"},null,{"$f":"Settings!J2","v":"(012) 406 9174"}]
[{"$f":"Settings!H2","v":"Isaac.Kurasha@treasury.gov.za"},null,{"$f":"Settings!K2","v":"Sihle.Manqele@treasury.gov.za"}]

{"sheet":"Technical Guidelines","index":2,"n_rows":335,"n_cols":6,"rows_kept":335,"cut":false,"hidden":false,"merged":[]}
[]
[]
[]
[null,null,null,null,null,"Completing the public entities' budget template"]
[]
[null,null,null,null,null,"This spread sheet is intended to assist the data compilers when completing the budget template to provide background on each sheet to be completed and some relevant notes on items to consider when preparing data for the budget.  Any changes effected on the template will be explained in the guidelines below: "]
[]
[null,null,null,null,null,"Changes effected on the template"]
[null,null,null,null,null,"Important general notes to consider"]
[null,null,null,null,null,"Admin and Objectives/Activities 2 to 15 contain the expenditure part of the Statement of Financial Performance as well as the Performance Indicators relating to each objective. Cells Q11-Q25 on all these Objectives/Activities contain a drop down to decide whether the performance indicators should be included in the Pub Table or not. Cells F33 - F139  contain a detailed goods and services list. The \"please specify\" rows have been removed from the expenditure sheets.  Instead there is a list  of goods and services items the entity can make use of to capture their expenditure.  In the event that the entity is of the view that the provided items do not cater fully to their expenditure type, they should contact the tecnnical assistance for further guidance\"."]
[null,null,null,null,null,"Added: Please note there' conditional formatting added to monitor the completion of the outer year. If the outer year is not fully completed the total will be highlighted in Orange. The compiler is advised to fully complete the outer year."]
[]
[null,null,null,null,null,"Sheets: Revenue, Objectives, Cash Flow, Financial Position and infrastructure are prepopulated with data submitted in the previous budget process."]
[]
[null,null,null,null,null,"The Hide and Unhide Rows buttons are to be used to hide unused rows or unhide rows."]
[]
[null,null,null,null,null,"The Do's and Don'ts"]
[]
[null,null,null,null,null,"ONLY the darker blue-shaded areas are to be completed."]
[null,null,null,null,null,"All the white areas are FORMULA-DRIVEN and should NEVER be overwritten."]
[null,null,null,null,null,"The light blue areas are of DROP DOWN LISTS and should be used to select the relevant items from the list.  Entities should REFRAIN from copying data elsewhere and pasting it here."]
[null,null,null,null,null,"Column G in Financial Position, Cash Flow and Revenue sheets contain numbers that are of hyperlinks that navigate one to the definitions sheet for explanation of the specific item."]
[]
[null,null,null,null,null,"Information to understand about logistics of the template"]
[null,null,null,null,null,"All sheets should contain information from the audited history years, the budget information for the current year and the budget projections for the MTEF years."]
[null,null,null,null,null,"The first year of history numbers that are pre-populated (e.g. for Revenue and Financial Position etc.) will be locked and no changes will be allowed unless there has been restatement of numbers. "]
[null,null,null,null,null,"The current year data (2022/23) and MTEF years' data may be revised where applicable and the outer year should be completed with data  i.e. 2025/26."]
[]
[null,null,null,null,null,"Analysis issues possible for queries if not attended to"]
[]
[null,null,null,null,null,"PFMA schedule 3A entities are NOT allowed to budget for deficit unless a prior approval has been granted to show deficits.  This will be queried if approval was not granted."]
[null,null,null,null,null,"Accumulated surplus/deficit line in the current year should reflect the increment or depletion of the balance by the surplus or deficit made by the entity in the Income Statement."]
[null,null,null,null,null,"The Cash and cash equivalents balance in the financial position should also reflect the movements of increases or decreases in the cash and cash equivalents shown on the Cash Flow Statement."]
[null,null,null,null,null,"Projections of interest revenue and interest expenses should be in line with the trends shown on projections for Investments/Cash and cash equivalents and Borrowings respectively."]
[null,null,null,null,null,"All highlighted trends on the TrendsAnalysis sheet should be explained in column S of the same sheet, else a query will be raised."]
[null,null,null,null,null,"All highlighted trends on the CashFlowDiff sheet should be explained in column O of the same sheet, else a query will be raised."]
[null,null,null,null,null,"Chronological order of sheets on the template"]
[]
[null,null,null,null,null,"The Blue Tabs - reference sheets"]
[null,null,null,null,null,"Information sheet"]
[]
[null,null,null,null,null,"The purpose of this sheet is for the compiler to provide National Treasury with their contact details and to verify that the entity name is correct. The contact details of compilers are used for ease of reference when there are queries in the database.  Also contained on this sheet are the contact details of the Treasury's Budget Examiner who should be contacted with regards to budget allocation issues  and the Technical Assistant who should be contacted with regards to complications on the template. "]
[]
[null,null,null,null,null,"Technical Guidelines"]
[]
[null,null,null,null,null,"The purpose of this sheet is to assist the data compiler with the background of each sheet to be completed and to provide some relevant notes on things to consider in preparing data for the template. This sheet should be read carefully for ease of completion of the template."]
[]
[null,null,null,null,null,"Economic Definitions"]
[]
[null,null,null,null,null,"This sheet contains all definitions of the economic classification found on the template. The definitions are hyperlinked from the sheets being completed. These definitions assist in determining how to correctly classify each financial item ."]
[]
[null,null,null,null,null,"The Purple Tabs - financial data sheets"]
[]
[null,null,null,null,null,"To note from this part onwards is that the Statement of Financial Performance is broken down into different sheets. The sheets from Admin to sheet 15 are what is now called objectives of the entity and this is where the expenses part of the Statement of Financial Performance sheet is reflected.Performance Indicators tables are also included at the top of each sheet.  Details of the split are detailed below:"]
[]
[null,null,null,null,null,"Revenue"]
[]
[null,null,null,null,null,"The Revenue sheet is the normal income part of the Statement of financial perfomance and has been separated from the expenditure part. Note the check at the bottom of the sheet that checks the surplus/deficit line of what the total revenue less the total expenditure will be against what is in the Annual Report.  The blue shaded areas are still the areas to be completed and not the white ones."]
[]
[null,null,null,null,null,"Admin"]
[null,null,null,null,null,"Admin sheet is what is also called objective 1 of the entity.  This sheet should be used to capture only the information relating to the Administration Objective of the entity.  The Administration objective should include the following:\n\nEntity Management which includes the salary, allowances and other support costs of the Board and the CEO and the management of the CEO’s office and the Board. \nCorporate Services that include all costs related to staff in the Human Resources, Legal Services, Communications, Information Technology and Other support services (based on the entity’s decision).\nFinance Administration which are all costs related to staff in Finance including the CFO and the management of the Office of the Chief Financial Officer. \nInternal Audit recognising that the reporting channel for the Head of Internal Audit is not through the CFO but directly to the CEO.\nOffice Accommodation which includes activities and costs relating to the provision of office accommodation functions for the entity. Where office accommodation functions relating to other specific objectives of the entity can be identified, they should be assigned to the relevant objective.\nResidential accommodation that includes activities and costs relating to the provision of housing to employees of the entity. (Note: This does not include the residential benefits of the Accounting Authority).\n                                                          \nSource: Guidelines on Budget Programmes (National Treasury. 2010.) Content has been amended to suit public entities"]
[]
[null,null,null,null,null,"The first table to complete on this sheet is the Performance Indicators  table.  The performance indicators to be completed on this table are only those that relate to the Administration Objective of the entity.  The entity should select whether they would like the indicators to be included in the Pub Table or not.  The second table that follows is the detail of the expenditure that relates to the Admin objective broken down into economic classification. The entity should then reflect all expenses relating to the Admin objective and the total for all other objectives should balance to the total expenditure of the objective."]
[null,null,null,null,null,"New performance indicators to the APPs and changes to old performance indicators must be communicated with the budget examiners before they are included for the purposes of this template."]
[null,null,null,null,null,"Objectives 2, 3, 4 .... 15"]
[null,null,null,null,null,"Objective Sheets  from sheet 2 to 15 are exactly the same as the Admin sheet. These should contain the objectives/activities of the entity on rows 37 of each objective, followed by the Performance Indicators. Relevant balances should be made in each. "]
[null,null,null,null,null," "]
[null,null,null,null,null,"Cash Flow"]
[null,null,null,null,null,"The Cash Flow Sheet  reflects the Direct Method of the cash flow.  However, this method is more detailed than as shown on the Annual Report. \nThe sheet will be prepopulated with available data and the entity should provide a breakdown of it's operating cash flow activities and should balance to the numbers shown on the Annual Report by checking against the balances on row 11.  The entity is required to provide this detail fully."]
[]
[null,null,null,null,null,"Financial Position"]
[null,null,null,null,null,"This sheet reflects the assets, liabilities and equity of the entity and the information should balance to the Annual Report in the historical numbers.  The checks on row 99-100 should be used to ensure the balance."]
[]
[null,null,null,null,null,"Related Party Revenue"]
[null,null,null,null,null,"This sheet is to be used to reflect all related party revenue consisting of receipts from sales of goods and services EXCEPT transfer receipts from government institutions. This means that the entity must be doing business with the government institution and receiving payment for such goods and/or services. Transactions with municipalities have been excluded from this sheet because Local Government is not yet included in the government consolidated account. The compiler should use the drop down list to select the relevant categories in this sheet and should refrain from copying the data elsewhere and pasting it on the sheet."]
[null,null,null,null,null,"Please note that the Related Party Revenue sheet is meant to source cash figures. The reported figures should therefore correspond to the Sales by Market Establishment line on the Cash Flow sheet. If for example an entity shows a total of R500 000 for sales by market establishment on the cash flow sheet, the question that should be answered in order to complete this sheet is, how much of the R500 000 is received from other government units (except local government). "]
[null,null,null,null,null,"On column H, the entity is required to indicate the exact transaction that took place resulting into the particular related party revenue. This should be done by selecting a relevant item from the drop down list provided. The question to ask here would be, what exactly did the entity sell to the other government unit that resulted in the receipt of this revenue? eg computer services."]
[]
[null,null,null,null,null,"Personel"]
[null,null,null,null,null,"The personnel sheet should be used to record all costs pertaining to employees of an entity. The guidelines for estimating this sheet are in the main budget guideline. The entity is urged to read through the main guideline as it sets out what the overall budget seeks to address and all the main issues to be considered when compiling budgets over the MTEF. For expenditure on compensation, the total should add up to the total compensation on the ENE Summary. Finance officials together with HR officials should work together to complete this sheet. All blue shaded columns should be completed and the light blue drop down lists should be used to select the relevant items required."]
[]
[null,null,null,null,null,"DEFINITIONS"]
[null,null,null,null,null,"Approved Establishment refers to the number of employment positions approved by the Entity's Executive Authority."]
[null,null,null,null,null,"Funded Establishment refers to the number of employment positions for which provision is made in the budget."]
[null,null,null,null,null,"Permanent refers to employees with work contracts of unlimited duration."]
[null,null,null,null,null,"Temporary/Contract refers to employees who are employed for a fixed period of time (e.g. 6 months, 2 years, etc.)"]
[null,null,null,null,null,"Guaranteed Package refers to the total of fixed and regular income/benefit items and employer contributions (if any) to Employee Benefit Funds (Retirement, Medical and Group Life). (i.e., Fixed Pay)"]
[null,null,null,null,null,"Performance Bonus refers to the additional compensation paid to an employee for performance that has exceeded expectations. This is typically awarded after a performance appraisal and analysis of projects completed by the employee over a specific period of time. (i.e., Variable Pay)"]
[null,null,null,null,null,"Other (components of remuneration) refers to the Total Cost to Company less Guaranteed Package less Performance Bonus. E.g. overtime payments (i.e., Variable Pay)"]
[null,null,null,null,null,"STEPS TO BE FOLLOWED"]
[null,null,null,null,null,"Column F (Category) - Select the relevant option (whether permanent or temporary/contract - as per definitions above) for a certain group of employees belonging to the salary level in Column H."]
[null,null,null,null,null,"Column G (Salary Level) - Select the relevant salary level starting with the lowest. DO NOT ADD OR DELETE ANY INFORMATION IN THIS COLUMN."]
[null,null,null,null,null,"Column I (Occupation) - Select the occupation which best describes the officials in the salary level that you have selected. The intention is to see the type of skills that the organisation has and not necessarily the functional job titles of individual employees. If none is relevant, then specify the relevant occupation by typing it in."]
[null,null,null,null,null,"Column J (Components of Remuneration) - Select the relevant component of remuneration, starting with the Guaranteed Package followed by the Performance Bonus and then Other (as per definitions above). DO NOT ADD OR DELETE ANY INFORMATION IN THIS COLUMN."]
[null,null,null,null,null,"Column K (Number of posts filled on funded establishment) - Include only the number of posts that were filled and funded on the approved establishment."]
[null,null,null,null,null,"Column L (Expenditure on posts filled on funded establishment) - Include the expenditure on the above-mentioned posts."]
[null,null,null,null,null,"Column M (Unit costs) - Unit costs of the above-mentioned posts. This column is formula driven."]
[null,null,null,null,null,"Column N (Number of posts on approved establishment) – This includes both filled and vacant posts and may or may not be funded. This is as approved by the Entity’s Executive Authority."]
[null,null,null,null,null,"Column O (Number of funded posts (establishment)) – This is a projection from April 2022 to end of March 2023 and includes both filled and vacant posts which are funded."]
[null,null,null,null,null,"Column P (Number of posts filled on funded establishment) - This is a projection of posts that will be filled by the end of March 2020 on the funded establishment."]
[null,null,null,null,null,"Column Q (Expenditure on posts filled on funded establishment) - Expenditure on the above-mentioned posts."]
[null,null,null,null,null,"Column R (Unit costs) - Unit costs of the above-mentioned posts. This column is formula driven."]
[null,null,null,null,null,"Columns S to AA - Projections over the MTEF."]
[]
[null,null,null,null,null,"Check line: "]
[null,null,null,null,null,"All figures must be rounded to the nearest thousand and there should be no decimals. Ensure that the CHECK row shows a dash for each of the financial years. If not, look for errors in the captured data - there may be decimals in the figures or some other error."]
[]
[null,null,null,null,null,"Expend Summary"]
[null,null,null,null,null,"The Expenditure summary sheet is formula driven and contains all expenditures from all 10 objectives that the entity would have completed. This is where the entity can verify if its budget is allocated appropriately in the different objectives to sum the total budget allocated and also to check the status of its expenditure in total.  All the red checks should balance and where they don't, reference should be made back to the individual objectives to check where the problem could be arising from."]
[]
[null,null,null,null,null,"ENE Summary"]
[null,null,null,null,null,"The ENE Summary is what is used to be called the Pub Table.  This sheet summarises all inputs from different sheets in preparation for publication.  The first table is where the different objectives are summarised and the check on row 28 checks that the total objectives equals the total expenditure on row 53.  The second table is the Statement of Financial Performance having combined the inputs in the Revenue sheet and those in the 15 objectives to complete the statement. The next two tables are of the summary of  Cash flow statement and the Financial Position statement as have been completed on their respective sheets.  The final table is that which shows the financial performance of the entity by means of ratios.  This indicates well how the entity is performing over the years."]
[null,null,null,null,null," "]
[null,null,null,null,null,"Perform Info Pub"]
[]
[null,null,null,null,null,"The Performance Information Pub sheet is formula-driven and summarises all the performance indicators reflected on the different objectives.  This sheet will only reflect those indicators that the entity chose to include when completing columns Q of each objective.  This is usually the table that gets published on the ENE publication and reflects the final indicators of the entity."]
[]
[null,null,null,null,null,"Personnel Pub"]
[null,null,null,null,null,"This sheet is formula-driven and summarises the personnel information that is included in the Personnel sheet for publication."]
[]
[null,null,null,null,null,"Personnel Trends"]
[null,null,null,null,null,"Personnel trends with percentage increases and decreases above 10% for headcounts and above 8% increases and decreases for Unit costs must be explained in the trends explaination column (Column O) of the same sheet."]
[]
[null,null,null,null,null,"Checks"]
[null,null,null,null,null,"This sheet should be visited once all has been completed to check and verify that all checks built on the template have been balanced.  It highlights any area where a check should have been balanced  in a specific sheet and in a case where a check is not balanced, the compiler needs to re-visit the relevant sheet and make corrections to clear the errors.  Should an entity submit the template with any of the checks unbalanced, a query will be raised.  The entity is urged to attend to all checks in the template and ensure that there are no checks and all relevant sheets are balancing."]
[null,null,null,null,null,"Added table: Please note there's a table added in row 49 to 55. It highlights the incomplete outer year. The compiler needs to re-visit the relevant sheet and make corrections to clear the checks."]
[]
[null,null,null,null,null,"The Red Tabs - formula-driven sheets for analysis "]
[]
[null,null,null,null,null,"Trends Analysis "]
[null,null,null,null,null,"The sheet contains growth trends. The entity will need to pay attention to and explain on the financial perfomance and cash flow explanation tables provided on the sheet where highlighted by a certain colour.  There is a legend that explains the different colours that will be highlighted once a certain concerning trend is reflected.  A trend will be concerning if, for an example, a certain goods and services item is increasing or decreasing at a rate different from the average. The entities are urged to peruse this sheet carefully to monitor the trends in their budget submissions."]
[]
[null,null,null,null,null,"Cash flow differences"]
[null,null,null,null,null,"The sheet reflects differences between the figures in the current budget process and the ones in the previous year's budget process. There is a legend that explains the different colours that will be highlighted once a certain concerning trend is reflected. There is an explanation table provided for entities to give reasons for changes."]
[]
[null,null,null,null,null,"The Green Tabs - additional financial information on Infrastructure and ODA"]
[]
[null,null,null,null,null,"Infrastructure"]
[null,null,null,null,null,"This sheet is to be completed only by entities that are involved in infrastructure projects.  The project name, description, stage, cost and all other required information should be provided to ensure completeness. The sheet is prepopulated with last years numbers. "]
[]
[null,null,null,null,null,"When done completing the budget template"]
[]
[null,null,null,null,null,"Go to the Sign-Off sheet."]
[null,null,null,null,null,"Print out the sign off page,  sign on the signature space, scan and email the document along with the budget planning baseline tool ."]
[]
[]
[]
[]
[]
[]
[]
[]
[]
[]
[]
[]
[]
[]
[]
[]
[]
[]
[]
[]
[]
[]
[]
[]
[]
[]
[]
[]
[]
[]
[]
[]
[]
[]
[]
[]
[]
[]
[]
[]
[]
[]
[]
[]
[]
[]
[]
[]
[]
[]
[]
[]
[]
[]
[]
[]
[]
[]
[]
[]
[]
[]
[]
[]
[]
[]
[]
[]
[]
[]
[]
[]
[]
[]
[]
[]
[]
[]
[]
[]
[]
[]
[]
[]
[]
[]
[]
[]
[]
[]
[]
[]
[]
[]
[]
[]
[]
[]
[]
[]
[]
[]
[]
[]
[]
[]
[]
[]
[]
[]
[]
[]
[]
[]
[]
[]
[]
[]
[]
[]
[]
[]
[]
[]
[]
[]
[]
[]
[]
[]
[]
[]
[]
[]
[]
[]
[]
[]
[]
[]
[]
[]
[]
[]
[]
[]
[]
[]
[]
[]
[]
[]
[]
[]
[]
[]
[]
[]
[]
[]
[]
[]
[]
[]
[]
[]
[]
[]
[]
[]
[]
[]
[]
[]
[]
[]
[]
[]
[]
[]
[]
[]
[]
[]
[]
[]
[]
[]
[]
[]
[null,null,null,"Budget approved by the board."]

{"sheet":"Economic definitions","index":3,"n_rows":328,"n_cols":10,"rows_kept":328,"cut":false,"hidden":false,"merged":[]}
[]
[]
[null,null,null,null,null,"Note",null,"ITEM","DEFINITIONS","EXAMPLES"]
[null,null,null,null,null,1,null,"Tax receipts","A tax receipt is defined as compulsory, unrequited revenue collected by an entity.\n\nTaxes are compulsory because the other party is required by statutory provision to pay taxes in certain circumstances and under certain conditions.  Taxes are unrequited in the sense that government does not provide anything directly in return to the party making the tax payment.  Not all compulsory, unrequited receipts are recorded as taxes.  \nExcluded are;\n  Fines, penalties and forfeits_ also compulsory, unrequited receipts, but are recorded separately from taxes.  Fines, penalties and forfeits are distinguished from taxes by that they are as a result of a volation of a law or administrative rules, while taxes are an implementation of a law.  \n  Transfers received_ also unrequited receipts by government but not considered taxes.  Taxes are distinguished from transfers received because taxes are compulsory and transfers received are voluntary.  [Guidelines for implementing the New Economic Reporting Format]\n  Social (security) contributions_ payments earmarked for unfunded social security schemes, e.g. UIF, that provide benefits other than retirement benefits.  These are recorded separately from taxes.","*Casino taxes\n*Motorvehicle licences tax\n*Liquor licences tax\n*Horse racing taxes\n"]
[]
[null,null,null,null,null,2,null,"Sales of goods and services: non capital assets","\nThe category consists of all sales by public entities provided that the entity has produced the good or service.  It is important to note that sales of capital assets are never included under this category, but under sales of capital assets.  Thus, sales of capital assets are excluded from this category even if they have been produced by a public entity.  Revenue from ownership of building and fixed structures - rentals - is included in this category.  This is because revenue from ownership of buildings implies the provision of a service in the form of maintenance and repair.  In contrast, revenue from ownership of land is more passive and is therefore not considered a sale.  \nTo note;\nRevenue from ownership of buildings must be distinguished from revenue from ownership of land and sub-soil assets; the latter is classified as rent of land, which is a separate revenue category.  \n  ","*Sale of goods and services produced by an entity\n*Sales: Scrap, Waste, Other goods"]
[]
[null,null,null,null,null,3,null,"Sale of goods and services produced by an entity","This category consists of sales by entities, provided that the entity produced the goods or services.","*Administrative fees\n*Sales by market establishments\n*Other sales"]
[]
[null,null,null,null,null,4,null,"Administrative fees","This item consists of revenue collected for sales of regulatory or administrative services, and is sometimes referred to as license fees.  In this category, government must exercise a regulatory or administrative function. For example, it may verify the competence of a licence holder.  \n \nClassification provided for under this category includes licence or permits, registration fees and inspection fees (e.g. brands, and travel documents).\nNote: Regarding license fees, the government should be providing a service to the remitter of this fee, e.g. the use of government-owned land by hunters; otherwise the fee is classified as a tax on goods and services","*Licences/Permits Fees\n*Registration\n*Request for information\n*Inspection fees"]
[]
[null,null,null,null,null,5,null,"Sales by market establishments","When a public entity sells goods or services at market related prices the transactions should be recorded here. Examples are rent from buildings and equipment charged at the prevailing market prices. Example; rental of produced assets are treated as sales of services and diamond sales are treated as sales of goods.\n\nMarket prices are prices economically significant enough to influence supply and demand of a good or service.  The easiest benchmark is the prevailing price in the private market.","*RENTAL ON BUILDINGS\n*Rental machinery and equipment\n*Ticket sales\n*Ressearch services\n*Advertising services"]
[]
[null,null,null,null,null,6,null,"Other sales","This item includes money received from the sale of all other goods and services produces or partially produced by an entity.\n\nTo be part of this category, the fee charges must be below prices prevailing in the private market. User charges at below market prices are included for example hospital fees, as well as park and museum fees.  Examples are rentals of buildings and machinery, as well as hospital, park and museum fees.  Sales of seeds and livestock produced by public entities are considered other sales.  Sales of items purchased from another economic unit and then resold should also be included under this item; an example would be a postcard sold by a museum.","SERVICES RENDERED: \n   *Health services\n   *Exam certificates\n   * Police service\n\nSALES OF GOODS:\n  *Tender documents\n  *Pharmaceutical\n  *Water\n"]
[]
[null,null,null,null,null,7,null,"Sales: Scrap, Waste, Other goods","This item includes sales of all items that are not considered capital assets and not produced by entity e.g. used arms sold by the Department of Defence.","*Sales: Scrap and waste\n*Selling arms and arms support systems"]
[]
[null,null,null,null,null,8,null,"Transfers Received","This item consists of all unrequited receipts voluntarily given by other parties. Thus, an entry should be made under this item when a public entity does not give a service or good directly in return for the transfer from the other party and the transfer is voluntary.","Transfers Received This item consists of all unrequited receipts voluntarily given by other parties. Thus, an entry should be made under this item when a public entity does not give a service or good directly in return for the transfer from the other party and the transfer is voluntary. Included are;\n  Grants (Not identified as grants in our format) which are voluntary transfers received by a government unit from either another government unit, foreign governments or an international organisation,\n Social contributions_ payments earmarked for social security agencies and\n Other transfers (not identified as other transfers in our format)_ gifts and donations from sources other than government units and international organisations.\n\nExcluded are;\n All payments made by government departments or other government units for services provided by the entity.  These are sales of goods and services.  E.g. if DTI commissions CSIR for some research project and pay for this, this should be rightly classified as Sales.\n\n"]
[]
[null,null,null,null,null,9,null,"  Other Government Units","Money received from other governmental units either as a current or capital transfer.","(Not identified as grants in our format) which are voluntary transfers received by a government unit from either another government unit, foreign governments or an international organisation."]
[]
[null,null,null,null,null,10,null,"National government units","Money received from national departments either as a current or capital transfer.","Voluntary transfers received by a government unit from either another government unit, foreign governments or an international organisation."]
[]
[null,null,null,null,null,11,null,"Departmental Transfers",null,"Voluntary transfers received by a government unit from either another government unit, foreign governments or an international organisation."]
[]
[null,null,null,null,null,12,null,"Other National Departments",null,"Voluntary transfers received by a government unit from either another government unit, foreign governments or an international organisation."]
[]
[null,null,null,null,null,13,null,"Departmental agencies and accounts","Money received from departmental agencies either as a current or capital transfer."]
[]
[null,null,null,null,null,14,null,"Provincial governments","Money received from provincial government as a current or capital transfer."]
[]
[null,null,null,null,null,15,null,"Local Governments","Money received from local governments (municipalities or municipal entities) either as a current or capital transfer."]
[]
[null,null,null,null,null,16,null,"Higher education institutions","Current and capital transfers received from Higher Education Institutions, deemed to be established or declared as a Technicon or University under the Higher Education Act of 1997.","*(Not identified as other transfers in our format)_ gifts and donations from sources other than government units and international organisations."]
[]
[null,null,null,null,null,17,null,"Foreign government and international organisations","Capital and current transfers received from foreign governments.","*(Not identified as grants in our format) which are voluntary transfers received by a government unit from either another government unit, foreign governments or an international organisation."]
[]
[null,null,null,null,null,18,null," Local non-government donors","Donations received from public corporations or private enterprises.","*(Not identified as other transfers in our format)_gifts and donations from sources other than government units and international organisations."]
[]
[null,null,null,null,null,19,null,"Fines, penalties and forfeits ","This item consists of all compulsory receipts imposed by a court or quasi-judicial body.\nOut-of-court settlements are also included in this category.  As with taxes, this item consists of unrequited, compulsory transactions.  Thus, the recipient public entity does not provide anything in return for these receipts.\n\n","*Consumer courts fines, courts fines, traffic fines, criminal offence plea&snt fine "]
[]
[null,null,null,null,null,20,null,"Interest and rent on land ","This item consist of the income associated with ownership of interest-bearing financial instruments, such as bank deposits, loans extended to others, and bills and bonds issued by others. A dividend is a sum of money paid regularly (typically annually) by a company to its shareholders out of its profits (or reserves). Rent on land consists of economic rent, interest on capital invested for improvement of land, and reward for the risk taken by the landlord in investing his or her capital. ","*Land, Prospecting fees, retension fees, royalties, surface rental"]
[]
[null,null,null,null,null,21,null,"Interest ","This item consist of the income associated with ownership of interest-bearing financial instruments, such as bank deposits, loans extended to others, and bills and bonds issued by others.","*Bank deposits, loans extended to others, and bills and bonds issued by others."]
[]
[null,null,null,null,null,22,null,"Dividends ","A dividend is a distribution of money or property paid by a corporation out of the corporation's profits to shareholders.\nGovernment units are not payers of dividends as a rule.  Exceptions may be public corporations.\n","*Shares and other equity"]
[]
[null,null,null,null,null,23,null,"Rent on land","The item consists of the money received due to ownership of land.  This item also includes all revenue due to ownership of sub-soil assets and other commercially exploitable naturally occurring assets such as virgin forests, game and fisheries. ","*Land, Prospecting fees, retension fees, royalties, surface rental"]
[]
[null,null,null,null,null,24,null,"Unclassified revenue ","All revenue items that could not be classified above. Please make sure that the items are clearly specified, i.e. we will not accept \"other\" as a specification. This is so that we can then classify the revenue in one of the classes given..\nOut-of-court settlements are also included in this category. As with taxes, this item consists of unrequited, compulsory transactions. Thus, the recipient public entity does not provide anything in return for these receipts.\n","*All other revenue items that could not be classified above."]
[]
[null,null,null,null,null,25,null,"Tax benefit ","A tax benefit is an allowable deduction on a tax return intended to reduce a taxpayer's burden while typically supporting certain types of commercial activity. A tax benefit allows some type of adjustment benefiting a taxpayer's tax liability.","*Tax deductions, credits, and exclusions are benefits that reduce the amount taxpayers owe annually to federal and state governments. Tax shelters are another form of tax benefit that can help to lower taxes through special investments."]
[]
[null,null,null,null,null,26,null,"Outside Shareholder's interest","Outside shareholders have no links with the company but have a financial interest in its operating performance"]
[]
[null,null,null,null,null,27,null,"Compensation of employees","Compensation of employees includes remuneration in cash, including social contributions by employers. Specifically included are basic wages and salaries, overtime, remuneration for nightshift, cost of living allowances, transport, house allowances, bonuses.  "]
[]
[null,null,null,null,null,28,null,"Salaries and wages","This item includes payments to employees, except social contributions. Social contributions are recorded separately.  The item, salaries and wages, includes:Salaries or wages payable at regular weekly, monthly or other intervals. Remuneration to staff members employed on a contractual basis is included, provided that these staff members are paid at regular intervals and that they are listed on the government payroll. This also includes payments by results and piecework payments; enhanced payments or special allowances for working overtime, at nights, at weekends or other unusual hours; allowances for working away from home or in disagreeable or hazardous circumstances; and expatriation allowances for working abroad; Supplementary allowances payable regularly, such as housing allowances or allowances to cover the costs of travel to and from work.  \nSalaries or wages payable to employees away from work for short periods, for example, on holiday; \nAd hoc bonuses or other exceptional payments made, for example, under incentive schemes.\n\nSalaries and wages include the values of any social contributions, income taxes, etc., payable by the employee. This applies even if they are compulsory or withheld by the employer for administrative convenience or other reasons and paid directly to social insurance funds, tax authorities, etc., on behalf of the employee. For example, employees’ contributions to pension funds and medical aid are included in salaries and wages. \nThe item, salaries and wages, does not include:\n\nReimbursements of costs incurred by employees on tools, equipment, uniforms and other items that are needed to enable them to carry out their work. For example, uniforms provided to police officers are not compensation of employees, but use of goods and services. Uniform allowances are classified as use of goods and services if the employee is required to use the funds to purchase a uniform that will mainly be used at work;\n \nRelocation costs reimbursement _costs incurred by employees when they take up new jobs or are required by their employers to move their homes, for example, travel and moving expense;\n \nPayments for travel and subsistence while on government duty away from duty station. Per Diem and out-of-town allowances fall under this category;\n \nPurchases of services provided by people who are not government employees, for example, consultants, architects and occasional workers. \n \nThe above four items should be classified under use of goods and services\n \nSocial benefits to employees. These can be in the form of allowances made for accidental injury, severance and incapacity pay. Allowances to employees’ dependants are also considered social benefits. In most cases, payments falling under this category are made from a social insurance fund. \n \nPayments to employees or former employees that are not remuneration for work \n \nThe above two items should be classified under transfers to households, social benefits\n\nThis item includes payments to employees, except social contributions. Social contributions are recorded separately.  The item, salaries and wages, includes:\n \n\nSalaries or wages payable at regular weekly, monthly or other intervals. Remuneration to staff members employed on a contractual basis is included, provided that these staff members are paid at regular intervals and that they are listed on the government payroll. This also includes payments by results and piecework payments; enhanced payments or special allowances for working overtime, at nights, at weekends or other unusual hours; allowances for working away from home or in disagreeable or hazardous circumstances; and expatriation allowances for working abroad;\n \n\nSupplementary allowances payable regularly, such as housing allowances or allowances to cover the costs of travel to and from work. \n \nSalaries or wages payable to employees away from work for short periods, for example, on holiday;\n \nAd hoc bonuses or other exceptional payments made, for example, under incentive schemes.\n \n\nSalaries and wages include the values of any social contributions, income taxes, etc., payable by the employee. This applies even if they are compulsory or withheld by the employer for administrative convenience or other reasons and paid directly to social insurance funds, tax authorities, etc., on behalf of the employee. For example, employees’ contributions to pension funds and medical aid are included in salaries and wages.\n \nThe item, salaries and wages, does not include:\n\nReimbursements of costs incurred by employees on tools, equipment, uniforms and other items that are needed to enable them to carry out their work. For example, uniforms provided to police officers are not compensation of employees, but use of goods and services. Uniform allowances are classified as use of goods and services if the employee is required to use the funds to purchase a uniform that will mainly be used at work;\n \nRelocation costs reimbursement _costs incurred by employees when they take up new jobs or are required by their employers to move their homes, for example, travel and moving expense;\n \nPayments for travel and subsistence while on government duty away from duty station. Per Diem and out-of-town allowances fall under this category;\n \nPurchases of services provided by people who are not government employees, for example, consultants, architects and occasional workers. \n \nThe above four items should be classified under use of goods and services\n \nSocial benefits to employees. These can be in the form of allowances made for accidental injury, severance and incapacity pay. Allowances to employees’ dependants are also considered social benefits. In most cases, payments falling under this category are made from a social insurance fund. \n \nPayments to employees or former employees that are not remuneration for work \n \nThe above two items should be classified under transfers to households, social benefits\n"]
[]
[null,null,null,null,null,29,null,"Social contributions","This item includes the government’s contribution (but not the employees’ contribution) to social insurance schemes paid on behalf of employees."]
[]
[null,null,null,null,null,30,null,"Administrative fees:  Payments","An expense incurred in controlling and directing an organization, but not directly identifiable with financing, marketing, or production operations.","*Accredition fees\n*Appeals fees\n*Bank charges and card fees\n*Copy right fees\n*Firearm handling fees\n*Licence agency fees\n*Management/ Handling fees\n*Personnel agency fees\n*Registration fees\n*System access & information fees\n*Travel agency fees"]
[]
[null,null,null,null,null,31,null,"Advertising","Costs of the specific formulation and publication of notices to attract prospective service providers and suppliers, promote government activities and/or projects or for filling of vacant positions. Advertising media includes television, radio, movies, magazines, newspapers, video games, internet, billboards.","*Advertising: Auctions\n*Advertising: Bursaries (Non-employees)\n*Advertising: Marketing\n*Advertising: Promotional items\n*Advertising: Public notices\n*Advertising: Recruitment\n*Advertising: Tenders"]
[]
[null,null,null,null,null,32,null,"Minor assets","This asset category includes machinery and equipment, furniture and computer hardware costing less than R5 000/capitalisation threshold.  These assets can be used continuously or repeatedly in production for at least one year. They are treated as current payments and not capitalised."]
[]
[null,null,null,null,null,33,null,"Audit cost: external","This item refers to external/ regulatory audits, conducted by the Auditor-General or Private Auditing companies in SA, whereby the audit provides an independent opinion on published information. This is different from internal auditors who do not attest to financial reports but focus mainly on the internal controls of the organization. ","*Regularity\n*External computer audits\n*External environmental audits\n*External forensic investigation\n*External performance audit"]
[]
[null,null,null,null,null,34,null,"Bursaries (Employees)","Bursaries include payments made to provide direct support to employees for studying at universities or other tertiary institutions, where all the conditions and terms have been complied with in terms of the contract with the bursary holder. Direct support could include fees, text books and other aids and accommodation at the university residence."]
[]
[null,null,null,null,null,35,null,"Catering: Internal activities","Expenditure incurred on individuals employed or contracted to the public entity or individuals outside the employ of the public entity, in connection with the activities of a entity, or division within the entity, that directly relates to the achievement of its objectives.","*Catering for conferences, bosberade, workshops, indabas, courses, forums, hearings and meetings held with the intention to discuss the entity’s initiatives;\n*Catering for a function for the launching/roll-out of an product of the department or division within a department\n*Catering for interviews or training sessions;\n*Diner and drinks supplied at year-end functions;\n*Eatery provided for members of standing boards, other government bodies and official commissions or committees of enquiry. "]
[]
[null,null,null,null,null,36,null,"Communication","Payments for the usage of telephones, faxes, telegraphs and telex for communication purposes, including costs for teleconferences.  Communication by telephones and faxes includes the sending of messages electronically i.e. the sending of a message, image or document via a fax machine or a telephone or cellular phone.  Telex is a communications system using teleprinters that communicate via telephone lines.  Teleconference is a meeting via telecommunications equipment: a meeting held among people in different places by means of telecommunications equipment. Telecommunication equipment includes phones, faxes, telegraphs and telex excluding cellular phones refer to \"Communication: Cell contract (Subscription and calls). Rental of equipment defined as operating or finance leases should be allocated under the item provided for leases.","*Communication: Airtime and data\n*Communication: Postage/stamps/franking machines\n*Communication: Radio and tv transmissions\n*Communication: Rent private bag and postal box\n*Communication: Satellite signals\n*Communication: Telephone, fax, telegraph and telex\n*Communication: Telephone installation"]
[]
[null,null,null,null,null,37,null,"Computer services","Expenditure for the utilisation of information technology, information systems and related services provided by an external service provider.  ","*SITA computer services\n*External computer services: Data lines\n*External computer services: Information services\n*External computer services: Internet charge\n*External computer services: Mainframe time\n*External computer services: Software licences\n*External computer services: Specialised computer services\n*External computer services: System adviser\n*External computer services: System development\n*External computer services: Website design and development"]
[]
[null,null,null,null,null,38,null,"Consultants: Business and advisory services","Consulting services refer to specialist services and skills provided that are required for the achievement of a specific objective, with the aim of providing expert and professional advise on a time and material basis. It is unnecessary to maintain these skills in-house, since they are required on a once-off or temporary basis. Therefore a consultant is a professional person appointed by the department to provide technical and specialist advise or to assist with he design and implementation of specific projects/programs. The legal status of this person can be an individual, a partnership or a corporation. The fact that a consultant is defined as a professional person implies that the consultant is professionally qualified. The provision of advise or service is in line with a contractual arrangement. Remuneration is usually based on an hourly fee or a fixed fee for a product/deliverable. ","*Consultants: Business and advisory services: Accountants and auditors\n*Consultants: Business and advisory services: Audit committee (non-officials)\n*Consultants: Business and advisory services: Board members\n*Consultants: Business and advisory services: Commissions and committees of enquiry\n*Consultants: Business and advisory services: Communications strategy\n*Consultants: Business and advisory services: Business management\n*Consultants: Business and advisory services: Human resource \n*Consultants: Business and advisory services: Occupational safety and health\n*Consultants: Business and advisory services: Organisational \n*Consultants: Business and advisory services: Project management\n*Consultants: Business and advisory services: Quality control inspectorate\n*Consultants: Business and advisory services: Qualification verification\n*Consultants: Business and advisory services: Research and advisory services\n*Consultants: Business and advisory services: Translations and transcriptions\n*Consultants: Business and advisory services: Valuer"]
[]
[null,null,null,null,null,39,null,"Infrastructure and planning services","This group of professional service providers refers to qualified infrastructure and planning professional services. These are specialised services which require expert and professional advice on a time and material basis for the achievement of specific objectives. It is unnecessary to maintain these skills in-house, since they are required on a once-off or temporary basis. This professional person(s) is appointed by the department to provide technical and expert advice or to assist with the design and implementation of specific projects/programmes. The legal status of this person can be an individual, a partnership or a corporation. The provision of advice or service should be in line with a contractual arrangement. ","*Infrastructure and planning services: Engineering\n*Infrastructure and planning services: Agriculture services\n*Infrastructure and planning services: Architectural services\n*Infrastructure and planning services: Ecological services\n*Infrastructure and planning services: Geodetic and control survey services\n*Infrastructure and planning services: Geoinformatic services\n*Infrastructure and planning services: Geologist services\n*Infrastructure and planning services: Landscape designer services\n*Infrastructure and planning services: Land and quantity surveyors services\n*Infrastructure and planning services: Town planner services\n*Maintenance and repairs: buildings:  consultants\n*Maintenance and repairs: other fixed structures:  consultants"]
[]
[null,null,null,null,null,40,null,"Maintenance and repairs: Buildings: Consultants","The costs incurred to bring an asset back to an earlier condition or to keep the asset operating at its present condition (as opposed to improving the asset). For example, if a building is damaged, the cost to repair the damage is immediately debited to repairs and maintenance expense. ","*Maintenance and repairs: Buildings: Consultants: Architectural services\n*Maintenance and repairs: Buildings: Consultants: Engineering civil services\n*Maintenance and repairs: Buildings: Consultants: Engineering electrical services\n*Maintenance and repairs: Buildings: Consultants: Engineering mechanical services\n*Maintenance and repairs: Buildings: Consultants: Engineers structural services\n*Maintenance and repairs: Buildings: Consultants: Health and safety officers\n*Maintenance and repairs: Buildings: Consultants: Land and quantity surveyors services\n*Maintenance and repairs: Buildings: Consultants: Engineering structural services"]
[]
[null,null,null,null,null,41,null,"Maintenance and repairs: Other fixed structures: Consultants","The costs incurred to bring an asset back to an earlier condition or to keep the asset operating at its present condition (as opposed to improving the asset). For example, if a company truck is damaged, the cost to repair the damage is immediately debited to repairs and maintenance expense. ","*Maintenance and repairs: Other fixed structures: Consultants: Architectural services\n*Maintenance and repairs: Other fixed structures: Consultants: Engineers structural services\n*Maintenance and repairs: Other fixed structures: Consultants: Engineering civil services\n*Maintenance and repairs: Other fixed structures: Consultants: Engineering electrical services\n*Maintenance and repairs: Other fixed structures: Consultants: Engineering mechanical services\n*Maintenance and repairs: Other fixed structures: Consultants: Health and safety\n*Maintenance and repairs: Other fixed structures: Consultants: Land and quantity surveyors services\n*Maintenance and repairs: Other fixed structures: Consultants: Engineering structural services"]
[]
[null,null,null,null,null,42,null,"Laboratory services","Payments specifically related to laboratory services. This item include the cost associated with making use of professionals or professional services for laboratory services such as scientific experiments, research, manufacturing of drugs or chemicals, observation and testing.","*Laboratory services: Agriculture\n*Laboratory services: Medical laboratory services\n*Laboratory services: Roads laboratory services\n*Laboratory services: Water laboratory services\n"]
[]
[null,null,null,null,null,43,null,"Legal services","Payments for any legal services to either private firms or state attorneys. This is for the service cost of attorneys. ","Legal cost: Private firm: Legal advice services\nLegal cost: Private firm: Messenger of court services\nLegal cost state attorney: Advice services\nLegal cost state attorney: Conveyancing services\nLegal cost state attorney: Messenger of court services"]
[]
[null,null,null,null,null,44,null,"Science and technology services","Scientific and technological services are defined as activities concerned with research and experimental development and contributing to the generation, dissemination and application of scientific and technical knowledge.","*Science and technology services: Special services\n*Science and technology services: Research and development support services"]
[]
[null,null,null,null,null,45,null,"Contractors","Contractors are required to provide services that are not the core business of the department. It is normally not cost effective to maintain these skills within the department.  Contractors includes costs associated with the use of contracted individuals or businesses on projects or tasks. This does not include amounts payable to contractors in respect of provision of services such as cleaning and security even if a staff element can be identified. Note also that it is common practice that the said contractor provides all the materials required for the project - he/she tenders for the whole project, materials included.","*Contractors: Abbatoir services\n*Contractors: Aerial photography\n*Contractors: Artists and performers\n*Contractors: Auctioneers\n*Contractors: Audio-visual service\n*Contractors: Bore waterhole drilling\n*Contractors: Bottling and packaging\n*Contractors: Burial services\n*Contractors: Casual labourers\n*Maintenance of buildings: Casual labourers\n*Contractors: Curators\n*Contractors: Disposal services\n*Contractors: Editorial services\n*Contractors: Employee wellness\n*Contractors: Event promoters\n*Contractors: Fire fighting services. \n*Contractors: Forensic investigators\n*Contractors: Graphic designers\n*Contractors: Interior decorator\n*Contractors: Medical services\n*Contractors: Mint of decoration\n*Contractors: Photographer\n*Contractors: Plants, flowers and other decorations\n*Contractors: Preservation/restoration/dismantling/cleaning services\n*Contractors: Professional drivers\n*Contractors: Private firm: legal services\n*Contractors: Security services\n*Contractors: Sports and recreation\n*Contractors: Stage and sound crew\n*Contractors: Tour guides\n*Contractors:Tracing agents and debt collectors\n*Contractors:Transportation/relocation contractor\n*Contractors: South african social security agency (sassa) payment contractors\n*Contractors: Maintenance and repairs of other fixed structures\n*Contractors: Maintenance and repairs of other machinery and equipment\n*Contractors: Maintenance and repairs of heritage buildings\n*Contractors: Maintenance and repairs of other heritage fixed structures\n"]
[]
[null,null,null,null,null,46,null,"Agency and support/Outsourced services","Agency and support or outsourced services refers to staff appointed through an agency or staff appointed individually on contract or similar binding arrangement. An entity should have the capacity and expertise to carry out certain services, but for some reasons are not utilising their own staff. The services do not form part of Compensation of employees. The reasons might include temporary incapacity or the outsourcing of services to save costs, for example cleaning, security and recruitment. In evaluating the classification of agency/outsourced services it should be established whether the services being procured could have been provided by the entity itself. ","Agency and support/Outsourced services: Adjudicators\nAgency and support/Outsourced services: Administration and support staff\nAgency and support/Outsourced services: Agricultural services\nAgency and support/Outsourced services: Biocontrol services\nAgency and support/Outsourced services: Burial services\nAgency and support/Outsourced services: Census field staff\nAgency and support/Outsourced services: Covid cleaners and screeners\nAgency and support/Outsourced services:  Editorial services\nAgency and support/Outsourced services: Education / General assistants\nAgency and support/Outsourced services: EPWP workers\nAgency and support/Outsourced services: Facilitators\nAgency and support/Outsourced services: Financial management\nAgency and support/Outsourced services: Fire services\nAgency and support/Outsourced services: Health professional allied\nAgency and support/Outsourced services: International institute of communications\nAgency and support/Outsourced services: Inmates recovery fee\nAgency and support/Outsourced services: Investigation services\nAgency and support/Outsourced services: Land claim verification\nAgency and support/Outsourced services: Lectures\nAgency and support/Outsourced services: Legal services\nAgency and support/Outsourced services: Medical and chemical waste removal\nAgency and support/Outsourced services: Medical doctor\nAgency and support/Outsourced services: Medical services\nAgency and support/Outsourced services: Nursing staff\nAgency and support/Outsourced services: Nutritional services\nAgency and support/Outsourced services: Personnel and labour\nAgency and support/Outsourced services: Pharmacy professionals\nAgency and support/Outsourced services: Photographers\nAgency and support/Outsourced services: Porter services\nAgency and support/Outsourced services: Postmortem\nAgency and support/Outsourced services: Researcher\nAgency and support/Outsourced services: Security services\nAgency and support/Outsourced services: Social care services\nAgency and support/Outsourced services: Statisticians\nAgency and support/Outsourced services: Steam provision\nAgency and support/Outsourced services: Universities certification\nAgency and support/Outsourced services: Universities\nAgency and support/Outsourced services: Veterinary services\nAgency and support/Outsourced services: Waste services"]
[]
[null,null,null,null,null,47,null,"Entertainment","This item includes entertainment expenditure incurred by members of the Senior Management Service (SMS) as well as Ministers and his/her office bearers in performance of their duties. ","*Luncheon meetings held with colleagues, foreign delegations and/or other individuals in and outside the public sector; \n*Purchase of dinner during authorised overtime, if no compensation in the form of time off or additional pay is approved, provided that the closing time is later than 20h00."]
[]
[null,null,null,null,null,48,null,"Fleet services(Fleet/Services)","Cost relating to operation and maintenance of fleet services including entity owned vehicles, leased or rented vehicles. The lease amount will be classified accordingly under the Lease payments category. This item caters for charges over and above the lease payment (flat rate). ","Fleet services: Computer time-license\nFleet services: Development fees\nFleet services: Tracking (physical cs)\nFleet services: Batteries\nFleet services: Car valet and washing services\nFleet services: Depreciation\nFleet services: Depreciation equipment\nFleet services: Fuel, oil and grease\nFleet services: Kilometres\nFleet services: Licence plates\nFleet services: Repairs\nFleet services: Spares and accessories\nFleet services: Toll fees\nFleet services: Towing costs\nFleet services: Transaction costs\nFleet services: Tyres and tubes\nMaintenance: Fleet services: Operating payments\nMaintenance: Machinery and equipment: Operating payments\nFleet services: Loss sale equipment\nFleet services: Loss sale fleet"]
[]
[null,null,null,null,null,49,null,"Housing","Department of Housing - specific accounts for interfacing accounts.","*Housing: Capital adjustments\n*Housing: Devolution of debtors\n*Housing: Devolution of proper\n*Housing: Rebate R75\n*Housing: Subsidy"]
[]
[null,null,null,null,null,50,null,"Inventory: Clothing material and accessories","The category includes corporate gear, Uniforms and Protective Clothing and Needlework's Accessories","*Inventory: Clothing material and accessories: Corporate gear\n*Inventory: Clothing material and accessories: Uniform and protective clothing\n*Inventory: Clothing material and accessories: Needlework accessories"]
[]
[null,null,null,null,null,51,null,"Inventory: Farming supplies","This item includes farming animal supplements, plastic bags for seedlings, packaging for produce, labels & tags for identification and marking of animals and plants, etc. excluding items specifically identified such as fertilizer, gardening supplies, insecticides, animal fodder and feed, seed and seedlings and irrigation material.","*Inventory: Farming supplies: Farming supplies\n*Inventory: Farming supplies: Fertilizer\n*Inventory: Farming supplies: Gardening supplies\n*Inventory: Farming supplies: Insecticides\n*Inventory: Farming supplies: Livestock and plant consumption\n*Inventory: Farming supplies: Livestock food and animal feed\n*Inventory: Farming supplies: Seeds and seedlings"]
[]
[null,null,null,null,null,52,null,"Inventory: Food and food supplies","Food and food supplies includes items like baby and special foods, bread and confectionary, eggs and egg products, fruits (fresh and frozen), groceries, meat, poultry and fish and milk and milk products. Limited for use by DOH, DCS, DSD. This category will not be distributed for use by other departments. Similar expenses incurred by other departments will be allocated under Consumable Supplies; Household Supplies; Groceries","*Inventory: Food and food supplies: Baby and special foods\n*Inventory: Food and food supplies: Bread and baked confectionery\n*Inventory: Food and food supplies: Eggs and egg products\n*Inventory: Food and food supplies: Fruit and vegetables\n*Inventory: Food and food supplies: Groceries\n*Inventory: Food and food supplies: Meat, poultry, fish"]
[]
[null,null,null,null,null,53,null,"Inventory: Chemicals, fuel, oil, gas, wood and coal","Items under this category caters for chemicals, fuel, oil, gas, wood and coal  ","*Inventory: Chemicals, fuel, oil, gas, wood and coal: Chemicals\n*Inventory: Chemicals, fuel, oil, gas, wood and coal: Fuel, oil  and  lubricants\n*Inventory: Chemicals, fuel, oil, gas, wood and coal: Gas\n*Inventory: Chemicals, fuel, oil, gas, wood and coal: Wood and coal"]
[]
[null,null,null,null,null,54,null,"Inventory: Learning and teaching supplies material","This category is created for Education Sector, it caters for Media Collections and Learning and Teaching Support Materials purchased by the Department of Education (DoE) for distribution to the schools","*Inventory: Learning and teaching supplies material: Media collections (library material;  school library/media/films; school books/magazines)\n*Inventory: Learning and teaching supplies material: Learning supporting material (school material subjects; school stationery; school textbook/prescribed)"]
[]
[null,null,null,null,null,55,null,"Inventory: Materials and supplies","Materials and supplies include items such as building materials, hardware, painting materials and workshop accessories, etc.","*Inventory: Materials and supplies: Building and construction material\n*Inventory: Materials and supplies: Camping material\n*Inventory: Materials and supplies: Disposable testing material non medical\n*Inventory: Materials and supplies: Electrical supplies\n*Inventory: Materials and supplies: Fencing material      \n*Inventory: Materials and supplies: Hardware\n*Inventory: Materials and supplies: Irrigation material\n*Inventory: Materials and supplies: Notice boards and signs\n*Inventory: Materials and supplies: Operational health&safety kit\n*Inventory: Materials and supplies: road construction and supplies\n*Inventory: Materials and supplies: road signs\n*Inventory: Materials and supplies: sport and recreational consumables\n*Inventory: Materials and supplies: tents, flags and accessories\n*Inventory: Materials and supplies: workshop materials and supplies  \n*Inventory: Materials and supplies: workshop testing material and supplies"]
[]
[null,null,null,null,null,56,null,"Inventory: Medical supplies","Medical supplies includes all medical related inventory items. Limited for use DOH  AND  DOD. This category will not be distributed for use by other departments. Similar expenses incurred by other departments will be allocated under Consumable Supplies: First Aid Kid or Contraceptives\n","*Inventory: Medical supplies: Artificial aids\n*Inventory: Medical supplies: Application sets\n*Inventory: Medical supplies: Bandages and dressing\n*Inventory: Medical supplies: Blood-product and plasma\n*Inventory: Medical supplies: Catheters, tubes and urine bag\n*Inventory: Medical supplies: Contraceptives\n*Inventory: Medical supplies: Crutches\n*Inventory: Medical supplies: Dental consumables\n*Inventory: Medical supplies: Disposable nappies\n*Inventory: Medical supplies: First aid kit\n*Inventory: Medical supplies: Gloves, disposable sundries\n*Inventory: Medical supplies: Heart valves  and  pacemakers\n*Inventory: Medical supplies: HIV/aids test kits\n*Inventory: Medical supplies: Implantable sets\n*Inventory: Medical supplies: In-vitro diagnostic testing strips\n*Inventory: Medical supplies: Medical gas\n*Inventory: Medical supplies: Occupational therapy consumables\n*Inventory: Medical supplies: Optical items and hearing aids\n*Inventory: Medical supplies: Orthopaedic artificial limbs\n*Inventory: Medical supplies: Patient clothing\n*Inventory: Medical supplies: Radio-isotopes\n*Inventory: Medical supplies: Renal dialysis\n*Inventory: Medical supplies: Stoma therapy reqs\n*Inventory: Medical supplies: Surgical consumables\n*Inventory: Medical supplies: Surgical, implants prosthesis\n*Inventory: Medical supplies: Surgical/medical supplies\n*Inventory: Medical supplies: Sutures, ligature and skin staples\n*Inventory: Medical supplies: Syringes, needles\n*Inventory: Medical supplies: Therapeutic requisitions\n*Inventory: Medical supplies: Vinyl body bag\n*Inventory: Medical supplies: Wheelchair consumables\n*Inventory: Medical supplies: X-ray consumables"]
[]
[null,null,null,null,null,57,null,"Inventory: Medicine","A drug or other preparation used for the treatment or prevention of disease. Limited for use by DOH  AND  DOD.  This category will not be distributed for use by other departments. ","*Inventory: Medicine: Animal medicine\n*Inventory: Medicine: Animal vaccines\n*Inventory: Medicine: Antiretroviral drugs\n*Inventory: Medicine: Anti-tuberculosis medicines\n*Inventory: Medicine: Contraceptives\n*Inventory: Medicine: Large volume parenterals\n*Inventory: Medicine:Medicine medical depot\n*Inventory: Medicine: Other medicine\n*Inventory: Medicine: Vaccines"]
[]
[null,null,null,null,null,58,null,"Medsas inventory interface","MEDSAS is a system used for the procurement, and management of pharmaceutical products, including medicines etc. This system is mainly used by the National and Provincial Departments of Health.","*Medsas inventory interface: Miscellaneous variance\n*Medsas inventory interface: Price variance\n*Medsas inventory interface: Purchase variance\n*Medsas inventory interface: Stock issues\n*Medsas inventory interface: Stock purchase general\n*Medsas inventory interface: Stock purchase system\n*Medsas inventory interfaceS: Stores surpluses"]
[]
[null,null,null,null,null,59,null,"Inventory: Other supplies","Included in this category is Laboratory Chemical and Supplies, Military Stores, Ammunition and Security Supplies and Assets Held for Distribution","*Inventory: Other supplies: Laboratory chemicals and supplies\n*Inventory: Other supplies: Military stores \n*Inventory: Other supplies: Assets for distribution \n*Inventory: Other supplies: Print supplies \n*Inventory: Other supplies: Household supplies"]
[]
[null,null,null,null,null,60,null,"Consumables supplies","This category caters for all consumable supplies ","*Consumables supplies: Animal food and medical supplies\n*Consumables supplies: Gifts and awards\n*Consumables supplies: Saddlery and other tackle\n*Consumables supplies: Uniform  and  clothing\n*Consumables supplies: Medical supplies\n*Consumables supplies: Household supplies\n*Maintenance of machinery and equipment: fuel and gas supplies\n*Consumables supplies: Fuel supplies\n*Consumables supplies: Materials and supplies\n*Consumables supplies: Contraceptives\n*Consumables supplies: Bags and accessories\n*Consumables supplies: Communication accessories\n*Consumables supplies: IT consumables\n*Consumables supplies: Laboratories consumables\n*Consumables supplies: Medical kit\n*Consumables supplies: Name tags\n*Consumables supplies: Occupational health safety kit\n*Consumables supplies: Photographic consumables\n*Consumables supplies: Security accessories consumables\n*Consumables supplies: Tent, flag and accessories\n*Consumables supplies: Stationery, printing and office supplies"]
[]
[null,null,null,null,null,61,null,"Consumables: Stationery, printing and office supplies","Included in this item is stationery and office consumables.  Also included in this category is Audio Visual Consumables, Government Printers, Mag/News/Journals, Stationery, ART AND Drawings, Media Collections, PRINTER Cartridges, and PRINTING Paper","*Consumables: Stationery, printing and office supplies: Audio visual consumables\n*Consumables: Stationery, printing and office supplies: Art and drawings\n*Consumables: Stationery, printing and office supplies: External printers\n*Consumables: Stationery, printing and office supplies: Magazines/Newspapers/Journals\n*Consumables: Stationery, printing and office supplies: Media collections\n*Consumables: Stationery, printing and office supplies: Printing cartridge\n*Consumables: Stationery, printing and office supplies: Printing paper\n*Consumables: Stationery, printing and office supplies: Stationery"]
[]
[null,null,null,null,null,62,null,"Operating leases","Operating leasing is a productive activity that involves renting capital assets for terms less than the expected service lives of the assets. It is a form of production in which the lessor normally lets the use of a capital equipment / asset in exchange for the lease payments. Operating leasing can be identified by the following characteristics: (a) the lessor normally maintains a stock of equipment in good working order which can be hired on demand or at short notice, (b) the equipment may be rented out for varying periods of time, and (c) the lessor is frequently responsible for the maintenance and repair of the equipment as part of the service provided to the lessee.","Operating lease: Buildings\nOperating lease: Other fixed structures\nOperating lease: Other machinery and equipment\nOperating lease: Transport equipment\nMaintenance: Operating leases machinery"]
[]
[null,null,null,null,null,63,null,"Rental and hiring","Rental and hiring includes transactions that involves a once-off payment for the temporary use of an item which is owned by an external party. This is not the same as Lease payments as \"Lease Payments\" refer to series of payments made. "]
[]
[null,null,null,null,null,64,null,"Property payments","This category provides for all payments related to contractual obligations contributing to the functionality of, for example, building or land. for example, gardening services, cleaning services, municipal services, deeds, electricity compliance certificate, fire protection, etc. municipalities.","*Property payments: Cleaning services\n*Property payments: Commission on municipal services\n*Property payments: Contracted maintenance property\n*Property payments: Deeds\n*Property payments: Electrical compliance certificate\n*Property payments: Fire protection\n*Property payments: First aid\n*Property payments: Gardening services\n*Property payments: Gas\n*Property payments: Laundry services\n*Property payments: Management fee\n*Property payments: Pest control/fumigation services\n*Property payments: Safeguard and security\n*Property payments: Municipal services (Electricity, Sewerage, Waste/Refuse removal, Water)"]
[]
[null,null,null,null,null,65,null,"Transport provided as part of internal activities","Expenses associated with transport provided by the entity itself in transporting people during the execution of its mandate. ","*Transport for excursions\n*Transport for public events\n*Transport: illegal immigrants deportation\n*Transport: land reform/restitution beneficiaries\n*Transport of children vagrants\n*Transport of patients & corps\n*Transport of scholars"]
[]
[null,null,null,null,null,66,null,"Travel and subsistence","\nTravel and subsistence includes all domestic and foreign travel related expenditure paid for employees and non-employees. This item specifically covers expenditure on accommodation cost,  food and beverage, incidental cost, and car rental paid for official travelling purposes.  The amount could also be paid by the entity directly to the travel agency responsible for making the travel arrangements or the service provider.","*Travel and subsistence: Per diem out of town allowance\n*Travel and subsistence: Accommodation\n*Travel and subsistence: Daily allowance\n*Travel and subsistence: Food and beverage\n*Travel and subsistence: Incidental cost\n*Travel and subsistence: Transport\n*Travel and subsistence: Transport-shuttle services"]
[]
[null,null,null,null,null,67,null,"Training and development","Training and development provided to employees and non-employees as well as training materials not provided for separately under goods and services.","*Training and development: Employees\t\n*Training and development: Material&manuals\t\n*Training and development: Non-employees\t"]
[]
[null,null,null,null,null,68,null,"Operating payments","Operating payments category caters for services that are related to the operations of the entity","*Operating payments: Achievements and awards\n*Operating payments: Air charter services and landing rights\n*Operating payments: Cash discount (temporary)\n*Operating payments: Competency certificates / licences / permits\n*Operating payments: Courier and delivery services\n*Operating payments: Freight services transport goods\n*Operating payments: Harbour services, docking fees\n*Operating payments: Honoraria (voluntarily workers)\n*Operating payments: Laundry services\n*Operating payments: Non-life insurance premiums\n*Operating payments: Printing and publications\n*Operating payments: Professional bodies, membership and subscriptions\n*Operating payments: Resettlement cost\n*Operating payments: Road worthy tests\n*Operating payments: School boarding/tuition cost\n*Operating payments: Storage services\n*Operating payments: Warrantees and guarantees\n*Operating payments: Taking over contractual obligations\n*Operating payments: Witness and related cost"]
[]
[null,null,null,null,null,69,null,"Venues and facilities","Venue costs are those cost which are associated with obtaining a right to use that place/ site/location at that particular time. Facilities is anything that helps someone to perform their duties at an optimal level e.g. maintenance of computers and or making sure that all air-conditions are working. Included are the cost incurred from using venues and/or facilities not available within the normal business premises of the entity, normally specialist in nature. Facilities includes all the individual items e.g. chairs, tables, equipment, etc. that comes with the venue."]
[]
[null,null,null,null,null,70,null,"Interest","This item includes the total value of interest payments.\n\nThese are payments associated with debt, for example interest on borrowing and overdraft facilities.  Interest payments on bills and bonds issued by other government units are also included here.  "]
[]
[null,null,null,null,null,71,null,"Dividends","A dividend is a distribution of money or property paid by a corporation out of the corporation's profits to shareholders.\n\nGovernment units are not payers of dividends as a rule.  Exceptions may be public corporations."]
[]
[null,null,null,null,null,72,null,"Rent on land","Rent relates payments in respect of certain leases of land, subsoil assets, and other naturally occurring assets.   Includes only rent of land, and royalties, exploration and rights of use. Rent of buildings are included in operating leases."]
[]
[null,null,null,null,null,73,null,"Transfers and subsidies","This item consists of all unrequited, voluntary payments to other parties. Thus, an entry should be made under this item when government does not receive anything directly in return for the transfer to the other party and the transfer is voluntary.  Both current and capital transfers are included in this item. An example of a capital transfer is a cash payment, which the unit is required to use toward the acquisition of a capital asset. All other transfers are current, for example, donations and grants, which the recipient is not obliged to use to acquire capital assets. The transfers paid are further categorised as;\nSubsidies \nSubsidies on production comprise all current, unrequited payments to businesses – both government and privately owned – on the basis of their level of production or quantity, or values of products produced, sold, imported or exported. Subsidies influence the level of production and / or pricing policies of the recipient. To be classified as a subsidy on production, the transfer must be current.  Subsidies can be payable on specific products or on production in general.\nA subsidy on a product is a subsidy payable per unit of a good or service. The subsidy may be a specific amount of money per unit of quantity of a good or service, or it may be calculated ad valorem as a specified percentage of the price per unit. A subsidy may also be calculated as the difference between a specified target price and the market price actually paid by a buyer. A subsidy on a product usually becomes payable when the good or service is produced, sold, exported, or imported. But it may also be payable in other circumstances, such as when a good is transferred, leased, delivered, or used for own consumption or own capital formation.\nSubsidies on production consist of subsidies that enterprises receive for engaging in production but that are not related to specific products. Included are subsidies on payroll or workforce, which are payable on the total wage or salary bill, the size of the total workforce, or the employment of particular types of person; subsidies to reduce pollution; and payments of interest on behalf of corporations.\nSubsidies also include transfers to public corporations to compensate for losses they incur on their productive activities as a result of charging prices that are lower than their average costs of production because of deliberate government economic and social policy. If such losses have been accumulated over two or more years, however, the transfer is considered of a capital nature and classified as other transfers to public corporations and private enterprises.\n\n\n\n\n"]
[]
[null,null,null,null,null,74,null,"Public and private corporations","Public corporations are resident corporations and quasi-corporations that are subject to control by government units, \nPrivate corporations are all resident corporations and quasi-corporations that are not controlled by government."]
[]
[null,null,null,null,null,75,null,"Transfers to households: Social benefits","These are transfers to protect the entire population or specific segments of the population against certain social risks: events that may adversely affect the welfare of the households concerned such as, loss of employment, poverty etc.\nOther government units can also pay social benefits, like the Unemployment Insurance Fund.\n\n"]
[]
[null,null,null,null,null,76,null,"Other transfers to households","This item includes all other unrequited payments made to individuals and households that are not for social benefits.\nTo note is the inclusion of bursaries awarded to persons who are not employed by the public entity for the purpose of assisting them with tuition and other education and training related costs.  They are transfers since the recipient has no obligation towards the benefactor"]
[]
[null,null,null,null,null,77,null,"Technical reserves (social security funds only)","\nTechnical reserves are as a result of an actuarial evaluation.  They consist of net equity of households in insurance reserves, prepaid premiums and reserves against outstanding claims."]
[]
[null,null,null,null,null,78,null,"Tax payments ","Tax payments include personal income tax, employer-paid payroll tax, real estate property tax, other personal property taxes, unemployment tax, business income tax, and sales and use tax."]
[]
[null,null,null,null,null,79,null,"Surplus/(deficit) for the year/ net cash and cash equivalents/assets-liabilities","The formula checks if the above balances in the template are in accordance with the published audited financial statements"]
[]
[null,null,null,null,null,80,null,"Other movements","Any other non-cash movement not classified in the \"Adjust surplus / (deficit) for accrual transactions\" adjustments."]
[]
[null,null,null,null,null,81,null,"Other flows from Investing Activities\n\n\n\n\n\n\n\n\n\n\n\n\n\n\n\n\n\n\n\n\n\n\n\n\n","Inflows and outflows of cash arising from acquisition and disposal of long-term financial assets and other investments not included in cash equivalents.\n\n\nReason for disclosure of cash flows arising from investing activities \nThe separate disclosure of cash flows arising from investing activities is important because the cash flows represent the extent to which cash outflows have been made for resources which are intended to contribute to the entity’s future service delivery. \n\n\n","•\tCash payments to acquire equity or debt instruments of other entities and interests in joint ventures (other than payments for those instruments considered to be cash equivalents or those held for dealing or trading purposes);\n\n•\tCash receipts from sales of equity or debt instruments of other entities and interests in joint ventures (other than receipts for those instruments considered to be cash equivalents and those held for dealing or trading purposes);\n\n•\tCash advances and loans made to other parties (other than advances and loans made by a public financial institution);\n\n•\tCash receipts from the repayment of advances and loans made to other parties (other than advances and loans of a public financial institution);\n \n•\tCash payments for futures contracts, forward contracts, option contracts and swap contracts except when the contracts are held for dealing or trading purposes, or the payments are classified as financing activities; and\n \n•\tCash receipts from futures contracts, forward contracts, option contracts and swap contracts except when the contracts are held for dealing or trading purposes, or the receipts are classified as financing activities. "]
[]
[null,null,null,null,null,82,null,"Buildings: residential","Dwellings or residential are buildings that are used entirely or primarily as residences, including garages and other associated structures. Houseboats, barges, mobile homes, caravans and military personnel dwellings that are used as principal residences "]
[]
[null,null,null,null,null,83,null,"Buildings: non-residential","Non-residential buildings are all buildings other than dwellings. Examples of types of Buildings included in this category are office buildings, schools, hospitals, buildings for public entertainment, warehouse and industrial buildings, commercial building"]
[]
[null,null,null,null,null,84,null,"Other fixed structures","Other fixed structures consists of all fixed structures other than buildings. For example, roads, bridges and dams."]
[]
[null,null,null,null,null,85,null,"Transport equipment","Transport equipment consists of equipment for moving people and objects. For example, aircrafts, aircraft engines, airport transport equipment, buses, cycles, emergency vehicles, mobile clinics, motor vehicles, railway rolling stock, ships and boats and engines, trailers and accessories and trucks.\n\nFurniture, Machinery, Computer and Office equipment\ni)  Furniture and Office equipment\nThis group of items provides for furniture and office equipment including items such as advertising boards, air conditioners, crockery and cutlery, domestic furniture, linen and soft furnishing, office equipment/furniture, paintings, sculptures, ornaments and school furniture.\n\nii)  Other Machinery and Equipment\nConsists of other machinery and equipment other than transport equipment. They are general and special purpose machinery i.e. electrical machinery, radio, television and communication equipment, furniture, watches and sports goods.\n\niii)  Computer Equipment\nThis includes costs for desktop computers and terminals.  Also included in this item are the once-off cost if separately identified for the operating system purchased with the hardware (e.g. Windows XP Professional, etc).\n\n"]
[]
[null,null,null,null,null,86,null,"Heritage assets","Heritage assets are assets of significant value that government intends to preserve indefinitely because they have unique history, cultural, educational, artistic or architectural significance. Examples are; archives, areas/land of historic significance, library materials,  antiques and collectables, sculpture, paintings, sculptures, state jewellery, works of art, etc."]
[]
[null,null,null,null,null,87,null,"Biological assets","Biological and cultivated assets are animals and plants that are used repeatedly or continuously for more than one year to produce other goods or services. Examples of animals to be included in this category are dairy cattle, draft animals, wool-producing, breeding stocks, game and animals used for transportation and entertainment. Examples of plants are trees, vines and shrubs cultivated for production of fruits, nuts, sap, resin, bark and leaf products. Slaughter animals are not cultivated assets, because they can only be used once."]
[]
[null,null,null,null,null,88,null,"Land and Subsoil assets","Land is the ground itself, including the soil covering, associated surface water, and major improvements that cannot be physically separated from the land but not buildings on it and cultivated plantations etc.\n\nSubsoil assets consist of proven reserves of oil, gas, coal, metallic mineral reserves and nonmetallic mineral reserves, minerals and ores. Mine shafts, wells and other subsoil extraction facilities are fixed assets, rather than subsoil assets."]
[]
[null,null,null,null,null,89,null,"Investment Property","Investment property is property (land or a building or part of a building or both) held (by the owner or by the lessee under a finance lease) to earn rentals or for capital appreciation or both. [IAS 40.5] \nExamples of investment property: [IAS 40.8], land held for long-term capital appreciation, land held for undetermined future use, building leased out under an operating lease, vacant building held to be leased out under an operating lease, property that is being constructed or developed for future use as investment property "]
[]
[null,null,null,null,null,90,null,"Software and other intangible assets","An intangible is an identifiable non-monetary asset without any physical substance. Examples of intangible fixed assets are mineral exploration rights; computer software; literary and artistic originals; and miscellaneous other intangible fixed assets. To qualify as a fixed asset, the item must be intended for use in production for more that one year and its use must be restricted to the units that have established ownership rights over it or to units licensed by the owner. "]
[]
[null,null,null,null,null,91,null,"Domestic long term investments\n\n\n\n\n\n\n\n\n","Net flows of cash made within the borders of South Africa arising from acquisition and/ disposal of assets that an entity intends to hold for more than a year."]
[]
[null,null,null,null,null,92,null,"Foreign long term investments\n            \n\n\n\n\n\n\n\n","Net flows of cash made from outside the borders of South Africa arising from acquisition and/ disposal of assets that an entity intends to hold for more than a year."]
[]
[null,null,null,null,null,93,null,"Interest","Income associated with ownership of interest-bearing financial instruments, such as and bills and bonds issued by third parties.","*Interest from financial derivatives"]
[]
[null,null,null,null,null,94,null,"Dividends","These are profit distributions receivable by public entities on equity participation in private and public sector entities.  Dividends come in the form of revenue from shares and distribution of profits to the owner.  Gains/losses associated with valuation changes should not be included in the amount reported here, these are recorded under the transactions in financial assets and liabilities category.","*Dividends from shares and other equity"]
[]
[null,null,null,null,null,95,null,"Outside shareholders interest","Outside shareholders have no links with the company but have a financial Interest in its operating performance."]
[]
[null,null,null,null,null,96,null,"Deferred income","Deferred income is the converse of accruals. It is income received during an accounting period, but which is not yet reported as earned.  For example, a business may receive payment for a service or a product that has not yet been supplied. Thus cannot be recognised as income up until such time the condition is fulfilled.(from the template)"]
[]
[null,null,null,null,null,97,null,"Borrowing activities ","in a cash flow environment is the lending of money by one institution to the next and this amounts to loans.\nA loan is an arrangement in which a lender gives money to a borrower, and the borrower agrees to repay the money, usually along with interest, at some future point(s) in time. There is usually a predetermined time for repaying a loan, and mostly the lender has to bear the risk that the borrower may not repay a loan.\nThe loan could be obtained from either:\n(a)One of the local government institutions (Domestic loan denominated in Rand value) or\n(b)Through the market (searching for the most economical deal in the market. The market includes both local and foreign)\ni.One of the local financial services providers (Local or domestic loan denominated in Rand value) or\nii.One of the international financial services providers (Foreign loan denominated in a foreign currency which comes with the risk of foreign exchange currency fluctuations).\nThe agreed-upon loan repayment period determines further classification between long-term and short-term loans.\nShort term loans are loans payable within 12 months and long term loans are payable beyond 12 months period. \n"]
[]
[null,null,null,null,null,98,null,"Repayment of finance leases","A finance lease is a lease that transfers substantially all the risks and rewards of ownership of an asset. Title may or may not eventually be transferred. In substance, the lessee purchases an asset by way of a financing arrangement between itself (the lessee) and the lessor. This payment should be classified as a payment for capital assets in the budget format. The interest portion is classified as current interest, dividends and rent on land, interest paid finance leases in the budget format. Refer to Practice Note 5 of 2006/07 issued by the Office of the Accountant- General for specific rules regarding this type of transaction."]
[]
[null,null,null,null,null,99,null,"Other (e.g. issuance of shares, revaluations)"]
[]
[null,null,null,null,null,100,null,"Interest and dividends or similar distributions","Interest and dividends or similar distributions received and paid should be disclosed separately.\nThe total amount of interest paid during a period is disclosed in the cash flow statement.\nInterest paid and interest and dividends (or similar distributions) received may be classified as either operating, investing, or financing activities. The classification of interest paid, and interest and dividends (or similar distributions) received should be driven by the source.\n"]
[null,null,null,null,null,null,null," STATEMENT OF FINANCIAL POSITION"]
[null,null,null,null,null,101,null,"Current investments","Current investment is a purchase of an asset or item with the hope that it will generate income or appreciate and/sold at the higher price or that will expire within one year , such as bonds, stock, collectible annuities and real property."]
[]
[null,null,null,null,null,102,null,"Inventory","Inventories are assets/ goods and services held for sale in the ordinary course of business (finshed goods), in the process of production for such sale (working in process), or in the form of materials or supplies to be consumed in the production process or in the rendering of service.Goods\" in question will however have an aspect of service which was provided in the form of labour that went into the manufacture of whatever item is being produced"]
[]
[null,null,null,null,null,103,null,"Short term loans","Short term loans are non-derivative financial assets with fixed or determinable payments that are not quoted in an active market. Loans to other enterprises expected to be recovered within twelve months period are examples of assets falling into the loans and receivables category."]
[]
[null,null,null,null,null,104,null,"Accrued Investment Interest/Accrued interest","A term used to describe an accrual accounting method when interest that is receivable has been recognized, but not yet received"]
[]
[null,null,null,null,null,105,null,"Trade and other receivables from exchange transactions","These are current asset representing money due for services performed or merchandise sold on credit after adjusting provision for doubtful debts. The provision for doubtful debts is subtracted from Accounts Receivable to arrive at what is called \"net realizable receivables.\""]
[]
[null,null,null,null,null,106,null,"Other receivables from non-exchange transactions, including taxes, fines and transfers","These are current asset representing money due from non-exchange activities such as fines. The provision for doubtful debts is subtracted from Accounts Receivable to arrive at what is called \"net realizable receivables.\""]
[]
[null,null,null,null,null,107,null,"Prepayments","The satisfaction of a debt or installment payment before its official due date. A prepayment can be for the entire balance or for any upcoming payment that is paid in advance of the date for which the borrower is contractually obligated to pay it. Examples of a prepayment come in the form of rent or early loan repayments. "]
[]
[null,null,null,null,null,108,null,"Cash and cash equivalents","Cash and cash equivalents are the most liquid assets found within the asset portion of a company's balance sheet. Cash equivalents are assets that are readily convertible into cash, such as money market holdings, short-term government bonds or Treasury bills, marketable securities and commercial paper."]
[]
[null,null,null,null,null,109,null,"Non Current Assets Held for Sale","Non-current assets are reclassiﬁed as current assets when they are held for sale. A non-current asset is regarded as ‘held for sale’ if its carrying amount will be recovered principally through a sale transaction, rather than through continuing use. To be classiﬁed as a non-current asset held for sale: the asset must be available for immediate sale; and the sale must be highly probable.  This requires management commitment to sell, active marketing at a reasonable price, and the expectation of a completed sale within one year.Non-current assets classified as held for sale shall not be depreciated. But Impairment must be considered both at the time of classification as held for sale and after classification as held for sale.\n"]
[]
[null,null,null,null,null,110,null,"Other current financial assets","A current financial assets is  any asset that is cash, equity instrument of another entity e.g. investment in the ordinary shares of another entity; a contractual right to receive cash or  another  financial asset from another entity (e.g. bonds); a contractual right to exchange financial instruments with  another entity under conditions that are potentially favourable (e.g. an option to acquire shares in another company); a contract that will or may be settled in the entity's own equity instrument (Derivative or Non- derivative). These are expected to be realised in a period of less than twelve months."]
[]
[null,null,null,null,null,111,null,"VAT receivable","VAT Receivables is the carrying amount due within one year of one operating cycle from tax authorities as of the balance sheet date representing VAT refunds of overpayment e.g. Input tax vs Output tax."]
[]
[null,null,null,null,null,112,null,"Construction contracts and receivables","These are construction contracts monies receivable over a short period."]
[]
[null,null,null,null,null,113,null,"Income tax receivable","Its carrying amount due within one year of one operating cycle from tax authorities as of the balance sheet date representing refunds of overpayments or recoveries based on agreed-upon resolutions of disputes."]
[]
[null,null,null,null,null,114,null,"Derivatives financial instruments"," A derivative is a financial instrument whose value changes in relation to changes in a variable, such as an interest rate, commodity price, credit rating, or foreign exchange rate. It also requires either a small or no initial investment, and it is settled at a future date. It allows an entity to speculate on or hedge against future changes in market factors at minimal initial cost.  Examples of derivatives are call options, put options, forwards, futures, and swaps.  "]
[]
[null,null,null,null,null,115,null,"Property, plant and equipment","This is a term used in accounting for assets and property which cannot easily be converted into cash.  These are items of value which the organization has bought and will use for an extended period of time; this normally include items such as land and buildings, motor vehicles, furniture, office equipment, computers, fixtures and fittings, and plant and machinery"]
[]
[null,null,null,null,null,116,null,"Intangible assets","An intangible asset is an identifiable non-monetary asset without any physical substance. Examples of intangible assets are mineral exploration rights; computer software; literary and artistic originals; patents, copyrights, trademarks, trade names, licenses, goodwill and miscellaneous other items that lack physical substance but provide long term benefits to the company. To qualify as a fixed asset, the item must be intended for use in production for more that one year and its use must be restricted to the units that have established ownership rights over it or to units licensed by the owner. "]
[]
[null,null,null,null,null,117,null,"Biological assets","Biological and cultivated assets are animals and plants that are used repeatedly or continuously for more than one year to produce other goods or services. Examples of animals to be included in this category are dairy cattle, draft animals, wool-producing, breeding stocks, game and animals used for transportation and entertainment. Examples of plants are trees, vines and shrubs cultivated for production of fruits, nuts, sap, resin, bark and leaf products. Slaughter animals are not cultivated assets, because they can only be used once."]
[]
[null,null,null,null,null,118,null,"Heritage assets","A heritage assets is an item that has value because of its contribution to a nation’s society, knowledge and/or culture.  They are of such significant value that government intends to preserve indefinitely because they have unique history, cultural, educational, artistic or architectural significance. South African examples are archives, areas/land of historic significance and culture."]
[]
[null,null,null,null,null,119,null,"Non-Current Investments","Investments are long term shares such as real property, stocks, bonds, collectible annuities, mutual fund shares, etc., held by an entity in another company. An entity acquires these shares with the expectation of realizing income or capital gain, or both, in the long term future"]
[]
[null,null,null,null,null,120,null,"Investments in Subsidiary / Municipal entity","This is an investment in a subsidiary which is a company that is partly or completely owned by another company that holds a controlling interest in the subsidiary company"]
[]
[null,null,null,null,null,121,null,"Investments in Joint Ventures","This is an investment in a joint venture which is a business agreement in which parties agree to develop, for a finite time, a new entity and new assets by contributing equity. They exercise control over the enterprise and consequently share revenues, expenses and assets."]
[]
[null,null,null,null,null,122,null,"Investments in Associates","This is an investment in an associate which is an entity over which an investor has significant influence, being the power to participate in the financial and operating policy decisions of the investee (but not control or joint control)."]
[]
[null,null,null,null,null,123,null,"Investment property","These are properties not occupied by the owner held to earn rentals or for capital appreciation or both."]
[]
[null,null,null,null,null,124,null,"Long term loan","Long term loans and receivables are non-derivative financial assets with fixed or determinable payments that are not quoted in an active market.  These are loans to other enterprises expected to be recoverd over twelve months period."]
[]
[null,null,null,null,null,125,null,"Non-current receivables from non-exchange transactions","These are accounts or promissory notes due for payment to an entity other than from its normal operations that is not expected to be collected within one year of the balance sheet date.  Examples of non-trade receivables are amounts owed to a company by its employees for loans or wage advances, tax refunds owed to it by taxing authorities, or insurance claims owed to it by an insurance company"]
[]
[null,null,null,null,null,126,null,"Non-current receivables from exchange transactions","These are accounts or promissory notes due for payment to an entity other than from its normal operations that is not expected to be collected within one year of the balance sheet date.  Examples of non-trade receivables are amounts owed to a company by its employees for loans or wage advances, tax refunds owed to it by taxing authorities, or insurance claims owed to it by an insurance company"]
[]
[null,null,null,null,null,127,null,"Defined Benefit Plan Assets","Defined Benefit Plans are plans in which the employer’s obligation is not limited to contribution toward a benefit, but rather based on the benefit promised to the employees. The amount could be determined with reference to a plan benefit formula, which stipulates the value of the benefit, a guarantee of a specified return on contribution, or informal practices that give rise to constructive obligation.  Many defined benefit plans include early retirement provisions to encourage employees to retire early, before the attainment of normal retirement age (usually age 65). Companies would rather hire younger employees at lower wages."]
[]
[null,null,null,null,null,128,null,"Other non-current financial assets","A non curent financial assets is  any asset that is cash, equity instrument of another entity e.g. investment in the ordinary shares of another entity; a contractual right to receive cash or  another  financial asset from another entity (e.g. bonds); a contractual right to exchange financial instruments with  another entity under conditions that are potentially favourable (e.g. an option to acquire shares in another company); a contract that will or may be settled in the entity's own equity instrument (Derivative or Non- derivative). These are expected to be realised in a period of over twelve months."]
[]
[null,null,null,null,null,129,null,"Taxation","A means by which governments finance their expenditure by imposing charges on citizens and corporate entities.\nGovernments use taxation to encourage or discourage certain economic decisions. For example, reduction in taxable personal (or household) income by the amount paid as interest on home mortgage loans results in greater construction activity, and generates more jobs. See also taxation principles.\n"]
[]
[null,null,null,null,null,130,null,"Deferred Tax Assets","Deferred tax assets are amounts of income taxes recoverable in future periods in respect of deductible temporary differences; the carry forward of unused tax losses; and the carry forward of unused tax credits"]
[]
[null,null,null,null,null,131,null,"Payments received in advance","The satisfaction of a debt or installment payment before its official due date. A prepayment can be for the entire balance or for any upcoming payment that is paid in advance of the date for which the borrower is contractually obligated to pay it. Examples of a prepayment come in the form of rent or early loan repayments. "]
[]
[null,null,null,null,null,132,null,"Trade and other payables from exchange transactions","Accounts payable is an entity's short-term obligation to pay suppliers for products and services, which the entity purchased on credit. If accounts payable are not paid within the payment terms agreed to with the supplier, the payables are considered to be in default, which may trigger a penalty or interest payment, or the revocation or curtailment of additional credit from the supplier."]
[]
[null,null,null,null,null,133,null,"Benefits payable (for UIF only)","This account group is used to record amounts due to eligible third party claimants within the current operating period. It consists of benefits to be paid to authorized or designated retirees within the current fiscal year. "]
[]
[null,null,null,null,null,134,null,"Accrued interest","Accrued interest is the amount of loan interest that has already occurred, but has not yet been paid to the lender by the borrower"]
[]
[null,null,null,null,null,135,null,"VAT payable","VAT registered businesses collect VAT on behalf of the government. Businesses add a certain percentage of the sales price as VAT and charge the full amount to the customer. For example, if a VAT registered dealer sells a car for R10, 000 and the VAT rate is 14 per cent, then the dealer charges the customer R11, 400. The dealer then forwards the R1, 400 to the government. The amount that the dealer is required to forward to the government is called VAT payable."]
[]
[null,null,null,null,null,136,null,"Income Tax Payable","Income tax is a liability showing the income taxes now due, this includes the current portion (due) of any deferred taxes. It is paid by employees and people who are self-employed. It may also be payable if you aren't working if, for example, you have an income from a pension or savings."]
[]
[null,null,null,null,null,137,null,"Taxes and transfers payable","Taxes and transfers payables are unrequited payments to other government units, corporations and households.Taxes are compulsory and there have no direct quid pro quo. Transfers can either be compulsory or voluntary"]
[]
[null,null,null,null,null,138,null,"Current provisions(Other)","Provision, generally, is to prepare in advance for an event that is projected to take place in the future. In accounting, it is an amount charged against profits for a specific liability (for example: bad debts, depreciation or taxes). A liability may be known, but the amount is often uncertain. This uncertainty may lead to an adjustment in a later income statement once the final amount of the liability is ascertained."]
[]
[null,null,null,null,null,139,null,"Bank overdraft","A credit agreement made with a financial institution that permits an account holder to use or withdraw more than they have in their account, without exceeding a specified maximum negative balance. Establishing an overdraft facility with a bank can help an individual or small business with short term cash flowproblems, although the negative balance typically needs to be repaid within a month."]
[]
[null,null,null,null,null,140,null,"Current portion of unspent conditional grants and receipts","A conditional grant is an allocation of money from one sphere of government to another, conditional on certain services being delivered or on compliance with specified requirements. It is payable within a specific period of time of less than a year."]
[]
[null,null,null,null,null,141,null,"Short-term loans","Short-term loans are generally loans in which borrowers can receive cash quickly from a lender, typically a bank or a paycheck loan business. Usually, short-term loans are processed fast and the minimum amount of time for a short-term loan is about 3 months, and in some cases, short-term loans can extend to up to 1 year."]
[]
[null,null,null,null,null,142,null,"Deferred income","Deferred income is the converse of accruals. It is income received during an accounting period, but which is not yet reported as earned.  For example, a business may receive payment for a service or a product that has not yet been supplied. Thus cannot be recognised as income up until such time the condition is fulfilled."]
[]
[null,null,null,null,null,143,null,"Other current financial liabilities","A financial liability is a contractual obligation to deliver cash or similar to another entity or a potentially unfavourable exchange of financial assets or liabilities with another entity over a period of less than twelve months. "]
[]
[null,null,null,null,null,144,null,"Consumer deposits","Consumer deposits are refundable deposits paid by consumer on securing a contract for services. Examples are deposits for electricity and water."]
[]
[null,null,null,null,null,145,null,"Current portion of finance lease liability","A finance lease is a lease that is primarily a method of raising finance to pay for assets. It is also termed a capital lease.  At the end of the lease, the ownership of the assets reverts to the lease. This is an estimated figure payable within twelve months  period"]
[]
[null,null,null,null,null,146,null,"Managed funds","These are funds instituted by the fiscus to run activities across various government institutions to deliver on a particular national priority, e.g. poverty alleviation fund.  Allocations are typically disbursed from those particular funds and are monitored from one central point. It is payable within a specific period of time of less than twelve months."]
[]
[null,null,null,null,null,147,null,"Derivatives financial instruments"," A derivative is a financial instrument whose value changes in relation to changes in a variable, such as an interest rate, commodity price, credit rating, or foreign exchange rate. It also requires either a small or no initial investment, and it is settled at a future date. It allows an entity to speculate on or hedge against future changes in market factors at minimal initial cost.  Examples of derivatives are call options, put options, forwards, futures, and swaps.   Examples of derivatives are call options, put options, forwards, futures, and swaps.\n\n \n"]
[]
[null,null,null,null,null,148,null,"Unspent conditional grants and receipts","A conditional grant is an allocation of money from one sphere of government to another. The grant is only recognised as revenue to the extent that the recipient/spending agency has complied with all of the criteria, conditions or obligations embodied in the agreement. The unspent conditional grants therefore represent the unspent portion of government grants, subsidies and contributions from the other spheres of government."]
[]
[null,null,null,null,null,149,null,"Benefits payable (UIF only)","This account group is used to record amounts due to eligible third party claimants within the current operating period. It consists of benefits to be paid to authorized or designated retirees within the current fiscal year. The Non-current portion of this item represents the part recognised by the Fund in the year under review but only to be paid in future."]
[]
[null,null,null,null,null,150,null,"Long-term borrowings","Borrowings comprise obligations under bank overdrafts, loans due to other group companies, redeemable debentures, bonds, commercial paper, bills of exchange and any other form of borrowing. These borrowings are payable over a period of twelve months.  Accrued interest on borrowings should not be included here.  Finance leases, although are borrowings too, should not be classified under this line."]
[]
[null,null,null,null,null,151,null,"Finance lease liability","A finance lease is a lease that transfers substantially all the risks and rewards incidental to the ownership of an asset. The title may (through a bargain purchase option) or may not eventually be transferred to the lessee. "]
[]
[null,null,null,null,null,152,null,"Operating Lease Liability","An operating lease is the rental of an asset from a lessor, but not under the terms that would classify it as a capital lease. An operating lease tends to have a shorter duration than a capital lease, and the lessee does not have the option to acquire the asset through a bargain purchase option.  The liability is the amount owed under the contract.  Operating lease liability is the  amount of money that a customer owes under the terms of a lease contract."]
[]
[null,null,null,null,null,153,null,"Other non-current financial liabilities","A financial liability is any liability that is a contractual obligation to deliver cash or another financial asset to another entity or to exchange financial instruments with another entity under conditions that are potentially unfavourable. It is also a contract that will or may be settled in the entity's own equity instruments (could be a non-derivative for which the entity is/may be obliged to deliver a variable number of its own equity instruments or a derivative that will/may be settled other than by the exchange of fixed amount of cash  for a fixed number of the entity's own equity instruments)"]
[]
[null,null,null,null,null,154,null,"Non-current provisions(Post retirement benefits)","Benefits provided by a company to retirees. Typical examples of potential benefits are pensions, life insurance, and health insurance."]
[]
[null,null,null,null,null,155,null,"Defined benefit plan obligations"," A defined benefit plan is a retirement benefit plan under which payments to former employees are fixed based on a formula that typically incorporates employee earnings and/or years of service. It has no direct relationship to the funding entity's payments to the fund from which payments are made"]
[]
[null,null,null,null,null,156,null,"Deferred income","Deferred income is the converse of accruals. It is income received during an accounting period, but which is not yet reported as earned.  For example, a business may receive payment for a service or a product that has not yet been supplied. Thus cannot be recognised as income up until such time the condition is fulfilled."]
[]
[null,null,null,null,null,157,null,"Deferred tax liabilities","Deferred tax liability is the amount of income tax payable in future periods in respect of the taxable temporary differences. A deferred tax liability records the fact that the company will, in the future, pay more income tax because of a transaction that took place during the current period, such as an instalment sale receivable. "]
[]
[null,null,null,null,null,158,null,"Managed funds","These are funds instituted by the fiscus to run activities across various government institutions to deliver on a particular national priority, e.g. poverty alleviation fund.  Allocations are typically disbursed from those particular funds and are monitored from one central point. It is payable over a specific period of more than twelve months."]
[]
[null,null,null,null,null,159,null,"Derivatives financial instruments","A derivative is a financial instrument whose value changes in relation to changes in a variable, such as an interest rate, commodity price, credit rating, or foreign exchange rate. It also requires either a small or no initial investment, and it is settled at a future date. It allows an entity to speculate on or hedge against future changes in market factors at minimal initial cost. Examples of derivatives include structured debt obligations and deposits, swaps, futures, options, caps, floors, collars, forwards, and other various combinations. "]
[]
[null,null,null,null,null,160,null,"Accumulated surplus / (deficit)","Accumulated surplus refers to the portion of net income which is retained by the organization rather than distributed to its owners as dividends. Similarly, if the organization makes a loss, then that loss is retained and called variously accumulated losses or accumulated deficit. Accumulated surpluses and deficits are cumulative from year to year with losses offsetting earnings."]
[]
[null,null,null,null,null,161,null,"Reserves","Capital, in economics, can mean: factories, machines, and other man-made inputs into a production process. In finance, capital is money and other property of a corporation or other enterprise used in transacting the business.                                                                                                             Reserves are generally those accounts where retained earnings are set aside to satisfy dividends, improvements, contingencies, retirement of preferred stock, etc., thereby cannot be distributed for other uses. Included are Non-distributable reserves (other than share capital and share premium). It will include Capital Redemption reserves, contingency reserves and other capital reserves. Amounts attributable to minority interests (if applicable) should also be included in this category"]
[]
[null,null,null,null,null,162,null,"Capital Fund/ Deferred government grant","This is a special fund that a municipality or public entity accumulates from either capital grants, depreciation funding or any other revenue from operations, specifically for the acquisitions or construction on capital assets.  These funds may not be used for anything else."]
[]
[null,null,null,null,null,163,null,"Capitalised value of pensions (for Comp Fund only)","Whenever a compensation claim has been approved and registered as a permanent disability, the total amount payable will be calculated and capitalised, and the monthly pension payments will be made from that capitalised value amount up to the last month of pension ( normally is up to 68 years or when the beneficiary pass on, whichever comes first)."]

{"sheet":"Revenue","index":4,"n_rows":73,"n_cols":23,"rows_kept":73,"cut":false,"hidden":false,"merged":[[8,18,8,19],[8,8,8,9],[8,10,8,11],[8,16,8,17],[8,12,8,13],[8,14,8,15]]}
[]
[]
[]
[]
[]
[null,null,null,null,null,"PE No",{"$f":"Settings!$O$2","v":"PE196"}]
[null,null,null,null,null,"Entity name",{"$f":"Settings!$D$2","v":"Transnet Limited"},null,null,null,null,null,null,null,null,null,null,null,null,null,{"$f":"IF(U65<T65/2,\"Complete outer year budget\",\"\")","v":""}]
[]
[null,null,null,null,null,null,"Notes",null,{"$f":"MyYearM3","v":"2019/20"},{"$f":"MyYearM3","v":"2019/20"},{"$f":"MyYearM2","v":"2020/21"},{"$f":"MyYearM2","v":"2020/21"},{"$f":"MyYearM1","v":"2021/22"},null,{"$f":"MyYear0","v":"2022/23"},null,{"$f":"MyYearP1","v":"2023/24"},null,{"$f":"MyYearP2","v":"2024/25"},null,{"$f":"MyYearP3","v":"2025/26"}]
["ItemCat","Item code",null,null,null,"Revenue",null,null,{"$f":"Hist_year3Audited","v":"Budget"},{"$f":"Hist_year3RestatedAudited","v":"Audited\noutcome"},{"$f":"Hist_year2Audited","v":"Budget"},{"$f":"Hist_year2RestatedAudited","v":"Audited\noutcome"},{"$f":"Hist_year1Budget","v":"Budget"},{"$f":"Hist_year1Audited","v":"Audited\noutcome"},{"$f":"Cur_YearBudgEst","v":"Budget\nestimate"},{"$f":"Cur_YearApprovedBudg","v":"Approved budget"},{"$f":"MTEF1BudgEst","v":"Budget\nestimate"},{"$f":"MTEF1RevBudgEst","v":"Revised\nbudget\nestimate"},{"$f":"MTEF2BudgEst","v":"Budget\nestimate"},{"$f":"MTEF2RevBudgEst","v":"Revised\nbudget\nestimate"},{"$f":"MTEF3PlanBudgetEst","v":"Planning\nbudget \nestimate"}]
[1,null,null,null,null,"R Thousand "]
[1,"RE1",null,null,null,"Revenue"]
[1,"RE11",null,null,null,"Tax revenue",1,null,0,0,0,0,0,0,0,0,0,0,0,0]
[1,"RE12",null,null,null,"Sales of goods and services other than capital assets",3,null,{"$f":"SUM(I15,I29,I30)","v":0},{"$f":"SUM(J15,J29,J30)","v":0},0,0,0,0,0,0,0,0,0,0,0]
[1,"RE121",null,null,null,"Sales of goods and services produced by entity",3,null,{"$f":"SUM(I16,I21,I26)","v":0},{"$f":"SUM(J16,J21,J26)","v":0},0,0,0,0,0,0,0,0,0,0,0]
[1,"RE1211",null,null,null,"Administration fees",4,null,{"$f":"SUM(I17:I20)","v":0},{"$f":"SUM(J17:J20)","v":0},0,0,0,0,0,0,{"$f":"SUM(Q17:Q20)","v":0},{"$f":"SUM(R17:R20)","v":0},{"$f":"SUM(S17:S20)","v":0},{"$f":"SUM(T17:T20)","v":0},{"$f":"SUM(U17:U20)","v":0}]
[1,"RE12111",null,null,null,"Inspectorate and Compliance",null,null,0,0,0,0,0,0,0,0,0,0,0,0]
[1,"RE12112",null,null,null,"Medicines (incl CAMs)",null,null,0,0,0,0,0,0,0,0,0,0,0,0]
[1,"RE12113",null,null,null,"Medical Devices & IVDs (incl Radiation Control)",null,null,0,0,0,0,0,0,0,0,0,0,0,0]
[1,"RE12114",null,null,null,"Please specify",null,null,0,0,0,0,0,0,0,0,0,0,0,0]
[1,"RE1212",null,null,null,"Sales by market establishments",5,null,{"$f":"SUM(I22:I25)","v":0},{"$f":"SUM(J22:J25)","v":0},0,0,0,0,0,0,{"$f":"SUM(Q22:Q25)","v":0},{"$f":"SUM(R22:R25)","v":0},{"$f":"SUM(S22:S25)","v":0},{"$f":"SUM(T22:T25)","v":0},{"$f":"SUM(U22:U25)","v":0}]
[1,"RE12121",null,null,null,"Ticket Sales",null,null,0,0,0,0,0,0,0,0,0,0,0,0]
[1,"RE12122",null,null,null,"Bar Sales",null,null,0,0,0,0,0,0,0,0,0,0,0,0]
[1,"RE12123",null,null,null,"Venue hire",null,null,0,0,0,0,0,0,0,0,0,0,0,0]
[1,"RE12124",null,null,null,0,null,null,0,0,0,0,0,0,0,0,0,0,0,0]
[1,"RE1213",null,null,null,"Other sales",6,null,{"$f":"SUM(I27:I28)","v":0},{"$f":"SUM(J27:J28)","v":0},0,{"$f":"SUM(L27:L28)","v":0},0,{"$f":"SUM(N27:N28)","v":0},0,{"$f":"SUM(P27:P28)","v":0},0,{"$f":"SUM(R27:R28)","v":0},0,{"$f":"SUM(T27:T28)","v":0},{"$f":"SUM(U27:U28)","v":0}]
[1,"RE12131",null,null,null,"User charges",null,null,0,0,0,0,0,0,0,0,0,0,0,0]
[1,"RE12132",null,null,null,"Sales other than user charges",null,null,0,0,0,0,0,0,0,0,0,0,0,0]
[null,"RE1214",null,null,null,"Sales of scrap, waste, arms and other used current goods",7,null,0,0,0,0,0,0,0,0,0,0,0,0]
[1,"RE122",null,null,null,"Entity revenue other than sales",null,null,{"$f":"SUM(I31,I32,I36,I40)","v":0},0,0,0,0,0,0,0,0,0,0,0,0]
[1,"RE1221",null,null,null,"Fines penalties and forfeits",19,null,0,0,0,0,0,0,0,0,0,0,0,0]
[1,"RE1222",null,null,null,"Gains from",null,null,{"$f":"SUM(I33:I35)","v":0},{"$f":"SUM(J33:J35)","v":0},0,0,0,0,0,0,0,0,0,0,0]
[1,"RE12221",null,null,null,"Sale of fixed assets",null,null,0,0,0,0,0,0,0,0,0,0,0,0]
[1,"RE12222",null,null,null,"Adjustments to fair value of assets",null,null,0,0,0,0,0,0,0,0,0,0,0,0]
[1,"RE12223",null,null,null,"    Other ",null,null,0,0,0,0,0,0,0,0,0,0,0,0]
[1,"RE1223",null,null,null,"Interest, dividends and rent on land",20,null,{"$f":"SUM(I37:I39)","v":0},{"$f":"SUM(J37:J39)","v":0},0,0,0,0,0,0,0,0,0,0,0]
[1,"RE12231",null,null,null,"Interest",21,null,0,0,0,0,0,0,0,0,0,0,0,0]
[1,"RE12232",null,null,null,"Dividends",22,null,0,0,0,0,0,0,0,0,0,0,0,0]
[1,"RE12233",null,null,null,"Rent on land",23,null,0,0,0,0,0,0,0,0,0,0,0,0]
[1,"RE1224",null,null,null,"Unclassified revenue ",24,null,{"$f":"SUM(I41:I43)","v":0},0,0,{"$f":"SUM(L41:L43)","v":0},0,{"$f":"SUM(N41:N43)","v":0},0,{"$f":"SUM(P41:P43)","v":0},0,{"$f":"SUM(R41:R43)","v":0},0,{"$f":"SUM(T41:T43)","v":0},{"$f":"SUM(U41:U43)","v":0}]
[1,"RE12241",null,null,null,"Realisation of deferred income (other than transfers) ",null,null,0,0,0,0,0,0,0,0,0,0,0,0]
[1,"RE12242",null,null,null,"Please specify",null,null,0,0,0,0,0,0,0,0,0,0,0,0]
[1,"RE12243",null,null,null,"Other income",null,null,0,0,0,0,0,0,0,0,0,0,0,0]
[1,"RE13",null,null,null,"Transfers received",8,null,{"$f":"SUM(I45:I46,I54,I60:I62)","v":0},0,0,0,0,0,0,0,0,0,0,0,0]
[4,"RE131",null,null,null,"Social contributions received (social security funds only)",null,null,0,0,0,0,0,0,0,0,0,0,0,0]
[1,"RE132",null,null,null,"Other government units",9,null,{"$f":"SUM(I47,I51:I53)","v":0},{"$f":"SUM(J47,J51:J53)","v":0},0,{"$f":"SUM(L47,L51:L53)","v":0},{"$f":"SUM(M47,M51:M53)","v":0},{"$f":"SUM(N47,N51:N53)","v":0},0,{"$f":"SUM(P47,P51:P53)","v":0},0,{"$f":"SUM(R47,R51:R53)","v":0},0,{"$f":"SUM(T47,T51:T53)","v":0},{"$f":"SUM(U47,U51:U53)","v":0}]
[1,"RE1321",null,null,null,"National government",10,null,{"$f":"SUM(I48:I50)","v":0},{"$f":"SUM(J48:J50)","v":0},0,{"$f":"SUM(L48:L50)","v":0},0,{"$f":"SUM(N48:N50)","v":0},0,{"$f":"SUM(P48:P50)","v":0},0,{"$f":"SUM(R48:R50)","v":0},0,{"$f":"SUM(T48:T50)","v":0},{"$f":"SUM(U48:U50)","v":0}]
[1,"RE13211",null,null,null,"Departmental transfers",null,null,0,0,0,0,0,0,0,0,0,0,0,0]
[1,"RE13212",null,null,null,"Realisation of deferred transfers",null,null,0,0,0,0,0,0,0,0,0,0,0,0]
[1,"RE13213",null,null,null,"Other government units",null,null,0,0,0,0,0,0,0,0,0,0,0,0]
[1,"RE1322",null,null,null,"Departmental agencies and accounts",13,null,0,0,0,0,0,0,0,0,0,0,0,0]
[1,"RE1323",null,null,null,"Provincial governments",14,null,0,0,0,0,0,0,0,0,0,0,0,0]
[1,"RE1324",null,null,null,"Local governments",15,null,0,0,0,0,0,0,0,0,0,0,0,0]
[2,"RE133",null,null,null,"Skills development  (SETAS only)",null,null,{"$f":"SUM(I55,I59)","v":0},{"$f":"SUM(J55,J59)","v":0},0,0,0,0,0,0,0,0,0,0,0]
[2,"RE1331",null,null,null,"Skills development levies ",null,null,{"$f":"SUM(I56:I58)","v":0},{"$f":"SUM(J56:J58)","v":0},0,0,0,0,0,0,0,0,0,0,0]
[2,"RE13311",null,null,null," Admin - 10.5%",null,null,0,0,0,0,0,0,0,0,0,0,0,0]
[2,"RE13312",null,null,null,"Employer grant fund levy -  20%",null,null,0,0,0,0,0,0,0,0,0,0,0,0]
[2,"RE13313",null,null,null,"Discretionary grants - 49.5%",null,null,0,0,0,0,0,0,0,0,0,0,0,0]
[2,"RE1332",null,null,null,"National skills fund ",null,null,0,0,0,0,0,0,0,0,0,0,0,0]
[1,"RE134",null,null,null,"Higher education institutions",16,null,0,0,0,0,0,0,0,0,0,0,0,0]
[1,"RE136",null,null,null,"Foreign governments and international organisations",17,null,0,0,0,0,0,0,0,0,0,0,0,0]
[1,"RE135",null,null,null,"Local non-government donors",18,null,0,0,0,0,0,0,0,0,0,0,0,0]
[1,"RE14",null,null,null,"Tax benefit",25,null,0,0,0,0,0,0,0,0,0,0,0,0]
[1,"RE15",null,null,null,"Outside shareholders interest",26,null,0,0,0,0,0,0,0,0,0,0,0,0]
[1,"RE16",null,null,null,"Total revenue",null,null,{"$f":"SUM(I13:I14,I44,I63:I64)","v":0},0,0,0,0,0,0,0,0,0,0,0,0,null,{"$f":"IF(U65<T65/2,\"Complete outer year budget\",\"\")","v":""}]
[1]
[1,null,null,null,null,"Check"]
[1,null,null,null,null,"Total revenue",null,null,{"$f":"I65","v":0},0,0,0,0,0,{"$f":"O65","v":0},0,{"$f":"Q65","v":0},0,0,0,0]
[1,null,null,null,null,"Total expenses",null,null,{"$f":"'Expend summary'!I140","v":0},{"$f":"'Expend summary'!J140","v":0},{"$f":"'Expend summary'!K140","v":0},{"$f":"'Expend summary'!L140","v":0},{"$f":"'Expend summary'!M140","v":0},{"$f":"'Expend summary'!N140","v":0},{"$f":"'Expend summary'!O140","v":0},{"$f":"'Expend summary'!P140","v":0},{"$f":"'Expend summary'!R140","v":0},{"$f":"'Expend summary'!S140","v":0},{"$f":"'Expend summary'!U140","v":0},{"$f":"'Expend summary'!V140","v":0},{"$f":"'Expend summary'!X140","v":0}]
[1,null,null,null,null,"Surplus / (Deficit)",null,null,{"$f":"I68-I69","v":0},{"$f":"J68-J69","v":0},{"$f":"K68-K69","v":0},{"$f":"L68-L69","v":0},{"$f":"M68-M69","v":0},{"$f":"N68-N69","v":0},0,0,{"$f":"Q68-Q69","v":0},0,0,0,0]
[1,null,null,null,null,"Annual report Surplus / (Deficit)",null,null,null,0,null,0]
[1,null,null,null,null,"Differences",null,null,null,{"$f":"ROUND(IF(J70-J71>0,IF(J70-J71<1,0,J70-J71),J70-J71),0)","v":0},null,{"$f":"ROUND(IF(L70-L71>0,IF(L70-L71<1,0,L70-L71),L70-L71),0)","v":0},null,{"$f":"ROUND(IF(N70-N71>0,IF(N70-N71<1,0,N70-N71),N70-N71),0)","v":0}]
[1]

{"sheet":"Admin","index":5,"n_rows":143,"n_cols":22,"rows_kept":143,"cut":false,"hidden":false,"merged":[[31,14,31,16],[31,17,31,19],[31,11,31,13]]}
[]
[]
[]
[]
[]
[null,null,null,null,null,"PE No",{"$f":"Settings!O2","v":"PE196"}]
[null,null,null,null,null,"Entity name",{"$f":"Settings!$D$2","v":"Transnet Limited"}]
[]
[null,null,null,null,null,"Performance and operations information"]
["ItemCat","Item code","Hide/unhide",null,null,"Activity/Output/Outcome/Efficiency Indicator","Priorities",null,{"$f":"MyYearM3","v":"2019/20"},{"$f":"MyYearM2","v":"2020/21"},{"$f":"MyYearM1","v":"2021/22"},{"$f":"MyYear0","v":"2022/23"},{"$f":"MyYearP1","v":"2023/24"},{"$f":"MyYearP2","v":"2024/25"},{"$f":"MyYearP3","v":"2025/26"},"Related Objectives","Add to 'Performance Indicators' Sheet","Comments"]
[1,null,null,null,null,0,0,null,0,0,0,0,0,0,null,0,0,0]
[1,null,null,null,null,0,0,null,0,0,0,0,0,0,null,0,0,0]
[1,null,null,null,null,0,0,null,0,0,0,0,0,0,null,0,0,0]
[1,null,null,null,null,0,0,null,0,0,0,0,0,0,null,0,0,0]
[1,null,null,null,null,0,0,null,0,0,0,0,0,0,null,0,0,0]
[1,null,null,null,null,0,0,null,0,0,0,0,0,0,null,0,0,0]
[1,null,null,null,null,0,0,null,0,0,0,0,0,0,null,0,0,0]
[1,null,null,null,null,0,0,null,0,0,0,0,0,0,null,0,0,0]
[1,null,null,null,null,0,0,null,0,0,0,0,0,0,null,0,0,0]
[1,null,null,null,null,0,0,null,0,0,0,0,0,0,null,0,0,0]
[1,null,null,null,null,0,0,null,0,0,0,0,0,0,null,0,0,0]
[1,null,null,null,null,0,0,null,0,0,0,0,0,0,null,0,0,0]
[1,null,null,null,null,0,0,null,0,0,0,0,0,0,null,0,0,0]
[1,null,null,null,null,0,0,null,0,0,0,0,0,0,null,0,0,0]
[1,null,null,null,null,0,0,null,0,0,0,0,0,0,null,0,0,0]
[1,null,null,null,null,"Notes:"]
[1,null,null,null,null,"Performance indicators are an explanation of objectives performance.   "]
[1,null,null,null,null,"1. They are specific measurements that track progress towards achieving the goals and objectives of an institution."]
[1,null,null,null,null,"2. Institutions should use performance indicators in the 2021/22 Annual Performance Plans and those in the 2022 ENE. "]
[1,null,null,null,null,"3. Institutions should also indicate instances where targets are not affected by budget baseline reprioritisation."]
[1]
[1,null,null,null,null,null,null,null,{"$f":"MyYearM3","v":"2019/20"},{"$f":"MyYearM2","v":"2020/21"},{"$f":"MyYearM1","v":"2021/22"},{"$f":"MyYear0","v":"2022/23"},null,null,{"$f":"MyYearP1","v":"2023/24"},null,null,{"$f":"MyYearP2","v":"2024/25"},null,null,{"$f":"MyYearP3","v":"2025/26"}]
[1,null,null,null,null,"Expenses",null,null,{"$f":"Hist_year3RestatedAudited","v":"Audited\noutcome"},{"$f":"Hist_year2RestatedAudited","v":"Audited\noutcome"},{"$f":"Hist_year1Audited","v":"Audited\noutcome"},{"$f":"Cur_YearBudgEst","v":"Budget\nestimate"},{"$f":"Cur_YearApprovedBudg","v":"Approved budget"},{"$f":"Cur_YearChangeFrRevBudg","v":"Changes from \nbudget estimate"},{"$f":"MTEF1BudgEst","v":"Budget\nestimate"},{"$f":"MTEF1RevBudgEst","v":"Revised\nbudget\nestimate"},{"$f":"MTEF1_ChangeFrBudgEst","v":"Changes from budget estimate"},{"$f":"MTEF2BudgEst","v":"Budget\nestimate"},{"$f":"MTEF2RevBudgEst","v":"Revised\nbudget\nestimate"},{"$f":"MTEF2_ChangeFrBudgEst","v":"Changes from budget estimate"},{"$f":"MTEF3PlanBudgetEst","v":"Planning\nbudget \nestimate"}]
[1]
[1,null,null,null,null,"Rand thousand"]
[1,null,null,null,null,"Objective/Activity"]
[1,null,null,null,null,"Administration",null,null,0,0,0,0,0,{"$f":"SUM(M37-L37)","v":0},0,0,{"$f":"SUM(P37-O37)","v":0},0,0,{"$f":"SUM(S37-R37)","v":0}]
[1,null,null,null,null,"Economic classification"]
[1,"EX11",null,null,null,"Current payments",null,null,{"$f":"SUM(I40,I43,I98:I99,I105)","v":0},{"$f":"SUM(J40,J43,J98:J99,J105)","v":0},{"$f":"SUM(K40,K43,K98:K99,K105)","v":0},{"$f":"SUM(L40,L43,L98:L99,L105)","v":0},{"$f":"SUM(M40,M43,M98:M99,M105)","v":0},{"$f":"SUM(M39-L39)","v":0},{"$f":"SUM(O40,O43,O98:O99,O105)","v":0},{"$f":"SUM(P40,P43,P98:P99,P105)","v":0},{"$f":"SUM(P39-O39)","v":0},{"$f":"SUM(R40,R43,R98:R99,R105)","v":0},{"$f":"SUM(S40,S43,S98:S99,S105)","v":0},{"$f":"SUM(S39-R39)","v":0},{"$f":"SUM(U40,U43,U98:U99,U105)","v":0}]
[1,"EX111",null,null,null,"Compensation of employees",null,null,{"$f":"SUM(I41:I42)","v":0},{"$f":"SUM(J41:J42)","v":0},{"$f":"SUM(K41:K42)","v":0},{"$f":"SUM(L41:L42)","v":0},{"$f":"SUM(M41:M42)","v":0},{"$f":"SUM(M40-L40)","v":0},{"$f":"SUM(O41:O42)","v":0},{"$f":"SUM(P41:P42)","v":0},{"$f":"SUM(P40-O40)","v":0},{"$f":"SUM(R41:R42)","v":0},{"$f":"SUM(S41:S42)","v":0},{"$f":"SUM(S40-R40)","v":0},{"$f":"SUM(U41:U42)","v":0}]
[1,"EX1111",null,null,null,"Salaries and wages",null,null,0,0,0,0,0,{"$f":"SUM(M41-L41)","v":0},0,0,{"$f":"SUM(P41-O41)","v":0},0,0,{"$f":"SUM(S41-R41)","v":0}]
[1,"EX1112",null,null,null,"Social contributions",null,null,0,0,0,0,0,0,0,0,0,0,0,0]
[1,"EX112",null,null,null,"Goods and services",null,null,{"$f":"SUM(I45:I54,I58:I61,I73,I75:I97)","v":0},{"$f":"SUM(J45:J54,J58:J61,J73,J75:J97)","v":0},0,0,0,0,0,{"$f":"SUM(P45:P54,P58:P61,P73,P75:P97)","v":0},0,0,0,0,0,0]
[1,"EX000",null,null,null,"Of which 1"]
[1,"EX1133",null,null,null,"Administrative fees",null,null,0,0,0,0,0,{"$f":"SUM(M45-L45)","v":0},0,0,{"$f":"SUM(P45-O45)","v":0},0,0,{"$f":"SUM(S45-R45)","v":0}]
[1,"EX1134",null,null,null,"Advertising",null,null,0,0,0,0,0,0,0,0,0,0,0,0]
[1,"EX1135",null,null,null,"Minor assets",null,null,0,0,0,0,0,0,0,0,0,0,0,0]
[1,"EX1136",null,null,null,"Audit costs: External",null,null,0,0,0,0,0,0,0,0,0,0,0,0]
[1,"EX1139",null,null,null,"Bursaries: Employees",null,null,0,0,0,0,0,0,0,0,0,0,0,0]
[1,"EX1140",null,null,null,"Catering: Internal activities",null,null,0,0,0,0,0,0,0,0,0,0,0,0]
[1,"EX1122",null,null,null,"Communication (G&S)",null,null,0,0,0,0,0,0,0,0,0,0,0,0]
[1,"EX1123",null,null,null,"Computer services",null,null,0,0,0,0,0,0,0,0,0,0,0,0]
[1,"EX1124",null,null,null,"Consultants: Business and advisory services",null,null,0,0,0,0,0,0,0,0,0,0,0,0]
[1,"EX1180",null,null,null,"Infrastructure and planning services",null,null,{"$f":"SUM(I55:I57)","v":0},{"$f":"SUM(J55:J57)","v":0},{"$f":"SUM(K55:K57)","v":0},{"$f":"SUM(L55:L57)","v":0},{"$f":"SUM(M55:M57)","v":0},{"$f":"SUM(M54-L54)","v":0},{"$f":"SUM(O55:O57)","v":0},{"$f":"SUM(P55:P57)","v":0},{"$f":"SUM(P54-O54)","v":0},{"$f":"SUM(R55:R57)","v":0},{"$f":"SUM(S55:S57)","v":0},{"$f":"SUM(S54-R54)","v":0},{"$f":"SUM(U55:U57)","v":0}]
[1,"EX11801",null,null,null,"Maintenance and repairs: Buildings: Consultants",null,null,0,0,0,0,0,{"$f":"SUM(M55-L55)","v":0},0,0,{"$f":"SUM(P55-O55)","v":0},0,0,0]
[1,"EX11802",null,null,null,"Maintenance and repairs: Other fixed structures: Consultants",null,null,0,0,0,0,0,0,0,0,0,0,0,0]
[1,"EX11803",null,null,null,"Other",null,null,0,0,0,0,0,0,0,0,0,0,0,0]
[1,"EX1164",null,null,null,"Laboratory services",null,null,0,0,0,0,0,0,0,0,0,0,0,0]
[1,"EX1162",null,null,null,"Legal services (G&S)",null,null,0,0,0,0,0,0,0,0,0,0,0,0]
[1,"EX1165",null,null,null,"Science and technological services",null,null,0,0,0,0,0,0,0,0,0,0,0,0]
[1,"EX1125",null,null,null,"Contractors",null,null,{"$f":"SUM(I62:I66,I72)","v":0},{"$f":"SUM(J62:J66,J72)","v":0},{"$f":"SUM(K62:K66,K72)","v":0},{"$f":"SUM(L62:L66,L72)","v":0},{"$f":"SUM(M62:M66,M72)","v":0},{"$f":"SUM(M61-L61)","v":0},{"$f":"SUM(O62:O66,O72)","v":0},{"$f":"SUM(P62:P66,P72)","v":0},{"$f":"SUM(P61-O61)","v":0},{"$f":"SUM(R62:R66,R72)","v":0},{"$f":"SUM(S62:S66,S72)","v":0},0,{"$f":"SUM(U62:U66,U72)","v":0}]
[1,"EX11251",null,null,null,"Maintenance and repairs of other fixed structures",null,null,0,0,0,0,0,0,0,0,0,0,0,0]
[1,"EX11252",null,null,null,"Maintenance and repairs of other machinery and equipment",null,null,0,0,0,0,0,0,0,0,0,0,0,0]
[1,"EX11253",null,null,null,"Maintenance and repairs of heritage buildings",null,null,0,0,0,0,0,0,0,0,0,0,0,0]
[1,"EX11254",null,null,null,"Maintenance and repairs of other heritage fixed structures",null,null,0,0,0,0,0,0,0,0,0,0,0,0]
[5,"EX11255",null,null,null,"South african social security agency payment contractors",null,null,{"$f":"SUM(I67:I71)","v":0},{"$f":"SUM(J67:J71)","v":0},{"$f":"SUM(K67:K71)","v":0},{"$f":"SUM(L67:L71)","v":0},{"$f":"SUM(M67:M71)","v":0},0,{"$f":"SUM(O67:O71)","v":0},{"$f":"SUM(P67:P71)","v":0},0,{"$f":"SUM(R67:R71)","v":0},{"$f":"SUM(S67:S71)","v":0},0,{"$f":"SUM(U67:U71)","v":0}]
[5,"EX112551",null,null,null,"SASSA Admin fees",null,null,0,0,0,0,0,{"$f":"SUM(M67-L67)","v":0},0,0,{"$f":"SUM(P67-O67)","v":0},0,0,{"$f":"SUM(S67-R67)","v":0}]
[5,"EX112552",null,null,null,"SASSA Bankcard fees",null,null,0,0,0,0,0,0,0,0,0,0,0,0]
[5,"EX112553",null,null,null,"SASSA registration fees",null,null,0,0,0,0,0,0,0,0,0,0,0,0]
[5,"EX112554",null,null,null,"SASSA beneficiary fees",null,null,0,0,0,0,0,0,0,0,0,0,0,0]
[5,"EX112555",null,null,null,"SASSA help desk fees",null,null,0,0,0,0,0,0,0,0,0,0,0,0]
[1,"EX11256",null,null,null,"Other",null,null,0,0,0,0,0,0,0,0,0,0,0,0]
[1,"EX1121",null,null,null,"Agency and support/outsourced services",null,null,0,0,0,0,0,0,0,0,0,0,0,0]
[5,"EX11211",null,null,null,"     Of Which: Medical assessments",null,null,0,0,0,0,0,0,0,0,0,0,0,0]
[1,"EX1161",null,null,null,"Entertainment",null,null,0,0,0,0,0,0,0,0,0,0,0,0]
[1,"EX1166",null,null,null,"Fleet services (including government motor transport)",null,null,0,0,0,0,0,0,0,0,0,0,0,0]
[1,"EX1167",null,null,null,"Housing",null,null,0,0,0,0,0,0,0,0,0,0,0,0]
[1,"EX1168",null,null,null,"Inventory: Clothing material and accessories",null,null,0,0,0,0,0,0,0,0,0,0,0,0]
[1,"EX1169",null,null,null,"Inventory: Farming supplies",null,null,0,0,0,0,0,0,0,0,0,0,0,0]
[1,"EX1170",null,null,null,"Inventory: Food and food supplies",null,null,0,0,0,0,0,0,0,0,0,0,0,0]
[1,"EX1171",null,null,null,"Inventory: Fuel, oil and gas",null,null,0,0,0,0,0,0,0,0,0,0,0,0]
[1,"EX1172",null,null,null,"Inventory: Learner and teacher support material",null,null,0,0,0,0,0,0,0,0,0,0,0,0]
[1,"EX1126",null,null,null,"Inventory: Materials and supplies",null,null,0,0,0,0,0,0,0,0,0,0,0,0]
[1,"EX1173",null,null,null,"Inventory: Medical supplies",null,null,0,0,0,0,0,0,0,0,0,0,0,0]
[1,"EX1174",null,null,null,"Inventory: Medicine",null,null,0,0,0,0,0,0,0,0,0,0,0,0]
[1,"EX1175",null,null,null,"Medsas inventory interface",null,null,0,0,0,0,0,0,0,0,0,0,0,0]
[1,"EX1176",null,null,null,"Inventory: Other supplies",null,null,0,0,0,0,0,0,0,0,0,0,0,0]
[1,"EX1177",null,null,null,"Consumable supplies",null,null,0,0,0,0,0,0,0,0,0,0,0,0]
[1,"EX1144",null,null,null,"Consumables: Stationery, printing and office supplies",null,null,0,0,0,0,0,0,0,0,0,0,0,0]
[1,"EX1127",null,null,null,"Operating leases",null,null,0,0,0,0,0,0,0,0,0,0,0,0]
[1,"EX1178",null,null,null,"Rental and hiring",null,null,0,0,0,0,0,0,0,0,0,0,0,0]
[1,"EX1145",null,null,null,"Property payments",null,null,0,0,0,0,0,0,0,0,0,0,0,0]
[1,"EX1179",null,null,null,"Transport provided: Internal activities",null,null,0,0,0,0,0,0,0,0,0,0,0,0]
[1,"EX1131",null,null,null,"Travel and subsistence",null,null,0,0,0,0,0,0,0,0,0,0,0,0]
[1,"EX1130",null,null,null,"Training and development",null,null,0,0,0,0,0,0,0,0,0,0,0,0]
[1,"EX1132",null,null,null,"Operating payments",null,null,0,0,0,0,0,0,0,0,0,0,0,0]
[1,"EX1146",null,null,null,"Venues and facilities",null,null,0,0,0,0,0,0,0,0,0,0,0,0]
[1,"EX113",null,null,null,"Depreciation",null,null,0,0,0,0,0,0,0,0,0,0,0,0]
[1,"EX114",null,null,null,"Losses from",null,null,{"$f":"SUM(I100:I101,I104)","v":0},{"$f":"SUM(J100:J101,J104)","v":0},{"$f":"SUM(K100:K101,K104)","v":0},{"$f":"SUM(L100:L101,L104)","v":0},{"$f":"SUM(M100:M101,M104)","v":0},{"$f":"SUM(M99-L99)","v":0},{"$f":"SUM(O100:O101,O104)","v":0},{"$f":"SUM(P100:P101,P104)","v":0},{"$f":"SUM(P99-O99)","v":0},{"$f":"SUM(R100:R101,R104)","v":0},{"$f":"SUM(S100:S101,S104)","v":0},{"$f":"SUM(S99-R99)","v":0},{"$f":"SUM(U100:U101,U104)","v":0}]
[1,"EX1141",null,null,null,"Sale of fixed assets",null,null,0,0,0,0,0,{"$f":"SUM(M100-L100)","v":0},0,0,{"$f":"SUM(P100-O100)","v":0},0,0,{"$f":"SUM(S100-R100)","v":0}]
[1,"EX1142",null,null,null,"Impairments and adjustments to fair value",null,null,{"$f":"SUM(I102:I103)","v":0},{"$f":"SUM(J102:J103)","v":0},{"$f":"SUM(K102:K103)","v":0},{"$f":"SUM(L102:L103)","v":0},{"$f":"SUM(M102:M103)","v":0},0,{"$f":"SUM(O102:O103)","v":0},{"$f":"SUM(P102:P103)","v":0},0,{"$f":"SUM(R102:R103)","v":0},{"$f":"SUM(S102:S103)","v":0},0,{"$f":"SUM(U102:U103)","v":0}]
[1,"EX11421",null,null,null,"Adjustments to fair value of assets",null,null,0,0,0,0,0,{"$f":"SUM(M102-L102)","v":0},0,0,{"$f":"SUM(P102-O102)","v":0},0,0,{"$f":"SUM(S102-R102)","v":0}]
[1,"EX11422",null,null,null,"Impairments to assets",null,null,0,0,0,0,0,0,0,0,0,0,0,0]
[1,"EX1143",null,null,null,"Other",null,null,0,0,0,0,0,0,0,0,0,0,0,0]
[1,"EX115",null,null,null,"Interest, dividends and rent on land",null,null,{"$f":"SUM(I106:I108)","v":0},{"$f":"SUM(J106:J108)","v":0},{"$f":"SUM(K106:K108)","v":0},{"$f":"SUM(L106:L108)","v":0},{"$f":"SUM(M106:M108)","v":0},0,{"$f":"SUM(O106:O108)","v":0},{"$f":"SUM(P106:P108)","v":0},0,{"$f":"SUM(R106:R108)","v":0},{"$f":"SUM(S106:S108)","v":0},0,{"$f":"SUM(U106:U108)","v":0}]
[1,"EX1151",null,null,null,"Interest",null,null,0,0,0,0,0,{"$f":"SUM(M106-L106)","v":0},0,0,{"$f":"SUM(P106-O106)","v":0},0,0,{"$f":"SUM(S106-R106)","v":0}]
[1,"EX1152",null,null,null,"Dividends",null,null,0,0,0,0,0,0,0,0,0,0,0,0]
[1,"EX1153",null,null,null,"Rent on land",null,null,0,0,0,0,0,0,0,0,0,0,0,0]
[1,"EX12",null,null,null,"Transfers and subsidies",null,null,{"$f":"SUM(I110,I121,I132:I135)","v":0},{"$f":"SUM(J110,J121,J132:J135)","v":0},{"$f":"SUM(K110,K121,K132:K135)","v":0},{"$f":"SUM(L110,L121,L132:L135)","v":0},{"$f":"SUM(M110,M121,M132:M135)","v":0},0,{"$f":"SUM(O110,O121,O132:O135)","v":0},{"$f":"SUM(P110,P121,P132:P135)","v":0},0,{"$f":"SUM(R110,R121,R132:R135)","v":0},{"$f":"SUM(S110,S121,S132:S135)","v":0},0,{"$f":"SUM(U110,U121,U132:U135)","v":0}]
[2,"EX121",null,null,null,"Employer Grant (SETAs only)",null,null,{"$f":"SUM(I111,I117,I120)","v":0},{"$f":"SUM(J111,J117,J120)","v":0},{"$f":"SUM(K111,K117,K120)","v":0},{"$f":"SUM(L111,L117,L120)","v":0},{"$f":"SUM(M111,M117,M120)","v":0},0,{"$f":"SUM(O111,O117,O120)","v":0},{"$f":"SUM(P111,P117,P120)","v":0},0,{"$f":"SUM(R111,R117,R120)","v":0},{"$f":"SUM(S111,S117,S120)","v":0},0,{"$f":"SUM(U111,U117,U120)","v":0}]
[1,"EX122",null,null,null,"Other government units",null,null,{"$f":"SUM(I112:I116)","v":0},{"$f":"SUM(J112:J116)","v":0},{"$f":"SUM(K112:K116)","v":0},{"$f":"SUM(L112:L116)","v":0},{"$f":"SUM(M112:M116)","v":0},0,{"$f":"SUM(O112:O116)","v":0},{"$f":"SUM(P112:P116)","v":0},0,{"$f":"SUM(R112:R116)","v":0},{"$f":"SUM(S112:S116)","v":0},0,{"$f":"SUM(U112:U116)","v":0}]
[1,"EX1221",null,null,null,"National government",null,null,0,0,0,0,0,{"$f":"SUM(M112-L112)","v":0},0,0,{"$f":"SUM(P112-O112)","v":0},0,0,{"$f":"SUM(S112-R112)","v":0}]
[1,"EX1222",null,null,null,"Departmental agencies and accounts",null,null,0,0,0,0,0,0,0,0,0,0,0,0]
[1,"EX1223",null,null,null,"Provinces",null,null,0,0,0,0,0,0,0,0,0,0,0,0]
[1,"EX1224",null,null,null,"Municipalities",null,null,0,0,0,0,0,0,0,0,0,0,0,0]
[2,"EX1225",null,null,null,"National Skills Fund",null,null,0,0,0,0,0,0,0,0,0,0,0,0]
[1,"EX123",null,null,null,"Public corporations and private enterprises (subsidies and other transfers)",null,null,{"$f":"SUM(I118:I119)","v":0},{"$f":"SUM(J118:J119)","v":0},{"$f":"SUM(K118:K119)","v":0},{"$f":"SUM(L118:L119)","v":0},{"$f":"SUM(M118:M119)","v":0},0,{"$f":"SUM(O118:O119)","v":0},{"$f":"SUM(P118:P119)","v":0},0,{"$f":"SUM(R118:R119)","v":0},{"$f":"SUM(S118:S119)","v":0},0,{"$f":"SUM(U118:U119)","v":0}]
[1,"EX1231",null,null,null,"Public corporations",null,null,0,0,0,0,0,{"$f":"SUM(M118-L118)","v":0},0,0,{"$f":"SUM(P118-O118)","v":0},0,0,{"$f":"SUM(S118-R118)","v":0}]
[1,"EX1232",null,null,null,"Private enterprises",null,null,0,0,0,0,0,0,0,0,0,0,0,0]
[2,"EX124",null,null,null,"Households and non government units",null,null,0,0,0,0,0,0,0,0,0,0,0,0]
[2,"EX125",null,null,null,"Discretionary Grant (SETAs only)",null,null,{"$f":"SUM(I122,I128,I131)","v":0},{"$f":"SUM(J122,J128,J131)","v":0},{"$f":"SUM(K122,K128,K131)","v":0},{"$f":"SUM(L122,L128,L131)","v":0},{"$f":"SUM(M122,M128,M131)","v":0},0,{"$f":"SUM(O122,O128,O131)","v":0},{"$f":"SUM(P122,P128,P131)","v":0},0,{"$f":"SUM(R122,R128,R131)","v":0},{"$f":"SUM(S122,S128,S131)","v":0},0,{"$f":"SUM(U122,U128,U131)","v":0}]
[2,"EX126",null,null,null,"Other government units",null,null,{"$f":"SUM(I123:I127)","v":0},{"$f":"SUM(J123:J127)","v":0},{"$f":"SUM(K123:K127)","v":0},{"$f":"SUM(L123:L127)","v":0},{"$f":"SUM(M123:M127)","v":0},0,{"$f":"SUM(O123:O127)","v":0},{"$f":"SUM(P123:P127)","v":0},0,{"$f":"SUM(R123:R127)","v":0},{"$f":"SUM(S123:S127)","v":0},0,{"$f":"SUM(U123:U127)","v":0}]
[2,"EX1261",null,null,null,"National government",null,null,0,0,0,0,0,{"$f":"SUM(M123-L123)","v":0},0,0,{"$f":"SUM(P123-O123)","v":0},0,0,{"$f":"SUM(S123-R123)","v":0}]
[2,"EX1262",null,null,null,"Departmental agencies and accounts",null,null,0,0,0,0,0,0,0,0,0,0,0,0]
[2,"EX1263",null,null,null,"Provinces",null,null,0,0,0,0,0,0,0,0,0,0,0,0]
[2,"EX1264",null,null,null,"Municipalities",null,null,0,0,0,0,0,0,0,0,0,0,0,0]
[2,"EX1265",null,null,null,"National Skills Fund",null,null,0,0,0,0,0,0,0,0,0,0,0,0]
[2,"EX127",null,null,null,"Public corporations and private enterprises (subsidies and other transfers)",null,null,{"$f":"SUM(I129:I130)","v":0},{"$f":"SUM(J129:J130)","v":0},{"$f":"SUM(K129:K130)","v":0},{"$f":"SUM(L129:L130)","v":0},{"$f":"SUM(M129:M130)","v":0},0,{"$f":"SUM(O129:O130)","v":0},{"$f":"SUM(P129:P130)","v":0},0,{"$f":"SUM(R129:R130)","v":0},{"$f":"SUM(S129:S130)","v":0},0,{"$f":"SUM(U129:U130)","v":0}]
[2,"EX1271",null,null,null,"Public corporations",null,null,0,0,0,0,0,{"$f":"SUM(M129-L129)","v":0},0,0,{"$f":"SUM(P129-O129)","v":0},0,0,{"$f":"SUM(S129-R129)","v":0}]
[2,"EX1272",null,null,null,"Private enterprises",null,null,0,0,0,0,0,0,0,0,0,0,0,0]
[2,"EX128",null,null,null,"Households and non government units",null,null,0,0,0,0,0,0,0,0,0,0,0,0]
[1,"EX129",null,null,null,"Higher education institutions",null,null,0,0,0,0,0,0,0,0,0,0,0,0]
[1,"EX130",null,null,null,"Foreign governments and international organisations ",null,null,0,0,0,0,0,0,0,0,0,0,0,0]
[1,"EX131",null,null,null,"Non-profit institutions",null,null,0,0,0,0,0,0,0,0,0,0,0,0]
[1,"EX132",null,null,null,"Households",null,null,{"$f":"SUM(I136:I137)","v":0},{"$f":"SUM(J136:J137)","v":0},{"$f":"SUM(K136:K137)","v":0},{"$f":"SUM(L136:L137)","v":0},{"$f":"SUM(M136:M137)","v":0},0,{"$f":"SUM(O136:O137)","v":0},{"$f":"SUM(P136:P137)","v":0},0,{"$f":"SUM(R136:R137)","v":0},{"$f":"SUM(S136:S137)","v":0},0,{"$f":"SUM(U136:U137)","v":0}]
[1,"EX1301",null,null,null,"Social benefits ",null,null,0,0,0,0,0,{"$f":"SUM(M136-L136)","v":0},0,0,{"$f":"SUM(P136-O136)","v":0},0,0,{"$f":"SUM(S136-R136)","v":0}]
[1,"EX1302",null,null,null,"Other transfers to households",null,null,0,0,0,0,0,0,0,0,0,0,0,0]
[1,"EX13",null,null,null,"Tax payment",null,null,0,0,0,0,0,0,0,0,0,0,0,0]
[1,"EX14",null,null,null,"Outside shareholders Interest",null,null,0,0,0,0,0,0,0,0,0,0,0,0]
[1,"EX15",null,null,null,"Total Expenditure",null,null,{"$f":"SUM(I39,I109,I138:I139)","v":0},{"$f":"SUM(J39,J109,J138:J139)","v":0},{"$f":"SUM(K39,K109,K138:K139)","v":0},{"$f":"SUM(L39,L109,L138:L139)","v":0},{"$f":"SUM(M39,M109,M138:M139)","v":0},{"$f":"SUM(M140-L140)","v":0},{"$f":"SUM(O39,O109,O138:O139)","v":0},{"$f":"SUM(P39,P109,P138:P139)","v":0},{"$f":"SUM(P140-O140)","v":0},{"$f":"SUM(R39,R109,R138:R139)","v":0},{"$f":"SUM(S39,S109,S138:S139)","v":0},{"$f":"SUM(S140-R140)","v":0},{"$f":"SUM(U39,U109,U138:U139)","v":0}]
[1]
[1,null,null,null,null,"Objective less Expenditure",null,null,{"$f":"ROUND(IF(I37-I140>0,IF(I37-I140<1,0,I37-I140),I37-I140),0)","v":0},0,0,0,0,{"$f":"ROUND(IF(N37-N140>0,IF(N37-N140<1,0,N37-N140),N37-N140),0)","v":0},0,0,0,0,0,0,0]
[1]

{"sheet":"2","index":6,"n_rows":143,"n_cols":22,"rows_kept":143,"cut":false,"hidden":false,"merged":[[31,14,31,16],[31,17,31,19],[31,11,31,13]]}
[]
[]
[]
[]
[]
[null,null,null,null,null,"PE No",{"$f":"Settings!O2","v":"PE196"}]
[null,null,null,null,null,"Entity name",{"$f":"Settings!$D$2","v":"Transnet Limited"}]
[]
[null,null,null,null,null,"Performance and operations information"]
["ItemCat","Item code","Hide/unhide",null,null,"Activity/Output/Outcome/Efficiency Indicator","Priorities",null,{"$f":"MyYearM3","v":"2019/20"},{"$f":"MyYearM2","v":"2020/21"},{"$f":"MyYearM1","v":"2021/22"},{"$f":"MyYear0","v":"2022/23"},{"$f":"MyYearP1","v":"2023/24"},{"$f":"MyYearP2","v":"2024/25"},{"$f":"MyYearP3","v":"2025/26"},"Related Objectives","Add to 'Performance Indicators' Sheet","Comments"]
[1,null,null,null,null,0,0,null,0,0,0,0,0,0,null,0,0,0]
[1,null,null,null,null,0,0,null,0,0,0,0,0,0,null,0,0,0]
[1,null,null,null,null,0,0,null,0,0,0,0,0,0,null,0,0,0]
[1,null,null,null,null,0,0,null,0,0,0,0,0,0,null,0,0,0]
[1,null,null,null,null,0,0,null,0,0,0,0,0,0,null,0,0,0]
[1,null,null,null,null,0,0,null,0,0,0,0,0,0,null,0,0,0]
[1,null,null,null,null,0,0,null,0,0,0,0,0,0,null,0,0,0]
[1,null,null,null,null,0,0,null,0,0,0,0,0,0,null,0,0,0]
[1,null,null,null,null,0,0,null,0,0,0,0,0,0,null,0,0,0]
[1,null,null,null,null,0,0,null,0,0,0,0,0,0,null,0,0,0]
[1,null,null,null,null,0,0,null,0,0,0,0,0,0,null,0,0,0]
[1,null,null,null,null,0,0,null,0,0,0,0,0,0,null,0,0,0]
[1,null,null,null,null,0,0,null,0,0,0,0,0,0,null,0,0,0]
[1,null,null,null,null,0,0,null,0,0,0,0,0,0,null,0,0,0]
[1,null,null,null,null,0,0,null,0,0,0,0,0,0,null,0,0,0]
[1,null,null,null,null,"Notes:"]
[1,null,null,null,null,"Performance indicators are an explanation of objectives performance.   "]
[1,null,null,null,null,"1. They are specific measurements that track progress towards achieving the goals and objectives of an institution."]
[1,null,null,null,null,"2. Institutions should use performance indicators in the 2021/22 Annual Performance Plans and those in the 2022 ENE. "]
[1,null,null,null,null,"3. Institutions should also indicate instances where targets are not affected by budget baseline reprioritisation."]
[1]
[1,null,null,null,null,null,null,null,{"$f":"MyYearM3","v":"2019/20"},{"$f":"MyYearM2","v":"2020/21"},{"$f":"MyYearM1","v":"2021/22"},{"$f":"MyYear0","v":"2022/23"},null,null,{"$f":"MyYearP1","v":"2023/24"},null,null,{"$f":"MyYearP2","v":"2024/25"},null,null,{"$f":"MyYearP3","v":"2025/26"}]
[1,null,null,null,null,"Expenses",null,null,{"$f":"Hist_year3RestatedAudited","v":"Audited\noutcome"},{"$f":"Hist_year2RestatedAudited","v":"Audited\noutcome"},{"$f":"Hist_year1Audited","v":"Audited\noutcome"},{"$f":"Cur_YearBudgEst","v":"Budget\nestimate"},{"$f":"Cur_YearApprovedBudg","v":"Approved budget"},{"$f":"Cur_YearChangeFrRevBudg","v":"Changes from \nbudget estimate"},{"$f":"MTEF1BudgEst","v":"Budget\nestimate"},{"$f":"MTEF1RevBudgEst","v":"Revised\nbudget\nestimate"},{"$f":"MTEF1_ChangeFrBudgEst","v":"Changes from budget estimate"},{"$f":"MTEF2BudgEst","v":"Budget\nestimate"},{"$f":"MTEF2RevBudgEst","v":"Revised\nbudget\nestimate"},{"$f":"MTEF2_ChangeFrBudgEst","v":"Changes from budget estimate"},{"$f":"MTEF3PlanBudgetEst","v":"Planning\nbudget \nestimate"}]
[1]
[1,null,null,null,null,"Rand thousand"]
[1,null,null,null,null,"Objective/Activity"]
[1,null,null,null,null,0,null,null,0,0,0,0,0,{"$f":"SUM(M37-L37)","v":0},0,0,{"$f":"SUM(P37-O37)","v":0},0,0,{"$f":"SUM(S37-R37)","v":0}]
[1,null,null,null,null,"Economic classification"]
[1,"EX11",null,null,null,"Current payments",null,null,{"$f":"SUM(I40,I43,I98:I99,I105)","v":0},{"$f":"SUM(J40,J43,J98:J99,J105)","v":0},{"$f":"SUM(K40,K43,K98:K99,K105)","v":0},{"$f":"SUM(L40,L43,L98:L99,L105)","v":0},{"$f":"SUM(M40,M43,M98:M99,M105)","v":0},{"$f":"SUM(M39-L39)","v":0},{"$f":"SUM(O40,O43,O98:O99,O105)","v":0},{"$f":"SUM(P40,P43,P98:P99,P105)","v":0},{"$f":"SUM(P39-O39)","v":0},{"$f":"SUM(R40,R43,R98:R99,R105)","v":0},{"$f":"SUM(S40,S43,S98:S99,S105)","v":0},{"$f":"SUM(S39-R39)","v":0},{"$f":"SUM(U40,U43,U98:U99,U105)","v":0}]
[1,"EX111",null,null,null,"Compensation of employees",null,null,{"$f":"SUM(I41:I42)","v":0},{"$f":"SUM(J41:J42)","v":0},{"$f":"SUM(K41:K42)","v":0},{"$f":"SUM(L41:L42)","v":0},{"$f":"SUM(M41:M42)","v":0},{"$f":"SUM(M40-L40)","v":0},{"$f":"SUM(O41:O42)","v":0},{"$f":"SUM(P41:P42)","v":0},{"$f":"SUM(P40-O40)","v":0},{"$f":"SUM(R41:R42)","v":0},{"$f":"SUM(S41:S42)","v":0},{"$f":"SUM(S40-R40)","v":0},{"$f":"SUM(U41:U42)","v":0}]
[1,"EX1111",null,null,null,"Salaries and wages",null,null,0,0,0,0,0,{"$f":"SUM(M41-L41)","v":0},0,0,{"$f":"SUM(P41-O41)","v":0},0,0,{"$f":"SUM(S41-R41)","v":0}]
[1,"EX1112",null,null,null,"Social contributions",null,null,0,0,0,0,0,0,0,0,0,0,0,0]
[1,"EX112",null,null,null,"Goods and services",null,null,{"$f":"SUM(I45:I54,I58:I61,I73,I75:I97)","v":0},{"$f":"SUM(J45:J54,J58:J61,J73,J75:J97)","v":0},0,0,0,0,0,0,0,0,0,0,0,{"$f":"SUM(V45:V54,V58:V61,V73,V75:V97)","v":0}]
[1,"EX000",null,null,null,"Of which 1"]
[1,"EX1133",null,null,null,"2istrative fees",null,null,0,0,0,0,0,{"$f":"SUM(M45-L45)","v":0},0,0,{"$f":"SUM(P45-O45)","v":0},0,0,{"$f":"SUM(S45-R45)","v":0}]
[1,"EX1134",null,null,null,"Advertising",null,null,0,0,0,0,0,0,0,0,0,0,0,0]
[1,"EX1135",null,null,null,"Minor assets",null,null,0,0,0,0,0,0,0,0,0,0,0,0]
[1,"EX1136",null,null,null,"Audit costs: External",null,null,0,0,0,0,0,0,0,0,0,0,0,0]
[1,"EX1139",null,null,null,"Bursaries: Employees",null,null,0,0,0,0,0,0,0,0,0,0,0,0]
[1,"EX1140",null,null,null,"Catering: Internal activities",null,null,0,0,0,0,0,0,0,0,0,0,0,0]
[1,"EX1122",null,null,null,"Communication (G&S)",null,null,0,0,0,0,0,0,0,0,0,0,0,0]
[1,"EX1123",null,null,null,"Computer services",null,null,0,0,0,0,0,0,0,0,0,0,0,0]
[1,"EX1124",null,null,null,"Consultants: Business and advisory services",null,null,0,0,0,0,0,0,0,0,0,0,0,0]
[1,"EX1180",null,null,null,"Infrastructure and planning services",null,null,{"$f":"SUM(I55:I57)","v":0},{"$f":"SUM(J55:J57)","v":0},{"$f":"SUM(K55:K57)","v":0},{"$f":"SUM(L55:L57)","v":0},{"$f":"SUM(M55:M57)","v":0},{"$f":"SUM(M54-L54)","v":0},{"$f":"SUM(O55:O57)","v":0},{"$f":"SUM(P55:P57)","v":0},{"$f":"SUM(P54-O54)","v":0},{"$f":"SUM(R55:R57)","v":0},{"$f":"SUM(S55:S57)","v":0},{"$f":"SUM(S54-R54)","v":0},{"$f":"SUM(U55:U57)","v":0}]
[1,"EX11801",null,null,null,"Maintenance and repairs: Buildings: Consultants",null,null,0,0,0,0,0,{"$f":"SUM(M55-L55)","v":0},0,0,{"$f":"SUM(P55-O55)","v":0},0,0,0]
[1,"EX11802",null,null,null,"Maintenance and repairs: Other fixed structures: Consultants",null,null,0,0,0,0,0,0,0,0,0,0,0,0]
[1,"EX11803",null,null,null,"Other",null,null,0,0,0,0,0,0,0,0,0,0,0,0]
[1,"EX1164",null,null,null,"Laboratory services",null,null,0,0,0,0,0,0,0,0,0,0,0,0]
[1,"EX1162",null,null,null,"Legal services (G&S)",null,null,0,0,0,0,0,0,0,0,0,0,0,0]
[1,"EX1165",null,null,null,"Science and technological services",null,null,0,0,0,0,0,0,0,0,0,0,0,0]
[1,"EX1125",null,null,null,"Contractors",null,null,{"$f":"SUM(I62:I66,I72)","v":0},{"$f":"SUM(J62:J66,J72)","v":0},{"$f":"SUM(K62:K66,K72)","v":0},{"$f":"SUM(L62:L66,L72)","v":0},{"$f":"SUM(M62:M66,M72)","v":0},{"$f":"SUM(M61-L61)","v":0},{"$f":"SUM(O62:O66,O72)","v":0},{"$f":"SUM(P62:P66,P72)","v":0},{"$f":"SUM(P61-O61)","v":0},{"$f":"SUM(R62:R66,R72)","v":0},{"$f":"SUM(S62:S66,S72)","v":0},0,{"$f":"SUM(U62:U66,U72)","v":0}]
[1,"EX11251",null,null,null,"Maintenance and repairs of other fixed structures",null,null,0,0,0,0,0,0,0,0,0,0,0,0]
[1,"EX11252",null,null,null,"Maintenance and repairs of other machinery and equipment",null,null,0,0,0,0,0,0,0,0,0,0,0,0]
[1,"EX11253",null,null,null,"Maintenance and repairs of heritage buildings",null,null,0,0,0,0,0,0,0,0,0,0,0,0]
[1,"EX11254",null,null,null,"Maintenance and repairs of other heritage fixed structures",null,null,0,0,0,0,0,0,0,0,0,0,0,0]
[5,"EX11255",null,null,null,"South african social security agency payment contractors",null,null,{"$f":"SUM(I67:I71)","v":0},{"$f":"SUM(J67:J71)","v":0},{"$f":"SUM(K67:K71)","v":0},{"$f":"SUM(L67:L71)","v":0},{"$f":"SUM(M67:M71)","v":0},0,{"$f":"SUM(O67:O71)","v":0},{"$f":"SUM(P67:P71)","v":0},0,{"$f":"SUM(R67:R71)","v":0},{"$f":"SUM(S67:S71)","v":0},0,{"$f":"SUM(U67:U71)","v":0}]
[5,"EX112551",null,null,null,"SASSA 2 fees",null,null,0,0,0,0,0,0,0,0,0,0,0,0]
[5,"EX112552",null,null,null,"SASSA Bankcard fees",null,null,0,0,0,0,0,0,0,0,0,0,0,0]
[5,"EX112553",null,null,null,"SASSA registration fees",null,null,0,0,0,0,0,0,0,0,0,0,0,0]
[5,"EX112554",null,null,null,"SASSA beneficiary fees",null,null,0,0,0,0,0,0,0,0,0,0,0,0]
[5,"EX112555",null,null,null,"SASSA help desk fees",null,null,0,0,0,0,0,0,0,0,0,0,0,0]
[1,"EX11256",null,null,null,"Other",null,null,0,0,0,0,0,0,0,0,0,0,0,0]
[1,"EX1121",null,null,null,"Agency and support/outsourced services",null,null,0,0,0,0,0,0,0,0,0,0,0,0]
[5,"EX11211",null,null,null,"     Of Which: Medical assessments",null,null,0,0,0,0,0,0,0,0,0,0,0,0]
[1,"EX1161",null,null,null,"Entertainment",null,null,0,0,0,0,0,0,0,0,0,0,0,0]
[1,"EX1166",null,null,null,"Fleet services (including government motor transport)",null,null,0,0,0,0,0,0,0,0,0,0,0,0]
[1,"EX1167",null,null,null,"Housing",null,null,0,0,0,0,0,0,0,0,0,0,0,0]
[1,"EX1168",null,null,null,"Inventory: Clothing material and accessories",null,null,0,0,0,0,0,0,0,0,0,0,0,0]
[1,"EX1169",null,null,null,"Inventory: Farming supplies",null,null,0,0,0,0,0,0,0,0,0,0,0,0]
[1,"EX1170",null,null,null,"Inventory: Food and food supplies",null,null,0,0,0,0,0,0,0,0,0,0,0,0]
[1,"EX1171",null,null,null,"Inventory: Fuel, oil and gas",null,null,0,0,0,0,0,0,0,0,0,0,0,0]
[1,"EX1172",null,null,null,"Inventory: Learner and teacher support material",null,null,0,0,0,0,0,0,0,0,0,0,0,0]
[1,"EX1126",null,null,null,"Inventory: Materials and supplies",null,null,0,0,0,0,0,0,0,0,0,0,0,0]
[1,"EX1173",null,null,null,"Inventory: Medical supplies",null,null,0,0,0,0,0,0,0,0,0,0,0,0]
[1,"EX1174",null,null,null,"Inventory: Medicine",null,null,0,0,0,0,0,0,0,0,0,0,0,0]
[1,"EX1175",null,null,null,"Medsas inventory interface",null,null,0,0,0,0,0,0,0,0,0,0,0,0]
[1,"EX1176",null,null,null,"Inventory: Other supplies",null,null,0,0,0,0,0,0,0,0,0,0,0,0]
[1,"EX1177",null,null,null,"Consumable supplies",null,null,0,0,0,0,0,0,0,0,0,0,0,0]
[1,"EX1144",null,null,null,"Consumables: Stationery, printing and office supplies",null,null,0,0,0,0,0,0,0,0,0,0,0,0]
[1,"EX1127",null,null,null,"Operating leases",null,null,0,0,0,0,0,0,0,0,0,0,0,0]
[1,"EX1178",null,null,null,"Rental and hiring",null,null,0,0,0,0,0,0,0,0,0,0,0,0]
[1,"EX1145",null,null,null,"Property payments",null,null,0,0,0,0,0,0,0,0,0,0,0,0]
[1,"EX1179",null,null,null,"Transport provided: Internal activities",null,null,0,0,0,0,0,0,0,0,0,0,0,0]
[1,"EX1131",null,null,null,"Travel and subsistence",null,null,0,0,0,0,0,0,0,0,0,0,0,0]
[1,"EX1130",null,null,null,"Training and development",null,null,0,0,0,0,0,0,0,0,0,0,0,0]
[1,"EX1132",null,null,null,"Operating payments",null,null,0,0,0,0,0,0,0,0,0,0,0,0]
[1,"EX1146",null,null,null,"Venues and facilities",null,null,0,0,0,0,0,0,0,0,0,0,0,0]
[1,"EX113",null,null,null,"Depreciation",null,null,0,0,0,0,0,0,0,0,0,0,0,0]
[1,"EX114",null,null,null,"Losses from",null,null,{"$f":"SUM(I100:I101,I104)","v":0},{"$f":"SUM(J100:J101,J104)","v":0},{"$f":"SUM(K100:K101,K104)","v":0},{"$f":"SUM(L100:L101,L104)","v":0},{"$f":"SUM(M100:M101,M104)","v":0},{"$f":"SUM(M99-L99)","v":0},{"$f":"SUM(O100:O101,O104)","v":0},{"$f":"SUM(P100:P101,P104)","v":0},{"$f":"SUM(P99-O99)","v":0},{"$f":"SUM(R100:R101,R104)","v":0},{"$f":"SUM(S100:S101,S104)","v":0},{"$f":"SUM(S99-R99)","v":0},{"$f":"SUM(U100:U101,U104)","v":0}]
[1,"EX1141",null,null,null,"Sale of fixed assets",null,null,0,0,0,0,0,{"$f":"SUM(M100-L100)","v":0},0,0,{"$f":"SUM(P100-O100)","v":0},0,0,{"$f":"SUM(S100-R100)","v":0}]
[1,"EX1142",null,null,null,"Impairments and adjustments to fair value",null,null,{"$f":"SUM(I102:I103)","v":0},{"$f":"SUM(J102:J103)","v":0},{"$f":"SUM(K102:K103)","v":0},{"$f":"SUM(L102:L103)","v":0},{"$f":"SUM(M102:M103)","v":0},0,{"$f":"SUM(O102:O103)","v":0},{"$f":"SUM(P102:P103)","v":0},0,{"$f":"SUM(R102:R103)","v":0},{"$f":"SUM(S102:S103)","v":0},0,{"$f":"SUM(U102:U103)","v":0}]
[1,"EX11421",null,null,null,"Adjustments to fair value of assets",null,null,0,0,0,0,0,{"$f":"SUM(M102-L102)","v":0},0,0,{"$f":"SUM(P102-O102)","v":0},0,0,{"$f":"SUM(S102-R102)","v":0}]
[1,"EX11422",null,null,null,"Impairments to assets",null,null,0,0,0,0,0,0,0,0,0,0,0,0]
[1,"EX1143",null,null,null,"Other",null,null,0,0,0,0,0,0,0,0,0,0,0,0]
[1,"EX115",null,null,null,"Interest, dividends and rent on land",null,null,{"$f":"SUM(I106:I108)","v":0},{"$f":"SUM(J106:J108)","v":0},{"$f":"SUM(K106:K108)","v":0},{"$f":"SUM(L106:L108)","v":0},{"$f":"SUM(M106:M108)","v":0},0,{"$f":"SUM(O106:O108)","v":0},{"$f":"SUM(P106:P108)","v":0},0,{"$f":"SUM(R106:R108)","v":0},{"$f":"SUM(S106:S108)","v":0},0,{"$f":"SUM(U106:U108)","v":0}]
[1,"EX1151",null,null,null,"Interest",null,null,0,0,0,0,0,{"$f":"SUM(M106-L106)","v":0},0,0,{"$f":"SUM(P106-O106)","v":0},0,0,{"$f":"SUM(S106-R106)","v":0}]
[1,"EX1152",null,null,null,"Dividends",null,null,0,0,0,0,0,0,0,0,0,0,0,0]
[1,"EX1153",null,null,null,"Rent on land",null,null,0,0,0,0,0,0,0,0,0,0,0,0]
[1,"EX12",null,null,null,"Transfers and subsidies",null,null,{"$f":"SUM(I110,I121,I132:I135)","v":0},{"$f":"SUM(J110,J121,J132:J135)","v":0},{"$f":"SUM(K110,K121,K132:K135)","v":0},{"$f":"SUM(L110,L121,L132:L135)","v":0},{"$f":"SUM(M110,M121,M132:M135)","v":0},0,{"$f":"SUM(O110,O121,O132:O135)","v":0},{"$f":"SUM(P110,P121,P132:P135)","v":0},0,{"$f":"SUM(R110,R121,R132:R135)","v":0},{"$f":"SUM(S110,S121,S132:S135)","v":0},0,{"$f":"SUM(U110,U121,U132:U135)","v":0}]
[2,"EX121",null,null,null,"Employer Grant (SETAs only)",null,null,{"$f":"SUM(I111,I117,I120)","v":0},{"$f":"SUM(J111,J117,J120)","v":0},{"$f":"SUM(K111,K117,K120)","v":0},{"$f":"SUM(L111,L117,L120)","v":0},{"$f":"SUM(M111,M117,M120)","v":0},0,{"$f":"SUM(O111,O117,O120)","v":0},{"$f":"SUM(P111,P117,P120)","v":0},0,{"$f":"SUM(R111,R117,R120)","v":0},{"$f":"SUM(S111,S117,S120)","v":0},0,{"$f":"SUM(U111,U117,U120)","v":0}]
[1,"EX122",null,null,null,"Other government units",null,null,{"$f":"SUM(I112:I116)","v":0},{"$f":"SUM(J112:J116)","v":0},{"$f":"SUM(K112:K116)","v":0},{"$f":"SUM(L112:L116)","v":0},{"$f":"SUM(M112:M116)","v":0},0,{"$f":"SUM(O112:O116)","v":0},{"$f":"SUM(P112:P116)","v":0},0,{"$f":"SUM(R112:R116)","v":0},{"$f":"SUM(S112:S116)","v":0},0,{"$f":"SUM(U112:U116)","v":0}]
[1,"EX1221",null,null,null,"National government",null,null,0,0,0,0,0,{"$f":"SUM(M112-L112)","v":0},0,0,{"$f":"SUM(P112-O112)","v":0},0,0,{"$f":"SUM(S112-R112)","v":0}]
[1,"EX1222",null,null,null,"Departmental agencies and accounts",null,null,0,0,0,0,0,0,0,0,0,0,0,0]
[1,"EX1223",null,null,null,"Provinces",null,null,0,0,0,0,0,0,0,0,0,0,0,0]
[1,"EX1224",null,null,null,"Municipalities",null,null,0,0,0,0,0,0,0,0,0,0,0,0]
[2,"EX1225",null,null,null,"National Skills Fund",null,null,0,0,0,0,0,0,0,0,0,0,0,0]
[1,"EX123",null,null,null,"Public corporations and private enterprises (subsidies and other transfers)",null,null,{"$f":"SUM(I118:I119)","v":0},{"$f":"SUM(J118:J119)","v":0},{"$f":"SUM(K118:K119)","v":0},{"$f":"SUM(L118:L119)","v":0},{"$f":"SUM(M118:M119)","v":0},0,{"$f":"SUM(O118:O119)","v":0},{"$f":"SUM(P118:P119)","v":0},0,{"$f":"SUM(R118:R119)","v":0},{"$f":"SUM(S118:S119)","v":0},0,{"$f":"SUM(U118:U119)","v":0}]
[1,"EX1231",null,null,null,"Public corporations",null,null,0,0,0,0,0,{"$f":"SUM(M118-L118)","v":0},0,0,{"$f":"SUM(P118-O118)","v":0},0,0,{"$f":"SUM(S118-R118)","v":0}]
[1,"EX1232",null,null,null,"Private enterprises",null,null,0,0,0,0,0,0,0,0,0,0,0,0]
[2,"EX124",null,null,null,"Households and non government units",null,null,0,0,0,0,0,0,0,0,0,0,0,0]
[2,"EX125",null,null,null,"Discretionary Grant (SETAs only)",null,null,{"$f":"SUM(I122,I128,I131)","v":0},{"$f":"SUM(J122,J128,J131)","v":0},{"$f":"SUM(K122,K128,K131)","v":0},{"$f":"SUM(L122,L128,L131)","v":0},{"$f":"SUM(M122,M128,M131)","v":0},0,{"$f":"SUM(O122,O128,O131)","v":0},{"$f":"SUM(P122,P128,P131)","v":0},0,{"$f":"SUM(R122,R128,R131)","v":0},{"$f":"SUM(S122,S128,S131)","v":0},0,{"$f":"SUM(U122,U128,U131)","v":0}]
[2,"EX126",null,null,null,"Other government units",null,null,{"$f":"SUM(I123:I127)","v":0},{"$f":"SUM(J123:J127)","v":0},{"$f":"SUM(K123:K127)","v":0},{"$f":"SUM(L123:L127)","v":0},{"$f":"SUM(M123:M127)","v":0},0,{"$f":"SUM(O123:O127)","v":0},{"$f":"SUM(P123:P127)","v":0},0,{"$f":"SUM(R123:R127)","v":0},{"$f":"SUM(S123:S127)","v":0},0,{"$f":"SUM(U123:U127)","v":0}]
[2,"EX1261",null,null,null,"National government",null,null,0,0,0,0,0,{"$f":"SUM(M123-L123)","v":0},0,0,{"$f":"SUM(P123-O123)","v":0},0,0,{"$f":"SUM(S123-R123)","v":0}]
[2,"EX1262",null,null,null,"Departmental agencies and accounts",null,null,0,0,0,0,0,0,0,0,0,0,0,0]
[2,"EX1263",null,null,null,"Provinces",null,null,0,0,0,0,0,0,0,0,0,0,0,0]
[2,"EX1264",null,null,null,"Municipalities",null,null,0,0,0,0,0,0,0,0,0,0,0,0]
[2,"EX1265",null,null,null,"National Skills Fund",null,null,0,0,0,0,0,0,0,0,0,0,0,0]
[2,"EX127",null,null,null,"Public corporations and private enterprises (subsidies and other transfers)",null,null,{"$f":"SUM(I129:I130)","v":0},{"$f":"SUM(J129:J130)","v":0},{"$f":"SUM(K129:K130)","v":0},{"$f":"SUM(L129:L130)","v":0},{"$f":"SUM(M129:M130)","v":0},0,{"$f":"SUM(O129:O130)","v":0},{"$f":"SUM(P129:P130)","v":0},0,{"$f":"SUM(R129:R130)","v":0},{"$f":"SUM(S129:S130)","v":0},0,{"$f":"SUM(U129:U130)","v":0}]
[2,"EX1271",null,null,null,"Public corporations",null,null,0,0,0,0,0,{"$f":"SUM(M129-L129)","v":0},0,0,{"$f":"SUM(P129-O129)","v":0},0,0,{"$f":"SUM(S129-R129)","v":0}]
[2,"EX1272",null,null,null,"Private enterprises",null,null,0,0,0,0,0,0,0,0,0,0,0,0]
[2,"EX128",null,null,null,"Households and non government units",null,null,0,0,0,0,0,0,0,0,0,0,0,0]
[1,"EX129",null,null,null,"Higher education institutions",null,null,0,0,0,0,0,0,0,0,0,0,0,0]
[1,"EX130",null,null,null,"Foreign governments and international organisations ",null,null,0,0,0,0,0,0,0,0,0,0,0,0]
[1,"EX131",null,null,null,"Non-profit institutions",null,null,0,0,0,0,0,0,0,0,0,0,0,0]
[1,"EX132",null,null,null,"Households",null,null,{"$f":"SUM(I136:I137)","v":0},{"$f":"SUM(J136:J137)","v":0},{"$f":"SUM(K136:K137)","v":0},{"$f":"SUM(L136:L137)","v":0},{"$f":"SUM(M136:M137)","v":0},0,{"$f":"SUM(O136:O137)","v":0},{"$f":"SUM(P136:P137)","v":0},0,{"$f":"SUM(R136:R137)","v":0},{"$f":"SUM(S136:S137)","v":0},0,{"$f":"SUM(U136:U137)","v":0}]
[1,"EX1301",null,null,null,"Social benefits ",null,null,0,0,0,0,0,{"$f":"SUM(M136-L136)","v":0},0,0,{"$f":"SUM(P136-O136)","v":0},0,0,{"$f":"SUM(S136-R136)","v":0}]
[1,"EX1302",null,null,null,"Other transfers to households",null,null,0,0,0,0,0,0,0,0,0,0,0,0]
[1,"EX13",null,null,null,"Tax payment",null,null,0,0,0,0,0,0,0,0,0,0,0,0]
[1,"EX14",null,null,null,"Outside shareholders Interest",null,null,0,0,0,0,0,0,0,0,0,0,0,0]
[1,"EX15",null,null,null,"Total Expenditure",null,null,{"$f":"SUM(I39,I109,I138:I139)","v":0},{"$f":"SUM(J39,J109,J138:J139)","v":0},{"$f":"SUM(K39,K109,K138:K139)","v":0},{"$f":"SUM(L39,L109,L138:L139)","v":0},{"$f":"SUM(M39,M109,M138:M139)","v":0},{"$f":"SUM(M140-L140)","v":0},{"$f":"SUM(O39,O109,O138:O139)","v":0},{"$f":"SUM(P39,P109,P138:P139)","v":0},{"$f":"SUM(P140-O140)","v":0},{"$f":"SUM(R39,R109,R138:R139)","v":0},{"$f":"SUM(S39,S109,S138:S139)","v":0},{"$f":"SUM(S140-R140)","v":0},{"$f":"SUM(U39,U109,U138:U139)","v":0}]
[1]
[1,null,null,null,null,"Objective less Expenditure",null,null,{"$f":"ROUND(IF(I37-I140>0,IF(I37-I140<1,0,I37-I140),I37-I140),0)","v":0},0,0,0,0,{"$f":"ROUND(IF(N37-N140>0,IF(N37-N140<1,0,N37-N140),N37-N140),0)","v":0},0,0,0,0,0,0,0]
[1]

{"sheet":"3","index":7,"n_rows":143,"n_cols":22,"rows_kept":143,"cut":false,"hidden":false,"merged":[[31,14,31,16],[31,17,31,19],[31,11,31,13]]}
[]
[]
[]
[]
[]
[null,null,null,null,null,"PE No",{"$f":"Settings!O2","v":"PE196"}]
[null,null,null,null,null,"Entity name",{"$f":"Settings!$D$2","v":"Transnet Limited"}]
[]
[null,null,null,null,null,"Performance and operations information"]
["ItemCat","Item code","Hide/unhide",null,null,"Activity/Output/Outcome/Efficiency Indicator","Priorities",null,{"$f":"MyYearM3","v":"2019/20"},{"$f":"MyYearM2","v":"2020/21"},{"$f":"MyYearM1","v":"2021/22"},{"$f":"MyYear0","v":"2022/23"},{"$f":"MyYearP1","v":"2023/24"},{"$f":"MyYearP2","v":"2024/25"},{"$f":"MyYearP3","v":"2025/26"},"Related Objectives","Add to 'Performance Indicators' Sheet","Comments"]
[1,null,null,null,null,0,0,null,0,0,0,0,0,0,null,0,0,0]
[1,null,null,null,null,0,0,null,0,0,0,0,0,0,null,0,0,0]
[1,null,null,null,null,0,0,null,0,0,0,0,0,0,null,0,0,0]
[1,null,null,null,null,0,0,null,0,0,0,0,0,0,null,0,0,0]
[1,null,null,null,null,0,0,null,0,0,0,0,0,0,null,0,0,0]
[1,null,null,null,null,0,0,null,0,0,0,0,0,0,null,0,0,0]
[1,null,null,null,null,0,0,null,0,0,0,0,0,0,null,0,0,0]
[1,null,null,null,null,0,0,null,0,0,0,0,0,0,null,0,0,0]
[1,null,null,null,null,0,0,null,0,0,0,0,0,0,null,0,0,0]
[1,null,null,null,null,0,0,null,0,0,0,0,0,0,null,0,0,0]
[1,null,null,null,null,0,0,null,0,0,0,0,0,0,null,0,0,0]
[1,null,null,null,null,0,0,null,0,0,0,0,0,0,null,0,0,0]
[1,null,null,null,null,0,0,null,0,0,0,0,0,0,null,0,0,0]
[1,null,null,null,null,0,0,null,0,0,0,0,0,0,null,0,0,0]
[1,null,null,null,null,0,0,null,0,0,0,0,0,0,null,0,0,0]
[1,null,null,null,null,"Notes:"]
[1,null,null,null,null,"Performance indicators are an explanation of objectives performance.   "]
[1,null,null,null,null,"1. They are specific measurements that track progress towards achieving the goals and objectives of an institution."]
[1,null,null,null,null,"2. Institutions should use performance indicators in the 2021/22 Annual Performance Plans and those in the 2022 ENE. "]
[1,null,null,null,null,"3. Institutions should also indicate instances where targets are not affected by budget baseline reprioritisation."]
[1]
[1,null,null,null,null,null,null,null,{"$f":"MyYearM3","v":"2019/20"},{"$f":"MyYearM2","v":"2020/21"},{"$f":"MyYearM1","v":"2021/22"},{"$f":"MyYear0","v":"2022/23"},null,null,{"$f":"MyYearP1","v":"2023/24"},null,null,{"$f":"MyYearP2","v":"2024/25"},null,null,{"$f":"MyYearP3","v":"2025/26"}]
[1,null,null,null,null,"Expenses",null,null,{"$f":"Hist_year3RestatedAudited","v":"Audited\noutcome"},{"$f":"Hist_year2RestatedAudited","v":"Audited\noutcome"},{"$f":"Hist_year1Audited","v":"Audited\noutcome"},{"$f":"Cur_YearBudgEst","v":"Budget\nestimate"},{"$f":"Cur_YearApprovedBudg","v":"Approved budget"},{"$f":"Cur_YearChangeFrRevBudg","v":"Changes from \nbudget estimate"},{"$f":"MTEF1BudgEst","v":"Budget\nestimate"},{"$f":"MTEF1RevBudgEst","v":"Revised\nbudget\nestimate"},{"$f":"MTEF1_ChangeFrBudgEst","v":"Changes from budget estimate"},{"$f":"MTEF2BudgEst","v":"Budget\nestimate"},{"$f":"MTEF2RevBudgEst","v":"Revised\nbudget\nestimate"},{"$f":"MTEF2_ChangeFrBudgEst","v":"Changes from budget estimate"},{"$f":"MTEF3PlanBudgetEst","v":"Planning\nbudget \nestimate"}]
[1]
[1,null,null,null,null,"Rand thousand"]
[1,null,null,null,null,"Objective/Activity"]
[1,null,null,null,null,0,null,null,0,0,0,0,0,{"$f":"SUM(M37-L37)","v":0},0,0,{"$f":"SUM(P37-O37)","v":0},0,0,{"$f":"SUM(S37-R37)","v":0}]
[1,null,null,null,null,"Economic classification"]
[1,"EX11",null,null,null,"Current payments",null,null,{"$f":"SUM(I40,I43,I98:I99,I105)","v":0},{"$f":"SUM(J40,J43,J98:J99,J105)","v":0},{"$f":"SUM(K40,K43,K98:K99,K105)","v":0},{"$f":"SUM(L40,L43,L98:L99,L105)","v":0},{"$f":"SUM(M40,M43,M98:M99,M105)","v":0},{"$f":"SUM(M39-L39)","v":0},{"$f":"SUM(O40,O43,O98:O99,O105)","v":0},{"$f":"SUM(P40,P43,P98:P99,P105)","v":0},{"$f":"SUM(P39-O39)","v":0},{"$f":"SUM(R40,R43,R98:R99,R105)","v":0},{"$f":"SUM(S40,S43,S98:S99,S105)","v":0},{"$f":"SUM(S39-R39)","v":0},{"$f":"SUM(U40,U43,U98:U99,U105)","v":0}]
[1,"EX111",null,null,null,"Compensation of employees",null,null,{"$f":"SUM(I41:I42)","v":0},{"$f":"SUM(J41:J42)","v":0},{"$f":"SUM(K41:K42)","v":0},{"$f":"SUM(L41:L42)","v":0},{"$f":"SUM(M41:M42)","v":0},{"$f":"SUM(M40-L40)","v":0},{"$f":"SUM(O41:O42)","v":0},{"$f":"SUM(P41:P42)","v":0},{"$f":"SUM(P40-O40)","v":0},{"$f":"SUM(R41:R42)","v":0},{"$f":"SUM(S41:S42)","v":0},{"$f":"SUM(S40-R40)","v":0},{"$f":"SUM(U41:U42)","v":0}]
[1,"EX1111",null,null,null,"Salaries and wages",null,null,0,0,0,0,0,{"$f":"SUM(M41-L41)","v":0},0,0,{"$f":"SUM(P41-O41)","v":0},0,0,{"$f":"SUM(S41-R41)","v":0}]
[1,"EX1112",null,null,null,"Social contributions",null,null,0,0,0,0,0,0,0,0,0,0,0,0]
[1,"EX112",null,null,null,"Goods and services",null,null,{"$f":"SUM(I45:I54,I58:I61,I73,I75:I97)","v":0},{"$f":"SUM(J45:J54,J58:J61,J73,J75:J97)","v":0},0,0,0,0,0,0,0,0,0,0,0,{"$f":"SUM(V45:V54,V58:V61,V73,V75:V97)","v":0}]
[1,"EX000",null,null,null,"Of which 1"]
[1,"EX1133",null,null,null,"3istrative fees",null,null,0,0,0,0,0,{"$f":"SUM(M45-L45)","v":0},0,0,{"$f":"SUM(P45-O45)","v":0},0,0,{"$f":"SUM(S45-R45)","v":0}]
[1,"EX1134",null,null,null,"Advertising",null,null,0,0,0,0,0,0,0,0,0,0,0,0]
[1,"EX1135",null,null,null,"Minor assets",null,null,0,0,0,0,0,0,0,0,0,0,0,0]
[1,"EX1136",null,null,null,"Audit costs: External",null,null,0,0,0,0,0,0,0,0,0,0,0,0]
[1,"EX1139",null,null,null,"Bursaries: Employees",null,null,0,0,0,0,0,0,0,0,0,0,0,0]
[1,"EX1140",null,null,null,"Catering: Internal activities",null,null,0,0,0,0,0,0,0,0,0,0,0,0]
[1,"EX1122",null,null,null,"Communication (G&S)",null,null,0,0,0,0,0,0,0,0,0,0,0,0]
[1,"EX1123",null,null,null,"Computer services",null,null,0,0,0,0,0,0,0,0,0,0,0,0]
[1,"EX1124",null,null,null,"Consultants: Business and advisory services",null,null,0,0,0,0,0,0,0,0,0,0,0,0]
[1,"EX1180",null,null,null,"Infrastructure and planning services",null,null,{"$f":"SUM(I55:I57)","v":0},{"$f":"SUM(J55:J57)","v":0},{"$f":"SUM(K55:K57)","v":0},{"$f":"SUM(L55:L57)","v":0},{"$f":"SUM(M55:M57)","v":0},{"$f":"SUM(M54-L54)","v":0},{"$f":"SUM(O55:O57)","v":0},{"$f":"SUM(P55:P57)","v":0},{"$f":"SUM(P54-O54)","v":0},{"$f":"SUM(R55:R57)","v":0},{"$f":"SUM(S55:S57)","v":0},{"$f":"SUM(S54-R54)","v":0},{"$f":"SUM(U55:U57)","v":0}]
[1,"EX11801",null,null,null,"Maintenance and repairs: Buildings: Consultants",null,null,0,0,0,0,0,{"$f":"SUM(M55-L55)","v":0},0,0,{"$f":"SUM(P55-O55)","v":0},0,0,0]
[1,"EX11802",null,null,null,"Maintenance and repairs: Other fixed structures: Consultants",null,null,0,0,0,0,0,0,0,0,0,0,0,0]
[1,"EX11803",null,null,null,"Other",null,null,0,0,0,0,0,0,0,0,0,0,0,0]
[1,"EX1164",null,null,null,"Laboratory services",null,null,0,0,0,0,0,0,0,0,0,0,0,0]
[1,"EX1162",null,null,null,"Legal services (G&S)",null,null,0,0,0,0,0,0,0,0,0,0,0,0]
[1,"EX1165",null,null,null,"Science and technological services",null,null,0,0,0,0,0,0,0,0,0,0,0,0]
[1,"EX1125",null,null,null,"Contractors",null,null,{"$f":"SUM(I62:I66,I72)","v":0},{"$f":"SUM(J62:J66,J72)","v":0},{"$f":"SUM(K62:K66,K72)","v":0},{"$f":"SUM(L62:L66,L72)","v":0},{"$f":"SUM(M62:M66,M72)","v":0},{"$f":"SUM(M61-L61)","v":0},{"$f":"SUM(O62:O66,O72)","v":0},{"$f":"SUM(P62:P66,P72)","v":0},{"$f":"SUM(P61-O61)","v":0},{"$f":"SUM(R62:R66,R72)","v":0},{"$f":"SUM(S62:S66,S72)","v":0},0,{"$f":"SUM(U62:U66,U72)","v":0}]
[1,"EX11251",null,null,null,"Maintenance and repairs of other fixed structures",null,null,0,0,0,0,0,0,0,0,0,0,0,0]
[1,"EX11252",null,null,null,"Maintenance and repairs of other machinery and equipment",null,null,0,0,0,0,0,0,0,0,0,0,0,0]
[1,"EX11253",null,null,null,"Maintenance and repairs of heritage buildings",null,null,0,0,0,0,0,0,0,0,0,0,0,0]
[1,"EX11254",null,null,null,"Maintenance and repairs of other heritage fixed structures",null,null,0,0,0,0,0,0,0,0,0,0,0,0]
[5,"EX11255",null,null,null,"South african social security agency payment contractors",null,null,{"$f":"SUM(I67:I71)","v":0},{"$f":"SUM(J67:J71)","v":0},{"$f":"SUM(K67:K71)","v":0},{"$f":"SUM(L67:L71)","v":0},{"$f":"SUM(M67:M71)","v":0},0,{"$f":"SUM(O67:O71)","v":0},{"$f":"SUM(P67:P71)","v":0},0,{"$f":"SUM(R67:R71)","v":0},{"$f":"SUM(S67:S71)","v":0},0,{"$f":"SUM(U67:U71)","v":0}]
[5,"EX112551",null,null,null,"SASSA 3 fees",null,null,0,0,0,0,0,0,0,0,0,0,0,0]
[5,"EX112552",null,null,null,"SASSA Bankcard fees",null,null,0,0,0,0,0,0,0,0,0,0,0,0]
[5,"EX112553",null,null,null,"SASSA registration fees",null,null,0,0,0,0,0,0,0,0,0,0,0,0]
[5,"EX112554",null,null,null,"SASSA beneficiary fees",null,null,0,0,0,0,0,0,0,0,0,0,0,0]
[5,"EX112555",null,null,null,"SASSA help desk fees",null,null,0,0,0,0,0,0,0,0,0,0,0,0]
[1,"EX11256",null,null,null,"Other",null,null,0,0,0,0,0,0,0,0,0,0,0,0]
[1,"EX1121",null,null,null,"Agency and support/outsourced services",null,null,0,0,0,0,0,0,0,0,0,0,0,0]
[5,"EX11211",null,null,null,"     Of Which: Medical assessments",null,null,0,0,0,0,0,0,0,0,0,0,0,0]
[1,"EX1161",null,null,null,"Entertainment",null,null,0,0,0,0,0,0,0,0,0,0,0,0]
[1,"EX1166",null,null,null,"Fleet services (including government motor transport)",null,null,0,0,0,0,0,0,0,0,0,0,0,0]
[1,"EX1167",null,null,null,"Housing",null,null,0,0,0,0,0,0,0,0,0,0,0,0]
[1,"EX1168",null,null,null,"Inventory: Clothing material and accessories",null,null,0,0,0,0,0,0,0,0,0,0,0,0]
[1,"EX1169",null,null,null,"Inventory: Farming supplies",null,null,0,0,0,0,0,0,0,0,0,0,0,0]
[1,"EX1170",null,null,null,"Inventory: Food and food supplies",null,null,0,0,0,0,0,0,0,0,0,0,0,0]
[1,"EX1171",null,null,null,"Inventory: Fuel, oil and gas",null,null,0,0,0,0,0,0,0,0,0,0,0,0]
[1,"EX1172",null,null,null,"Inventory: Learner and teacher support material",null,null,0,0,0,0,0,0,0,0,0,0,0,0]
[1,"EX1126",null,null,null,"Inventory: Materials and supplies",null,null,0,0,0,0,0,0,0,0,0,0,0,0]
[1,"EX1173",null,null,null,"Inventory: Medical supplies",null,null,0,0,0,0,0,0,0,0,0,0,0,0]
[1,"EX1174",null,null,null,"Inventory: Medicine",null,null,0,0,0,0,0,0,0,0,0,0,0,0]
[1,"EX1175",null,null,null,"Medsas inventory interface",null,null,0,0,0,0,0,0,0,0,0,0,0,0]
[1,"EX1176",null,null,null,"Inventory: Other supplies",null,null,0,0,0,0,0,0,0,0,0,0,0,0]
[1,"EX1177",null,null,null,"Consumable supplies",null,null,0,0,0,0,0,0,0,0,0,0,0,0]
[1,"EX1144",null,null,null,"Consumables: Stationery, printing and office supplies",null,null,0,0,0,0,0,0,0,0,0,0,0,0]
[1,"EX1127",null,null,null,"Operating leases",null,null,0,0,0,0,0,0,0,0,0,0,0,0]
[1,"EX1178",null,null,null,"Rental and hiring",null,null,0,0,0,0,0,0,0,0,0,0,0,0]
[1,"EX1145",null,null,null,"Property payments",null,null,0,0,0,0,0,0,0,0,0,0,0,0]
[1,"EX1179",null,null,null,"Transport provided: Internal activities",null,null,0,0,0,0,0,0,0,0,0,0,0,0]
[1,"EX1131",null,null,null,"Travel and subsistence",null,null,0,0,0,0,0,0,0,0,0,0,0,0]
[1,"EX1130",null,null,null,"Training and development",null,null,0,0,0,0,0,0,0,0,0,0,0,0]
[1,"EX1132",null,null,null,"Operating payments",null,null,0,0,0,0,0,0,0,0,0,0,0,0]
[1,"EX1146",null,null,null,"Venues and facilities",null,null,0,0,0,0,0,0,0,0,0,0,0,0]
[1,"EX113",null,null,null,"Depreciation",null,null,0,0,0,0,0,0,0,0,0,0,0,0]
[1,"EX114",null,null,null,"Losses from",null,null,{"$f":"SUM(I100:I101,I104)","v":0},{"$f":"SUM(J100:J101,J104)","v":0},{"$f":"SUM(K100:K101,K104)","v":0},{"$f":"SUM(L100:L101,L104)","v":0},{"$f":"SUM(M100:M101,M104)","v":0},{"$f":"SUM(M99-L99)","v":0},{"$f":"SUM(O100:O101,O104)","v":0},{"$f":"SUM(P100:P101,P104)","v":0},{"$f":"SUM(P99-O99)","v":0},{"$f":"SUM(R100:R101,R104)","v":0},{"$f":"SUM(S100:S101,S104)","v":0},{"$f":"SUM(S99-R99)","v":0},{"$f":"SUM(U100:U101,U104)","v":0}]
[1,"EX1141",null,null,null,"Sale of fixed assets",null,null,0,0,0,0,0,{"$f":"SUM(M100-L100)","v":0},0,0,{"$f":"SUM(P100-O100)","v":0},0,0,{"$f":"SUM(S100-R100)","v":0}]
[1,"EX1142",null,null,null,"Impairments and adjustments to fair value",null,null,{"$f":"SUM(I102:I103)","v":0},{"$f":"SUM(J102:J103)","v":0},{"$f":"SUM(K102:K103)","v":0},{"$f":"SUM(L102:L103)","v":0},{"$f":"SUM(M102:M103)","v":0},0,{"$f":"SUM(O102:O103)","v":0},{"$f":"SUM(P102:P103)","v":0},0,{"$f":"SUM(R102:R103)","v":0},{"$f":"SUM(S102:S103)","v":0},0,{"$f":"SUM(U102:U103)","v":0}]
[1,"EX11421",null,null,null,"Adjustments to fair value of assets",null,null,0,0,0,0,0,{"$f":"SUM(M102-L102)","v":0},0,0,{"$f":"SUM(P102-O102)","v":0},0,0,{"$f":"SUM(S102-R102)","v":0}]
[1,"EX11422",null,null,null,"Impairments to assets",null,null,0,0,0,0,0,0,0,0,0,0,0,0]
[1,"EX1143",null,null,null,"Other",null,null,0,0,0,0,0,0,0,0,0,0,0,0]
[1,"EX115",null,null,null,"Interest, dividends and rent on land",null,null,{"$f":"SUM(I106:I108)","v":0},{"$f":"SUM(J106:J108)","v":0},{"$f":"SUM(K106:K108)","v":0},{"$f":"SUM(L106:L108)","v":0},{"$f":"SUM(M106:M108)","v":0},0,{"$f":"SUM(O106:O108)","v":0},{"$f":"SUM(P106:P108)","v":0},0,{"$f":"SUM(R106:R108)","v":0},{"$f":"SUM(S106:S108)","v":0},0,{"$f":"SUM(U106:U108)","v":0}]
[1,"EX1151",null,null,null,"Interest",null,null,0,0,0,0,0,{"$f":"SUM(M106-L106)","v":0},0,0,{"$f":"SUM(P106-O106)","v":0},0,0,{"$f":"SUM(S106-R106)","v":0}]
[1,"EX1152",null,null,null,"Dividends",null,null,0,0,0,0,0,0,0,0,0,0,0,0]
[1,"EX1153",null,null,null,"Rent on land",null,null,0,0,0,0,0,0,0,0,0,0,0,0]
[1,"EX12",null,null,null,"Transfers and subsidies",null,null,{"$f":"SUM(I110,I121,I132:I135)","v":0},{"$f":"SUM(J110,J121,J132:J135)","v":0},{"$f":"SUM(K110,K121,K132:K135)","v":0},{"$f":"SUM(L110,L121,L132:L135)","v":0},{"$f":"SUM(M110,M121,M132:M135)","v":0},0,{"$f":"SUM(O110,O121,O132:O135)","v":0},{"$f":"SUM(P110,P121,P132:P135)","v":0},0,{"$f":"SUM(R110,R121,R132:R135)","v":0},{"$f":"SUM(S110,S121,S132:S135)","v":0},0,{"$f":"SUM(U110,U121,U132:U135)","v":0}]
[2,"EX121",null,null,null,"Employer Grant (SETAs only)",null,null,{"$f":"SUM(I111,I117,I120)","v":0},{"$f":"SUM(J111,J117,J120)","v":0},{"$f":"SUM(K111,K117,K120)","v":0},{"$f":"SUM(L111,L117,L120)","v":0},{"$f":"SUM(M111,M117,M120)","v":0},0,{"$f":"SUM(O111,O117,O120)","v":0},{"$f":"SUM(P111,P117,P120)","v":0},0,{"$f":"SUM(R111,R117,R120)","v":0},{"$f":"SUM(S111,S117,S120)","v":0},0,{"$f":"SUM(U111,U117,U120)","v":0}]
[1,"EX122",null,null,null,"Other government units",null,null,{"$f":"SUM(I112:I116)","v":0},{"$f":"SUM(J112:J116)","v":0},{"$f":"SUM(K112:K116)","v":0},{"$f":"SUM(L112:L116)","v":0},{"$f":"SUM(M112:M116)","v":0},0,{"$f":"SUM(O112:O116)","v":0},{"$f":"SUM(P112:P116)","v":0},0,{"$f":"SUM(R112:R116)","v":0},{"$f":"SUM(S112:S116)","v":0},0,{"$f":"SUM(U112:U116)","v":0}]
[1,"EX1221",null,null,null,"National government",null,null,0,0,0,0,0,{"$f":"SUM(M112-L112)","v":0},0,0,{"$f":"SUM(P112-O112)","v":0},0,0,{"$f":"SUM(S112-R112)","v":0}]
[1,"EX1222",null,null,null,"Departmental agencies and accounts",null,null,0,0,0,0,0,0,0,0,0,0,0,0]
[1,"EX1223",null,null,null,"Provinces",null,null,0,0,0,0,0,0,0,0,0,0,0,0]
[1,"EX1224",null,null,null,"Municipalities",null,null,0,0,0,0,0,0,0,0,0,0,0,0]
[2,"EX1225",null,null,null,"National Skills Fund",null,null,0,0,0,0,0,0,0,0,0,0,0,0]
[1,"EX123",null,null,null,"Public corporations and private enterprises (subsidies and other transfers)",null,null,{"$f":"SUM(I118:I119)","v":0},{"$f":"SUM(J118:J119)","v":0},{"$f":"SUM(K118:K119)","v":0},{"$f":"SUM(L118:L119)","v":0},{"$f":"SUM(M118:M119)","v":0},0,{"$f":"SUM(O118:O119)","v":0},{"$f":"SUM(P118:P119)","v":0},0,{"$f":"SUM(R118:R119)","v":0},{"$f":"SUM(S118:S119)","v":0},0,{"$f":"SUM(U118:U119)","v":0}]
[1,"EX1231",null,null,null,"Public corporations",null,null,0,0,0,0,0,{"$f":"SUM(M118-L118)","v":0},0,0,{"$f":"SUM(P118-O118)","v":0},0,0,{"$f":"SUM(S118-R118)","v":0}]
[1,"EX1232",null,null,null,"Private enterprises",null,null,0,0,0,0,0,0,0,0,0,0,0,0]
[2,"EX124",null,null,null,"Households and non government units",null,null,0,0,0,0,0,0,0,0,0,0,0,0]
[2,"EX125",null,null,null,"Discretionary Grant (SETAs only)",null,null,{"$f":"SUM(I122,I128,I131)","v":0},{"$f":"SUM(J122,J128,J131)","v":0},{"$f":"SUM(K122,K128,K131)","v":0},{"$f":"SUM(L122,L128,L131)","v":0},{"$f":"SUM(M122,M128,M131)","v":0},0,{"$f":"SUM(O122,O128,O131)","v":0},{"$f":"SUM(P122,P128,P131)","v":0},0,{"$f":"SUM(R122,R128,R131)","v":0},{"$f":"SUM(S122,S128,S131)","v":0},0,{"$f":"SUM(U122,U128,U131)","v":0}]
[2,"EX126",null,null,null,"Other government units",null,null,{"$f":"SUM(I123:I127)","v":0},{"$f":"SUM(J123:J127)","v":0},{"$f":"SUM(K123:K127)","v":0},{"$f":"SUM(L123:L127)","v":0},{"$f":"SUM(M123:M127)","v":0},0,{"$f":"SUM(O123:O127)","v":0},{"$f":"SUM(P123:P127)","v":0},0,{"$f":"SUM(R123:R127)","v":0},{"$f":"SUM(S123:S127)","v":0},0,{"$f":"SUM(U123:U127)","v":0}]
[2,"EX1261",null,null,null,"National government",null,null,0,0,0,0,0,{"$f":"SUM(M123-L123)","v":0},0,0,{"$f":"SUM(P123-O123)","v":0},0,0,{"$f":"SUM(S123-R123)","v":0}]
[2,"EX1262",null,null,null,"Departmental agencies and accounts",null,null,0,0,0,0,0,0,0,0,0,0,0,0]
[2,"EX1263",null,null,null,"Provinces",null,null,0,0,0,0,0,0,0,0,0,0,0,0]
[2,"EX1264",null,null,null,"Municipalities",null,null,0,0,0,0,0,0,0,0,0,0,0,0]
[2,"EX1265",null,null,null,"National Skills Fund",null,null,0,0,0,0,0,0,0,0,0,0,0,0]
[2,"EX127",null,null,null,"Public corporations and private enterprises (subsidies and other transfers)",null,null,{"$f":"SUM(I129:I130)","v":0},{"$f":"SUM(J129:J130)","v":0},{"$f":"SUM(K129:K130)","v":0},{"$f":"SUM(L129:L130)","v":0},{"$f":"SUM(M129:M130)","v":0},0,{"$f":"SUM(O129:O130)","v":0},{"$f":"SUM(P129:P130)","v":0},0,{"$f":"SUM(R129:R130)","v":0},{"$f":"SUM(S129:S130)","v":0},0,{"$f":"SUM(U129:U130)","v":0}]
[2,"EX1271",null,null,null,"Public corporations",null,null,0,0,0,0,0,{"$f":"SUM(M129-L129)","v":0},0,0,{"$f":"SUM(P129-O129)","v":0},0,0,{"$f":"SUM(S129-R129)","v":0}]
[2,"EX1272",null,null,null,"Private enterprises",null,null,0,0,0,0,0,0,0,0,0,0,0,0]
[2,"EX128",null,null,null,"Households and non government units",null,null,0,0,0,0,0,0,0,0,0,0,0,0]
[1,"EX129",null,null,null,"Higher education institutions",null,null,0,0,0,0,0,0,0,0,0,0,0,0]
[1,"EX130",null,null,null,"Foreign governments and international organisations ",null,null,0,0,0,0,0,0,0,0,0,0,0,0]
[1,"EX131",null,null,null,"Non-profit institutions",null,null,0,0,0,0,0,0,0,0,0,0,0,0]
[1,"EX132",null,null,null,"Households",null,null,{"$f":"SUM(I136:I137)","v":0},{"$f":"SUM(J136:J137)","v":0},{"$f":"SUM(K136:K137)","v":0},{"$f":"SUM(L136:L137)","v":0},{"$f":"SUM(M136:M137)","v":0},0,{"$f":"SUM(O136:O137)","v":0},{"$f":"SUM(P136:P137)","v":0},0,{"$f":"SUM(R136:R137)","v":0},{"$f":"SUM(S136:S137)","v":0},0,{"$f":"SUM(U136:U137)","v":0}]
[1,"EX1301",null,null,null,"Social benefits ",null,null,0,0,0,0,0,{"$f":"SUM(M136-L136)","v":0},0,0,{"$f":"SUM(P136-O136)","v":0},0,0,{"$f":"SUM(S136-R136)","v":0}]
[1,"EX1302",null,null,null,"Other transfers to households",null,null,0,0,0,0,0,0,0,0,0,0,0,0]
[1,"EX13",null,null,null,"Tax payment",null,null,0,0,0,0,0,0,0,0,0,0,0,0]
[1,"EX14",null,null,null,"Outside shareholders Interest",null,null,0,0,0,0,0,0,0,0,0,0,0,0]
[1,"EX15",null,null,null,"Total Expenditure",null,null,{"$f":"SUM(I39,I109,I138:I139)","v":0},{"$f":"SUM(J39,J109,J138:J139)","v":0},{"$f":"SUM(K39,K109,K138:K139)","v":0},{"$f":"SUM(L39,L109,L138:L139)","v":0},{"$f":"SUM(M39,M109,M138:M139)","v":0},{"$f":"SUM(M140-L140)","v":0},{"$f":"SUM(O39,O109,O138:O139)","v":0},{"$f":"SUM(P39,P109,P138:P139)","v":0},{"$f":"SUM(P140-O140)","v":0},{"$f":"SUM(R39,R109,R138:R139)","v":0},{"$f":"SUM(S39,S109,S138:S139)","v":0},{"$f":"SUM(S140-R140)","v":0},{"$f":"SUM(U39,U109,U138:U139)","v":0}]
[1]
[1,null,null,null,null,"Objective less Expenditure",null,null,{"$f":"ROUND(IF(I37-I140>0,IF(I37-I140<1,0,I37-I140),I37-I140),0)","v":0},0,0,0,0,{"$f":"ROUND(IF(N37-N140>0,IF(N37-N140<1,0,N37-N140),N37-N140),0)","v":0},0,0,0,0,0,0,0]
[1]

{"sheet":"4","index":8,"n_rows":143,"n_cols":22,"rows_kept":143,"cut":false,"hidden":false,"merged":[[31,14,31,16],[31,17,31,19],[31,11,31,13]]}
[]
[]
[]
[]
[]
[null,null,null,null,null,"PE No",{"$f":"Settings!O2","v":"PE196"}]
[null,null,null,null,null,"Entity name",{"$f":"Settings!$D$2","v":"Transnet Limited"}]
[]
[null,null,null,null,null,"Performance and operations information"]
["ItemCat","Item code","Hide/unhide",null,null,"Activity/Output/Outcome/Efficiency Indicator","Priorities",null,{"$f":"MyYearM3","v":"2019/20"},{"$f":"MyYearM2","v":"2020/21"},{"$f":"MyYearM1","v":"2021/22"},{"$f":"MyYear0","v":"2022/23"},{"$f":"MyYearP1","v":"2023/24"},{"$f":"MyYearP2","v":"2024/25"},{"$f":"MyYearP3","v":"2025/26"},"Related Objectives","Add to 'Performance Indicators' Sheet","Comments"]
[1,null,null,null,null,0,0,null,0,0,0,0,0,0,null,0,0,0]
[1,null,null,null,null,0,0,null,0,0,0,0,0,0,null,0,0,0]
[1,null,null,null,null,0,0,null,0,0,0,0,0,0,null,0,0,0]
[1,null,null,null,null,0,0,null,0,0,0,0,0,0,null,0,0,0]
[1,null,null,null,null,0,0,null,0,0,0,0,0,0,null,0,0,0]
[1,null,null,null,null,0,0,null,0,0,0,0,0,0,null,0,0,0]
[1,null,null,null,null,0,0,null,0,0,0,0,0,0,null,0,0,0]
[1,null,null,null,null,0,0,null,0,0,0,0,0,0,null,0,0,0]
[1,null,null,null,null,0,0,null,0,0,0,0,0,0,null,0,0,0]
[1,null,null,null,null,0,0,null,0,0,0,0,0,0,null,0,0,0]
[1,null,null,null,null,0,0,null,0,0,0,0,0,0,null,0,0,0]
[1,null,null,null,null,0,0,null,0,0,0,0,0,0,null,0,0,0]
[1,null,null,null,null,0,0,null,0,0,0,0,0,0,null,0,0,0]
[1,null,null,null,null,0,0,null,0,0,0,0,0,0,null,0,0,0]
[1,null,null,null,null,0,0,null,0,0,0,0,0,0,null,0,0,0]
[1,null,null,null,null,"Notes:"]
[1,null,null,null,null,"Performance indicators are an explanation of objectives performance.   "]
[1,null,null,null,null,"1. They are specific measurements that track progress towards achieving the goals and objectives of an institution."]
[1,null,null,null,null,"2. Institutions should use performance indicators in the 2021/22 Annual Performance Plans and those in the 2022 ENE. "]
[1,null,null,null,null,"3. Institutions should also indicate instances where targets are not affected by budget baseline reprioritisation."]
[1]
[1,null,null,null,null,null,null,null,{"$f":"MyYearM3","v":"2019/20"},{"$f":"MyYearM2","v":"2020/21"},{"$f":"MyYearM1","v":"2021/22"},{"$f":"MyYear0","v":"2022/23"},null,null,{"$f":"MyYearP1","v":"2023/24"},null,null,{"$f":"MyYearP2","v":"2024/25"},null,null,{"$f":"MyYearP3","v":"2025/26"}]
[1,null,null,null,null,"Expenses",null,null,{"$f":"Hist_year3RestatedAudited","v":"Audited\noutcome"},{"$f":"Hist_year2RestatedAudited","v":"Audited\noutcome"},{"$f":"Hist_year1Audited","v":"Audited\noutcome"},{"$f":"Cur_YearBudgEst","v":"Budget\nestimate"},{"$f":"Cur_YearApprovedBudg","v":"Approved budget"},{"$f":"Cur_YearChangeFrRevBudg","v":"Changes from \nbudget estimate"},{"$f":"MTEF1BudgEst","v":"Budget\nestimate"},{"$f":"MTEF1RevBudgEst","v":"Revised\nbudget\nestimate"},{"$f":"MTEF1_ChangeFrBudgEst","v":"Changes from budget estimate"},{"$f":"MTEF2BudgEst","v":"Budget\nestimate"},{"$f":"MTEF2RevBudgEst","v":"Revised\nbudget\nestimate"},{"$f":"MTEF2_ChangeFrBudgEst","v":"Changes from budget estimate"},{"$f":"MTEF3PlanBudgetEst","v":"Planning\nbudget \nestimate"}]
[1]
[1,null,null,null,null,"Rand thousand"]
[1,null,null,null,null,"Objective/Activity"]
[1,null,null,null,null,0,null,null,0,0,0,0,0,{"$f":"SUM(M37-L37)","v":0},0,0,{"$f":"SUM(P37-O37)","v":0},0,0,{"$f":"SUM(S37-R37)","v":0}]
[1,null,null,null,null,"Economic classification"]
[1,"EX11",null,null,null,"Current payments",null,null,{"$f":"SUM(I40,I43,I98:I99,I105)","v":0},{"$f":"SUM(J40,J43,J98:J99,J105)","v":0},{"$f":"SUM(K40,K43,K98:K99,K105)","v":0},{"$f":"SUM(L40,L43,L98:L99,L105)","v":0},{"$f":"SUM(M40,M43,M98:M99,M105)","v":0},{"$f":"SUM(M39-L39)","v":0},{"$f":"SUM(O40,O43,O98:O99,O105)","v":0},{"$f":"SUM(P40,P43,P98:P99,P105)","v":0},{"$f":"SUM(P39-O39)","v":0},{"$f":"SUM(R40,R43,R98:R99,R105)","v":0},{"$f":"SUM(S40,S43,S98:S99,S105)","v":0},{"$f":"SUM(S39-R39)","v":0},{"$f":"SUM(U40,U43,U98:U99,U105)","v":0}]
[1,"EX111",null,null,null,"Compensation of employees",null,null,{"$f":"SUM(I41:I42)","v":0},{"$f":"SUM(J41:J42)","v":0},{"$f":"SUM(K41:K42)","v":0},{"$f":"SUM(L41:L42)","v":0},{"$f":"SUM(M41:M42)","v":0},{"$f":"SUM(M40-L40)","v":0},{"$f":"SUM(O41:O42)","v":0},{"$f":"SUM(P41:P42)","v":0},{"$f":"SUM(P40-O40)","v":0},{"$f":"SUM(R41:R42)","v":0},{"$f":"SUM(S41:S42)","v":0},{"$f":"SUM(S40-R40)","v":0},{"$f":"SUM(U41:U42)","v":0}]
[1,"EX1111",null,null,null,"Salaries and wages",null,null,0,0,0,0,0,{"$f":"SUM(M41-L41)","v":0},0,0,{"$f":"SUM(P41-O41)","v":0},0,0,{"$f":"SUM(S41-R41)","v":0}]
[1,"EX1112",null,null,null,"Social contributions",null,null,0,0,0,0,0,0,0,0,0,0,0,0]
[1,"EX112",null,null,null,"Goods and services",null,null,{"$f":"SUM(I45:I54,I58:I61,I73,I75:I97)","v":0},{"$f":"SUM(J45:J54,J58:J61,J73,J75:J97)","v":0},0,0,0,0,0,0,0,0,0,0,0,{"$f":"SUM(V45:V54,V58:V61,V73,V75:V97)","v":0}]
[1,"EX000",null,null,null,"Of which 1"]
[1,"EX1133",null,null,null,"4istrative fees",null,null,0,0,0,0,0,{"$f":"SUM(M45-L45)","v":0},0,0,{"$f":"SUM(P45-O45)","v":0},0,0,{"$f":"SUM(S45-R45)","v":0}]
[1,"EX1134",null,null,null,"Advertising",null,null,0,0,0,0,0,0,0,0,0,0,0,0]
[1,"EX1135",null,null,null,"Minor assets",null,null,0,0,0,0,0,0,0,0,0,0,0,0]
[1,"EX1136",null,null,null,"Audit costs: External",null,null,0,0,0,0,0,0,0,0,0,0,0,0]
[1,"EX1139",null,null,null,"Bursaries: Employees",null,null,0,0,0,0,0,0,0,0,0,0,0,0]
[1,"EX1140",null,null,null,"Catering: Internal activities",null,null,0,0,0,0,0,0,0,0,0,0,0,0]
[1,"EX1122",null,null,null,"Communication (G&S)",null,null,0,0,0,0,0,0,0,0,0,0,0,0]
[1,"EX1123",null,null,null,"Computer services",null,null,0,0,0,0,0,0,0,0,0,0,0,0]
[1,"EX1124",null,null,null,"Consultants: Business and advisory services",null,null,0,0,0,0,0,0,0,0,0,0,0,0]
[1,"EX1180",null,null,null,"Infrastructure and planning services",null,null,{"$f":"SUM(I55:I57)","v":0},{"$f":"SUM(J55:J57)","v":0},{"$f":"SUM(K55:K57)","v":0},{"$f":"SUM(L55:L57)","v":0},{"$f":"SUM(M55:M57)","v":0},{"$f":"SUM(M54-L54)","v":0},{"$f":"SUM(O55:O57)","v":0},{"$f":"SUM(P55:P57)","v":0},{"$f":"SUM(P54-O54)","v":0},{"$f":"SUM(R55:R57)","v":0},{"$f":"SUM(S55:S57)","v":0},{"$f":"SUM(S54-R54)","v":0},{"$f":"SUM(U55:U57)","v":0}]
[1,"EX11801",null,null,null,"Maintenance and repairs: Buildings: Consultants",null,null,0,0,0,0,0,{"$f":"SUM(M55-L55)","v":0},0,0,{"$f":"SUM(P55-O55)","v":0},0,0,0]
[1,"EX11802",null,null,null,"Maintenance and repairs: Other fixed structures: Consultants",null,null,0,0,0,0,0,0,0,0,0,0,0,0]
[1,"EX11803",null,null,null,"Other",null,null,0,0,0,0,0,0,0,0,0,0,0,0]
[1,"EX1164",null,null,null,"Laboratory services",null,null,0,0,0,0,0,0,0,0,0,0,0,0]
[1,"EX1162",null,null,null,"Legal services (G&S)",null,null,0,0,0,0,0,0,0,0,0,0,0,0]
[1,"EX1165",null,null,null,"Science and technological services",null,null,0,0,0,0,0,0,0,0,0,0,0,0]
[1,"EX1125",null,null,null,"Contractors",null,null,{"$f":"SUM(I62:I66,I72)","v":0},{"$f":"SUM(J62:J66,J72)","v":0},{"$f":"SUM(K62:K66,K72)","v":0},{"$f":"SUM(L62:L66,L72)","v":0},{"$f":"SUM(M62:M66,M72)","v":0},{"$f":"SUM(M61-L61)","v":0},{"$f":"SUM(O62:O66,O72)","v":0},{"$f":"SUM(P62:P66,P72)","v":0},{"$f":"SUM(P61-O61)","v":0},{"$f":"SUM(R62:R66,R72)","v":0},{"$f":"SUM(S62:S66,S72)","v":0},0,{"$f":"SUM(U62:U66,U72)","v":0}]
[1,"EX11251",null,null,null,"Maintenance and repairs of other fixed structures",null,null,0,0,0,0,0,0,0,0,0,0,0,0]
[1,"EX11252",null,null,null,"Maintenance and repairs of other machinery and equipment",null,null,0,0,0,0,0,0,0,0,0,0,0,0]
[1,"EX11253",null,null,null,"Maintenance and repairs of heritage buildings",null,null,0,0,0,0,0,0,0,0,0,0,0,0]
[1,"EX11254",null,null,null,"Maintenance and repairs of other heritage fixed structures",null,null,0,0,0,0,0,0,0,0,0,0,0,0]
[5,"EX11255",null,null,null,"South african social security agency payment contractors",null,null,{"$f":"SUM(I67:I71)","v":0},{"$f":"SUM(J67:J71)","v":0},{"$f":"SUM(K67:K71)","v":0},{"$f":"SUM(L67:L71)","v":0},{"$f":"SUM(M67:M71)","v":0},0,{"$f":"SUM(O67:O71)","v":0},{"$f":"SUM(P67:P71)","v":0},0,{"$f":"SUM(R67:R71)","v":0},{"$f":"SUM(S67:S71)","v":0},0,{"$f":"SUM(U67:U71)","v":0}]
[5,"EX112551",null,null,null,"SASSA 4 fees",null,null,0,0,0,0,0,0,0,0,0,0,0,0]
[5,"EX112552",null,null,null,"SASSA Bankcard fees",null,null,0,0,0,0,0,0,0,0,0,0,0,0]
[5,"EX112553",null,null,null,"SASSA registration fees",null,null,0,0,0,0,0,0,0,0,0,0,0,0]
[5,"EX112554",null,null,null,"SASSA beneficiary fees",null,null,0,0,0,0,0,0,0,0,0,0,0,0]
[5,"EX112555",null,null,null,"SASSA help desk fees",null,null,0,0,0,0,0,0,0,0,0,0,0,0]
[1,"EX11256",null,null,null,"Other",null,null,0,0,0,0,0,0,0,0,0,0,0,0]
[1,"EX1121",null,null,null,"Agency and support/outsourced services",null,null,0,0,0,0,0,0,0,0,0,0,0,0]
[5,"EX11211",null,null,null,"     Of Which: Medical assessments",null,null,0,0,0,0,0,0,0,0,0,0,0,0]
[1,"EX1161",null,null,null,"Entertainment",null,null,0,0,0,0,0,0,0,0,0,0,0,0]
[1,"EX1166",null,null,null,"Fleet services (including government motor transport)",null,null,0,0,0,0,0,0,0,0,0,0,0,0]
[1,"EX1167",null,null,null,"Housing",null,null,0,0,0,0,0,0,0,0,0,0,0,0]
[1,"EX1168",null,null,null,"Inventory: Clothing material and accessories",null,null,0,0,0,0,0,0,0,0,0,0,0,0]
[1,"EX1169",null,null,null,"Inventory: Farming supplies",null,null,0,0,0,0,0,0,0,0,0,0,0,0]
[1,"EX1170",null,null,null,"Inventory: Food and food supplies",null,null,0,0,0,0,0,0,0,0,0,0,0,0]
[1,"EX1171",null,null,null,"Inventory: Fuel, oil and gas",null,null,0,0,0,0,0,0,0,0,0,0,0,0]
[1,"EX1172",null,null,null,"Inventory: Learner and teacher support material",null,null,0,0,0,0,0,0,0,0,0,0,0,0]
[1,"EX1126",null,null,null,"Inventory: Materials and supplies",null,null,0,0,0,0,0,0,0,0,0,0,0,0]
[1,"EX1173",null,null,null,"Inventory: Medical supplies",null,null,0,0,0,0,0,0,0,0,0,0,0,0]
[1,"EX1174",null,null,null,"Inventory: Medicine",null,null,0,0,0,0,0,0,0,0,0,0,0,0]
[1,"EX1175",null,null,null,"Medsas inventory interface",null,null,0,0,0,0,0,0,0,0,0,0,0,0]
[1,"EX1176",null,null,null,"Inventory: Other supplies",null,null,0,0,0,0,0,0,0,0,0,0,0,0]
[1,"EX1177",null,null,null,"Consumable supplies",null,null,0,0,0,0,0,0,0,0,0,0,0,0]
[1,"EX1144",null,null,null,"Consumables: Stationery, printing and office supplies",null,null,0,0,0,0,0,0,0,0,0,0,0,0]
[1,"EX1127",null,null,null,"Operating leases",null,null,0,0,0,0,0,0,0,0,0,0,0,0]
[1,"EX1178",null,null,null,"Rental and hiring",null,null,0,0,0,0,0,0,0,0,0,0,0,0]
[1,"EX1145",null,null,null,"Property payments",null,null,0,0,0,0,0,0,0,0,0,0,0,0]
[1,"EX1179",null,null,null,"Transport provided: Internal activities",null,null,0,0,0,0,0,0,0,0,0,0,0,0]
[1,"EX1131",null,null,null,"Travel and subsistence",null,null,0,0,0,0,0,0,0,0,0,0,0,0]
[1,"EX1130",null,null,null,"Training and development",null,null,0,0,0,0,0,0,0,0,0,0,0,0]
[1,"EX1132",null,null,null,"Operating payments",null,null,0,0,0,0,0,0,0,0,0,0,0,0]
[1,"EX1146",null,null,null,"Venues and facilities",null,null,0,0,0,0,0,0,0,0,0,0,0,0]
[1,"EX113",null,null,null,"Depreciation",null,null,0,0,0,0,0,0,0,0,0,0,0,0]
[1,"EX114",null,null,null,"Losses from",null,null,{"$f":"SUM(I100:I101,I104)","v":0},{"$f":"SUM(J100:J101,J104)","v":0},{"$f":"SUM(K100:K101,K104)","v":0},{"$f":"SUM(L100:L101,L104)","v":0},{"$f":"SUM(M100:M101,M104)","v":0},{"$f":"SUM(M99-L99)","v":0},{"$f":"SUM(O100:O101,O104)","v":0},{"$f":"SUM(P100:P101,P104)","v":0},{"$f":"SUM(P99-O99)","v":0},{"$f":"SUM(R100:R101,R104)","v":0},{"$f":"SUM(S100:S101,S104)","v":0},{"$f":"SUM(S99-R99)","v":0},{"$f":"SUM(U100:U101,U104)","v":0}]
[1,"EX1141",null,null,null,"Sale of fixed assets",null,null,0,0,0,0,0,{"$f":"SUM(M100-L100)","v":0},0,0,{"$f":"SUM(P100-O100)","v":0},0,0,{"$f":"SUM(S100-R100)","v":0}]
[1,"EX1142",null,null,null,"Impairments and adjustments to fair value",null,null,{"$f":"SUM(I102:I103)","v":0},{"$f":"SUM(J102:J103)","v":0},{"$f":"SUM(K102:K103)","v":0},{"$f":"SUM(L102:L103)","v":0},{"$f":"SUM(M102:M103)","v":0},0,{"$f":"SUM(O102:O103)","v":0},{"$f":"SUM(P102:P103)","v":0},0,{"$f":"SUM(R102:R103)","v":0},{"$f":"SUM(S102:S103)","v":0},0,{"$f":"SUM(U102:U103)","v":0}]
[1,"EX11421",null,null,null,"Adjustments to fair value of assets",null,null,0,0,0,0,0,{"$f":"SUM(M102-L102)","v":0},0,0,{"$f":"SUM(P102-O102)","v":0},0,0,{"$f":"SUM(S102-R102)","v":0}]
[1,"EX11422",null,null,null,"Impairments to assets",null,null,0,0,0,0,0,0,0,0,0,0,0,0]
[1,"EX1143",null,null,null,"Other",null,null,0,0,0,0,0,0,0,0,0,0,0,0]
[1,"EX115",null,null,null,"Interest, dividends and rent on land",null,null,{"$f":"SUM(I106:I108)","v":0},{"$f":"SUM(J106:J108)","v":0},{"$f":"SUM(K106:K108)","v":0},{"$f":"SUM(L106:L108)","v":0},{"$f":"SUM(M106:M108)","v":0},0,{"$f":"SUM(O106:O108)","v":0},{"$f":"SUM(P106:P108)","v":0},0,{"$f":"SUM(R106:R108)","v":0},{"$f":"SUM(S106:S108)","v":0},0,{"$f":"SUM(U106:U108)","v":0}]
[1,"EX1151",null,null,null,"Interest",null,null,0,0,0,0,0,{"$f":"SUM(M106-L106)","v":0},0,0,{"$f":"SUM(P106-O106)","v":0},0,0,{"$f":"SUM(S106-R106)","v":0}]
[1,"EX1152",null,null,null,"Dividends",null,null,0,0,0,0,0,0,0,0,0,0,0,0]
[1,"EX1153",null,null,null,"Rent on land",null,null,0,0,0,0,0,0,0,0,0,0,0,0]
[1,"EX12",null,null,null,"Transfers and subsidies",null,null,{"$f":"SUM(I110,I121,I132:I135)","v":0},{"$f":"SUM(J110,J121,J132:J135)","v":0},{"$f":"SUM(K110,K121,K132:K135)","v":0},{"$f":"SUM(L110,L121,L132:L135)","v":0},{"$f":"SUM(M110,M121,M132:M135)","v":0},0,{"$f":"SUM(O110,O121,O132:O135)","v":0},{"$f":"SUM(P110,P121,P132:P135)","v":0},0,{"$f":"SUM(R110,R121,R132:R135)","v":0},{"$f":"SUM(S110,S121,S132:S135)","v":0},0,{"$f":"SUM(U110,U121,U132:U135)","v":0}]
[2,"EX121",null,null,null,"Employer Grant (SETAs only)",null,null,{"$f":"SUM(I111,I117,I120)","v":0},{"$f":"SUM(J111,J117,J120)","v":0},{"$f":"SUM(K111,K117,K120)","v":0},{"$f":"SUM(L111,L117,L120)","v":0},{"$f":"SUM(M111,M117,M120)","v":0},0,{"$f":"SUM(O111,O117,O120)","v":0},{"$f":"SUM(P111,P117,P120)","v":0},0,{"$f":"SUM(R111,R117,R120)","v":0},{"$f":"SUM(S111,S117,S120)","v":0},0,{"$f":"SUM(U111,U117,U120)","v":0}]
[1,"EX122",null,null,null,"Other government units",null,null,{"$f":"SUM(I112:I116)","v":0},{"$f":"SUM(J112:J116)","v":0},{"$f":"SUM(K112:K116)","v":0},{"$f":"SUM(L112:L116)","v":0},{"$f":"SUM(M112:M116)","v":0},0,{"$f":"SUM(O112:O116)","v":0},{"$f":"SUM(P112:P116)","v":0},0,{"$f":"SUM(R112:R116)","v":0},{"$f":"SUM(S112:S116)","v":0},0,{"$f":"SUM(U112:U116)","v":0}]
[1,"EX1221",null,null,null,"National government",null,null,0,0,0,0,0,{"$f":"SUM(M112-L112)","v":0},0,0,{"$f":"SUM(P112-O112)","v":0},0,0,{"$f":"SUM(S112-R112)","v":0}]
[1,"EX1222",null,null,null,"Departmental agencies and accounts",null,null,0,0,0,0,0,0,0,0,0,0,0,0]
[1,"EX1223",null,null,null,"Provinces",null,null,0,0,0,0,0,0,0,0,0,0,0,0]
[1,"EX1224",null,null,null,"Municipalities",null,null,0,0,0,0,0,0,0,0,0,0,0,0]
[2,"EX1225",null,null,null,"National Skills Fund",null,null,0,0,0,0,0,0,0,0,0,0,0,0]
[1,"EX123",null,null,null,"Public corporations and private enterprises (subsidies and other transfers)",null,null,{"$f":"SUM(I118:I119)","v":0},{"$f":"SUM(J118:J119)","v":0},{"$f":"SUM(K118:K119)","v":0},{"$f":"SUM(L118:L119)","v":0},{"$f":"SUM(M118:M119)","v":0},0,{"$f":"SUM(O118:O119)","v":0},{"$f":"SUM(P118:P119)","v":0},0,{"$f":"SUM(R118:R119)","v":0},{"$f":"SUM(S118:S119)","v":0},0,{"$f":"SUM(U118:U119)","v":0}]
[1,"EX1231",null,null,null,"Public corporations",null,null,0,0,0,0,0,{"$f":"SUM(M118-L118)","v":0},0,0,{"$f":"SUM(P118-O118)","v":0},0,0,{"$f":"SUM(S118-R118)","v":0}]
[1,"EX1232",null,null,null,"Private enterprises",null,null,0,0,0,0,0,0,0,0,0,0,0,0]
[2,"EX124",null,null,null,"Households and non government units",null,null,0,0,0,0,0,0,0,0,0,0,0,0]
[2,"EX125",null,null,null,"Discretionary Grant (SETAs only)",null,null,{"$f":"SUM(I122,I128,I131)","v":0},{"$f":"SUM(J122,J128,J131)","v":0},{"$f":"SUM(K122,K128,K131)","v":0},{"$f":"SUM(L122,L128,L131)","v":0},{"$f":"SUM(M122,M128,M131)","v":0},0,{"$f":"SUM(O122,O128,O131)","v":0},{"$f":"SUM(P122,P128,P131)","v":0},0,{"$f":"SUM(R122,R128,R131)","v":0},{"$f":"SUM(S122,S128,S131)","v":0},0,{"$f":"SUM(U122,U128,U131)","v":0}]
[2,"EX126",null,null,null,"Other government units",null,null,{"$f":"SUM(I123:I127)","v":0},{"$f":"SUM(J123:J127)","v":0},{"$f":"SUM(K123:K127)","v":0},{"$f":"SUM(L123:L127)","v":0},{"$f":"SUM(M123:M127)","v":0},0,{"$f":"SUM(O123:O127)","v":0},{"$f":"SUM(P123:P127)","v":0},0,{"$f":"SUM(R123:R127)","v":0},{"$f":"SUM(S123:S127)","v":0},0,{"$f":"SUM(U123:U127)","v":0}]
[2,"EX1261",null,null,null,"National government",null,null,0,0,0,0,0,{"$f":"SUM(M123-L123)","v":0},0,0,{"$f":"SUM(P123-O123)","v":0},0,0,{"$f":"SUM(S123-R123)","v":0}]
[2,"EX1262",null,null,null,"Departmental agencies and accounts",null,null,0,0,0,0,0,0,0,0,0,0,0,0]
[2,"EX1263",null,null,null,"Provinces",null,null,0,0,0,0,0,0,0,0,0,0,0,0]
[2,"EX1264",null,null,null,"Municipalities",null,null,0,0,0,0,0,0,0,0,0,0,0,0]
[2,"EX1265",null,null,null,"National Skills Fund",null,null,0,0,0,0,0,0,0,0,0,0,0,0]
[2,"EX127",null,null,null,"Public corporations and private enterprises (subsidies and other transfers)",null,null,{"$f":"SUM(I129:I130)","v":0},{"$f":"SUM(J129:J130)","v":0},{"$f":"SUM(K129:K130)","v":0},{"$f":"SUM(L129:L130)","v":0},{"$f":"SUM(M129:M130)","v":0},0,{"$f":"SUM(O129:O130)","v":0},{"$f":"SUM(P129:P130)","v":0},0,{"$f":"SUM(R129:R130)","v":0},{"$f":"SUM(S129:S130)","v":0},0,{"$f":"SUM(U129:U130)","v":0}]
[2,"EX1271",null,null,null,"Public corporations",null,null,0,0,0,0,0,{"$f":"SUM(M129-L129)","v":0},0,0,{"$f":"SUM(P129-O129)","v":0},0,0,{"$f":"SUM(S129-R129)","v":0}]
[2,"EX1272",null,null,null,"Private enterprises",null,null,0,0,0,0,0,0,0,0,0,0,0,0]
[2,"EX128",null,null,null,"Households and non government units",null,null,0,0,0,0,0,0,0,0,0,0,0,0]
[1,"EX129",null,null,null,"Higher education institutions",null,null,0,0,0,0,0,0,0,0,0,0,0,0]
[1,"EX130",null,null,null,"Foreign governments and international organisations ",null,null,0,0,0,0,0,0,0,0,0,0,0,0]
[1,"EX131",null,null,null,"Non-profit institutions",null,null,0,0,0,0,0,0,0,0,0,0,0,0]
[1,"EX132",null,null,null,"Households",null,null,{"$f":"SUM(I136:I137)","v":0},{"$f":"SUM(J136:J137)","v":0},{"$f":"SUM(K136:K137)","v":0},{"$f":"SUM(L136:L137)","v":0},{"$f":"SUM(M136:M137)","v":0},0,{"$f":"SUM(O136:O137)","v":0},{"$f":"SUM(P136:P137)","v":0},0,{"$f":"SUM(R136:R137)","v":0},{"$f":"SUM(S136:S137)","v":0},0,{"$f":"SUM(U136:U137)","v":0}]
[1,"EX1301",null,null,null,"Social benefits ",null,null,0,0,0,0,0,{"$f":"SUM(M136-L136)","v":0},0,0,{"$f":"SUM(P136-O136)","v":0},0,0,{"$f":"SUM(S136-R136)","v":0}]
[1,"EX1302",null,null,null,"Other transfers to households",null,null,0,0,0,0,0,0,0,0,0,0,0,0]
[1,"EX13",null,null,null,"Tax payment",null,null,0,0,0,0,0,0,0,0,0,0,0,0]
[1,"EX14",null,null,null,"Outside shareholders Interest",null,null,0,0,0,0,0,0,0,0,0,0,0,0]
[1,"EX15",null,null,null,"Total Expenditure",null,null,{"$f":"SUM(I39,I109,I138:I139)","v":0},{"$f":"SUM(J39,J109,J138:J139)","v":0},{"$f":"SUM(K39,K109,K138:K139)","v":0},{"$f":"SUM(L39,L109,L138:L139)","v":0},{"$f":"SUM(M39,M109,M138:M139)","v":0},{"$f":"SUM(M140-L140)","v":0},{"$f":"SUM(O39,O109,O138:O139)","v":0},{"$f":"SUM(P39,P109,P138:P139)","v":0},{"$f":"SUM(P140-O140)","v":0},{"$f":"SUM(R39,R109,R138:R139)","v":0},{"$f":"SUM(S39,S109,S138:S139)","v":0},{"$f":"SUM(S140-R140)","v":0},{"$f":"SUM(U39,U109,U138:U139)","v":0}]
[1]
[1,null,null,null,null,"Objective less Expenditure",null,null,{"$f":"ROUND(IF(I37-I140>0,IF(I37-I140<1,0,I37-I140),I37-I140),0)","v":0},0,0,0,0,{"$f":"ROUND(IF(N37-N140>0,IF(N37-N140<1,0,N37-N140),N37-N140),0)","v":0},0,0,0,0,0,0,0]
[1]

{"sheet":"5","index":9,"n_rows":143,"n_cols":22,"rows_kept":143,"cut":false,"hidden":false,"merged":[[31,14,31,16],[31,17,31,19],[31,11,31,13]]}
[]
[]
[]
[]
[]
[null,null,null,null,null,"PE No",{"$f":"Settings!O2","v":"PE196"}]
[null,null,null,null,null,"Entity name",{"$f":"Settings!$D$2","v":"Transnet Limited"}]
[]
[null,null,null,null,null,"Performance and operations information"]
["ItemCat","Item code","Hide/unhide",null,null,"Activity/Output/Outcome/Efficiency Indicator","Priorities",null,{"$f":"MyYearM3","v":"2019/20"},{"$f":"MyYearM2","v":"2020/21"},{"$f":"MyYearM1","v":"2021/22"},{"$f":"MyYear0","v":"2022/23"},{"$f":"MyYearP1","v":"2023/24"},{"$f":"MyYearP2","v":"2024/25"},{"$f":"MyYearP3","v":"2025/26"},"Related Objectives","Add to 'Performance Indicators' Sheet","Comments"]
[1,null,null,null,null,0,0,null,0,0,0,0,0,0,null,0,0,0]
[1,null,null,null,null,0,0,null,0,0,0,0,0,0,null,0,0,0]
[1,null,null,null,null,0,0,null,0,0,0,0,0,0,null,0,0,0]
[1,null,null,null,null,0,0,null,0,0,0,0,0,0,null,0,0,0]
[1,null,null,null,null,0,0,null,0,0,0,0,0,0,null,0,0,0]
[1,null,null,null,null,0,0,null,0,0,0,0,0,0,null,0,0,0]
[1,null,null,null,null,0,0,null,0,0,0,0,0,0,null,0,0,0]
[1,null,null,null,null,0,0,null,0,0,0,0,0,0,null,0,0,0]
[1,null,null,null,null,0,0,null,0,0,0,0,0,0,null,0,0,0]
[1,null,null,null,null,0,0,null,0,0,0,0,0,0,null,0,0,0]
[1,null,null,null,null,0,0,null,0,0,0,0,0,0,null,0,0,0]
[1,null,null,null,null,0,0,null,0,0,0,0,0,0,null,0,0,0]
[1,null,null,null,null,0,0,null,0,0,0,0,0,0,null,0,0,0]
[1,null,null,null,null,0,0,null,0,0,0,0,0,0,null,0,0,0]
[1,null,null,null,null,0,0,null,0,0,0,0,0,0,null,0,0,0]
[1,null,null,null,null,"Notes:"]
[1,null,null,null,null,"Performance indicators are an explanation of objectives performance.   "]
[1,null,null,null,null,"1. They are specific measurements that track progress towards achieving the goals and objectives of an institution."]
[1,null,null,null,null,"2. Institutions should use performance indicators in the 2021/22 Annual Performance Plans and those in the 2022 ENE. "]
[1,null,null,null,null,"3. Institutions should also indicate instances where targets are not affected by budget baseline reprioritisation."]
[1]
[1,null,null,null,null,null,null,null,{"$f":"MyYearM3","v":"2019/20"},{"$f":"MyYearM2","v":"2020/21"},{"$f":"MyYearM1","v":"2021/22"},{"$f":"MyYear0","v":"2022/23"},null,null,{"$f":"MyYearP1","v":"2023/24"},null,null,{"$f":"MyYearP2","v":"2024/25"},null,null,{"$f":"MyYearP3","v":"2025/26"}]
[1,null,null,null,null,"Expenses",null,null,{"$f":"Hist_year3RestatedAudited","v":"Audited\noutcome"},{"$f":"Hist_year2RestatedAudited","v":"Audited\noutcome"},{"$f":"Hist_year1Audited","v":"Audited\noutcome"},{"$f":"Cur_YearBudgEst","v":"Budget\nestimate"},{"$f":"Cur_YearApprovedBudg","v":"Approved budget"},{"$f":"Cur_YearChangeFrRevBudg","v":"Changes from \nbudget estimate"},{"$f":"MTEF1BudgEst","v":"Budget\nestimate"},{"$f":"MTEF1RevBudgEst","v":"Revised\nbudget\nestimate"},{"$f":"MTEF1_ChangeFrBudgEst","v":"Changes from budget estimate"},{"$f":"MTEF2BudgEst","v":"Budget\nestimate"},{"$f":"MTEF2RevBudgEst","v":"Revised\nbudget\nestimate"},{"$f":"MTEF2_ChangeFrBudgEst","v":"Changes from budget estimate"},{"$f":"MTEF3PlanBudgetEst","v":"Planning\nbudget \nestimate"}]
[1]
[1,null,null,null,null,"Rand thousand"]
[1,null,null,null,null,"Objective/Activity"]
[1,null,null,null,null,0,null,null,0,0,0,0,0,{"$f":"SUM(M37-L37)","v":0},0,0,{"$f":"SUM(P37-O37)","v":0},0,0,{"$f":"SUM(S37-R37)","v":0}]
[1,null,null,null,null,"Economic classification"]
[1,"EX11",null,null,null,"Current payments",null,null,{"$f":"SUM(I40,I43,I98:I99,I105)","v":0},{"$f":"SUM(J40,J43,J98:J99,J105)","v":0},{"$f":"SUM(K40,K43,K98:K99,K105)","v":0},{"$f":"SUM(L40,L43,L98:L99,L105)","v":0},{"$f":"SUM(M40,M43,M98:M99,M105)","v":0},{"$f":"SUM(M39-L39)","v":0},{"$f":"SUM(O40,O43,O98:O99,O105)","v":0},{"$f":"SUM(P40,P43,P98:P99,P105)","v":0},{"$f":"SUM(P39-O39)","v":0},{"$f":"SUM(R40,R43,R98:R99,R105)","v":0},{"$f":"SUM(S40,S43,S98:S99,S105)","v":0},{"$f":"SUM(S39-R39)","v":0},{"$f":"SUM(U40,U43,U98:U99,U105)","v":0}]
[1,"EX111",null,null,null,"Compensation of employees",null,null,{"$f":"SUM(I41:I42)","v":0},{"$f":"SUM(J41:J42)","v":0},{"$f":"SUM(K41:K42)","v":0},{"$f":"SUM(L41:L42)","v":0},{"$f":"SUM(M41:M42)","v":0},{"$f":"SUM(M40-L40)","v":0},{"$f":"SUM(O41:O42)","v":0},{"$f":"SUM(P41:P42)","v":0},{"$f":"SUM(P40-O40)","v":0},{"$f":"SUM(R41:R42)","v":0},{"$f":"SUM(S41:S42)","v":0},{"$f":"SUM(S40-R40)","v":0},{"$f":"SUM(U41:U42)","v":0}]
[1,"EX1111",null,null,null,"Salaries and wages",null,null,0,0,0,0,0,{"$f":"SUM(M41-L41)","v":0},0,0,{"$f":"SUM(P41-O41)","v":0},0,0,{"$f":"SUM(S41-R41)","v":0}]
[1,"EX1112",null,null,null,"Social contributions",null,null,0,0,0,0,0,0,0,0,0,0,0,0]
[1,"EX112",null,null,null,"Goods and services",null,null,{"$f":"SUM(I45:I54,I58:I61,I73,I75:I97)","v":0},{"$f":"SUM(J45:J54,J58:J61,J73,J75:J97)","v":0},0,0,0,0,0,0,0,0,0,0,0,{"$f":"SUM(V45:V54,V58:V61,V73,V75:V97)","v":0}]
[1,"EX000",null,null,null,"Of which 1"]
[1,"EX1133",null,null,null,"5istrative fees",null,null,0,0,0,0,0,{"$f":"SUM(M45-L45)","v":0},0,0,{"$f":"SUM(P45-O45)","v":0},0,0,{"$f":"SUM(S45-R45)","v":0}]
[1,"EX1134",null,null,null,"Advertising",null,null,0,0,0,0,0,0,0,0,0,0,0,0]
[1,"EX1135",null,null,null,"Minor assets",null,null,0,0,0,0,0,0,0,0,0,0,0,0]
[1,"EX1136",null,null,null,"Audit costs: External",null,null,0,0,0,0,0,0,0,0,0,0,0,0]
[1,"EX1139",null,null,null,"Bursaries: Employees",null,null,0,0,0,0,0,0,0,0,0,0,0,0]
[1,"EX1140",null,null,null,"Catering: Internal activities",null,null,0,0,0,0,0,0,0,0,0,0,0,0]
[1,"EX1122",null,null,null,"Communication (G&S)",null,null,0,0,0,0,0,0,0,0,0,0,0,0]
[1,"EX1123",null,null,null,"Computer services",null,null,0,0,0,0,0,0,0,0,0,0,0,0]
[1,"EX1124",null,null,null,"Consultants: Business and advisory services",null,null,0,0,0,0,0,0,0,0,0,0,0,0]
[1,"EX1180",null,null,null,"Infrastructure and planning services",null,null,{"$f":"SUM(I55:I57)","v":0},{"$f":"SUM(J55:J57)","v":0},{"$f":"SUM(K55:K57)","v":0},{"$f":"SUM(L55:L57)","v":0},{"$f":"SUM(M55:M57)","v":0},{"$f":"SUM(M54-L54)","v":0},{"$f":"SUM(O55:O57)","v":0},{"$f":"SUM(P55:P57)","v":0},{"$f":"SUM(P54-O54)","v":0},{"$f":"SUM(R55:R57)","v":0},{"$f":"SUM(S55:S57)","v":0},{"$f":"SUM(S54-R54)","v":0},{"$f":"SUM(U55:U57)","v":0}]
[1,"EX11801",null,null,null,"Maintenance and repairs: Buildings: Consultants",null,null,0,0,0,0,0,{"$f":"SUM(M55-L55)","v":0},0,0,{"$f":"SUM(P55-O55)","v":0},0,0,0]
[1,"EX11802",null,null,null,"Maintenance and repairs: Other fixed structures: Consultants",null,null,0,0,0,0,0,0,0,0,0,0,0,0]
[1,"EX11803",null,null,null,"Other",null,null,0,0,0,0,0,0,0,0,0,0,0,0]
[1,"EX1164",null,null,null,"Laboratory services",null,null,0,0,0,0,0,0,0,0,0,0,0,0]
[1,"EX1162",null,null,null,"Legal services (G&S)",null,null,0,0,0,0,0,0,0,0,0,0,0,0]
[1,"EX1165",null,null,null,"Science and technological services",null,null,0,0,0,0,0,0,0,0,0,0,0,0]
[1,"EX1125",null,null,null,"Contractors",null,null,{"$f":"SUM(I62:I66,I72)","v":0},{"$f":"SUM(J62:J66,J72)","v":0},{"$f":"SUM(K62:K66,K72)","v":0},{"$f":"SUM(L62:L66,L72)","v":0},{"$f":"SUM(M62:M66,M72)","v":0},{"$f":"SUM(M61-L61)","v":0},{"$f":"SUM(O62:O66,O72)","v":0},{"$f":"SUM(P62:P66,P72)","v":0},{"$f":"SUM(P61-O61)","v":0},{"$f":"SUM(R62:R66,R72)","v":0},{"$f":"SUM(S62:S66,S72)","v":0},0,{"$f":"SUM(U62:U66,U72)","v":0}]
[1,"EX11251",null,null,null,"Maintenance and repairs of other fixed structures",null,null,0,0,0,0,0,0,0,0,0,0,0,0]
[1,"EX11252",null,null,null,"Maintenance and repairs of other machinery and equipment",null,null,0,0,0,0,0,0,0,0,0,0,0,0]
[1,"EX11253",null,null,null,"Maintenance and repairs of heritage buildings",null,null,0,0,0,0,0,0,0,0,0,0,0,0]
[1,"EX11254",null,null,null,"Maintenance and repairs of other heritage fixed structures",null,null,0,0,0,0,0,0,0,0,0,0,0,0]
[5,"EX11255",null,null,null,"South african social security agency payment contractors",null,null,{"$f":"SUM(I67:I71)","v":0},{"$f":"SUM(J67:J71)","v":0},{"$f":"SUM(K67:K71)","v":0},{"$f":"SUM(L67:L71)","v":0},{"$f":"SUM(M67:M71)","v":0},0,{"$f":"SUM(O67:O71)","v":0},{"$f":"SUM(P67:P71)","v":0},0,{"$f":"SUM(R67:R71)","v":0},{"$f":"SUM(S67:S71)","v":0},0,{"$f":"SUM(U67:U71)","v":0}]
[5,"EX112551",null,null,null,"SASSA 5 fees",null,null,0,0,0,0,0,0,0,0,0,0,0,0]
[5,"EX112552",null,null,null,"SASSA Bankcard fees",null,null,0,0,0,0,0,0,0,0,0,0,0,0]
[5,"EX112553",null,null,null,"SASSA registration fees",null,null,0,0,0,0,0,0,0,0,0,0,0,0]
[5,"EX112554",null,null,null,"SASSA beneficiary fees",null,null,0,0,0,0,0,0,0,0,0,0,0,0]
[5,"EX112555",null,null,null,"SASSA help desk fees",null,null,0,0,0,0,0,0,0,0,0,0,0,0]
[1,"EX11256",null,null,null,"Other",null,null,0,0,0,0,0,0,0,0,0,0,0,0]
[1,"EX1121",null,null,null,"Agency and support/outsourced services",null,null,0,0,0,0,0,0,0,0,0,0,0,0]
[5,"EX11211",null,null,null,"     Of Which: Medical assessments",null,null,0,0,0,0,0,0,0,0,0,0,0,0]
[1,"EX1161",null,null,null,"Entertainment",null,null,0,0,0,0,0,0,0,0,0,0,0,0]
[1,"EX1166",null,null,null,"Fleet services (including government motor transport)",null,null,0,0,0,0,0,0,0,0,0,0,0,0]
[1,"EX1167",null,null,null,"Housing",null,null,0,0,0,0,0,0,0,0,0,0,0,0]
[1,"EX1168",null,null,null,"Inventory: Clothing material and accessories",null,null,0,0,0,0,0,0,0,0,0,0,0,0]
[1,"EX1169",null,null,null,"Inventory: Farming supplies",null,null,0,0,0,0,0,0,0,0,0,0,0,0]
[1,"EX1170",null,null,null,"Inventory: Food and food supplies",null,null,0,0,0,0,0,0,0,0,0,0,0,0]
[1,"EX1171",null,null,null,"Inventory: Fuel, oil and gas",null,null,0,0,0,0,0,0,0,0,0,0,0,0]
[1,"EX1172",null,null,null,"Inventory: Learner and teacher support material",null,null,0,0,0,0,0,0,0,0,0,0,0,0]
[1,"EX1126",null,null,null,"Inventory: Materials and supplies",null,null,0,0,0,0,0,0,0,0,0,0,0,0]
[1,"EX1173",null,null,null,"Inventory: Medical supplies",null,null,0,0,0,0,0,0,0,0,0,0,0,0]
[1,"EX1174",null,null,null,"Inventory: Medicine",null,null,0,0,0,0,0,0,0,0,0,0,0,0]
[1,"EX1175",null,null,null,"Medsas inventory interface",null,null,0,0,0,0,0,0,0,0,0,0,0,0]
[1,"EX1176",null,null,null,"Inventory: Other supplies",null,null,0,0,0,0,0,0,0,0,0,0,0,0]
[1,"EX1177",null,null,null,"Consumable supplies",null,null,0,0,0,0,0,0,0,0,0,0,0,0]
[1,"EX1144",null,null,null,"Consumables: Stationery, printing and office supplies",null,null,0,0,0,0,0,0,0,0,0,0,0,0]
[1,"EX1127",null,null,null,"Operating leases",null,null,0,0,0,0,0,0,0,0,0,0,0,0]
[1,"EX1178",null,null,null,"Rental and hiring",null,null,0,0,0,0,0,0,0,0,0,0,0,0]
[1,"EX1145",null,null,null,"Property payments",null,null,0,0,0,0,0,0,0,0,0,0,0,0]
[1,"EX1179",null,null,null,"Transport provided: Internal activities",null,null,0,0,0,0,0,0,0,0,0,0,0,0]
[1,"EX1131",null,null,null,"Travel and subsistence",null,null,0,0,0,0,0,0,0,0,0,0,0,0]
[1,"EX1130",null,null,null,"Training and development",null,null,0,0,0,0,0,0,0,0,0,0,0,0]
[1,"EX1132",null,null,null,"Operating payments",null,null,0,0,0,0,0,0,0,0,0,0,0,0]
[1,"EX1146",null,null,null,"Venues and facilities",null,null,0,0,0,0,0,0,0,0,0,0,0,0]
[1,"EX113",null,null,null,"Depreciation",null,null,0,0,0,0,0,0,0,0,0,0,0,0]
[1,"EX114",null,null,null,"Losses from",null,null,{"$f":"SUM(I100:I101,I104)","v":0},{"$f":"SUM(J100:J101,J104)","v":0},{"$f":"SUM(K100:K101,K104)","v":0},{"$f":"SUM(L100:L101,L104)","v":0},{"$f":"SUM(M100:M101,M104)","v":0},{"$f":"SUM(M99-L99)","v":0},{"$f":"SUM(O100:O101,O104)","v":0},{"$f":"SUM(P100:P101,P104)","v":0},{"$f":"SUM(P99-O99)","v":0},{"$f":"SUM(R100:R101,R104)","v":0},{"$f":"SUM(S100:S101,S104)","v":0},{"$f":"SUM(S99-R99)","v":0},{"$f":"SUM(U100:U101,U104)","v":0}]
[1,"EX1141",null,null,null,"Sale of fixed assets",null,null,0,0,0,0,0,{"$f":"SUM(M100-L100)","v":0},0,0,{"$f":"SUM(P100-O100)","v":0},0,0,{"$f":"SUM(S100-R100)","v":0}]
[1,"EX1142",null,null,null,"Impairments and adjustments to fair value",null,null,{"$f":"SUM(I102:I103)","v":0},{"$f":"SUM(J102:J103)","v":0},{"$f":"SUM(K102:K103)","v":0},{"$f":"SUM(L102:L103)","v":0},{"$f":"SUM(M102:M103)","v":0},0,{"$f":"SUM(O102:O103)","v":0},{"$f":"SUM(P102:P103)","v":0},0,{"$f":"SUM(R102:R103)","v":0},{"$f":"SUM(S102:S103)","v":0},0,{"$f":"SUM(U102:U103)","v":0}]
[1,"EX11421",null,null,null,"Adjustments to fair value of assets",null,null,0,0,0,0,0,{"$f":"SUM(M102-L102)","v":0},0,0,{"$f":"SUM(P102-O102)","v":0},0,0,{"$f":"SUM(S102-R102)","v":0}]
[1,"EX11422",null,null,null,"Impairments to assets",null,null,0,0,0,0,0,0,0,0,0,0,0,0]
[1,"EX1143",null,null,null,"Other",null,null,0,0,0,0,0,0,0,0,0,0,0,0]
[1,"EX115",null,null,null,"Interest, dividends and rent on land",null,null,{"$f":"SUM(I106:I108)","v":0},{"$f":"SUM(J106:J108)","v":0},{"$f":"SUM(K106:K108)","v":0},{"$f":"SUM(L106:L108)","v":0},{"$f":"SUM(M106:M108)","v":0},0,{"$f":"SUM(O106:O108)","v":0},{"$f":"SUM(P106:P108)","v":0},0,{"$f":"SUM(R106:R108)","v":0},{"$f":"SUM(S106:S108)","v":0},0,{"$f":"SUM(U106:U108)","v":0}]
[1,"EX1151",null,null,null,"Interest",null,null,0,0,0,0,0,{"$f":"SUM(M106-L106)","v":0},0,0,{"$f":"SUM(P106-O106)","v":0},0,0,{"$f":"SUM(S106-R106)","v":0}]
[1,"EX1152",null,null,null,"Dividends",null,null,0,0,0,0,0,0,0,0,0,0,0,0]
[1,"EX1153",null,null,null,"Rent on land",null,null,0,0,0,0,0,0,0,0,0,0,0,0]
[1,"EX12",null,null,null,"Transfers and subsidies",null,null,{"$f":"SUM(I110,I121,I132:I135)","v":0},{"$f":"SUM(J110,J121,J132:J135)","v":0},{"$f":"SUM(K110,K121,K132:K135)","v":0},{"$f":"SUM(L110,L121,L132:L135)","v":0},{"$f":"SUM(M110,M121,M132:M135)","v":0},0,{"$f":"SUM(O110,O121,O132:O135)","v":0},{"$f":"SUM(P110,P121,P132:P135)","v":0},0,{"$f":"SUM(R110,R121,R132:R135)","v":0},{"$f":"SUM(S110,S121,S132:S135)","v":0},0,{"$f":"SUM(U110,U121,U132:U135)","v":0}]
[2,"EX121",null,null,null,"Employer Grant (SETAs only)",null,null,{"$f":"SUM(I111,I117,I120)","v":0},{"$f":"SUM(J111,J117,J120)","v":0},{"$f":"SUM(K111,K117,K120)","v":0},{"$f":"SUM(L111,L117,L120)","v":0},{"$f":"SUM(M111,M117,M120)","v":0},0,{"$f":"SUM(O111,O117,O120)","v":0},{"$f":"SUM(P111,P117,P120)","v":0},0,{"$f":"SUM(R111,R117,R120)","v":0},{"$f":"SUM(S111,S117,S120)","v":0},0,{"$f":"SUM(U111,U117,U120)","v":0}]
[1,"EX122",null,null,null,"Other government units",null,null,{"$f":"SUM(I112:I116)","v":0},{"$f":"SUM(J112:J116)","v":0},{"$f":"SUM(K112:K116)","v":0},{"$f":"SUM(L112:L116)","v":0},{"$f":"SUM(M112:M116)","v":0},0,{"$f":"SUM(O112:O116)","v":0},{"$f":"SUM(P112:P116)","v":0},0,{"$f":"SUM(R112:R116)","v":0},{"$f":"SUM(S112:S116)","v":0},0,{"$f":"SUM(U112:U116)","v":0}]
[1,"EX1221",null,null,null,"National government",null,null,0,0,0,0,0,{"$f":"SUM(M112-L112)","v":0},0,0,{"$f":"SUM(P112-O112)","v":0},0,0,{"$f":"SUM(S112-R112)","v":0}]
[1,"EX1222",null,null,null,"Departmental agencies and accounts",null,null,0,0,0,0,0,0,0,0,0,0,0,0]
[1,"EX1223",null,null,null,"Provinces",null,null,0,0,0,0,0,0,0,0,0,0,0,0]
[1,"EX1224",null,null,null,"Municipalities",null,null,0,0,0,0,0,0,0,0,0,0,0,0]
[2,"EX1225",null,null,null,"National Skills Fund",null,null,0,0,0,0,0,0,0,0,0,0,0,0]
[1,"EX123",null,null,null,"Public corporations and private enterprises (subsidies and other transfers)",null,null,{"$f":"SUM(I118:I119)","v":0},{"$f":"SUM(J118:J119)","v":0},{"$f":"SUM(K118:K119)","v":0},{"$f":"SUM(L118:L119)","v":0},{"$f":"SUM(M118:M119)","v":0},0,{"$f":"SUM(O118:O119)","v":0},{"$f":"SUM(P118:P119)","v":0},0,{"$f":"SUM(R118:R119)","v":0},{"$f":"SUM(S118:S119)","v":0},0,{"$f":"SUM(U118:U119)","v":0}]
[1,"EX1231",null,null,null,"Public corporations",null,null,0,0,0,0,0,{"$f":"SUM(M118-L118)","v":0},0,0,{"$f":"SUM(P118-O118)","v":0},0,0,{"$f":"SUM(S118-R118)","v":0}]
[1,"EX1232",null,null,null,"Private enterprises",null,null,0,0,0,0,0,0,0,0,0,0,0,0]
[2,"EX124",null,null,null,"Households and non government units",null,null,0,0,0,0,0,0,0,0,0,0,0,0]
[2,"EX125",null,null,null,"Discretionary Grant (SETAs only)",null,null,{"$f":"SUM(I122,I128,I131)","v":0},{"$f":"SUM(J122,J128,J131)","v":0},{"$f":"SUM(K122,K128,K131)","v":0},{"$f":"SUM(L122,L128,L131)","v":0},{"$f":"SUM(M122,M128,M131)","v":0},0,{"$f":"SUM(O122,O128,O131)","v":0},{"$f":"SUM(P122,P128,P131)","v":0},0,{"$f":"SUM(R122,R128,R131)","v":0},{"$f":"SUM(S122,S128,S131)","v":0},0,{"$f":"SUM(U122,U128,U131)","v":0}]
[2,"EX126",null,null,null,"Other government units",null,null,{"$f":"SUM(I123:I127)","v":0},{"$f":"SUM(J123:J127)","v":0},{"$f":"SUM(K123:K127)","v":0},{"$f":"SUM(L123:L127)","v":0},{"$f":"SUM(M123:M127)","v":0},0,{"$f":"SUM(O123:O127)","v":0},{"$f":"SUM(P123:P127)","v":0},0,{"$f":"SUM(R123:R127)","v":0},{"$f":"SUM(S123:S127)","v":0},0,{"$f":"SUM(U123:U127)","v":0}]
[2,"EX1261",null,null,null,"National government",null,null,0,0,0,0,0,{"$f":"SUM(M123-L123)","v":0},0,0,{"$f":"SUM(P123-O123)","v":0},0,0,{"$f":"SUM(S123-R123)","v":0}]
[2,"EX1262",null,null,null,"Departmental agencies and accounts",null,null,0,0,0,0,0,0,0,0,0,0,0,0]
[2,"EX1263",null,null,null,"Provinces",null,null,0,0,0,0,0,0,0,0,0,0,0,0]
[2,"EX1264",null,null,null,"Municipalities",null,null,0,0,0,0,0,0,0,0,0,0,0,0]
[2,"EX1265",null,null,null,"National Skills Fund",null,null,0,0,0,0,0,0,0,0,0,0,0,0]
[2,"EX127",null,null,null,"Public corporations and private enterprises (subsidies and other transfers)",null,null,{"$f":"SUM(I129:I130)","v":0},{"$f":"SUM(J129:J130)","v":0},{"$f":"SUM(K129:K130)","v":0},{"$f":"SUM(L129:L130)","v":0},{"$f":"SUM(M129:M130)","v":0},0,{"$f":"SUM(O129:O130)","v":0},{"$f":"SUM(P129:P130)","v":0},0,{"$f":"SUM(R129:R130)","v":0},{"$f":"SUM(S129:S130)","v":0},0,{"$f":"SUM(U129:U130)","v":0}]
[2,"EX1271",null,null,null,"Public corporations",null,null,0,0,0,0,0,{"$f":"SUM(M129-L129)","v":0},0,0,{"$f":"SUM(P129-O129)","v":0},0,0,{"$f":"SUM(S129-R129)","v":0}]
[2,"EX1272",null,null,null,"Private enterprises",null,null,0,0,0,0,0,0,0,0,0,0,0,0]
[2,"EX128",null,null,null,"Households and non government units",null,null,0,0,0,0,0,0,0,0,0,0,0,0]
[1,"EX129",null,null,null,"Higher education institutions",null,null,0,0,0,0,0,0,0,0,0,0,0,0]
[1,"EX130",null,null,null,"Foreign governments and international organisations ",null,null,0,0,0,0,0,0,0,0,0,0,0,0]
[1,"EX131",null,null,null,"Non-profit institutions",null,null,0,0,0,0,0,0,0,0,0,0,0,0]
[1,"EX132",null,null,null,"Households",null,null,{"$f":"SUM(I136:I137)","v":0},{"$f":"SUM(J136:J137)","v":0},{"$f":"SUM(K136:K137)","v":0},{"$f":"SUM(L136:L137)","v":0},{"$f":"SUM(M136:M137)","v":0},0,{"$f":"SUM(O136:O137)","v":0},{"$f":"SUM(P136:P137)","v":0},0,{"$f":"SUM(R136:R137)","v":0},{"$f":"SUM(S136:S137)","v":0},0,{"$f":"SUM(U136:U137)","v":0}]
[1,"EX1301",null,null,null,"Social benefits ",null,null,0,0,0,0,0,{"$f":"SUM(M136-L136)","v":0},0,0,{"$f":"SUM(P136-O136)","v":0},0,0,{"$f":"SUM(S136-R136)","v":0}]
[1,"EX1302",null,null,null,"Other transfers to households",null,null,0,0,0,0,0,0,0,0,0,0,0,0]
[1,"EX13",null,null,null,"Tax payment",null,null,0,0,0,0,0,0,0,0,0,0,0,0]
[1,"EX14",null,null,null,"Outside shareholders Interest",null,null,0,0,0,0,0,0,0,0,0,0,0,0]
[1,"EX15",null,null,null,"Total Expenditure",null,null,{"$f":"SUM(I39,I109,I138:I139)","v":0},{"$f":"SUM(J39,J109,J138:J139)","v":0},{"$f":"SUM(K39,K109,K138:K139)","v":0},{"$f":"SUM(L39,L109,L138:L139)","v":0},{"$f":"SUM(M39,M109,M138:M139)","v":0},{"$f":"SUM(M140-L140)","v":0},{"$f":"SUM(O39,O109,O138:O139)","v":0},{"$f":"SUM(P39,P109,P138:P139)","v":0},{"$f":"SUM(P140-O140)","v":0},{"$f":"SUM(R39,R109,R138:R139)","v":0},{"$f":"SUM(S39,S109,S138:S139)","v":0},{"$f":"SUM(S140-R140)","v":0},{"$f":"SUM(U39,U109,U138:U139)","v":0}]
[1]
[1,null,null,null,null,"Objective less Expenditure",null,null,{"$f":"ROUND(IF(I37-I140>0,IF(I37-I140<1,0,I37-I140),I37-I140),0)","v":0},0,0,0,0,{"$f":"ROUND(IF(N37-N140>0,IF(N37-N140<1,0,N37-N140),N37-N140),0)","v":0},0,0,0,0,0,0,0]
[1]

{"sheet":"6","index":10,"n_rows":143,"n_cols":22,"rows_kept":143,"cut":false,"hidden":false,"merged":[[31,14,31,16],[31,17,31,19],[31,11,31,13]]}
[]
[]
[]
[]
[]
[null,null,null,null,null,"PE No",{"$f":"Settings!O2","v":"PE196"}]
[null,null,null,null,null,"Entity name",{"$f":"Settings!$D$2","v":"Transnet Limited"}]
[]
[null,null,null,null,null,"Performance and operations information"]
["ItemCat","Item code","Hide/unhide",null,null,"Activity/Output/Outcome/Efficiency Indicator","Priorities",null,{"$f":"MyYearM3","v":"2019/20"},{"$f":"MyYearM2","v":"2020/21"},{"$f":"MyYearM1","v":"2021/22"},{"$f":"MyYear0","v":"2022/23"},{"$f":"MyYearP1","v":"2023/24"},{"$f":"MyYearP2","v":"2024/25"},{"$f":"MyYearP3","v":"2025/26"},"Related Objectives","Add to 'Performance Indicators' Sheet","Comments"]
[1,null,null,null,null,0,0,null,0,0,0,0,0,0,null,0,0,0]
[1,null,null,null,null,0,0,null,0,0,0,0,0,0,null,0,0,0]
[1,null,null,null,null,0,0,null,0,0,0,0,0,0,null,0,0,0]
[1,null,null,null,null,0,0,null,0,0,0,0,0,0,null,0,0,0]
[1,null,null,null,null,0,0,null,0,0,0,0,0,0,null,0,0,0]
[1,null,null,null,null,0,0,null,0,0,0,0,0,0,null,0,0,0]
[1,null,null,null,null,0,0,null,0,0,0,0,0,0,null,0,0,0]
[1,null,null,null,null,0,0,null,0,0,0,0,0,0,null,0,0,0]
[1,null,null,null,null,0,0,null,0,0,0,0,0,0,null,0,0,0]
[1,null,null,null,null,0,0,null,0,0,0,0,0,0,null,0,0,0]
[1,null,null,null,null,0,0,null,0,0,0,0,0,0,null,0,0,0]
[1,null,null,null,null,0,0,null,0,0,0,0,0,0,null,0,0,0]
[1,null,null,null,null,0,0,null,0,0,0,0,0,0,null,0,0,0]
[1,null,null,null,null,0,0,null,0,0,0,0,0,0,null,0,0,0]
[1,null,null,null,null,0,0,null,0,0,0,0,0,0,null,0,0,0]
[1,null,null,null,null,"Notes:"]
[1,null,null,null,null,"Performance indicators are an explanation of objectives performance.   "]
[1,null,null,null,null,"1. They are specific measurements that track progress towards achieving the goals and objectives of an institution."]
[1,null,null,null,null,"2. Institutions should use performance indicators in the 2021/22 Annual Performance Plans and those in the 2022 ENE. "]
[1,null,null,null,null,"3. Institutions should also indicate instances where targets are not affected by budget baseline reprioritisation."]
[1]
[1,null,null,null,null,null,null,null,{"$f":"MyYearM3","v":"2019/20"},{"$f":"MyYearM2","v":"2020/21"},{"$f":"MyYearM1","v":"2021/22"},{"$f":"MyYear0","v":"2022/23"},null,null,{"$f":"MyYearP1","v":"2023/24"},null,null,{"$f":"MyYearP2","v":"2024/25"},null,null,{"$f":"MyYearP3","v":"2025/26"}]
[1,null,null,null,null,"Expenses",null,null,{"$f":"Hist_year3RestatedAudited","v":"Audited\noutcome"},{"$f":"Hist_year2RestatedAudited","v":"Audited\noutcome"},{"$f":"Hist_year1Audited","v":"Audited\noutcome"},{"$f":"Cur_YearBudgEst","v":"Budget\nestimate"},{"$f":"Cur_YearApprovedBudg","v":"Approved budget"},{"$f":"Cur_YearChangeFrRevBudg","v":"Changes from \nbudget estimate"},{"$f":"MTEF1BudgEst","v":"Budget\nestimate"},{"$f":"MTEF1RevBudgEst","v":"Revised\nbudget\nestimate"},{"$f":"MTEF1_ChangeFrBudgEst","v":"Changes from budget estimate"},{"$f":"MTEF2BudgEst","v":"Budget\nestimate"},{"$f":"MTEF2RevBudgEst","v":"Revised\nbudget\nestimate"},{"$f":"MTEF2_ChangeFrBudgEst","v":"Changes from budget estimate"},{"$f":"MTEF3PlanBudgetEst","v":"Planning\nbudget \nestimate"}]
[1]
[1,null,null,null,null,"Rand thousand"]
[1,null,null,null,null,"Objective/Activity"]
[1,null,null,null,null,0,null,null,0,0,0,0,0,{"$f":"SUM(M37-L37)","v":0},0,0,{"$f":"SUM(P37-O37)","v":0},0,0,{"$f":"SUM(S37-R37)","v":0}]
[1,null,null,null,null,"Economic classification"]
[1,"EX11",null,null,null,"Current payments",null,null,{"$f":"SUM(I40,I43,I98:I99,I105)","v":0},{"$f":"SUM(J40,J43,J98:J99,J105)","v":0},{"$f":"SUM(K40,K43,K98:K99,K105)","v":0},{"$f":"SUM(L40,L43,L98:L99,L105)","v":0},{"$f":"SUM(M40,M43,M98:M99,M105)","v":0},{"$f":"SUM(M39-L39)","v":0},{"$f":"SUM(O40,O43,O98:O99,O105)","v":0},{"$f":"SUM(P40,P43,P98:P99,P105)","v":0},{"$f":"SUM(P39-O39)","v":0},{"$f":"SUM(R40,R43,R98:R99,R105)","v":0},{"$f":"SUM(S40,S43,S98:S99,S105)","v":0},{"$f":"SUM(S39-R39)","v":0},{"$f":"SUM(U40,U43,U98:U99,U105)","v":0}]
[1,"EX111",null,null,null,"Compensation of employees",null,null,{"$f":"SUM(I41:I42)","v":0},{"$f":"SUM(J41:J42)","v":0},{"$f":"SUM(K41:K42)","v":0},{"$f":"SUM(L41:L42)","v":0},{"$f":"SUM(M41:M42)","v":0},{"$f":"SUM(M40-L40)","v":0},{"$f":"SUM(O41:O42)","v":0},{"$f":"SUM(P41:P42)","v":0},{"$f":"SUM(P40-O40)","v":0},{"$f":"SUM(R41:R42)","v":0},{"$f":"SUM(S41:S42)","v":0},{"$f":"SUM(S40-R40)","v":0},{"$f":"SUM(U41:U42)","v":0}]
[1,"EX1111",null,null,null,"Salaries and wages",null,null,0,0,0,0,0,{"$f":"SUM(M41-L41)","v":0},0,0,{"$f":"SUM(P41-O41)","v":0},0,0,{"$f":"SUM(S41-R41)","v":0}]
[1,"EX1112",null,null,null,"Social contributions",null,null,0,0,0,0,0,0,0,0,0,0,0,0]
[1,"EX112",null,null,null,"Goods and services",null,null,{"$f":"SUM(I45:I54,I58:I61,I73,I75:I97)","v":0},{"$f":"SUM(J45:J54,J58:J61,J73,J75:J97)","v":0},0,0,0,0,0,0,0,0,0,0,0,{"$f":"SUM(V45:V54,V58:V61,V73,V75:V97)","v":0}]
[1,"EX000",null,null,null,"Of which 1"]
[1,"EX1133",null,null,null,"6istrative fees",null,null,0,0,0,0,0,{"$f":"SUM(M45-L45)","v":0},0,0,{"$f":"SUM(P45-O45)","v":0},0,0,{"$f":"SUM(S45-R45)","v":0}]
[1,"EX1134",null,null,null,"Advertising",null,null,0,0,0,0,0,0,0,0,0,0,0,0]
[1,"EX1135",null,null,null,"Minor assets",null,null,0,0,0,0,0,0,0,0,0,0,0,0]
[1,"EX1136",null,null,null,"Audit costs: External",null,null,0,0,0,0,0,0,0,0,0,0,0,0]
[1,"EX1139",null,null,null,"Bursaries: Employees",null,null,0,0,0,0,0,0,0,0,0,0,0,0]
[1,"EX1140",null,null,null,"Catering: Internal activities",null,null,0,0,0,0,0,0,0,0,0,0,0,0]
[1,"EX1122",null,null,null,"Communication (G&S)",null,null,0,0,0,0,0,0,0,0,0,0,0,0]
[1,"EX1123",null,null,null,"Computer services",null,null,0,0,0,0,0,0,0,0,0,0,0,0]
[1,"EX1124",null,null,null,"Consultants: Business and advisory services",null,null,0,0,0,0,0,0,0,0,0,0,0,0]
[1,"EX1180",null,null,null,"Infrastructure and planning services",null,null,{"$f":"SUM(I55:I57)","v":0},{"$f":"SUM(J55:J57)","v":0},{"$f":"SUM(K55:K57)","v":0},{"$f":"SUM(L55:L57)","v":0},{"$f":"SUM(M55:M57)","v":0},{"$f":"SUM(M54-L54)","v":0},{"$f":"SUM(O55:O57)","v":0},{"$f":"SUM(P55:P57)","v":0},{"$f":"SUM(P54-O54)","v":0},{"$f":"SUM(R55:R57)","v":0},{"$f":"SUM(S55:S57)","v":0},{"$f":"SUM(S54-R54)","v":0},{"$f":"SUM(U55:U57)","v":0}]
[1,"EX11801",null,null,null,"Maintenance and repairs: Buildings: Consultants",null,null,0,0,0,0,0,{"$f":"SUM(M55-L55)","v":0},0,0,{"$f":"SUM(P55-O55)","v":0},0,0,0]
[1,"EX11802",null,null,null,"Maintenance and repairs: Other fixed structures: Consultants",null,null,0,0,0,0,0,0,0,0,0,0,0,0]
[1,"EX11803",null,null,null,"Other",null,null,0,0,0,0,0,0,0,0,0,0,0,0]
[1,"EX1164",null,null,null,"Laboratory services",null,null,0,0,0,0,0,0,0,0,0,0,0,0]
[1,"EX1162",null,null,null,"Legal services (G&S)",null,null,0,0,0,0,0,0,0,0,0,0,0,0]
[1,"EX1165",null,null,null,"Science and technological services",null,null,0,0,0,0,0,0,0,0,0,0,0,0]
[1,"EX1125",null,null,null,"Contractors",null,null,{"$f":"SUM(I62:I66,I72)","v":0},{"$f":"SUM(J62:J66,J72)","v":0},{"$f":"SUM(K62:K66,K72)","v":0},{"$f":"SUM(L62:L66,L72)","v":0},{"$f":"SUM(M62:M66,M72)","v":0},{"$f":"SUM(M61-L61)","v":0},{"$f":"SUM(O62:O66,O72)","v":0},{"$f":"SUM(P62:P66,P72)","v":0},{"$f":"SUM(P61-O61)","v":0},{"$f":"SUM(R62:R66,R72)","v":0},{"$f":"SUM(S62:S66,S72)","v":0},0,{"$f":"SUM(U62:U66,U72)","v":0}]
[1,"EX11251",null,null,null,"Maintenance and repairs of other fixed structures",null,null,0,0,0,0,0,0,0,0,0,0,0,0]
[1,"EX11252",null,null,null,"Maintenance and repairs of other machinery and equipment",null,null,0,0,0,0,0,0,0,0,0,0,0,0]
[1,"EX11253",null,null,null,"Maintenance and repairs of heritage buildings",null,null,0,0,0,0,0,0,0,0,0,0,0,0]
[1,"EX11254",null,null,null,"Maintenance and repairs of other heritage fixed structures",null,null,0,0,0,0,0,0,0,0,0,0,0,0]
[5,"EX11255",null,null,null,"South african social security agency payment contractors",null,null,{"$f":"SUM(I67:I71)","v":0},{"$f":"SUM(J67:J71)","v":0},{"$f":"SUM(K67:K71)","v":0},{"$f":"SUM(L67:L71)","v":0},{"$f":"SUM(M67:M71)","v":0},0,{"$f":"SUM(O67:O71)","v":0},{"$f":"SUM(P67:P71)","v":0},0,{"$f":"SUM(R67:R71)","v":0},{"$f":"SUM(S67:S71)","v":0},0,{"$f":"SUM(U67:U71)","v":0}]
[5,"EX112551",null,null,null,"SASSA 6 fees",null,null,0,0,0,0,0,0,0,0,0,0,0,0]
[5,"EX112552",null,null,null,"SASSA Bankcard fees",null,null,0,0,0,0,0,0,0,0,0,0,0,0]
[5,"EX112553",null,null,null,"SASSA registration fees",null,null,0,0,0,0,0,0,0,0,0,0,0,0]
[5,"EX112554",null,null,null,"SASSA beneficiary fees",null,null,0,0,0,0,0,0,0,0,0,0,0,0]
[5,"EX112555",null,null,null,"SASSA help desk fees",null,null,0,0,0,0,0,0,0,0,0,0,0,0]
[1,"EX11256",null,null,null,"Other",null,null,0,0,0,0,0,0,0,0,0,0,0,0]
[1,"EX1121",null,null,null,"Agency and support/outsourced services",null,null,0,0,0,0,0,0,0,0,0,0,0,0]
[5,"EX11211",null,null,null,"     Of Which: Medical assessments",null,null,0,0,0,0,0,0,0,0,0,0,0,0]
[1,"EX1161",null,null,null,"Entertainment",null,null,0,0,0,0,0,0,0,0,0,0,0,0]
[1,"EX1166",null,null,null,"Fleet services (including government motor transport)",null,null,0,0,0,0,0,0,0,0,0,0,0,0]
[1,"EX1167",null,null,null,"Housing",null,null,0,0,0,0,0,0,0,0,0,0,0,0]
[1,"EX1168",null,null,null,"Inventory: Clothing material and accessories",null,null,0,0,0,0,0,0,0,0,0,0,0,0]
[1,"EX1169",null,null,null,"Inventory: Farming supplies",null,null,0,0,0,0,0,0,0,0,0,0,0,0]
[1,"EX1170",null,null,null,"Inventory: Food and food supplies",null,null,0,0,0,0,0,0,0,0,0,0,0,0]
[1,"EX1171",null,null,null,"Inventory: Fuel, oil and gas",null,null,0,0,0,0,0,0,0,0,0,0,0,0]
[1,"EX1172",null,null,null,"Inventory: Learner and teacher support material",null,null,0,0,0,0,0,0,0,0,0,0,0,0]
[1,"EX1126",null,null,null,"Inventory: Materials and supplies",null,null,0,0,0,0,0,0,0,0,0,0,0,0]
[1,"EX1173",null,null,null,"Inventory: Medical supplies",null,null,0,0,0,0,0,0,0,0,0,0,0,0]
[1,"EX1174",null,null,null,"Inventory: Medicine",null,null,0,0,0,0,0,0,0,0,0,0,0,0]
[1,"EX1175",null,null,null,"Medsas inventory interface",null,null,0,0,0,0,0,0,0,0,0,0,0,0]
[1,"EX1176",null,null,null,"Inventory: Other supplies",null,null,0,0,0,0,0,0,0,0,0,0,0,0]
[1,"EX1177",null,null,null,"Consumable supplies",null,null,0,0,0,0,0,0,0,0,0,0,0,0]
[1,"EX1144",null,null,null,"Consumables: Stationery, printing and office supplies",null,null,0,0,0,0,0,0,0,0,0,0,0,0]
[1,"EX1127",null,null,null,"Operating leases",null,null,0,0,0,0,0,0,0,0,0,0,0,0]
[1,"EX1178",null,null,null,"Rental and hiring",null,null,0,0,0,0,0,0,0,0,0,0,0,0]
[1,"EX1145",null,null,null,"Property payments",null,null,0,0,0,0,0,0,0,0,0,0,0,0]
[1,"EX1179",null,null,null,"Transport provided: Internal activities",null,null,0,0,0,0,0,0,0,0,0,0,0,0]
[1,"EX1131",null,null,null,"Travel and subsistence",null,null,0,0,0,0,0,0,0,0,0,0,0,0]
[1,"EX1130",null,null,null,"Training and development",null,null,0,0,0,0,0,0,0,0,0,0,0,0]
[1,"EX1132",null,null,null,"Operating payments",null,null,0,0,0,0,0,0,0,0,0,0,0,0]
[1,"EX1146",null,null,null,"Venues and facilities",null,null,0,0,0,0,0,0,0,0,0,0,0,0]
[1,"EX113",null,null,null,"Depreciation",null,null,0,0,0,0,0,0,0,0,0,0,0,0]
[1,"EX114",null,null,null,"Losses from",null,null,{"$f":"SUM(I100:I101,I104)","v":0},{"$f":"SUM(J100:J101,J104)","v":0},{"$f":"SUM(K100:K101,K104)","v":0},{"$f":"SUM(L100:L101,L104)","v":0},{"$f":"SUM(M100:M101,M104)","v":0},{"$f":"SUM(M99-L99)","v":0},{"$f":"SUM(O100:O101,O104)","v":0},{"$f":"SUM(P100:P101,P104)","v":0},{"$f":"SUM(P99-O99)","v":0},{"$f":"SUM(R100:R101,R104)","v":0},{"$f":"SUM(S100:S101,S104)","v":0},{"$f":"SUM(S99-R99)","v":0},{"$f":"SUM(U100:U101,U104)","v":0}]
[1,"EX1141",null,null,null,"Sale of fixed assets",null,null,0,0,0,0,0,{"$f":"SUM(M100-L100)","v":0},0,0,{"$f":"SUM(P100-O100)","v":0},0,0,{"$f":"SUM(S100-R100)","v":0}]
[1,"EX1142",null,null,null,"Impairments and adjustments to fair value",null,null,{"$f":"SUM(I102:I103)","v":0},{"$f":"SUM(J102:J103)","v":0},{"$f":"SUM(K102:K103)","v":0},{"$f":"SUM(L102:L103)","v":0},{"$f":"SUM(M102:M103)","v":0},0,{"$f":"SUM(O102:O103)","v":0},{"$f":"SUM(P102:P103)","v":0},0,{"$f":"SUM(R102:R103)","v":0},{"$f":"SUM(S102:S103)","v":0},0,{"$f":"SUM(U102:U103)","v":0}]
[1,"EX11421",null,null,null,"Adjustments to fair value of assets",null,null,0,0,0,0,0,{"$f":"SUM(M102-L102)","v":0},0,0,{"$f":"SUM(P102-O102)","v":0},0,0,{"$f":"SUM(S102-R102)","v":0}]
[1,"EX11422",null,null,null,"Impairments to assets",null,null,0,0,0,0,0,0,0,0,0,0,0,0]
[1,"EX1143",null,null,null,"Other",null,null,0,0,0,0,0,0,0,0,0,0,0,0]
[1,"EX115",null,null,null,"Interest, dividends and rent on land",null,null,{"$f":"SUM(I106:I108)","v":0},{"$f":"SUM(J106:J108)","v":0},{"$f":"SUM(K106:K108)","v":0},{"$f":"SUM(L106:L108)","v":0},{"$f":"SUM(M106:M108)","v":0},0,{"$f":"SUM(O106:O108)","v":0},{"$f":"SUM(P106:P108)","v":0},0,{"$f":"SUM(R106:R108)","v":0},{"$f":"SUM(S106:S108)","v":0},0,{"$f":"SUM(U106:U108)","v":0}]
[1,"EX1151",null,null,null,"Interest",null,null,0,0,0,0,0,{"$f":"SUM(M106-L106)","v":0},0,0,{"$f":"SUM(P106-O106)","v":0},0,0,{"$f":"SUM(S106-R106)","v":0}]
[1,"EX1152",null,null,null,"Dividends",null,null,0,0,0,0,0,0,0,0,0,0,0,0]
[1,"EX1153",null,null,null,"Rent on land",null,null,0,0,0,0,0,0,0,0,0,0,0,0]
[1,"EX12",null,null,null,"Transfers and subsidies",null,null,{"$f":"SUM(I110,I121,I132:I135)","v":0},{"$f":"SUM(J110,J121,J132:J135)","v":0},{"$f":"SUM(K110,K121,K132:K135)","v":0},{"$f":"SUM(L110,L121,L132:L135)","v":0},{"$f":"SUM(M110,M121,M132:M135)","v":0},0,{"$f":"SUM(O110,O121,O132:O135)","v":0},{"$f":"SUM(P110,P121,P132:P135)","v":0},0,{"$f":"SUM(R110,R121,R132:R135)","v":0},{"$f":"SUM(S110,S121,S132:S135)","v":0},0,{"$f":"SUM(U110,U121,U132:U135)","v":0}]
[2,"EX121",null,null,null,"Employer Grant (SETAs only)",null,null,{"$f":"SUM(I111,I117,I120)","v":0},{"$f":"SUM(J111,J117,J120)","v":0},{"$f":"SUM(K111,K117,K120)","v":0},{"$f":"SUM(L111,L117,L120)","v":0},{"$f":"SUM(M111,M117,M120)","v":0},0,{"$f":"SUM(O111,O117,O120)","v":0},{"$f":"SUM(P111,P117,P120)","v":0},0,{"$f":"SUM(R111,R117,R120)","v":0},{"$f":"SUM(S111,S117,S120)","v":0},0,{"$f":"SUM(U111,U117,U120)","v":0}]
[1,"EX122",null,null,null,"Other government units",null,null,{"$f":"SUM(I112:I116)","v":0},{"$f":"SUM(J112:J116)","v":0},{"$f":"SUM(K112:K116)","v":0},{"$f":"SUM(L112:L116)","v":0},{"$f":"SUM(M112:M116)","v":0},0,{"$f":"SUM(O112:O116)","v":0},{"$f":"SUM(P112:P116)","v":0},0,{"$f":"SUM(R112:R116)","v":0},{"$f":"SUM(S112:S116)","v":0},0,{"$f":"SUM(U112:U116)","v":0}]
[1,"EX1221",null,null,null,"National government",null,null,0,0,0,0,0,{"$f":"SUM(M112-L112)","v":0},0,0,{"$f":"SUM(P112-O112)","v":0},0,0,{"$f":"SUM(S112-R112)","v":0}]
[1,"EX1222",null,null,null,"Departmental agencies and accounts",null,null,0,0,0,0,0,0,0,0,0,0,0,0]
[1,"EX1223",null,null,null,"Provinces",null,null,0,0,0,0,0,0,0,0,0,0,0,0]
[1,"EX1224",null,null,null,"Municipalities",null,null,0,0,0,0,0,0,0,0,0,0,0,0]
[2,"EX1225",null,null,null,"National Skills Fund",null,null,0,0,0,0,0,0,0,0,0,0,0,0]
[1,"EX123",null,null,null,"Public corporations and private enterprises (subsidies and other transfers)",null,null,{"$f":"SUM(I118:I119)","v":0},{"$f":"SUM(J118:J119)","v":0},{"$f":"SUM(K118:K119)","v":0},{"$f":"SUM(L118:L119)","v":0},{"$f":"SUM(M118:M119)","v":0},0,{"$f":"SUM(O118:O119)","v":0},{"$f":"SUM(P118:P119)","v":0},0,{"$f":"SUM(R118:R119)","v":0},{"$f":"SUM(S118:S119)","v":0},0,{"$f":"SUM(U118:U119)","v":0}]
[1,"EX1231",null,null,null,"Public corporations",null,null,0,0,0,0,0,{"$f":"SUM(M118-L118)","v":0},0,0,{"$f":"SUM(P118-O118)","v":0},0,0,{"$f":"SUM(S118-R118)","v":0}]
[1,"EX1232",null,null,null,"Private enterprises",null,null,0,0,0,0,0,0,0,0,0,0,0,0]
[2,"EX124",null,null,null,"Households and non government units",null,null,0,0,0,0,0,0,0,0,0,0,0,0]
[2,"EX125",null,null,null,"Discretionary Grant (SETAs only)",null,null,{"$f":"SUM(I122,I128,I131)","v":0},{"$f":"SUM(J122,J128,J131)","v":0},{"$f":"SUM(K122,K128,K131)","v":0},{"$f":"SUM(L122,L128,L131)","v":0},{"$f":"SUM(M122,M128,M131)","v":0},0,{"$f":"SUM(O122,O128,O131)","v":0},{"$f":"SUM(P122,P128,P131)","v":0},0,{"$f":"SUM(R122,R128,R131)","v":0},{"$f":"SUM(S122,S128,S131)","v":0},0,{"$f":"SUM(U122,U128,U131)","v":0}]
[2,"EX126",null,null,null,"Other government units",null,null,{"$f":"SUM(I123:I127)","v":0},{"$f":"SUM(J123:J127)","v":0},{"$f":"SUM(K123:K127)","v":0},{"$f":"SUM(L123:L127)","v":0},{"$f":"SUM(M123:M127)","v":0},0,{"$f":"SUM(O123:O127)","v":0},{"$f":"SUM(P123:P127)","v":0},0,{"$f":"SUM(R123:R127)","v":0},{"$f":"SUM(S123:S127)","v":0},0,{"$f":"SUM(U123:U127)","v":0}]
[2,"EX1261",null,null,null,"National government",null,null,0,0,0,0,0,{"$f":"SUM(M123-L123)","v":0},0,0,{"$f":"SUM(P123-O123)","v":0},0,0,{"$f":"SUM(S123-R123)","v":0}]
[2,"EX1262",null,null,null,"Departmental agencies and accounts",null,null,0,0,0,0,0,0,0,0,0,0,0,0]
[2,"EX1263",null,null,null,"Provinces",null,null,0,0,0,0,0,0,0,0,0,0,0,0]
[2,"EX1264",null,null,null,"Municipalities",null,null,0,0,0,0,0,0,0,0,0,0,0,0]
[2,"EX1265",null,null,null,"National Skills Fund",null,null,0,0,0,0,0,0,0,0,0,0,0,0]
[2,"EX127",null,null,null,"Public corporations and private enterprises (subsidies and other transfers)",null,null,{"$f":"SUM(I129:I130)","v":0},{"$f":"SUM(J129:J130)","v":0},{"$f":"SUM(K129:K130)","v":0},{"$f":"SUM(L129:L130)","v":0},{"$f":"SUM(M129:M130)","v":0},0,{"$f":"SUM(O129:O130)","v":0},{"$f":"SUM(P129:P130)","v":0},0,{"$f":"SUM(R129:R130)","v":0},{"$f":"SUM(S129:S130)","v":0},0,{"$f":"SUM(U129:U130)","v":0}]
[2,"EX1271",null,null,null,"Public corporations",null,null,0,0,0,0,0,{"$f":"SUM(M129-L129)","v":0},0,0,{"$f":"SUM(P129-O129)","v":0},0,0,{"$f":"SUM(S129-R129)","v":0}]
[2,"EX1272",null,null,null,"Private enterprises",null,null,0,0,0,0,0,0,0,0,0,0,0,0]
[2,"EX128",null,null,null,"Households and non government units",null,null,0,0,0,0,0,0,0,0,0,0,0,0]
[1,"EX129",null,null,null,"Higher education institutions",null,null,0,0,0,0,0,0,0,0,0,0,0,0]
[1,"EX130",null,null,null,"Foreign governments and international organisations ",null,null,0,0,0,0,0,0,0,0,0,0,0,0]
[1,"EX131",null,null,null,"Non-profit institutions",null,null,0,0,0,0,0,0,0,0,0,0,0,0]
[1,"EX132",null,null,null,"Households",null,null,{"$f":"SUM(I136:I137)","v":0},{"$f":"SUM(J136:J137)","v":0},{"$f":"SUM(K136:K137)","v":0},{"$f":"SUM(L136:L137)","v":0},{"$f":"SUM(M136:M137)","v":0},0,{"$f":"SUM(O136:O137)","v":0},{"$f":"SUM(P136:P137)","v":0},0,{"$f":"SUM(R136:R137)","v":0},{"$f":"SUM(S136:S137)","v":0},0,{"$f":"SUM(U136:U137)","v":0}]
[1,"EX1301",null,null,null,"Social benefits ",null,null,0,0,0,0,0,{"$f":"SUM(M136-L136)","v":0},0,0,{"$f":"SUM(P136-O136)","v":0},0,0,{"$f":"SUM(S136-R136)","v":0}]
[1,"EX1302",null,null,null,"Other transfers to households",null,null,0,0,0,0,0,0,0,0,0,0,0,0]
[1,"EX13",null,null,null,"Tax payment",null,null,0,0,0,0,0,0,0,0,0,0,0,0]
[1,"EX14",null,null,null,"Outside shareholders Interest",null,null,0,0,0,0,0,0,0,0,0,0,0,0]
[1,"EX15",null,null,null,"Total Expenditure",null,null,{"$f":"SUM(I39,I109,I138:I139)","v":0},{"$f":"SUM(J39,J109,J138:J139)","v":0},{"$f":"SUM(K39,K109,K138:K139)","v":0},{"$f":"SUM(L39,L109,L138:L139)","v":0},{"$f":"SUM(M39,M109,M138:M139)","v":0},{"$f":"SUM(M140-L140)","v":0},{"$f":"SUM(O39,O109,O138:O139)","v":0},{"$f":"SUM(P39,P109,P138:P139)","v":0},{"$f":"SUM(P140-O140)","v":0},{"$f":"SUM(R39,R109,R138:R139)","v":0},{"$f":"SUM(S39,S109,S138:S139)","v":0},{"$f":"SUM(S140-R140)","v":0},{"$f":"SUM(U39,U109,U138:U139)","v":0}]
[1]
[1,null,null,null,null,"Objective less Expenditure",null,null,{"$f":"ROUND(IF(I37-I140>0,IF(I37-I140<1,0,I37-I140),I37-I140),0)","v":0},0,0,0,0,{"$f":"ROUND(IF(N37-N140>0,IF(N37-N140<1,0,N37-N140),N37-N140),0)","v":0},0,0,0,0,0,0,0]
[1]

{"sheet":"7","index":11,"n_rows":143,"n_cols":22,"rows_kept":143,"cut":false,"hidden":false,"merged":[[31,14,31,16],[31,17,31,19],[31,11,31,13]]}
[]
[]
[]
[]
[]
[null,null,null,null,null,"PE No",{"$f":"Settings!O2","v":"PE196"}]
[null,null,null,null,null,"Entity name",{"$f":"Settings!$D$2","v":"Transnet Limited"}]
[]
[null,null,null,null,null,"Performance and operations information"]
["ItemCat","Item code","Hide/unhide",null,null,"Activity/Output/Outcome/Efficiency Indicator","Priorities",null,{"$f":"MyYearM3","v":"2019/20"},{"$f":"MyYearM2","v":"2020/21"},{"$f":"MyYearM1","v":"2021/22"},{"$f":"MyYear0","v":"2022/23"},{"$f":"MyYearP1","v":"2023/24"},{"$f":"MyYearP2","v":"2024/25"},{"$f":"MyYearP3","v":"2025/26"},"Related Objectives","Add to 'Performance Indicators' Sheet","Comments"]
[1,null,null,null,null,0,0,null,0,0,0,0,0,0,null,0,0,0]
[1,null,null,null,null,0,0,null,0,0,0,0,0,0,null,0,0,0]
[1,null,null,null,null,0,0,null,0,0,0,0,0,0,null,0,0,0]
[1,null,null,null,null,0,0,null,0,0,0,0,0,0,null,0,0,0]
[1,null,null,null,null,0,0,null,0,0,0,0,0,0,null,0,0,0]
[1,null,null,null,null,0,0,null,0,0,0,0,0,0,null,0,0,0]
[1,null,null,null,null,0,0,null,0,0,0,0,0,0,null,0,0,0]
[1,null,null,null,null,0,0,null,0,0,0,0,0,0,null,0,0,0]
[1,null,null,null,null,0,0,null,0,0,0,0,0,0,null,0,0,0]
[1,null,null,null,null,0,0,null,0,0,0,0,0,0,null,0,0,0]
[1,null,null,null,null,0,0,null,0,0,0,0,0,0,null,0,0,0]
[1,null,null,null,null,0,0,null,0,0,0,0,0,0,null,0,0,0]
[1,null,null,null,null,0,0,null,0,0,0,0,0,0,null,0,0,0]
[1,null,null,null,null,0,0,null,0,0,0,0,0,0,null,0,0,0]
[1,null,null,null,null,0,0,null,0,0,0,0,0,0,null,0,0,0]
[1,null,null,null,null,"Notes:"]
[1,null,null,null,null,"Performance indicators are an explanation of objectives performance.   "]
[1,null,null,null,null,"1. They are specific measurements that track progress towards achieving the goals and objectives of an institution."]
[1,null,null,null,null,"2. Institutions should use performance indicators in the 2021/22 Annual Performance Plans and those in the 2022 ENE. "]
[1,null,null,null,null,"3. Institutions should also indicate instances where targets are not affected by budget baseline reprioritisation."]
[1]
[1,null,null,null,null,null,null,null,{"$f":"MyYearM3","v":"2019/20"},{"$f":"MyYearM2","v":"2020/21"},{"$f":"MyYearM1","v":"2021/22"},{"$f":"MyYear0","v":"2022/23"},null,null,{"$f":"MyYearP1","v":"2023/24"},null,null,{"$f":"MyYearP2","v":"2024/25"},null,null,{"$f":"MyYearP3","v":"2025/26"}]
[1,null,null,null,null,"Expenses",null,null,{"$f":"Hist_year3RestatedAudited","v":"Audited\noutcome"},{"$f":"Hist_year2RestatedAudited","v":"Audited\noutcome"},{"$f":"Hist_year1Audited","v":"Audited\noutcome"},{"$f":"Cur_YearBudgEst","v":"Budget\nestimate"},{"$f":"Cur_YearApprovedBudg","v":"Approved budget"},{"$f":"Cur_YearChangeFrRevBudg","v":"Changes from \nbudget estimate"},{"$f":"MTEF1BudgEst","v":"Budget\nestimate"},{"$f":"MTEF1RevBudgEst","v":"Revised\nbudget\nestimate"},{"$f":"MTEF1_ChangeFrBudgEst","v":"Changes from budget estimate"},{"$f":"MTEF2BudgEst","v":"Budget\nestimate"},{"$f":"MTEF2RevBudgEst","v":"Revised\nbudget\nestimate"},{"$f":"MTEF2_ChangeFrBudgEst","v":"Changes from budget estimate"},{"$f":"MTEF3PlanBudgetEst","v":"Planning\nbudget \nestimate"}]
[1]
[1,null,null,null,null,"Rand thousand"]
[1,null,null,null,null,"Objective/Activity"]
[1,null,null,null,null,0,null,null,0,0,0,0,0,{"$f":"SUM(M37-L37)","v":0},0,0,{"$f":"SUM(P37-O37)","v":0},0,0,{"$f":"SUM(S37-R37)","v":0}]
[1,null,null,null,null,"Economic classification"]
[1,"EX11",null,null,null,"Current payments",null,null,{"$f":"SUM(I40,I43,I98:I99,I105)","v":0},{"$f":"SUM(J40,J43,J98:J99,J105)","v":0},{"$f":"SUM(K40,K43,K98:K99,K105)","v":0},{"$f":"SUM(L40,L43,L98:L99,L105)","v":0},{"$f":"SUM(M40,M43,M98:M99,M105)","v":0},{"$f":"SUM(M39-L39)","v":0},{"$f":"SUM(O40,O43,O98:O99,O105)","v":0},{"$f":"SUM(P40,P43,P98:P99,P105)","v":0},{"$f":"SUM(P39-O39)","v":0},{"$f":"SUM(R40,R43,R98:R99,R105)","v":0},{"$f":"SUM(S40,S43,S98:S99,S105)","v":0},{"$f":"SUM(S39-R39)","v":0},{"$f":"SUM(U40,U43,U98:U99,U105)","v":0}]
[1,"EX111",null,null,null,"Compensation of employees",null,null,{"$f":"SUM(I41:I42)","v":0},{"$f":"SUM(J41:J42)","v":0},{"$f":"SUM(K41:K42)","v":0},{"$f":"SUM(L41:L42)","v":0},{"$f":"SUM(M41:M42)","v":0},{"$f":"SUM(M40-L40)","v":0},{"$f":"SUM(O41:O42)","v":0},{"$f":"SUM(P41:P42)","v":0},{"$f":"SUM(P40-O40)","v":0},{"$f":"SUM(R41:R42)","v":0},{"$f":"SUM(S41:S42)","v":0},{"$f":"SUM(S40-R40)","v":0},{"$f":"SUM(U41:U42)","v":0}]
[1,"EX1111",null,null,null,"Salaries and wages",null,null,0,0,0,0,0,{"$f":"SUM(M41-L41)","v":0},0,0,{"$f":"SUM(P41-O41)","v":0},0,0,{"$f":"SUM(S41-R41)","v":0}]
[1,"EX1112",null,null,null,"Social contributions",null,null,0,0,0,0,0,0,0,0,0,0,0,0]
[1,"EX112",null,null,null,"Goods and services",null,null,{"$f":"SUM(I45:I54,I58:I61,I73,I75:I97)","v":0},{"$f":"SUM(J45:J54,J58:J61,J73,J75:J97)","v":0},0,0,0,0,0,0,0,0,0,0,0,{"$f":"SUM(V45:V54,V58:V61,V73,V75:V97)","v":0}]
[1,"EX000",null,null,null,"Of which 1"]
[1,"EX1133",null,null,null,"7istrative fees",null,null,0,0,0,0,0,{"$f":"SUM(M45-L45)","v":0},0,0,{"$f":"SUM(P45-O45)","v":0},0,0,{"$f":"SUM(S45-R45)","v":0}]
[1,"EX1134",null,null,null,"Advertising",null,null,0,0,0,0,0,0,0,0,0,0,0,0]
[1,"EX1135",null,null,null,"Minor assets",null,null,0,0,0,0,0,0,0,0,0,0,0,0]
[1,"EX1136",null,null,null,"Audit costs: External",null,null,0,0,0,0,0,0,0,0,0,0,0,0]
[1,"EX1139",null,null,null,"Bursaries: Employees",null,null,0,0,0,0,0,0,0,0,0,0,0,0]
[1,"EX1140",null,null,null,"Catering: Internal activities",null,null,0,0,0,0,0,0,0,0,0,0,0,0]
[1,"EX1122",null,null,null,"Communication (G&S)",null,null,0,0,0,0,0,0,0,0,0,0,0,0]
[1,"EX1123",null,null,null,"Computer services",null,null,0,0,0,0,0,0,0,0,0,0,0,0]
[1,"EX1124",null,null,null,"Consultants: Business and advisory services",null,null,0,0,0,0,0,0,0,0,0,0,0,0]
[1,"EX1180",null,null,null,"Infrastructure and planning services",null,null,{"$f":"SUM(I55:I57)","v":0},{"$f":"SUM(J55:J57)","v":0},{"$f":"SUM(K55:K57)","v":0},{"$f":"SUM(L55:L57)","v":0},{"$f":"SUM(M55:M57)","v":0},{"$f":"SUM(M54-L54)","v":0},{"$f":"SUM(O55:O57)","v":0},{"$f":"SUM(P55:P57)","v":0},{"$f":"SUM(P54-O54)","v":0},{"$f":"SUM(R55:R57)","v":0},{"$f":"SUM(S55:S57)","v":0},{"$f":"SUM(S54-R54)","v":0},{"$f":"SUM(U55:U57)","v":0}]
[1,"EX11801",null,null,null,"Maintenance and repairs: Buildings: Consultants",null,null,0,0,0,0,0,{"$f":"SUM(M55-L55)","v":0},0,0,{"$f":"SUM(P55-O55)","v":0},0,0,0]
[1,"EX11802",null,null,null,"Maintenance and repairs: Other fixed structures: Consultants",null,null,0,0,0,0,0,0,0,0,0,0,0,0]
[1,"EX11803",null,null,null,"Other",null,null,0,0,0,0,0,0,0,0,0,0,0,0]
[1,"EX1164",null,null,null,"Laboratory services",null,null,0,0,0,0,0,0,0,0,0,0,0,0]
[1,"EX1162",null,null,null,"Legal services (G&S)",null,null,0,0,0,0,0,0,0,0,0,0,0,0]
[1,"EX1165",null,null,null,"Science and technological services",null,null,0,0,0,0,0,0,0,0,0,0,0,0]
[1,"EX1125",null,null,null,"Contractors",null,null,{"$f":"SUM(I62:I66,I72)","v":0},{"$f":"SUM(J62:J66,J72)","v":0},{"$f":"SUM(K62:K66,K72)","v":0},{"$f":"SUM(L62:L66,L72)","v":0},{"$f":"SUM(M62:M66,M72)","v":0},{"$f":"SUM(M61-L61)","v":0},{"$f":"SUM(O62:O66,O72)","v":0},{"$f":"SUM(P62:P66,P72)","v":0},{"$f":"SUM(P61-O61)","v":0},{"$f":"SUM(R62:R66,R72)","v":0},{"$f":"SUM(S62:S66,S72)","v":0},0,{"$f":"SUM(U62:U66,U72)","v":0}]
[1,"EX11251",null,null,null,"Maintenance and repairs of other fixed structures",null,null,0,0,0,0,0,0,0,0,0,0,0,0]
[1,"EX11252",null,null,null,"Maintenance and repairs of other machinery and equipment",null,null,0,0,0,0,0,0,0,0,0,0,0,0]
[1,"EX11253",null,null,null,"Maintenance and repairs of heritage buildings",null,null,0,0,0,0,0,0,0,0,0,0,0,0]
[1,"EX11254",null,null,null,"Maintenance and repairs of other heritage fixed structures",null,null,0,0,0,0,0,0,0,0,0,0,0,0]
[5,"EX11255",null,null,null,"South african social security agency payment contractors",null,null,{"$f":"SUM(I67:I71)","v":0},{"$f":"SUM(J67:J71)","v":0},{"$f":"SUM(K67:K71)","v":0},{"$f":"SUM(L67:L71)","v":0},{"$f":"SUM(M67:M71)","v":0},0,{"$f":"SUM(O67:O71)","v":0},{"$f":"SUM(P67:P71)","v":0},0,{"$f":"SUM(R67:R71)","v":0},{"$f":"SUM(S67:S71)","v":0},0,{"$f":"SUM(U67:U71)","v":0}]
[5,"EX112551",null,null,null,"SASSA 7 fees",null,null,0,0,0,0,0,0,0,0,0,0,0,0]
[5,"EX112552",null,null,null,"SASSA Bankcard fees",null,null,0,0,0,0,0,0,0,0,0,0,0,0]
[5,"EX112553",null,null,null,"SASSA registration fees",null,null,0,0,0,0,0,0,0,0,0,0,0,0]
[5,"EX112554",null,null,null,"SASSA beneficiary fees",null,null,0,0,0,0,0,0,0,0,0,0,0,0]
[5,"EX112555",null,null,null,"SASSA help desk fees",null,null,0,0,0,0,0,0,0,0,0,0,0,0]
[1,"EX11256",null,null,null,"Other",null,null,0,0,0,0,0,0,0,0,0,0,0,0]
[1,"EX1121",null,null,null,"Agency and support/outsourced services",null,null,0,0,0,0,0,0,0,0,0,0,0,0]
[5,"EX11211",null,null,null,"     Of Which: Medical assessments",null,null,0,0,0,0,0,0,0,0,0,0,0,0]
[1,"EX1161",null,null,null,"Entertainment",null,null,0,0,0,0,0,0,0,0,0,0,0,0]
[1,"EX1166",null,null,null,"Fleet services (including government motor transport)",null,null,0,0,0,0,0,0,0,0,0,0,0,0]
[1,"EX1167",null,null,null,"Housing",null,null,0,0,0,0,0,0,0,0,0,0,0,0]
[1,"EX1168",null,null,null,"Inventory: Clothing material and accessories",null,null,0,0,0,0,0,0,0,0,0,0,0,0]
[1,"EX1169",null,null,null,"Inventory: Farming supplies",null,null,0,0,0,0,0,0,0,0,0,0,0,0]
[1,"EX1170",null,null,null,"Inventory: Food and food supplies",null,null,0,0,0,0,0,0,0,0,0,0,0,0]
[1,"EX1171",null,null,null,"Inventory: Fuel, oil and gas",null,null,0,0,0,0,0,0,0,0,0,0,0,0]
[1,"EX1172",null,null,null,"Inventory: Learner and teacher support material",null,null,0,0,0,0,0,0,0,0,0,0,0,0]
[1,"EX1126",null,null,null,"Inventory: Materials and supplies",null,null,0,0,0,0,0,0,0,0,0,0,0,0]
[1,"EX1173",null,null,null,"Inventory: Medical supplies",null,null,0,0,0,0,0,0,0,0,0,0,0,0]
[1,"EX1174",null,null,null,"Inventory: Medicine",null,null,0,0,0,0,0,0,0,0,0,0,0,0]
[1,"EX1175",null,null,null,"Medsas inventory interface",null,null,0,0,0,0,0,0,0,0,0,0,0,0]
[1,"EX1176",null,null,null,"Inventory: Other supplies",null,null,0,0,0,0,0,0,0,0,0,0,0,0]
[1,"EX1177",null,null,null,"Consumable supplies",null,null,0,0,0,0,0,0,0,0,0,0,0,0]
[1,"EX1144",null,null,null,"Consumables: Stationery, printing and office supplies",null,null,0,0,0,0,0,0,0,0,0,0,0,0]
[1,"EX1127",null,null,null,"Operating leases",null,null,0,0,0,0,0,0,0,0,0,0,0,0]
[1,"EX1178",null,null,null,"Rental and hiring",null,null,0,0,0,0,0,0,0,0,0,0,0,0]
[1,"EX1145",null,null,null,"Property payments",null,null,0,0,0,0,0,0,0,0,0,0,0,0]
[1,"EX1179",null,null,null,"Transport provided: Internal activities",null,null,0,0,0,0,0,0,0,0,0,0,0,0]
[1,"EX1131",null,null,null,"Travel and subsistence",null,null,0,0,0,0,0,0,0,0,0,0,0,0]
[1,"EX1130",null,null,null,"Training and development",null,null,0,0,0,0,0,0,0,0,0,0,0,0]
[1,"EX1132",null,null,null,"Operating payments",null,null,0,0,0,0,0,0,0,0,0,0,0,0]
[1,"EX1146",null,null,null,"Venues and facilities",null,null,0,0,0,0,0,0,0,0,0,0,0,0]
[1,"EX113",null,null,null,"Depreciation",null,null,0,0,0,0,0,0,0,0,0,0,0,0]
[1,"EX114",null,null,null,"Losses from",null,null,{"$f":"SUM(I100:I101,I104)","v":0},{"$f":"SUM(J100:J101,J104)","v":0},{"$f":"SUM(K100:K101,K104)","v":0},{"$f":"SUM(L100:L101,L104)","v":0},{"$f":"SUM(M100:M101,M104)","v":0},{"$f":"SUM(M99-L99)","v":0},{"$f":"SUM(O100:O101,O104)","v":0},{"$f":"SUM(P100:P101,P104)","v":0},{"$f":"SUM(P99-O99)","v":0},{"$f":"SUM(R100:R101,R104)","v":0},{"$f":"SUM(S100:S101,S104)","v":0},{"$f":"SUM(S99-R99)","v":0},{"$f":"SUM(U100:U101,U104)","v":0}]
[1,"EX1141",null,null,null,"Sale of fixed assets",null,null,0,0,0,0,0,{"$f":"SUM(M100-L100)","v":0},0,0,{"$f":"SUM(P100-O100)","v":0},0,0,{"$f":"SUM(S100-R100)","v":0}]
[1,"EX1142",null,null,null,"Impairments and adjustments to fair value",null,null,{"$f":"SUM(I102:I103)","v":0},{"$f":"SUM(J102:J103)","v":0},{"$f":"SUM(K102:K103)","v":0},{"$f":"SUM(L102:L103)","v":0},{"$f":"SUM(M102:M103)","v":0},0,{"$f":"SUM(O102:O103)","v":0},{"$f":"SUM(P102:P103)","v":0},0,{"$f":"SUM(R102:R103)","v":0},{"$f":"SUM(S102:S103)","v":0},0,{"$f":"SUM(U102:U103)","v":0}]
[1,"EX11421",null,null,null,"Adjustments to fair value of assets",null,null,0,0,0,0,0,{"$f":"SUM(M102-L102)","v":0},0,0,{"$f":"SUM(P102-O102)","v":0},0,0,{"$f":"SUM(S102-R102)","v":0}]
[1,"EX11422",null,null,null,"Impairments to assets",null,null,0,0,0,0,0,0,0,0,0,0,0,0]
[1,"EX1143",null,null,null,"Other",null,null,0,0,0,0,0,0,0,0,0,0,0,0]
[1,"EX115",null,null,null,"Interest, dividends and rent on land",null,null,{"$f":"SUM(I106:I108)","v":0},{"$f":"SUM(J106:J108)","v":0},{"$f":"SUM(K106:K108)","v":0},{"$f":"SUM(L106:L108)","v":0},{"$f":"SUM(M106:M108)","v":0},0,{"$f":"SUM(O106:O108)","v":0},{"$f":"SUM(P106:P108)","v":0},0,{"$f":"SUM(R106:R108)","v":0},{"$f":"SUM(S106:S108)","v":0},0,{"$f":"SUM(U106:U108)","v":0}]
[1,"EX1151",null,null,null,"Interest",null,null,0,0,0,0,0,{"$f":"SUM(M106-L106)","v":0},0,0,{"$f":"SUM(P106-O106)","v":0},0,0,{"$f":"SUM(S106-R106)","v":0}]
[1,"EX1152",null,null,null,"Dividends",null,null,0,0,0,0,0,0,0,0,0,0,0,0]
[1,"EX1153",null,null,null,"Rent on land",null,null,0,0,0,0,0,0,0,0,0,0,0,0]
[1,"EX12",null,null,null,"Transfers and subsidies",null,null,{"$f":"SUM(I110,I121,I132:I135)","v":0},{"$f":"SUM(J110,J121,J132:J135)","v":0},{"$f":"SUM(K110,K121,K132:K135)","v":0},{"$f":"SUM(L110,L121,L132:L135)","v":0},{"$f":"SUM(M110,M121,M132:M135)","v":0},0,{"$f":"SUM(O110,O121,O132:O135)","v":0},{"$f":"SUM(P110,P121,P132:P135)","v":0},0,{"$f":"SUM(R110,R121,R132:R135)","v":0},{"$f":"SUM(S110,S121,S132:S135)","v":0},0,{"$f":"SUM(U110,U121,U132:U135)","v":0}]
[2,"EX121",null,null,null,"Employer Grant (SETAs only)",null,null,{"$f":"SUM(I111,I117,I120)","v":0},{"$f":"SUM(J111,J117,J120)","v":0},{"$f":"SUM(K111,K117,K120)","v":0},{"$f":"SUM(L111,L117,L120)","v":0},{"$f":"SUM(M111,M117,M120)","v":0},0,{"$f":"SUM(O111,O117,O120)","v":0},{"$f":"SUM(P111,P117,P120)","v":0},0,{"$f":"SUM(R111,R117,R120)","v":0},{"$f":"SUM(S111,S117,S120)","v":0},0,{"$f":"SUM(U111,U117,U120)","v":0}]
[1,"EX122",null,null,null,"Other government units",null,null,{"$f":"SUM(I112:I116)","v":0},{"$f":"SUM(J112:J116)","v":0},{"$f":"SUM(K112:K116)","v":0},{"$f":"SUM(L112:L116)","v":0},{"$f":"SUM(M112:M116)","v":0},0,{"$f":"SUM(O112:O116)","v":0},{"$f":"SUM(P112:P116)","v":0},0,{"$f":"SUM(R112:R116)","v":0},{"$f":"SUM(S112:S116)","v":0},0,{"$f":"SUM(U112:U116)","v":0}]
[1,"EX1221",null,null,null,"National government",null,null,0,0,0,0,0,{"$f":"SUM(M112-L112)","v":0},0,0,{"$f":"SUM(P112-O112)","v":0},0,0,{"$f":"SUM(S112-R112)","v":0}]
[1,"EX1222",null,null,null,"Departmental agencies and accounts",null,null,0,0,0,0,0,0,0,0,0,0,0,0]
[1,"EX1223",null,null,null,"Provinces",null,null,0,0,0,0,0,0,0,0,0,0,0,0]
[1,"EX1224",null,null,null,"Municipalities",null,null,0,0,0,0,0,0,0,0,0,0,0,0]
[2,"EX1225",null,null,null,"National Skills Fund",null,null,0,0,0,0,0,0,0,0,0,0,0,0]
[1,"EX123",null,null,null,"Public corporations and private enterprises (subsidies and other transfers)",null,null,{"$f":"SUM(I118:I119)","v":0},{"$f":"SUM(J118:J119)","v":0},{"$f":"SUM(K118:K119)","v":0},{"$f":"SUM(L118:L119)","v":0},{"$f":"SUM(M118:M119)","v":0},0,{"$f":"SUM(O118:O119)","v":0},{"$f":"SUM(P118:P119)","v":0},0,{"$f":"SUM(R118:R119)","v":0},{"$f":"SUM(S118:S119)","v":0},0,{"$f":"SUM(U118:U119)","v":0}]
[1,"EX1231",null,null,null,"Public corporations",null,null,0,0,0,0,0,{"$f":"SUM(M118-L118)","v":0},0,0,{"$f":"SUM(P118-O118)","v":0},0,0,{"$f":"SUM(S118-R118)","v":0}]
[1,"EX1232",null,null,null,"Private enterprises",null,null,0,0,0,0,0,0,0,0,0,0,0,0]
[2,"EX124",null,null,null,"Households and non government units",null,null,0,0,0,0,0,0,0,0,0,0,0,0]
[2,"EX125",null,null,null,"Discretionary Grant (SETAs only)",null,null,{"$f":"SUM(I122,I128,I131)","v":0},{"$f":"SUM(J122,J128,J131)","v":0},{"$f":"SUM(K122,K128,K131)","v":0},{"$f":"SUM(L122,L128,L131)","v":0},{"$f":"SUM(M122,M128,M131)","v":0},0,{"$f":"SUM(O122,O128,O131)","v":0},{"$f":"SUM(P122,P128,P131)","v":0},0,{"$f":"SUM(R122,R128,R131)","v":0},{"$f":"SUM(S122,S128,S131)","v":0},0,{"$f":"SUM(U122,U128,U131)","v":0}]
[2,"EX126",null,null,null,"Other government units",null,null,{"$f":"SUM(I123:I127)","v":0},{"$f":"SUM(J123:J127)","v":0},{"$f":"SUM(K123:K127)","v":0},{"$f":"SUM(L123:L127)","v":0},{"$f":"SUM(M123:M127)","v":0},0,{"$f":"SUM(O123:O127)","v":0},{"$f":"SUM(P123:P127)","v":0},0,{"$f":"SUM(R123:R127)","v":0},{"$f":"SUM(S123:S127)","v":0},0,{"$f":"SUM(U123:U127)","v":0}]
[2,"EX1261",null,null,null,"National government",null,null,0,0,0,0,0,{"$f":"SUM(M123-L123)","v":0},0,0,{"$f":"SUM(P123-O123)","v":0},0,0,{"$f":"SUM(S123-R123)","v":0}]
[2,"EX1262",null,null,null,"Departmental agencies and accounts",null,null,0,0,0,0,0,0,0,0,0,0,0,0]
[2,"EX1263",null,null,null,"Provinces",null,null,0,0,0,0,0,0,0,0,0,0,0,0]
[2,"EX1264",null,null,null,"Municipalities",null,null,0,0,0,0,0,0,0,0,0,0,0,0]
[2,"EX1265",null,null,null,"National Skills Fund",null,null,0,0,0,0,0,0,0,0,0,0,0,0]
[2,"EX127",null,null,null,"Public corporations and private enterprises (subsidies and other transfers)",null,null,{"$f":"SUM(I129:I130)","v":0},{"$f":"SUM(J129:J130)","v":0},{"$f":"SUM(K129:K130)","v":0},{"$f":"SUM(L129:L130)","v":0},{"$f":"SUM(M129:M130)","v":0},0,{"$f":"SUM(O129:O130)","v":0},{"$f":"SUM(P129:P130)","v":0},0,{"$f":"SUM(R129:R130)","v":0},{"$f":"SUM(S129:S130)","v":0},0,{"$f":"SUM(U129:U130)","v":0}]
[2,"EX1271",null,null,null,"Public corporations",null,null,0,0,0,0,0,{"$f":"SUM(M129-L129)","v":0},0,0,{"$f":"SUM(P129-O129)","v":0},0,0,{"$f":"SUM(S129-R129)","v":0}]
[2,"EX1272",null,null,null,"Private enterprises",null,null,0,0,0,0,0,0,0,0,0,0,0,0]
[2,"EX128",null,null,null,"Households and non government units",null,null,0,0,0,0,0,0,0,0,0,0,0,0]
[1,"EX129",null,null,null,"Higher education institutions",null,null,0,0,0,0,0,0,0,0,0,0,0,0]
[1,"EX130",null,null,null,"Foreign governments and international organisations ",null,null,0,0,0,0,0,0,0,0,0,0,0,0]
[1,"EX131",null,null,null,"Non-profit institutions",null,null,0,0,0,0,0,0,0,0,0,0,0,0]
[1,"EX132",null,null,null,"Households",null,null,{"$f":"SUM(I136:I137)","v":0},{"$f":"SUM(J136:J137)","v":0},{"$f":"SUM(K136:K137)","v":0},{"$f":"SUM(L136:L137)","v":0},{"$f":"SUM(M136:M137)","v":0},0,{"$f":"SUM(O136:O137)","v":0},{"$f":"SUM(P136:P137)","v":0},0,{"$f":"SUM(R136:R137)","v":0},{"$f":"SUM(S136:S137)","v":0},0,{"$f":"SUM(U136:U137)","v":0}]
[1,"EX1301",null,null,null,"Social benefits ",null,null,0,0,0,0,0,{"$f":"SUM(M136-L136)","v":0},0,0,{"$f":"SUM(P136-O136)","v":0},0,0,{"$f":"SUM(S136-R136)","v":0}]
[1,"EX1302",null,null,null,"Other transfers to households",null,null,0,0,0,0,0,0,0,0,0,0,0,0]
[1,"EX13",null,null,null,"Tax payment",null,null,0,0,0,0,0,0,0,0,0,0,0,0]
[1,"EX14",null,null,null,"Outside shareholders Interest",null,null,0,0,0,0,0,0,0,0,0,0,0,0]
[1,"EX15",null,null,null,"Total Expenditure",null,null,{"$f":"SUM(I39,I109,I138:I139)","v":0},{"$f":"SUM(J39,J109,J138:J139)","v":0},{"$f":"SUM(K39,K109,K138:K139)","v":0},{"$f":"SUM(L39,L109,L138:L139)","v":0},{"$f":"SUM(M39,M109,M138:M139)","v":0},{"$f":"SUM(M140-L140)","v":0},{"$f":"SUM(O39,O109,O138:O139)","v":0},{"$f":"SUM(P39,P109,P138:P139)","v":0},{"$f":"SUM(P140-O140)","v":0},{"$f":"SUM(R39,R109,R138:R139)","v":0},{"$f":"SUM(S39,S109,S138:S139)","v":0},{"$f":"SUM(S140-R140)","v":0},{"$f":"SUM(U39,U109,U138:U139)","v":0}]
[1]
[1,null,null,null,null,"Objective less Expenditure",null,null,{"$f":"ROUND(IF(I37-I140>0,IF(I37-I140<1,0,I37-I140),I37-I140),0)","v":0},0,0,0,0,{"$f":"ROUND(IF(N37-N140>0,IF(N37-N140<1,0,N37-N140),N37-N140),0)","v":0},0,0,0,0,0,0,0]
[1]

{"sheet":"8","index":12,"n_rows":143,"n_cols":22,"rows_kept":143,"cut":false,"hidden":false,"merged":[[31,14,31,16],[31,17,31,19],[31,11,31,13]]}
[]
[]
[]
[]
[]
[null,null,null,null,null,"PE No",{"$f":"Settings!O2","v":"PE196"}]
[null,null,null,null,null,"Entity name",{"$f":"Settings!$D$2","v":"Transnet Limited"}]
[]
[null,null,null,null,null,"Performance and operations information"]
["ItemCat","Item code","Hide/unhide",null,null,"Activity/Output/Outcome/Efficiency Indicator","Priorities",null,{"$f":"MyYearM3","v":"2019/20"},{"$f":"MyYearM2","v":"2020/21"},{"$f":"MyYearM1","v":"2021/22"},{"$f":"MyYear0","v":"2022/23"},{"$f":"MyYearP1","v":"2023/24"},{"$f":"MyYearP2","v":"2024/25"},{"$f":"MyYearP3","v":"2025/26"},"Related Objectives","Add to 'Performance Indicators' Sheet","Comments"]
[1,null,null,null,null,0,0,null,0,0,0,0,0,0,null,0,0,0]
[1,null,null,null,null,0,0,null,0,0,0,0,0,0,null,0,0,0]
[1,null,null,null,null,0,0,null,0,0,0,0,0,0,null,0,0,0]
[1,null,null,null,null,0,0,null,0,0,0,0,0,0,null,0,0,0]
[1,null,null,null,null,0,0,null,0,0,0,0,0,0,null,0,0,0]
[1,null,null,null,null,0,0,null,0,0,0,0,0,0,null,0,0,0]
[1,null,null,null,null,0,0,null,0,0,0,0,0,0,null,0,0,0]
[1,null,null,null,null,0,0,null,0,0,0,0,0,0,null,0,0,0]
[1,null,null,null,null,0,0,null,0,0,0,0,0,0,null,0,0,0]
[1,null,null,null,null,0,0,null,0,0,0,0,0,0,null,0,0,0]
[1,null,null,null,null,0,0,null,0,0,0,0,0,0,null,0,0,0]
[1,null,null,null,null,0,0,null,0,0,0,0,0,0,null,0,0,0]
[1,null,null,null,null,0,0,null,0,0,0,0,0,0,null,0,0,0]
[1,null,null,null,null,0,0,null,0,0,0,0,0,0,null,0,0,0]
[1,null,null,null,null,0,0,null,0,0,0,0,0,0,null,0,0,0]
[1,null,null,null,null,"Notes:"]
[1,null,null,null,null,"Performance indicators are an explanation of objectives performance.   "]
[1,null,null,null,null,"1. They are specific measurements that track progress towards achieving the goals and objectives of an institution."]
[1,null,null,null,null,"2. Institutions should use performance indicators in the 2021/22 Annual Performance Plans and those in the 2022 ENE. "]
[1,null,null,null,null,"3. Institutions should also indicate instances where targets are not affected by budget baseline reprioritisation."]
[1]
[1,null,null,null,null,null,null,null,{"$f":"MyYearM3","v":"2019/20"},{"$f":"MyYearM2","v":"2020/21"},{"$f":"MyYearM1","v":"2021/22"},{"$f":"MyYear0","v":"2022/23"},null,null,{"$f":"MyYearP1","v":"2023/24"},null,null,{"$f":"MyYearP2","v":"2024/25"},null,null,{"$f":"MyYearP3","v":"2025/26"}]
[1,null,null,null,null,"Expenses",null,null,{"$f":"Hist_year3RestatedAudited","v":"Audited\noutcome"},{"$f":"Hist_year2RestatedAudited","v":"Audited\noutcome"},{"$f":"Hist_year1Audited","v":"Audited\noutcome"},{"$f":"Cur_YearBudgEst","v":"Budget\nestimate"},{"$f":"Cur_YearApprovedBudg","v":"Approved budget"},{"$f":"Cur_YearChangeFrRevBudg","v":"Changes from \nbudget estimate"},{"$f":"MTEF1BudgEst","v":"Budget\nestimate"},{"$f":"MTEF1RevBudgEst","v":"Revised\nbudget\nestimate"},{"$f":"MTEF1_ChangeFrBudgEst","v":"Changes from budget estimate"},{"$f":"MTEF2BudgEst","v":"Budget\nestimate"},{"$f":"MTEF2RevBudgEst","v":"Revised\nbudget\nestimate"},{"$f":"MTEF2_ChangeFrBudgEst","v":"Changes from budget estimate"},{"$f":"MTEF3PlanBudgetEst","v":"Planning\nbudget \nestimate"}]
[1]
[1,null,null,null,null,"Rand thousand"]
[1,null,null,null,null,"Objective/Activity"]
[1,null,null,null,null,0,null,null,0,0,0,0,0,{"$f":"SUM(M37-L37)","v":0},0,0,{"$f":"SUM(P37-O37)","v":0},0,0,{"$f":"SUM(S37-R37)","v":0}]
[1,null,null,null,null,"Economic classification"]
[1,"EX11",null,null,null,"Current payments",null,null,{"$f":"SUM(I40,I43,I98:I99,I105)","v":0},{"$f":"SUM(J40,J43,J98:J99,J105)","v":0},{"$f":"SUM(K40,K43,K98:K99,K105)","v":0},{"$f":"SUM(L40,L43,L98:L99,L105)","v":0},{"$f":"SUM(M40,M43,M98:M99,M105)","v":0},{"$f":"SUM(M39-L39)","v":0},{"$f":"SUM(O40,O43,O98:O99,O105)","v":0},{"$f":"SUM(P40,P43,P98:P99,P105)","v":0},{"$f":"SUM(P39-O39)","v":0},{"$f":"SUM(R40,R43,R98:R99,R105)","v":0},{"$f":"SUM(S40,S43,S98:S99,S105)","v":0},{"$f":"SUM(S39-R39)","v":0},{"$f":"SUM(U40,U43,U98:U99,U105)","v":0}]
[1,"EX111",null,null,null,"Compensation of employees",null,null,{"$f":"SUM(I41:I42)","v":0},{"$f":"SUM(J41:J42)","v":0},{"$f":"SUM(K41:K42)","v":0},{"$f":"SUM(L41:L42)","v":0},{"$f":"SUM(M41:M42)","v":0},{"$f":"SUM(M40-L40)","v":0},{"$f":"SUM(O41:O42)","v":0},{"$f":"SUM(P41:P42)","v":0},{"$f":"SUM(P40-O40)","v":0},{"$f":"SUM(R41:R42)","v":0},{"$f":"SUM(S41:S42)","v":0},{"$f":"SUM(S40-R40)","v":0},{"$f":"SUM(U41:U42)","v":0}]
[1,"EX1111",null,null,null,"Salaries and wages",null,null,0,0,0,0,0,{"$f":"SUM(M41-L41)","v":0},0,0,{"$f":"SUM(P41-O41)","v":0},0,0,{"$f":"SUM(S41-R41)","v":0}]
[1,"EX1112",null,null,null,"Social contributions",null,null,0,0,0,0,0,0,0,0,0,0,0,0]
[1,"EX112",null,null,null,"Goods and services",null,null,{"$f":"SUM(I45:I54,I58:I61,I73,I75:I97)","v":0},{"$f":"SUM(J45:J54,J58:J61,J73,J75:J97)","v":0},0,0,0,0,0,0,0,0,0,0,0,{"$f":"SUM(V45:V54,V58:V61,V73,V75:V97)","v":0}]
[1,"EX000",null,null,null,"Of which 1"]
[1,"EX1133",null,null,null,"8istrative fees",null,null,0,0,0,0,0,{"$f":"SUM(M45-L45)","v":0},0,0,{"$f":"SUM(P45-O45)","v":0},0,0,{"$f":"SUM(S45-R45)","v":0}]
[1,"EX1134",null,null,null,"Advertising",null,null,0,0,0,0,0,0,0,0,0,0,0,0]
[1,"EX1135",null,null,null,"Minor assets",null,null,0,0,0,0,0,0,0,0,0,0,0,0]
[1,"EX1136",null,null,null,"Audit costs: External",null,null,0,0,0,0,0,0,0,0,0,0,0,0]
[1,"EX1139",null,null,null,"Bursaries: Employees",null,null,0,0,0,0,0,0,0,0,0,0,0,0]
[1,"EX1140",null,null,null,"Catering: Internal activities",null,null,0,0,0,0,0,0,0,0,0,0,0,0]
[1,"EX1122",null,null,null,"Communication (G&S)",null,null,0,0,0,0,0,0,0,0,0,0,0,0]
[1,"EX1123",null,null,null,"Computer services",null,null,0,0,0,0,0,0,0,0,0,0,0,0]
[1,"EX1124",null,null,null,"Consultants: Business and advisory services",null,null,0,0,0,0,0,0,0,0,0,0,0,0]
[1,"EX1180",null,null,null,"Infrastructure and planning services",null,null,{"$f":"SUM(I55:I57)","v":0},{"$f":"SUM(J55:J57)","v":0},{"$f":"SUM(K55:K57)","v":0},{"$f":"SUM(L55:L57)","v":0},{"$f":"SUM(M55:M57)","v":0},{"$f":"SUM(M54-L54)","v":0},{"$f":"SUM(O55:O57)","v":0},{"$f":"SUM(P55:P57)","v":0},{"$f":"SUM(P54-O54)","v":0},{"$f":"SUM(R55:R57)","v":0},{"$f":"SUM(S55:S57)","v":0},{"$f":"SUM(S54-R54)","v":0},{"$f":"SUM(U55:U57)","v":0}]
[1,"EX11801",null,null,null,"Maintenance and repairs: Buildings: Consultants",null,null,0,0,0,0,0,{"$f":"SUM(M55-L55)","v":0},0,0,{"$f":"SUM(P55-O55)","v":0},0,0,0]
[1,"EX11802",null,null,null,"Maintenance and repairs: Other fixed structures: Consultants",null,null,0,0,0,0,0,0,0,0,0,0,0,0]
[1,"EX11803",null,null,null,"Other",null,null,0,0,0,0,0,0,0,0,0,0,0,0]
[1,"EX1164",null,null,null,"Laboratory services",null,null,0,0,0,0,0,0,0,0,0,0,0,0]
[1,"EX1162",null,null,null,"Legal services (G&S)",null,null,0,0,0,0,0,0,0,0,0,0,0,0]
[1,"EX1165",null,null,null,"Science and technological services",null,null,0,0,0,0,0,0,0,0,0,0,0,0]
[1,"EX1125",null,null,null,"Contractors",null,null,{"$f":"SUM(I62:I66,I72)","v":0},{"$f":"SUM(J62:J66,J72)","v":0},{"$f":"SUM(K62:K66,K72)","v":0},{"$f":"SUM(L62:L66,L72)","v":0},{"$f":"SUM(M62:M66,M72)","v":0},{"$f":"SUM(M61-L61)","v":0},{"$f":"SUM(O62:O66,O72)","v":0},{"$f":"SUM(P62:P66,P72)","v":0},{"$f":"SUM(P61-O61)","v":0},{"$f":"SUM(R62:R66,R72)","v":0},{"$f":"SUM(S62:S66,S72)","v":0},0,{"$f":"SUM(U62:U66,U72)","v":0}]
[1,"EX11251",null,null,null,"Maintenance and repairs of other fixed structures",null,null,0,0,0,0,0,0,0,0,0,0,0,0]
[1,"EX11252",null,null,null,"Maintenance and repairs of other machinery and equipment",null,null,0,0,0,0,0,0,0,0,0,0,0,0]
[1,"EX11253",null,null,null,"Maintenance and repairs of heritage buildings",null,null,0,0,0,0,0,0,0,0,0,0,0,0]
[1,"EX11254",null,null,null,"Maintenance and repairs of other heritage fixed structures",null,null,0,0,0,0,0,0,0,0,0,0,0,0]
[5,"EX11255",null,null,null,"South african social security agency payment contractors",null,null,{"$f":"SUM(I67:I71)","v":0},{"$f":"SUM(J67:J71)","v":0},{"$f":"SUM(K67:K71)","v":0},{"$f":"SUM(L67:L71)","v":0},{"$f":"SUM(M67:M71)","v":0},0,{"$f":"SUM(O67:O71)","v":0},{"$f":"SUM(P67:P71)","v":0},0,{"$f":"SUM(R67:R71)","v":0},{"$f":"SUM(S67:S71)","v":0},0,{"$f":"SUM(U67:U71)","v":0}]
[5,"EX112551",null,null,null,"SASSA 8 fees",null,null,0,0,0,0,0,0,0,0,0,0,0,0]
[5,"EX112552",null,null,null,"SASSA Bankcard fees",null,null,0,0,0,0,0,0,0,0,0,0,0,0]
[5,"EX112553",null,null,null,"SASSA registration fees",null,null,0,0,0,0,0,0,0,0,0,0,0,0]
[5,"EX112554",null,null,null,"SASSA beneficiary fees",null,null,0,0,0,0,0,0,0,0,0,0,0,0]
[5,"EX112555",null,null,null,"SASSA help desk fees",null,null,0,0,0,0,0,0,0,0,0,0,0,0]
[1,"EX11256",null,null,null,"Other",null,null,0,0,0,0,0,0,0,0,0,0,0,0]
[1,"EX1121",null,null,null,"Agency and support/outsourced services",null,null,0,0,0,0,0,0,0,0,0,0,0,0]
[5,"EX11211",null,null,null,"     Of Which: Medical assessments",null,null,0,0,0,0,0,0,0,0,0,0,0,0]
[1,"EX1161",null,null,null,"Entertainment",null,null,0,0,0,0,0,0,0,0,0,0,0,0]
[1,"EX1166",null,null,null,"Fleet services (including government motor transport)",null,null,0,0,0,0,0,0,0,0,0,0,0,0]
[1,"EX1167",null,null,null,"Housing",null,null,0,0,0,0,0,0,0,0,0,0,0,0]
[1,"EX1168",null,null,null,"Inventory: Clothing material and accessories",null,null,0,0,0,0,0,0,0,0,0,0,0,0]
[1,"EX1169",null,null,null,"Inventory: Farming supplies",null,null,0,0,0,0,0,0,0,0,0,0,0,0]
[1,"EX1170",null,null,null,"Inventory: Food and food supplies",null,null,0,0,0,0,0,0,0,0,0,0,0,0]
[1,"EX1171",null,null,null,"Inventory: Fuel, oil and gas",null,null,0,0,0,0,0,0,0,0,0,0,0,0]
[1,"EX1172",null,null,null,"Inventory: Learner and teacher support material",null,null,0,0,0,0,0,0,0,0,0,0,0,0]
[1,"EX1126",null,null,null,"Inventory: Materials and supplies",null,null,0,0,0,0,0,0,0,0,0,0,0,0]
[1,"EX1173",null,null,null,"Inventory: Medical supplies",null,null,0,0,0,0,0,0,0,0,0,0,0,0]
[1,"EX1174",null,null,null,"Inventory: Medicine",null,null,0,0,0,0,0,0,0,0,0,0,0,0]
[1,"EX1175",null,null,null,"Medsas inventory interface",null,null,0,0,0,0,0,0,0,0,0,0,0,0]
[1,"EX1176",null,null,null,"Inventory: Other supplies",null,null,0,0,0,0,0,0,0,0,0,0,0,0]
[1,"EX1177",null,null,null,"Consumable supplies",null,null,0,0,0,0,0,0,0,0,0,0,0,0]
[1,"EX1144",null,null,null,"Consumables: Stationery, printing and office supplies",null,null,0,0,0,0,0,0,0,0,0,0,0,0]
[1,"EX1127",null,null,null,"Operating leases",null,null,0,0,0,0,0,0,0,0,0,0,0,0]
[1,"EX1178",null,null,null,"Rental and hiring",null,null,0,0,0,0,0,0,0,0,0,0,0,0]
[1,"EX1145",null,null,null,"Property payments",null,null,0,0,0,0,0,0,0,0,0,0,0,0]
[1,"EX1179",null,null,null,"Transport provided: Internal activities",null,null,0,0,0,0,0,0,0,0,0,0,0,0]
[1,"EX1131",null,null,null,"Travel and subsistence",null,null,0,0,0,0,0,0,0,0,0,0,0,0]
[1,"EX1130",null,null,null,"Training and development",null,null,0,0,0,0,0,0,0,0,0,0,0,0]
[1,"EX1132",null,null,null,"Operating payments",null,null,0,0,0,0,0,0,0,0,0,0,0,0]
[1,"EX1146",null,null,null,"Venues and facilities",null,null,0,0,0,0,0,0,0,0,0,0,0,0]
[1,"EX113",null,null,null,"Depreciation",null,null,0,0,0,0,0,0,0,0,0,0,0,0]
[1,"EX114",null,null,null,"Losses from",null,null,{"$f":"SUM(I100:I101,I104)","v":0},{"$f":"SUM(J100:J101,J104)","v":0},{"$f":"SUM(K100:K101,K104)","v":0},{"$f":"SUM(L100:L101,L104)","v":0},{"$f":"SUM(M100:M101,M104)","v":0},{"$f":"SUM(M99-L99)","v":0},{"$f":"SUM(O100:O101,O104)","v":0},{"$f":"SUM(P100:P101,P104)","v":0},{"$f":"SUM(P99-O99)","v":0},{"$f":"SUM(R100:R101,R104)","v":0},{"$f":"SUM(S100:S101,S104)","v":0},{"$f":"SUM(S99-R99)","v":0},{"$f":"SUM(U100:U101,U104)","v":0}]
[1,"EX1141",null,null,null,"Sale of fixed assets",null,null,0,0,0,0,0,{"$f":"SUM(M100-L100)","v":0},0,0,{"$f":"SUM(P100-O100)","v":0},0,0,{"$f":"SUM(S100-R100)","v":0}]
[1,"EX1142",null,null,null,"Impairments and adjustments to fair value",null,null,{"$f":"SUM(I102:I103)","v":0},{"$f":"SUM(J102:J103)","v":0},{"$f":"SUM(K102:K103)","v":0},{"$f":"SUM(L102:L103)","v":0},{"$f":"SUM(M102:M103)","v":0},0,{"$f":"SUM(O102:O103)","v":0},{"$f":"SUM(P102:P103)","v":0},0,{"$f":"SUM(R102:R103)","v":0},{"$f":"SUM(S102:S103)","v":0},0,{"$f":"SUM(U102:U103)","v":0}]
[1,"EX11421",null,null,null,"Adjustments to fair value of assets",null,null,0,0,0,0,0,{"$f":"SUM(M102-L102)","v":0},0,0,{"$f":"SUM(P102-O102)","v":0},0,0,{"$f":"SUM(S102-R102)","v":0}]
[1,"EX11422",null,null,null,"Impairments to assets",null,null,0,0,0,0,0,0,0,0,0,0,0,0]
[1,"EX1143",null,null,null,"Other",null,null,0,0,0,0,0,0,0,0,0,0,0,0]
[1,"EX115",null,null,null,"Interest, dividends and rent on land",null,null,{"$f":"SUM(I106:I108)","v":0},{"$f":"SUM(J106:J108)","v":0},{"$f":"SUM(K106:K108)","v":0},{"$f":"SUM(L106:L108)","v":0},{"$f":"SUM(M106:M108)","v":0},0,{"$f":"SUM(O106:O108)","v":0},{"$f":"SUM(P106:P108)","v":0},0,{"$f":"SUM(R106:R108)","v":0},{"$f":"SUM(S106:S108)","v":0},0,{"$f":"SUM(U106:U108)","v":0}]
[1,"EX1151",null,null,null,"Interest",null,null,0,0,0,0,0,{"$f":"SUM(M106-L106)","v":0},0,0,{"$f":"SUM(P106-O106)","v":0},0,0,{"$f":"SUM(S106-R106)","v":0}]
[1,"EX1152",null,null,null,"Dividends",null,null,0,0,0,0,0,0,0,0,0,0,0,0]
[1,"EX1153",null,null,null,"Rent on land",null,null,0,0,0,0,0,0,0,0,0,0,0,0]
[1,"EX12",null,null,null,"Transfers and subsidies",null,null,{"$f":"SUM(I110,I121,I132:I135)","v":0},{"$f":"SUM(J110,J121,J132:J135)","v":0},{"$f":"SUM(K110,K121,K132:K135)","v":0},{"$f":"SUM(L110,L121,L132:L135)","v":0},{"$f":"SUM(M110,M121,M132:M135)","v":0},0,{"$f":"SUM(O110,O121,O132:O135)","v":0},{"$f":"SUM(P110,P121,P132:P135)","v":0},0,{"$f":"SUM(R110,R121,R132:R135)","v":0},{"$f":"SUM(S110,S121,S132:S135)","v":0},0,{"$f":"SUM(U110,U121,U132:U135)","v":0}]
[2,"EX121",null,null,null,"Employer Grant (SETAs only)",null,null,{"$f":"SUM(I111,I117,I120)","v":0},{"$f":"SUM(J111,J117,J120)","v":0},{"$f":"SUM(K111,K117,K120)","v":0},{"$f":"SUM(L111,L117,L120)","v":0},{"$f":"SUM(M111,M117,M120)","v":0},0,{"$f":"SUM(O111,O117,O120)","v":0},{"$f":"SUM(P111,P117,P120)","v":0},0,{"$f":"SUM(R111,R117,R120)","v":0},{"$f":"SUM(S111,S117,S120)","v":0},0,{"$f":"SUM(U111,U117,U120)","v":0}]
[1,"EX122",null,null,null,"Other government units",null,null,{"$f":"SUM(I112:I116)","v":0},{"$f":"SUM(J112:J116)","v":0},{"$f":"SUM(K112:K116)","v":0},{"$f":"SUM(L112:L116)","v":0},{"$f":"SUM(M112:M116)","v":0},0,{"$f":"SUM(O112:O116)","v":0},{"$f":"SUM(P112:P116)","v":0},0,{"$f":"SUM(R112:R116)","v":0},{"$f":"SUM(S112:S116)","v":0},0,{"$f":"SUM(U112:U116)","v":0}]
[1,"EX1221",null,null,null,"National government",null,null,0,0,0,0,0,{"$f":"SUM(M112-L112)","v":0},0,0,{"$f":"SUM(P112-O112)","v":0},0,0,{"$f":"SUM(S112-R112)","v":0}]
[1,"EX1222",null,null,null,"Departmental agencies and accounts",null,null,0,0,0,0,0,0,0,0,0,0,0,0]
[1,"EX1223",null,null,null,"Provinces",null,null,0,0,0,0,0,0,0,0,0,0,0,0]
[1,"EX1224",null,null,null,"Municipalities",null,null,0,0,0,0,0,0,0,0,0,0,0,0]
[2,"EX1225",null,null,null,"National Skills Fund",null,null,0,0,0,0,0,0,0,0,0,0,0,0]
[1,"EX123",null,null,null,"Public corporations and private enterprises (subsidies and other transfers)",null,null,{"$f":"SUM(I118:I119)","v":0},{"$f":"SUM(J118:J119)","v":0},{"$f":"SUM(K118:K119)","v":0},{"$f":"SUM(L118:L119)","v":0},{"$f":"SUM(M118:M119)","v":0},0,{"$f":"SUM(O118:O119)","v":0},{"$f":"SUM(P118:P119)","v":0},0,{"$f":"SUM(R118:R119)","v":0},{"$f":"SUM(S118:S119)","v":0},0,{"$f":"SUM(U118:U119)","v":0}]
[1,"EX1231",null,null,null,"Public corporations",null,null,0,0,0,0,0,{"$f":"SUM(M118-L118)","v":0},0,0,{"$f":"SUM(P118-O118)","v":0},0,0,{"$f":"SUM(S118-R118)","v":0}]
[1,"EX1232",null,null,null,"Private enterprises",null,null,0,0,0,0,0,0,0,0,0,0,0,0]
[2,"EX124",null,null,null,"Households and non government units",null,null,0,0,0,0,0,0,0,0,0,0,0,0]
[2,"EX125",null,null,null,"Discretionary Grant (SETAs only)",null,null,{"$f":"SUM(I122,I128,I131)","v":0},{"$f":"SUM(J122,J128,J131)","v":0},{"$f":"SUM(K122,K128,K131)","v":0},{"$f":"SUM(L122,L128,L131)","v":0},{"$f":"SUM(M122,M128,M131)","v":0},0,{"$f":"SUM(O122,O128,O131)","v":0},{"$f":"SUM(P122,P128,P131)","v":0},0,{"$f":"SUM(R122,R128,R131)","v":0},{"$f":"SUM(S122,S128,S131)","v":0},0,{"$f":"SUM(U122,U128,U131)","v":0}]
[2,"EX126",null,null,null,"Other government units",null,null,{"$f":"SUM(I123:I127)","v":0},{"$f":"SUM(J123:J127)","v":0},{"$f":"SUM(K123:K127)","v":0},{"$f":"SUM(L123:L127)","v":0},{"$f":"SUM(M123:M127)","v":0},0,{"$f":"SUM(O123:O127)","v":0},{"$f":"SUM(P123:P127)","v":0},0,{"$f":"SUM(R123:R127)","v":0},{"$f":"SUM(S123:S127)","v":0},0,{"$f":"SUM(U123:U127)","v":0}]
[2,"EX1261",null,null,null,"National government",null,null,0,0,0,0,0,{"$f":"SUM(M123-L123)","v":0},0,0,{"$f":"SUM(P123-O123)","v":0},0,0,{"$f":"SUM(S123-R123)","v":0}]
[2,"EX1262",null,null,null,"Departmental agencies and accounts",null,null,0,0,0,0,0,0,0,0,0,0,0,0]
[2,"EX1263",null,null,null,"Provinces",null,null,0,0,0,0,0,0,0,0,0,0,0,0]
[2,"EX1264",null,null,null,"Municipalities",null,null,0,0,0,0,0,0,0,0,0,0,0,0]
[2,"EX1265",null,null,null,"National Skills Fund",null,null,0,0,0,0,0,0,0,0,0,0,0,0]
[2,"EX127",null,null,null,"Public corporations and private enterprises (subsidies and other transfers)",null,null,{"$f":"SUM(I129:I130)","v":0},{"$f":"SUM(J129:J130)","v":0},{"$f":"SUM(K129:K130)","v":0},{"$f":"SUM(L129:L130)","v":0},{"$f":"SUM(M129:M130)","v":0},0,{"$f":"SUM(O129:O130)","v":0},{"$f":"SUM(P129:P130)","v":0},0,{"$f":"SUM(R129:R130)","v":0},{"$f":"SUM(S129:S130)","v":0},0,{"$f":"SUM(U129:U130)","v":0}]
[2,"EX1271",null,null,null,"Public corporations",null,null,0,0,0,0,0,{"$f":"SUM(M129-L129)","v":0},0,0,{"$f":"SUM(P129-O129)","v":0},0,0,{"$f":"SUM(S129-R129)","v":0}]
[2,"EX1272",null,null,null,"Private enterprises",null,null,0,0,0,0,0,0,0,0,0,0,0,0]
[2,"EX128",null,null,null,"Households and non government units",null,null,0,0,0,0,0,0,0,0,0,0,0,0]
[1,"EX129",null,null,null,"Higher education institutions",null,null,0,0,0,0,0,0,0,0,0,0,0,0]
[1,"EX130",null,null,null,"Foreign governments and international organisations ",null,null,0,0,0,0,0,0,0,0,0,0,0,0]
[1,"EX131",null,null,null,"Non-profit institutions",null,null,0,0,0,0,0,0,0,0,0,0,0,0]
[1,"EX132",null,null,null,"Households",null,null,{"$f":"SUM(I136:I137)","v":0},{"$f":"SUM(J136:J137)","v":0},{"$f":"SUM(K136:K137)","v":0},{"$f":"SUM(L136:L137)","v":0},{"$f":"SUM(M136:M137)","v":0},0,{"$f":"SUM(O136:O137)","v":0},{"$f":"SUM(P136:P137)","v":0},0,{"$f":"SUM(R136:R137)","v":0},{"$f":"SUM(S136:S137)","v":0},0,{"$f":"SUM(U136:U137)","v":0}]
[1,"EX1301",null,null,null,"Social benefits ",null,null,0,0,0,0,0,{"$f":"SUM(M136-L136)","v":0},0,0,{"$f":"SUM(P136-O136)","v":0},0,0,{"$f":"SUM(S136-R136)","v":0}]
[1,"EX1302",null,null,null,"Other transfers to households",null,null,0,0,0,0,0,0,0,0,0,0,0,0]
[1,"EX13",null,null,null,"Tax payment",null,null,0,0,0,0,0,0,0,0,0,0,0,0]
[1,"EX14",null,null,null,"Outside shareholders Interest",null,null,0,0,0,0,0,0,0,0,0,0,0,0]
[1,"EX15",null,null,null,"Total Expenditure",null,null,{"$f":"SUM(I39,I109,I138:I139)","v":0},{"$f":"SUM(J39,J109,J138:J139)","v":0},{"$f":"SUM(K39,K109,K138:K139)","v":0},{"$f":"SUM(L39,L109,L138:L139)","v":0},{"$f":"SUM(M39,M109,M138:M139)","v":0},{"$f":"SUM(M140-L140)","v":0},{"$f":"SUM(O39,O109,O138:O139)","v":0},{"$f":"SUM(P39,P109,P138:P139)","v":0},{"$f":"SUM(P140-O140)","v":0},{"$f":"SUM(R39,R109,R138:R139)","v":0},{"$f":"SUM(S39,S109,S138:S139)","v":0},{"$f":"SUM(S140-R140)","v":0},{"$f":"SUM(U39,U109,U138:U139)","v":0}]
[1]
[1,null,null,null,null,"Objective less Expenditure",null,null,{"$f":"ROUND(IF(I37-I140>0,IF(I37-I140<1,0,I37-I140),I37-I140),0)","v":0},0,0,0,0,{"$f":"ROUND(IF(N37-N140>0,IF(N37-N140<1,0,N37-N140),N37-N140),0)","v":0},0,0,0,0,0,0,0]
[1]

{"sheet":"9","index":13,"n_rows":143,"n_cols":22,"rows_kept":143,"cut":false,"hidden":false,"merged":[[31,14,31,16],[31,17,31,19],[31,11,31,13]]}
[]
[]
[]
[]
[]
[null,null,null,null,null,"PE No",{"$f":"Settings!O2","v":"PE196"}]
[null,null,null,null,null,"Entity name",{"$f":"Settings!$D$2","v":"Transnet Limited"}]
[]
[null,null,null,null,null,"Performance and operations information"]
["ItemCat","Item code","Hide/unhide",null,null,"Activity/Output/Outcome/Efficiency Indicator","Priorities",null,{"$f":"MyYearM3","v":"2019/20"},{"$f":"MyYearM2","v":"2020/21"},{"$f":"MyYearM1","v":"2021/22"},{"$f":"MyYear0","v":"2022/23"},{"$f":"MyYearP1","v":"2023/24"},{"$f":"MyYearP2","v":"2024/25"},{"$f":"MyYearP3","v":"2025/26"},"Related Objectives","Add to 'Performance Indicators' Sheet","Comments"]
[1,null,null,null,null,0,0,null,0,0,0,0,0,0,null,0,0,0]
[1,null,null,null,null,0,0,null,0,0,0,0,0,0,null,0,0,0]
[1,null,null,null,null,0,0,null,0,0,0,0,0,0,null,0,0,0]
[1,null,null,null,null,0,0,null,0,0,0,0,0,0,null,0,0,0]
[1,null,null,null,null,0,0,null,0,0,0,0,0,0,null,0,0,0]
[1,null,null,null,null,0,0,null,0,0,0,0,0,0,null,0,0,0]
[1,null,null,null,null,0,0,null,0,0,0,0,0,0,null,0,0,0]
[1,null,null,null,null,0,0,null,0,0,0,0,0,0,null,0,0,0]
[1,null,null,null,null,0,0,null,0,0,0,0,0,0,null,0,0,0]
[1,null,null,null,null,0,0,null,0,0,0,0,0,0,null,0,0,0]
[1,null,null,null,null,0,0,null,0,0,0,0,0,0,null,0,0,0]
[1,null,null,null,null,0,0,null,0,0,0,0,0,0,null,0,0,0]
[1,null,null,null,null,0,0,null,0,0,0,0,0,0,null,0,0,0]
[1,null,null,null,null,0,0,null,0,0,0,0,0,0,null,0,0,0]
[1,null,null,null,null,0,0,null,0,0,0,0,0,0,null,0,0,0]
[1,null,null,null,null,"Notes:"]
[1,null,null,null,null,"Performance indicators are an explanation of objectives performance.   "]
[1,null,null,null,null,"1. They are specific measurements that track progress towards achieving the goals and objectives of an institution."]
[1,null,null,null,null,"2. Institutions should use performance indicators in the 2021/22 Annual Performance Plans and those in the 2022 ENE. "]
[1,null,null,null,null,"3. Institutions should also indicate instances where targets are not affected by budget baseline reprioritisation."]
[1]
[1,null,null,null,null,null,null,null,{"$f":"MyYearM3","v":"2019/20"},{"$f":"MyYearM2","v":"2020/21"},{"$f":"MyYearM1","v":"2021/22"},{"$f":"MyYear0","v":"2022/23"},null,null,{"$f":"MyYearP1","v":"2023/24"},null,null,{"$f":"MyYearP2","v":"2024/25"},null,null,{"$f":"MyYearP3","v":"2025/26"}]
[1,null,null,null,null,"Expenses",null,null,{"$f":"Hist_year3RestatedAudited","v":"Audited\noutcome"},{"$f":"Hist_year2RestatedAudited","v":"Audited\noutcome"},{"$f":"Hist_year1Audited","v":"Audited\noutcome"},{"$f":"Cur_YearBudgEst","v":"Budget\nestimate"},{"$f":"Cur_YearApprovedBudg","v":"Approved budget"},{"$f":"Cur_YearChangeFrRevBudg","v":"Changes from \nbudget estimate"},{"$f":"MTEF1BudgEst","v":"Budget\nestimate"},{"$f":"MTEF1RevBudgEst","v":"Revised\nbudget\nestimate"},{"$f":"MTEF1_ChangeFrBudgEst","v":"Changes from budget estimate"},{"$f":"MTEF2BudgEst","v":"Budget\nestimate"},{"$f":"MTEF2RevBudgEst","v":"Revised\nbudget\nestimate"},{"$f":"MTEF2_ChangeFrBudgEst","v":"Changes from budget estimate"},{"$f":"MTEF3PlanBudgetEst","v":"Planning\nbudget \nestimate"}]
[1]
[1,null,null,null,null,"Rand thousand"]
[1,null,null,null,null,"Objective/Activity"]
[1,null,null,null,null,0,null,null,0,0,0,0,0,{"$f":"SUM(M37-L37)","v":0},0,0,{"$f":"SUM(P37-O37)","v":0},0,0,{"$f":"SUM(S37-R37)","v":0}]
[1,null,null,null,null,"Economic classification"]
[1,"EX11",null,null,null,"Current payments",null,null,{"$f":"SUM(I40,I43,I98:I99,I105)","v":0},{"$f":"SUM(J40,J43,J98:J99,J105)","v":0},{"$f":"SUM(K40,K43,K98:K99,K105)","v":0},{"$f":"SUM(L40,L43,L98:L99,L105)","v":0},{"$f":"SUM(M40,M43,M98:M99,M105)","v":0},{"$f":"SUM(M39-L39)","v":0},{"$f":"SUM(O40,O43,O98:O99,O105)","v":0},{"$f":"SUM(P40,P43,P98:P99,P105)","v":0},{"$f":"SUM(P39-O39)","v":0},{"$f":"SUM(R40,R43,R98:R99,R105)","v":0},{"$f":"SUM(S40,S43,S98:S99,S105)","v":0},{"$f":"SUM(S39-R39)","v":0},{"$f":"SUM(U40,U43,U98:U99,U105)","v":0}]
[1,"EX111",null,null,null,"Compensation of employees",null,null,{"$f":"SUM(I41:I42)","v":0},{"$f":"SUM(J41:J42)","v":0},{"$f":"SUM(K41:K42)","v":0},{"$f":"SUM(L41:L42)","v":0},{"$f":"SUM(M41:M42)","v":0},{"$f":"SUM(M40-L40)","v":0},{"$f":"SUM(O41:O42)","v":0},{"$f":"SUM(P41:P42)","v":0},{"$f":"SUM(P40-O40)","v":0},{"$f":"SUM(R41:R42)","v":0},{"$f":"SUM(S41:S42)","v":0},{"$f":"SUM(S40-R40)","v":0},{"$f":"SUM(U41:U42)","v":0}]
[1,"EX1111",null,null,null,"Salaries and wages",null,null,0,0,0,0,0,{"$f":"SUM(M41-L41)","v":0},0,0,{"$f":"SUM(P41-O41)","v":0},0,0,{"$f":"SUM(S41-R41)","v":0}]
[1,"EX1112",null,null,null,"Social contributions",null,null,0,0,0,0,0,0,0,0,0,0,0,0]
[1,"EX112",null,null,null,"Goods and services",null,null,{"$f":"SUM(I45:I54,I58:I61,I73,I75:I97)","v":0},{"$f":"SUM(J45:J54,J58:J61,J73,J75:J97)","v":0},0,0,0,0,0,0,0,0,0,0,0,{"$f":"SUM(V45:V54,V58:V61,V73,V75:V97)","v":0}]
[1,"EX000",null,null,null,"Of which 1"]
[1,"EX1133",null,null,null,"9istrative fees",null,null,0,0,0,0,0,{"$f":"SUM(M45-L45)","v":0},0,0,{"$f":"SUM(P45-O45)","v":0},0,0,{"$f":"SUM(S45-R45)","v":0}]
[1,"EX1134",null,null,null,"Advertising",null,null,0,0,0,0,0,0,0,0,0,0,0,0]
[1,"EX1135",null,null,null,"Minor assets",null,null,0,0,0,0,0,0,0,0,0,0,0,0]
[1,"EX1136",null,null,null,"Audit costs: External",null,null,0,0,0,0,0,0,0,0,0,0,0,0]
[1,"EX1139",null,null,null,"Bursaries: Employees",null,null,0,0,0,0,0,0,0,0,0,0,0,0]
[1,"EX1140",null,null,null,"Catering: Internal activities",null,null,0,0,0,0,0,0,0,0,0,0,0,0]
[1,"EX1122",null,null,null,"Communication (G&S)",null,null,0,0,0,0,0,0,0,0,0,0,0,0]
[1,"EX1123",null,null,null,"Computer services",null,null,0,0,0,0,0,0,0,0,0,0,0,0]
[1,"EX1124",null,null,null,"Consultants: Business and advisory services",null,null,0,0,0,0,0,0,0,0,0,0,0,0]
[1,"EX1180",null,null,null,"Infrastructure and planning services",null,null,{"$f":"SUM(I55:I57)","v":0},{"$f":"SUM(J55:J57)","v":0},{"$f":"SUM(K55:K57)","v":0},{"$f":"SUM(L55:L57)","v":0},{"$f":"SUM(M55:M57)","v":0},{"$f":"SUM(M54-L54)","v":0},{"$f":"SUM(O55:O57)","v":0},{"$f":"SUM(P55:P57)","v":0},{"$f":"SUM(P54-O54)","v":0},{"$f":"SUM(R55:R57)","v":0},{"$f":"SUM(S55:S57)","v":0},{"$f":"SUM(S54-R54)","v":0},{"$f":"SUM(U55:U57)","v":0}]
[1,"EX11801",null,null,null,"Maintenance and repairs: Buildings: Consultants",null,null,0,0,0,0,0,{"$f":"SUM(M55-L55)","v":0},0,0,{"$f":"SUM(P55-O55)","v":0},0,0,0]
[1,"EX11802",null,null,null,"Maintenance and repairs: Other fixed structures: Consultants",null,null,0,0,0,0,0,0,0,0,0,0,0,0]
[1,"EX11803",null,null,null,"Other",null,null,0,0,0,0,0,0,0,0,0,0,0,0]
[1,"EX1164",null,null,null,"Laboratory services",null,null,0,0,0,0,0,0,0,0,0,0,0,0]
[1,"EX1162",null,null,null,"Legal services (G&S)",null,null,0,0,0,0,0,0,0,0,0,0,0,0]
[1,"EX1165",null,null,null,"Science and technological services",null,null,0,0,0,0,0,0,0,0,0,0,0,0]
[1,"EX1125",null,null,null,"Contractors",null,null,{"$f":"SUM(I62:I66,I72)","v":0},{"$f":"SUM(J62:J66,J72)","v":0},{"$f":"SUM(K62:K66,K72)","v":0},{"$f":"SUM(L62:L66,L72)","v":0},{"$f":"SUM(M62:M66,M72)","v":0},{"$f":"SUM(M61-L61)","v":0},{"$f":"SUM(O62:O66,O72)","v":0},{"$f":"SUM(P62:P66,P72)","v":0},{"$f":"SUM(P61-O61)","v":0},{"$f":"SUM(R62:R66,R72)","v":0},{"$f":"SUM(S62:S66,S72)","v":0},0,{"$f":"SUM(U62:U66,U72)","v":0}]
[1,"EX11251",null,null,null,"Maintenance and repairs of other fixed structures",null,null,0,0,0,0,0,0,0,0,0,0,0,0]
[1,"EX11252",null,null,null,"Maintenance and repairs of other machinery and equipment",null,null,0,0,0,0,0,0,0,0,0,0,0,0]
[1,"EX11253",null,null,null,"Maintenance and repairs of heritage buildings",null,null,0,0,0,0,0,0,0,0,0,0,0,0]
[1,"EX11254",null,null,null,"Maintenance and repairs of other heritage fixed structures",null,null,0,0,0,0,0,0,0,0,0,0,0,0]
[5,"EX11255",null,null,null,"South african social security agency payment contractors",null,null,{"$f":"SUM(I67:I71)","v":0},{"$f":"SUM(J67:J71)","v":0},{"$f":"SUM(K67:K71)","v":0},{"$f":"SUM(L67:L71)","v":0},{"$f":"SUM(M67:M71)","v":0},0,{"$f":"SUM(O67:O71)","v":0},{"$f":"SUM(P67:P71)","v":0},0,{"$f":"SUM(R67:R71)","v":0},{"$f":"SUM(S67:S71)","v":0},0,{"$f":"SUM(U67:U71)","v":0}]
[5,"EX112551",null,null,null,"SASSA 9 fees",null,null,0,0,0,0,0,0,0,0,0,0,0,0]
[5,"EX112552",null,null,null,"SASSA Bankcard fees",null,null,0,0,0,0,0,0,0,0,0,0,0,0]
[5,"EX112553",null,null,null,"SASSA registration fees",null,null,0,0,0,0,0,0,0,0,0,0,0,0]
[5,"EX112554",null,null,null,"SASSA beneficiary fees",null,null,0,0,0,0,0,0,0,0,0,0,0,0]
[5,"EX112555",null,null,null,"SASSA help desk fees",null,null,0,0,0,0,0,0,0,0,0,0,0,0]
[1,"EX11256",null,null,null,"Other",null,null,0,0,0,0,0,0,0,0,0,0,0,0]
[1,"EX1121",null,null,null,"Agency and support/outsourced services",null,null,0,0,0,0,0,0,0,0,0,0,0,0]
[5,"EX11211",null,null,null,"     Of Which: Medical assessments",null,null,0,0,0,0,0,0,0,0,0,0,0,0]
[1,"EX1161",null,null,null,"Entertainment",null,null,0,0,0,0,0,0,0,0,0,0,0,0]
[1,"EX1166",null,null,null,"Fleet services (including government motor transport)",null,null,0,0,0,0,0,0,0,0,0,0,0,0]
[1,"EX1167",null,null,null,"Housing",null,null,0,0,0,0,0,0,0,0,0,0,0,0]
[1,"EX1168",null,null,null,"Inventory: Clothing material and accessories",null,null,0,0,0,0,0,0,0,0,0,0,0,0]
[1,"EX1169",null,null,null,"Inventory: Farming supplies",null,null,0,0,0,0,0,0,0,0,0,0,0,0]
[1,"EX1170",null,null,null,"Inventory: Food and food supplies",null,null,0,0,0,0,0,0,0,0,0,0,0,0]
[1,"EX1171",null,null,null,"Inventory: Fuel, oil and gas",null,null,0,0,0,0,0,0,0,0,0,0,0,0]
[1,"EX1172",null,null,null,"Inventory: Learner and teacher support material",null,null,0,0,0,0,0,0,0,0,0,0,0,0]
[1,"EX1126",null,null,null,"Inventory: Materials and supplies",null,null,0,0,0,0,0,0,0,0,0,0,0,0]
[1,"EX1173",null,null,null,"Inventory: Medical supplies",null,null,0,0,0,0,0,0,0,0,0,0,0,0]
[1,"EX1174",null,null,null,"Inventory: Medicine",null,null,0,0,0,0,0,0,0,0,0,0,0,0]
[1,"EX1175",null,null,null,"Medsas inventory interface",null,null,0,0,0,0,0,0,0,0,0,0,0,0]
[1,"EX1176",null,null,null,"Inventory: Other supplies",null,null,0,0,0,0,0,0,0,0,0,0,0,0]
[1,"EX1177",null,null,null,"Consumable supplies",null,null,0,0,0,0,0,0,0,0,0,0,0,0]
[1,"EX1144",null,null,null,"Consumables: Stationery, printing and office supplies",null,null,0,0,0,0,0,0,0,0,0,0,0,0]
[1,"EX1127",null,null,null,"Operating leases",null,null,0,0,0,0,0,0,0,0,0,0,0,0]
[1,"EX1178",null,null,null,"Rental and hiring",null,null,0,0,0,0,0,0,0,0,0,0,0,0]
[1,"EX1145",null,null,null,"Property payments",null,null,0,0,0,0,0,0,0,0,0,0,0,0]
[1,"EX1179",null,null,null,"Transport provided: Internal activities",null,null,0,0,0,0,0,0,0,0,0,0,0,0]
[1,"EX1131",null,null,null,"Travel and subsistence",null,null,0,0,0,0,0,0,0,0,0,0,0,0]
[1,"EX1130",null,null,null,"Training and development",null,null,0,0,0,0,0,0,0,0,0,0,0,0]
[1,"EX1132",null,null,null,"Operating payments",null,null,0,0,0,0,0,0,0,0,0,0,0,0]
[1,"EX1146",null,null,null,"Venues and facilities",null,null,0,0,0,0,0,0,0,0,0,0,0,0]
[1,"EX113",null,null,null,"Depreciation",null,null,0,0,0,0,0,0,0,0,0,0,0,0]
[1,"EX114",null,null,null,"Losses from",null,null,{"$f":"SUM(I100:I101,I104)","v":0},{"$f":"SUM(J100:J101,J104)","v":0},{"$f":"SUM(K100:K101,K104)","v":0},{"$f":"SUM(L100:L101,L104)","v":0},{"$f":"SUM(M100:M101,M104)","v":0},{"$f":"SUM(M99-L99)","v":0},{"$f":"SUM(O100:O101,O104)","v":0},{"$f":"SUM(P100:P101,P104)","v":0},{"$f":"SUM(P99-O99)","v":0},{"$f":"SUM(R100:R101,R104)","v":0},{"$f":"SUM(S100:S101,S104)","v":0},{"$f":"SUM(S99-R99)","v":0},{"$f":"SUM(U100:U101,U104)","v":0}]
[1,"EX1141",null,null,null,"Sale of fixed assets",null,null,0,0,0,0,0,{"$f":"SUM(M100-L100)","v":0},0,0,{"$f":"SUM(P100-O100)","v":0},0,0,{"$f":"SUM(S100-R100)","v":0}]
[1,"EX1142",null,null,null,"Impairments and adjustments to fair value",null,null,{"$f":"SUM(I102:I103)","v":0},{"$f":"SUM(J102:J103)","v":0},{"$f":"SUM(K102:K103)","v":0},{"$f":"SUM(L102:L103)","v":0},{"$f":"SUM(M102:M103)","v":0},0,{"$f":"SUM(O102:O103)","v":0},{"$f":"SUM(P102:P103)","v":0},0,{"$f":"SUM(R102:R103)","v":0},{"$f":"SUM(S102:S103)","v":0},0,{"$f":"SUM(U102:U103)","v":0}]
[1,"EX11421",null,null,null,"Adjustments to fair value of assets",null,null,0,0,0,0,0,{"$f":"SUM(M102-L102)","v":0},0,0,{"$f":"SUM(P102-O102)","v":0},0,0,{"$f":"SUM(S102-R102)","v":0}]
[1,"EX11422",null,null,null,"Impairments to assets",null,null,0,0,0,0,0,0,0,0,0,0,0,0]
[1,"EX1143",null,null,null,"Other",null,null,0,0,0,0,0,0,0,0,0,0,0,0]
[1,"EX115",null,null,null,"Interest, dividends and rent on land",null,null,{"$f":"SUM(I106:I108)","v":0},{"$f":"SUM(J106:J108)","v":0},{"$f":"SUM(K106:K108)","v":0},{"$f":"SUM(L106:L108)","v":0},{"$f":"SUM(M106:M108)","v":0},0,{"$f":"SUM(O106:O108)","v":0},{"$f":"SUM(P106:P108)","v":0},0,{"$f":"SUM(R106:R108)","v":0},{"$f":"SUM(S106:S108)","v":0},0,{"$f":"SUM(U106:U108)","v":0}]
[1,"EX1151",null,null,null,"Interest",null,null,0,0,0,0,0,{"$f":"SUM(M106-L106)","v":0},0,0,{"$f":"SUM(P106-O106)","v":0},0,0,{"$f":"SUM(S106-R106)","v":0}]
[1,"EX1152",null,null,null,"Dividends",null,null,0,0,0,0,0,0,0,0,0,0,0,0]
[1,"EX1153",null,null,null,"Rent on land",null,null,0,0,0,0,0,0,0,0,0,0,0,0]
[1,"EX12",null,null,null,"Transfers and subsidies",null,null,{"$f":"SUM(I110,I121,I132:I135)","v":0},{"$f":"SUM(J110,J121,J132:J135)","v":0},{"$f":"SUM(K110,K121,K132:K135)","v":0},{"$f":"SUM(L110,L121,L132:L135)","v":0},{"$f":"SUM(M110,M121,M132:M135)","v":0},0,{"$f":"SUM(O110,O121,O132:O135)","v":0},{"$f":"SUM(P110,P121,P132:P135)","v":0},0,{"$f":"SUM(R110,R121,R132:R135)","v":0},{"$f":"SUM(S110,S121,S132:S135)","v":0},0,{"$f":"SUM(U110,U121,U132:U135)","v":0}]
[2,"EX121",null,null,null,"Employer Grant (SETAs only)",null,null,{"$f":"SUM(I111,I117,I120)","v":0},{"$f":"SUM(J111,J117,J120)","v":0},{"$f":"SUM(K111,K117,K120)","v":0},{"$f":"SUM(L111,L117,L120)","v":0},{"$f":"SUM(M111,M117,M120)","v":0},0,{"$f":"SUM(O111,O117,O120)","v":0},{"$f":"SUM(P111,P117,P120)","v":0},0,{"$f":"SUM(R111,R117,R120)","v":0},{"$f":"SUM(S111,S117,S120)","v":0},0,{"$f":"SUM(U111,U117,U120)","v":0}]
[1,"EX122",null,null,null,"Other government units",null,null,{"$f":"SUM(I112:I116)","v":0},{"$f":"SUM(J112:J116)","v":0},{"$f":"SUM(K112:K116)","v":0},{"$f":"SUM(L112:L116)","v":0},{"$f":"SUM(M112:M116)","v":0},0,{"$f":"SUM(O112:O116)","v":0},{"$f":"SUM(P112:P116)","v":0},0,{"$f":"SUM(R112:R116)","v":0},{"$f":"SUM(S112:S116)","v":0},0,{"$f":"SUM(U112:U116)","v":0}]
[1,"EX1221",null,null,null,"National government",null,null,0,0,0,0,0,{"$f":"SUM(M112-L112)","v":0},0,0,{"$f":"SUM(P112-O112)","v":0},0,0,{"$f":"SUM(S112-R112)","v":0}]
[1,"EX1222",null,null,null,"Departmental agencies and accounts",null,null,0,0,0,0,0,0,0,0,0,0,0,0]
[1,"EX1223",null,null,null,"Provinces",null,null,0,0,0,0,0,0,0,0,0,0,0,0]
[1,"EX1224",null,null,null,"Municipalities",null,null,0,0,0,0,0,0,0,0,0,0,0,0]
[2,"EX1225",null,null,null,"National Skills Fund",null,null,0,0,0,0,0,0,0,0,0,0,0,0]
[1,"EX123",null,null,null,"Public corporations and private enterprises (subsidies and other transfers)",null,null,{"$f":"SUM(I118:I119)","v":0},{"$f":"SUM(J118:J119)","v":0},{"$f":"SUM(K118:K119)","v":0},{"$f":"SUM(L118:L119)","v":0},{"$f":"SUM(M118:M119)","v":0},0,{"$f":"SUM(O118:O119)","v":0},{"$f":"SUM(P118:P119)","v":0},0,{"$f":"SUM(R118:R119)","v":0},{"$f":"SUM(S118:S119)","v":0},0,{"$f":"SUM(U118:U119)","v":0}]
[1,"EX1231",null,null,null,"Public corporations",null,null,0,0,0,0,0,{"$f":"SUM(M118-L118)","v":0},0,0,{"$f":"SUM(P118-O118)","v":0},0,0,{"$f":"SUM(S118-R118)","v":0}]
[1,"EX1232",null,null,null,"Private enterprises",null,null,0,0,0,0,0,0,0,0,0,0,0,0]
[2,"EX124",null,null,null,"Households and non government units",null,null,0,0,0,0,0,0,0,0,0,0,0,0]
[2,"EX125",null,null,null,"Discretionary Grant (SETAs only)",null,null,{"$f":"SUM(I122,I128,I131)","v":0},{"$f":"SUM(J122,J128,J131)","v":0},{"$f":"SUM(K122,K128,K131)","v":0},{"$f":"SUM(L122,L128,L131)","v":0},{"$f":"SUM(M122,M128,M131)","v":0},0,{"$f":"SUM(O122,O128,O131)","v":0},{"$f":"SUM(P122,P128,P131)","v":0},0,{"$f":"SUM(R122,R128,R131)","v":0},{"$f":"SUM(S122,S128,S131)","v":0},0,{"$f":"SUM(U122,U128,U131)","v":0}]
[2,"EX126",null,null,null,"Other government units",null,null,{"$f":"SUM(I123:I127)","v":0},{"$f":"SUM(J123:J127)","v":0},{"$f":"SUM(K123:K127)","v":0},{"$f":"SUM(L123:L127)","v":0},{"$f":"SUM(M123:M127)","v":0},0,{"$f":"SUM(O123:O127)","v":0},{"$f":"SUM(P123:P127)","v":0},0,{"$f":"SUM(R123:R127)","v":0},{"$f":"SUM(S123:S127)","v":0},0,{"$f":"SUM(U123:U127)","v":0}]
[2,"EX1261",null,null,null,"National government",null,null,0,0,0,0,0,{"$f":"SUM(M123-L123)","v":0},0,0,{"$f":"SUM(P123-O123)","v":0},0,0,{"$f":"SUM(S123-R123)","v":0}]
[2,"EX1262",null,null,null,"Departmental agencies and accounts",null,null,0,0,0,0,0,0,0,0,0,0,0,0]
[2,"EX1263",null,null,null,"Provinces",null,null,0,0,0,0,0,0,0,0,0,0,0,0]
[2,"EX1264",null,null,null,"Municipalities",null,null,0,0,0,0,0,0,0,0,0,0,0,0]
[2,"EX1265",null,null,null,"National Skills Fund",null,null,0,0,0,0,0,0,0,0,0,0,0,0]
[2,"EX127",null,null,null,"Public corporations and private enterprises (subsidies and other transfers)",null,null,{"$f":"SUM(I129:I130)","v":0},{"$f":"SUM(J129:J130)","v":0},{"$f":"SUM(K129:K130)","v":0},{"$f":"SUM(L129:L130)","v":0},{"$f":"SUM(M129:M130)","v":0},0,{"$f":"SUM(O129:O130)","v":0},{"$f":"SUM(P129:P130)","v":0},0,{"$f":"SUM(R129:R130)","v":0},{"$f":"SUM(S129:S130)","v":0},0,{"$f":"SUM(U129:U130)","v":0}]
[2,"EX1271",null,null,null,"Public corporations",null,null,0,0,0,0,0,{"$f":"SUM(M129-L129)","v":0},0,0,{"$f":"SUM(P129-O129)","v":0},0,0,{"$f":"SUM(S129-R129)","v":0}]
[2,"EX1272",null,null,null,"Private enterprises",null,null,0,0,0,0,0,0,0,0,0,0,0,0]
[2,"EX128",null,null,null,"Households and non government units",null,null,0,0,0,0,0,0,0,0,0,0,0,0]
[1,"EX129",null,null,null,"Higher education institutions",null,null,0,0,0,0,0,0,0,0,0,0,0,0]
[1,"EX130",null,null,null,"Foreign governments and international organisations ",null,null,0,0,0,0,0,0,0,0,0,0,0,0]
[1,"EX131",null,null,null,"Non-profit institutions",null,null,0,0,0,0,0,0,0,0,0,0,0,0]
[1,"EX132",null,null,null,"Households",null,null,{"$f":"SUM(I136:I137)","v":0},{"$f":"SUM(J136:J137)","v":0},{"$f":"SUM(K136:K137)","v":0},{"$f":"SUM(L136:L137)","v":0},{"$f":"SUM(M136:M137)","v":0},0,{"$f":"SUM(O136:O137)","v":0},{"$f":"SUM(P136:P137)","v":0},0,{"$f":"SUM(R136:R137)","v":0},{"$f":"SUM(S136:S137)","v":0},0,{"$f":"SUM(U136:U137)","v":0}]
[1,"EX1301",null,null,null,"Social benefits ",null,null,0,0,0,0,0,{"$f":"SUM(M136-L136)","v":0},0,0,{"$f":"SUM(P136-O136)","v":0},0,0,{"$f":"SUM(S136-R136)","v":0}]
[1,"EX1302",null,null,null,"Other transfers to households",null,null,0,0,0,0,0,0,0,0,0,0,0,0]
[1,"EX13",null,null,null,"Tax payment",null,null,0,0,0,0,0,0,0,0,0,0,0,0]
[1,"EX14",null,null,null,"Outside shareholders Interest",null,null,0,0,0,0,0,0,0,0,0,0,0,0]
[1,"EX15",null,null,null,"Total Expenditure",null,null,{"$f":"SUM(I39,I109,I138:I139)","v":0},{"$f":"SUM(J39,J109,J138:J139)","v":0},{"$f":"SUM(K39,K109,K138:K139)","v":0},{"$f":"SUM(L39,L109,L138:L139)","v":0},{"$f":"SUM(M39,M109,M138:M139)","v":0},{"$f":"SUM(M140-L140)","v":0},{"$f":"SUM(O39,O109,O138:O139)","v":0},{"$f":"SUM(P39,P109,P138:P139)","v":0},{"$f":"SUM(P140-O140)","v":0},{"$f":"SUM(R39,R109,R138:R139)","v":0},{"$f":"SUM(S39,S109,S138:S139)","v":0},{"$f":"SUM(S140-R140)","v":0},{"$f":"SUM(U39,U109,U138:U139)","v":0}]
[1]
[1,null,null,null,null,"Objective less Expenditure",null,null,{"$f":"ROUND(IF(I37-I140>0,IF(I37-I140<1,0,I37-I140),I37-I140),0)","v":0},0,0,0,0,{"$f":"ROUND(IF(N37-N140>0,IF(N37-N140<1,0,N37-N140),N37-N140),0)","v":0},0,0,0,0,0,0,0]
[1]

{"sheet":"10","index":14,"n_rows":143,"n_cols":22,"rows_kept":143,"cut":false,"hidden":false,"merged":[[31,14,31,16],[31,17,31,19],[31,11,31,13]]}
[]
[]
[]
[]
[]
[null,null,null,null,null,"PE No",{"$f":"Settings!O2","v":"PE196"}]
[null,null,null,null,null,"Entity name",{"$f":"Settings!$D$2","v":"Transnet Limited"}]
[]
[null,null,null,null,null,"Performance and operations information"]
["ItemCat","Item code","Hide/unhide",null,null,"Activity/Output/Outcome/Efficiency Indicator","Priorities",null,{"$f":"MyYearM3","v":"2019/20"},{"$f":"MyYearM2","v":"2020/21"},{"$f":"MyYearM1","v":"2021/22"},{"$f":"MyYear0","v":"2022/23"},{"$f":"MyYearP1","v":"2023/24"},{"$f":"MyYearP2","v":"2024/25"},{"$f":"MyYearP3","v":"2025/26"},"Related Objectives","Add to 'Performance Indicators' Sheet","Comments"]
[1,null,null,null,null,0,0,null,0,0,0,0,0,0,null,0,0,0]
[1,null,null,null,null,0,0,null,0,0,0,0,0,0,null,0,0,0]
[1,null,null,null,null,0,0,null,0,0,0,0,0,0,null,0,0,0]
[1,null,null,null,null,0,0,null,0,0,0,0,0,0,null,0,0,0]
[1,null,null,null,null,0,0,null,0,0,0,0,0,0,null,0,0,0]
[1,null,null,null,null,0,0,null,0,0,0,0,0,0,null,0,0,0]
[1,null,null,null,null,0,0,null,0,0,0,0,0,0,null,0,0,0]
[1,null,null,null,null,0,0,null,0,0,0,0,0,0,null,0,0,0]
[1,null,null,null,null,0,0,null,0,0,0,0,0,0,null,0,0,0]
[1,null,null,null,null,0,0,null,0,0,0,0,0,0,null,0,0,0]
[1,null,null,null,null,0,0,null,0,0,0,0,0,0,null,0,0,0]
[1,null,null,null,null,0,0,null,0,0,0,0,0,0,null,0,0,0]
[1,null,null,null,null,0,0,null,0,0,0,0,0,0,null,0,0,0]
[1,null,null,null,null,0,0,null,0,0,0,0,0,0,null,0,0,0]
[1,null,null,null,null,0,0,null,0,0,0,0,0,0,null,0,0,0]
[1,null,null,null,null,"Notes:"]
[1,null,null,null,null,"Performance indicators are an explanation of objectives performance.   "]
[1,null,null,null,null,"1. They are specific measurements that track progress towards achieving the goals and objectives of an institution."]
[1,null,null,null,null,"2. Institutions should use performance indicators in the 2021/22 Annual Performance Plans and those in the 2022 ENE. "]
[1,null,null,null,null,"3. Institutions should also indicate instances where targets are not affected by budget baseline reprioritisation."]
[1]
[1,null,null,null,null,null,null,null,{"$f":"MyYearM3","v":"2019/20"},{"$f":"MyYearM2","v":"2020/21"},{"$f":"MyYearM1","v":"2021/22"},{"$f":"MyYear0","v":"2022/23"},null,null,{"$f":"MyYearP1","v":"2023/24"},null,null,{"$f":"MyYearP2","v":"2024/25"},null,null,{"$f":"MyYearP3","v":"2025/26"}]
[1,null,null,null,null,"Expenses",null,null,{"$f":"Hist_year3RestatedAudited","v":"Audited\noutcome"},{"$f":"Hist_year2RestatedAudited","v":"Audited\noutcome"},{"$f":"Hist_year1Audited","v":"Audited\noutcome"},{"$f":"Cur_YearBudgEst","v":"Budget\nestimate"},{"$f":"Cur_YearApprovedBudg","v":"Approved budget"},{"$f":"Cur_YearChangeFrRevBudg","v":"Changes from \nbudget estimate"},{"$f":"MTEF1BudgEst","v":"Budget\nestimate"},{"$f":"MTEF1RevBudgEst","v":"Revised\nbudget\nestimate"},{"$f":"MTEF1_ChangeFrBudgEst","v":"Changes from budget estimate"},{"$f":"MTEF2BudgEst","v":"Budget\nestimate"},{"$f":"MTEF2RevBudgEst","v":"Revised\nbudget\nestimate"},{"$f":"MTEF2_ChangeFrBudgEst","v":"Changes from budget estimate"},{"$f":"MTEF3PlanBudgetEst","v":"Planning\nbudget \nestimate"}]
[1]
[1,null,null,null,null,"Rand thousand"]
[1,null,null,null,null,"Objective/Activity"]
[1,null,null,null,null,0,null,null,0,0,0,0,0,{"$f":"SUM(M37-L37)","v":0},0,0,{"$f":"SUM(P37-O37)","v":0},0,0,{"$f":"SUM(S37-R37)","v":0}]
[1,null,null,null,null,"Economic classification"]
[1,"EX11",null,null,null,"Current payments",null,null,{"$f":"SUM(I40,I43,I98:I99,I105)","v":0},{"$f":"SUM(J40,J43,J98:J99,J105)","v":0},{"$f":"SUM(K40,K43,K98:K99,K105)","v":0},{"$f":"SUM(L40,L43,L98:L99,L105)","v":0},{"$f":"SUM(M40,M43,M98:M99,M105)","v":0},{"$f":"SUM(M39-L39)","v":0},{"$f":"SUM(O40,O43,O98:O99,O105)","v":0},{"$f":"SUM(P40,P43,P98:P99,P105)","v":0},{"$f":"SUM(P39-O39)","v":0},{"$f":"SUM(R40,R43,R98:R99,R105)","v":0},{"$f":"SUM(S40,S43,S98:S99,S105)","v":0},{"$f":"SUM(S39-R39)","v":0},{"$f":"SUM(U40,U43,U98:U99,U105)","v":0}]
[1,"EX111",null,null,null,"Compensation of employees",null,null,{"$f":"SUM(I41:I42)","v":0},{"$f":"SUM(J41:J42)","v":0},{"$f":"SUM(K41:K42)","v":0},{"$f":"SUM(L41:L42)","v":0},{"$f":"SUM(M41:M42)","v":0},{"$f":"SUM(M40-L40)","v":0},{"$f":"SUM(O41:O42)","v":0},{"$f":"SUM(P41:P42)","v":0},{"$f":"SUM(P40-O40)","v":0},{"$f":"SUM(R41:R42)","v":0},{"$f":"SUM(S41:S42)","v":0},{"$f":"SUM(S40-R40)","v":0},{"$f":"SUM(U41:U42)","v":0}]
[1,"EX1111",null,null,null,"Salaries and wages",null,null,0,0,0,0,0,{"$f":"SUM(M41-L41)","v":0},0,0,{"$f":"SUM(P41-O41)","v":0},0,0,{"$f":"SUM(S41-R41)","v":0}]
[1,"EX1112",null,null,null,"Social contributions",null,null,0,0,0,0,0,0,0,0,0,0,0,0]
[1,"EX112",null,null,null,"Goods and services",null,null,{"$f":"SUM(I45:I54,I58:I61,I73,I75:I97)","v":0},{"$f":"SUM(J45:J54,J58:J61,J73,J75:J97)","v":0},0,0,0,0,0,0,0,0,0,0,0,{"$f":"SUM(V45:V54,V58:V61,V73,V75:V97)","v":0}]
[1,"EX000",null,null,null,"Of which 1"]
[1,"EX1133",null,null,null,"10istrative fees",null,null,0,0,0,0,0,{"$f":"SUM(M45-L45)","v":0},0,0,{"$f":"SUM(P45-O45)","v":0},0,0,{"$f":"SUM(S45-R45)","v":0}]
[1,"EX1134",null,null,null,"Advertising",null,null,0,0,0,0,0,0,0,0,0,0,0,0]
[1,"EX1135",null,null,null,"Minor assets",null,null,0,0,0,0,0,0,0,0,0,0,0,0]
[1,"EX1136",null,null,null,"Audit costs: External",null,null,0,0,0,0,0,0,0,0,0,0,0,0]
[1,"EX1139",null,null,null,"Bursaries: Employees",null,null,0,0,0,0,0,0,0,0,0,0,0,0]
[1,"EX1140",null,null,null,"Catering: Internal activities",null,null,0,0,0,0,0,0,0,0,0,0,0,0]
[1,"EX1122",null,null,null,"Communication (G&S)",null,null,0,0,0,0,0,0,0,0,0,0,0,0]
[1,"EX1123",null,null,null,"Computer services",null,null,0,0,0,0,0,0,0,0,0,0,0,0]
[1,"EX1124",null,null,null,"Consultants: Business and advisory services",null,null,0,0,0,0,0,0,0,0,0,0,0,0]
[1,"EX1180",null,null,null,"Infrastructure and planning services",null,null,{"$f":"SUM(I55:I57)","v":0},{"$f":"SUM(J55:J57)","v":0},{"$f":"SUM(K55:K57)","v":0},{"$f":"SUM(L55:L57)","v":0},{"$f":"SUM(M55:M57)","v":0},{"$f":"SUM(M54-L54)","v":0},{"$f":"SUM(O55:O57)","v":0},{"$f":"SUM(P55:P57)","v":0},{"$f":"SUM(P54-O54)","v":0},{"$f":"SUM(R55:R57)","v":0},{"$f":"SUM(S55:S57)","v":0},{"$f":"SUM(S54-R54)","v":0},{"$f":"SUM(U55:U57)","v":0}]
[1,"EX11801",null,null,null,"Maintenance and repairs: Buildings: Consultants",null,null,0,0,0,0,0,{"$f":"SUM(M55-L55)","v":0},0,0,{"$f":"SUM(P55-O55)","v":0},0,0,0]
[1,"EX11802",null,null,null,"Maintenance and repairs: Other fixed structures: Consultants",null,null,0,0,0,0,0,0,0,0,0,0,0,0]
[1,"EX11803",null,null,null,"Other",null,null,0,0,0,0,0,0,0,0,0,0,0,0]
[1,"EX1164",null,null,null,"Laboratory services",null,null,0,0,0,0,0,0,0,0,0,0,0,0]
[1,"EX1162",null,null,null,"Legal services (G&S)",null,null,0,0,0,0,0,0,0,0,0,0,0,0]
[1,"EX1165",null,null,null,"Science and technological services",null,null,0,0,0,0,0,0,0,0,0,0,0,0]
[1,"EX1125",null,null,null,"Contractors",null,null,{"$f":"SUM(I62:I66,I72)","v":0},{"$f":"SUM(J62:J66,J72)","v":0},{"$f":"SUM(K62:K66,K72)","v":0},{"$f":"SUM(L62:L66,L72)","v":0},{"$f":"SUM(M62:M66,M72)","v":0},{"$f":"SUM(M61-L61)","v":0},{"$f":"SUM(O62:O66,O72)","v":0},{"$f":"SUM(P62:P66,P72)","v":0},{"$f":"SUM(P61-O61)","v":0},{"$f":"SUM(R62:R66,R72)","v":0},{"$f":"SUM(S62:S66,S72)","v":0},0,{"$f":"SUM(U62:U66,U72)","v":0}]
[1,"EX11251",null,null,null,"Maintenance and repairs of other fixed structures",null,null,0,0,0,0,0,0,0,0,0,0,0,0]
[1,"EX11252",null,null,null,"Maintenance and repairs of other machinery and equipment",null,null,0,0,0,0,0,0,0,0,0,0,0,0]
[1,"EX11253",null,null,null,"Maintenance and repairs of heritage buildings",null,null,0,0,0,0,0,0,0,0,0,0,0,0]
[1,"EX11254",null,null,null,"Maintenance and repairs of other heritage fixed structures",null,null,0,0,0,0,0,0,0,0,0,0,0,0]
[5,"EX11255",null,null,null,"South african social security agency payment contractors",null,null,{"$f":"SUM(I67:I71)","v":0},{"$f":"SUM(J67:J71)","v":0},{"$f":"SUM(K67:K71)","v":0},{"$f":"SUM(L67:L71)","v":0},{"$f":"SUM(M67:M71)","v":0},0,{"$f":"SUM(O67:O71)","v":0},{"$f":"SUM(P67:P71)","v":0},0,{"$f":"SUM(R67:R71)","v":0},{"$f":"SUM(S67:S71)","v":0},0,{"$f":"SUM(U67:U71)","v":0}]
[5,"EX112551",null,null,null,"SASSA 10 fees",null,null,0,0,0,0,0,0,0,0,0,0,0,0]
[5,"EX112552",null,null,null,"SASSA Bankcard fees",null,null,0,0,0,0,0,0,0,0,0,0,0,0]
[5,"EX112553",null,null,null,"SASSA registration fees",null,null,0,0,0,0,0,0,0,0,0,0,0,0]
[5,"EX112554",null,null,null,"SASSA beneficiary fees",null,null,0,0,0,0,0,0,0,0,0,0,0,0]
[5,"EX112555",null,null,null,"SASSA help desk fees",null,null,0,0,0,0,0,0,0,0,0,0,0,0]
[null,null,null,null,null,"Other",null,null,0,0,0,0,0,0,0,0,0,0,0,0]
[1,"EX1121",null,null,null,"Agency and support/outsourced services",null,null,0,0,0,0,0,0,0,0,0,0,0,0]
[5,"EX11211",null,null,null,"     Of Which: Medical assessments",null,null,0,0,0,0,0,0,0,0,0,0,0,0]
[1,"EX1161",null,null,null,"Entertainment",null,null,0,0,0,0,0,0,0,0,0,0,0,0]
[1,"EX1166",null,null,null,"Fleet services (including government motor transport)",null,null,0,0,0,0,0,0,0,0,0,0,0,0]
[1,"EX1167",null,null,null,"Housing",null,null,0,0,0,0,0,0,0,0,0,0,0,0]
[1,"EX1168",null,null,null,"Inventory: Clothing material and accessories",null,null,0,0,0,0,0,0,0,0,0,0,0,0]
[1,"EX1169",null,null,null,"Inventory: Farming supplies",null,null,0,0,0,0,0,0,0,0,0,0,0,0]
[1,"EX1170",null,null,null,"Inventory: Food and food supplies",null,null,0,0,0,0,0,0,0,0,0,0,0,0]
[1,"EX1171",null,null,null,"Inventory: Fuel, oil and gas",null,null,0,0,0,0,0,0,0,0,0,0,0,0]
[1,"EX1172",null,null,null,"Inventory: Learner and teacher support material",null,null,0,0,0,0,0,0,0,0,0,0,0,0]
[1,"EX1126",null,null,null,"Inventory: Materials and supplies",null,null,0,0,0,0,0,0,0,0,0,0,0,0]
[1,"EX1173",null,null,null,"Inventory: Medical supplies",null,null,0,0,0,0,0,0,0,0,0,0,0,0]
[1,"EX1174",null,null,null,"Inventory: Medicine",null,null,0,0,0,0,0,0,0,0,0,0,0,0]
[1,"EX1175",null,null,null,"Medsas inventory interface",null,null,0,0,0,0,0,0,0,0,0,0,0,0]
[1,"EX1176",null,null,null,"Inventory: Other supplies",null,null,0,0,0,0,0,0,0,0,0,0,0,0]
[1,"EX1177",null,null,null,"Consumable supplies",null,null,0,0,0,0,0,0,0,0,0,0,0,0]
[1,"EX1144",null,null,null,"Consumables: Stationery, printing and office supplies",null,null,0,0,0,0,0,0,0,0,0,0,0,0]
[1,"EX1127",null,null,null,"Operating leases",null,null,0,0,0,0,0,0,0,0,0,0,0,0]
[1,"EX1178",null,null,null,"Rental and hiring",null,null,0,0,0,0,0,0,0,0,0,0,0,0]
[1,"EX1145",null,null,null,"Property payments",null,null,0,0,0,0,0,0,0,0,0,0,0,0]
[1,"EX1179",null,null,null,"Transport provided: Internal activities",null,null,0,0,0,0,0,0,0,0,0,0,0,0]
[1,"EX1131",null,null,null,"Travel and subsistence",null,null,0,0,0,0,0,0,0,0,0,0,0,0]
[1,"EX1130",null,null,null,"Training and development",null,null,0,0,0,0,0,0,0,0,0,0,0,0]
[1,"EX1132",null,null,null,"Operating payments",null,null,0,0,0,0,0,0,0,0,0,0,0,0]
[1,"EX1146",null,null,null,"Venues and facilities",null,null,0,0,0,0,0,0,0,0,0,0,0,0]
[1,"EX113",null,null,null,"Depreciation",null,null,0,0,0,0,0,0,0,0,0,0,0,0]
[1,"EX114",null,null,null,"Losses from",null,null,{"$f":"SUM(I100:I101,I104)","v":0},{"$f":"SUM(J100:J101,J104)","v":0},{"$f":"SUM(K100:K101,K104)","v":0},{"$f":"SUM(L100:L101,L104)","v":0},{"$f":"SUM(M100:M101,M104)","v":0},{"$f":"SUM(M99-L99)","v":0},{"$f":"SUM(O100:O101,O104)","v":0},{"$f":"SUM(P100:P101,P104)","v":0},{"$f":"SUM(P99-O99)","v":0},{"$f":"SUM(R100:R101,R104)","v":0},{"$f":"SUM(S100:S101,S104)","v":0},{"$f":"SUM(S99-R99)","v":0},{"$f":"SUM(U100:U101,U104)","v":0}]
[1,"EX1141",null,null,null,"Sale of fixed assets",null,null,0,0,0,0,0,{"$f":"SUM(M100-L100)","v":0},0,0,{"$f":"SUM(P100-O100)","v":0},0,0,{"$f":"SUM(S100-R100)","v":0}]
[1,"EX1142",null,null,null,"Impairments and adjustments to fair value",null,null,{"$f":"SUM(I102:I103)","v":0},{"$f":"SUM(J102:J103)","v":0},{"$f":"SUM(K102:K103)","v":0},{"$f":"SUM(L102:L103)","v":0},{"$f":"SUM(M102:M103)","v":0},0,{"$f":"SUM(O102:O103)","v":0},{"$f":"SUM(P102:P103)","v":0},0,{"$f":"SUM(R102:R103)","v":0},{"$f":"SUM(S102:S103)","v":0},0,{"$f":"SUM(U102:U103)","v":0}]
[1,"EX11421",null,null,null,"Adjustments to fair value of assets",null,null,0,0,0,0,0,{"$f":"SUM(M102-L102)","v":0},0,0,{"$f":"SUM(P102-O102)","v":0},0,0,{"$f":"SUM(S102-R102)","v":0}]
[1,"EX11422",null,null,null,"Impairments to assets",null,null,0,0,0,0,0,0,0,0,0,0,0,0]
[1,"EX1143",null,null,null,"Other",null,null,0,0,0,0,0,0,0,0,0,0,0,0]
[1,"EX115",null,null,null,"Interest, dividends and rent on land",null,null,{"$f":"SUM(I106:I108)","v":0},{"$f":"SUM(J106:J108)","v":0},{"$f":"SUM(K106:K108)","v":0},{"$f":"SUM(L106:L108)","v":0},{"$f":"SUM(M106:M108)","v":0},0,{"$f":"SUM(O106:O108)","v":0},{"$f":"SUM(P106:P108)","v":0},0,{"$f":"SUM(R106:R108)","v":0},{"$f":"SUM(S106:S108)","v":0},0,{"$f":"SUM(U106:U108)","v":0}]
[1,"EX1151",null,null,null,"Interest",null,null,0,0,0,0,0,{"$f":"SUM(M106-L106)","v":0},0,0,{"$f":"SUM(P106-O106)","v":0},0,0,{"$f":"SUM(S106-R106)","v":0}]
[1,"EX1152",null,null,null,"Dividends",null,null,0,0,0,0,0,0,0,0,0,0,0,0]
[1,"EX1153",null,null,null,"Rent on land",null,null,0,0,0,0,0,0,0,0,0,0,0,0]
[1,"EX12",null,null,null,"Transfers and subsidies",null,null,{"$f":"SUM(I110,I121,I132:I135)","v":0},{"$f":"SUM(J110,J121,J132:J135)","v":0},{"$f":"SUM(K110,K121,K132:K135)","v":0},{"$f":"SUM(L110,L121,L132:L135)","v":0},{"$f":"SUM(M110,M121,M132:M135)","v":0},0,{"$f":"SUM(O110,O121,O132:O135)","v":0},{"$f":"SUM(P110,P121,P132:P135)","v":0},0,{"$f":"SUM(R110,R121,R132:R135)","v":0},{"$f":"SUM(S110,S121,S132:S135)","v":0},0,{"$f":"SUM(U110,U121,U132:U135)","v":0}]
[2,"EX121",null,null,null,"Employer Grant (SETAs only)",null,null,{"$f":"SUM(I111,I117,I120)","v":0},{"$f":"SUM(J111,J117,J120)","v":0},{"$f":"SUM(K111,K117,K120)","v":0},{"$f":"SUM(L111,L117,L120)","v":0},{"$f":"SUM(M111,M117,M120)","v":0},0,{"$f":"SUM(O111,O117,O120)","v":0},{"$f":"SUM(P111,P117,P120)","v":0},0,{"$f":"SUM(R111,R117,R120)","v":0},{"$f":"SUM(S111,S117,S120)","v":0},0,{"$f":"SUM(U111,U117,U120)","v":0}]
[1,"EX122",null,null,null,"Other government units",null,null,{"$f":"SUM(I112:I116)","v":0},{"$f":"SUM(J112:J116)","v":0},{"$f":"SUM(K112:K116)","v":0},{"$f":"SUM(L112:L116)","v":0},{"$f":"SUM(M112:M116)","v":0},0,{"$f":"SUM(O112:O116)","v":0},{"$f":"SUM(P112:P116)","v":0},0,{"$f":"SUM(R112:R116)","v":0},{"$f":"SUM(S112:S116)","v":0},0,{"$f":"SUM(U112:U116)","v":0}]
[1,"EX1221",null,null,null,"National government",null,null,0,0,0,0,0,{"$f":"SUM(M112-L112)","v":0},0,0,{"$f":"SUM(P112-O112)","v":0},0,0,{"$f":"SUM(S112-R112)","v":0}]
[1,"EX1222",null,null,null,"Departmental agencies and accounts",null,null,0,0,0,0,0,0,0,0,0,0,0,0]
[1,"EX1223",null,null,null,"Provinces",null,null,0,0,0,0,0,0,0,0,0,0,0,0]
[1,"EX1224",null,null,null,"Municipalities",null,null,0,0,0,0,0,0,0,0,0,0,0,0]
[2,"EX1225",null,null,null,"National Skills Fund",null,null,0,0,0,0,0,0,0,0,0,0,0,0]
[1,"EX123",null,null,null,"Public corporations and private enterprises (subsidies and other transfers)",null,null,{"$f":"SUM(I118:I119)","v":0},{"$f":"SUM(J118:J119)","v":0},{"$f":"SUM(K118:K119)","v":0},{"$f":"SUM(L118:L119)","v":0},{"$f":"SUM(M118:M119)","v":0},0,{"$f":"SUM(O118:O119)","v":0},{"$f":"SUM(P118:P119)","v":0},0,{"$f":"SUM(R118:R119)","v":0},{"$f":"SUM(S118:S119)","v":0},0,{"$f":"SUM(U118:U119)","v":0}]
[1,"EX1231",null,null,null,"Public corporations",null,null,0,0,0,0,0,{"$f":"SUM(M118-L118)","v":0},0,0,{"$f":"SUM(P118-O118)","v":0},0,0,{"$f":"SUM(S118-R118)","v":0}]
[1,"EX1232",null,null,null,"Private enterprises",null,null,0,0,0,0,0,0,0,0,0,0,0,0]
[2,"EX124",null,null,null,"Households and non government units",null,null,0,0,0,0,0,0,0,0,0,0,0,0]
[2,"EX125",null,null,null,"Discretionary Grant (SETAs only)",null,null,{"$f":"SUM(I122,I128,I131)","v":0},{"$f":"SUM(J122,J128,J131)","v":0},{"$f":"SUM(K122,K128,K131)","v":0},{"$f":"SUM(L122,L128,L131)","v":0},{"$f":"SUM(M122,M128,M131)","v":0},0,{"$f":"SUM(O122,O128,O131)","v":0},{"$f":"SUM(P122,P128,P131)","v":0},0,{"$f":"SUM(R122,R128,R131)","v":0},{"$f":"SUM(S122,S128,S131)","v":0},0,{"$f":"SUM(U122,U128,U131)","v":0}]
[2,"EX126",null,null,null,"Other government units",null,null,{"$f":"SUM(I123:I127)","v":0},{"$f":"SUM(J123:J127)","v":0},{"$f":"SUM(K123:K127)","v":0},{"$f":"SUM(L123:L127)","v":0},{"$f":"SUM(M123:M127)","v":0},0,{"$f":"SUM(O123:O127)","v":0},{"$f":"SUM(P123:P127)","v":0},0,{"$f":"SUM(R123:R127)","v":0},{"$f":"SUM(S123:S127)","v":0},0,{"$f":"SUM(U123:U127)","v":0}]
[2,"EX1261",null,null,null,"National government",null,null,0,0,0,0,0,{"$f":"SUM(M123-L123)","v":0},0,0,{"$f":"SUM(P123-O123)","v":0},0,0,{"$f":"SUM(S123-R123)","v":0}]
[2,"EX1262",null,null,null,"Departmental agencies and accounts",null,null,0,0,0,0,0,0,0,0,0,0,0,0]
[2,"EX1263",null,null,null,"Provinces",null,null,0,0,0,0,0,0,0,0,0,0,0,0]
[2,"EX1264",null,null,null,"Municipalities",null,null,0,0,0,0,0,0,0,0,0,0,0,0]
[2,"EX1265",null,null,null,"National Skills Fund",null,null,0,0,0,0,0,0,0,0,0,0,0,0]
[2,"EX127",null,null,null,"Public corporations and private enterprises (subsidies and other transfers)",null,null,{"$f":"SUM(I129:I130)","v":0},{"$f":"SUM(J129:J130)","v":0},{"$f":"SUM(K129:K130)","v":0},{"$f":"SUM(L129:L130)","v":0},{"$f":"SUM(M129:M130)","v":0},0,{"$f":"SUM(O129:O130)","v":0},{"$f":"SUM(P129:P130)","v":0},0,{"$f":"SUM(R129:R130)","v":0},{"$f":"SUM(S129:S130)","v":0},0,{"$f":"SUM(U129:U130)","v":0}]
[2,"EX1271",null,null,null,"Public corporations",null,null,0,0,0,0,0,{"$f":"SUM(M129-L129)","v":0},0,0,{"$f":"SUM(P129-O129)","v":0},0,0,{"$f":"SUM(S129-R129)","v":0}]
[2,"EX1272",null,null,null,"Private enterprises",null,null,0,0,0,0,0,0,0,0,0,0,0,0]
[2,"EX128",null,null,null,"Households and non government units",null,null,0,0,0,0,0,0,0,0,0,0,0,0]
[1,"EX129",null,null,null,"Higher education institutions",null,null,0,0,0,0,0,0,0,0,0,0,0,0]
[1,"EX130",null,null,null,"Foreign governments and international organisations ",null,null,0,0,0,0,0,0,0,0,0,0,0,0]
[1,"EX131",null,null,null,"Non-profit institutions",null,null,0,0,0,0,0,0,0,0,0,0,0,0]
[1,"EX132",null,null,null,"Households",null,null,{"$f":"SUM(I136:I137)","v":0},{"$f":"SUM(J136:J137)","v":0},{"$f":"SUM(K136:K137)","v":0},{"$f":"SUM(L136:L137)","v":0},{"$f":"SUM(M136:M137)","v":0},0,{"$f":"SUM(O136:O137)","v":0},{"$f":"SUM(P136:P137)","v":0},0,{"$f":"SUM(R136:R137)","v":0},{"$f":"SUM(S136:S137)","v":0},0,{"$f":"SUM(U136:U137)","v":0}]
[1,"EX1301",null,null,null,"Social benefits ",null,null,0,0,0,0,0,{"$f":"SUM(M136-L136)","v":0},0,0,{"$f":"SUM(P136-O136)","v":0},0,0,{"$f":"SUM(S136-R136)","v":0}]
[1,"EX1302",null,null,null,"Other transfers to households",null,null,0,0,0,0,0,0,0,0,0,0,0,0]
[1,"EX13",null,null,null,"Tax payment",null,null,0,0,0,0,0,0,0,0,0,0,0,0]
[1,"EX14",null,null,null,"Outside shareholders Interest",null,null,0,0,0,0,0,0,0,0,0,0,0,0]
[1,"EX15",null,null,null,"Total Expenditure",null,null,{"$f":"SUM(I39,I109,I138:I139)","v":0},{"$f":"SUM(J39,J109,J138:J139)","v":0},{"$f":"SUM(K39,K109,K138:K139)","v":0},{"$f":"SUM(L39,L109,L138:L139)","v":0},{"$f":"SUM(M39,M109,M138:M139)","v":0},{"$f":"SUM(M140-L140)","v":0},{"$f":"SUM(O39,O109,O138:O139)","v":0},{"$f":"SUM(P39,P109,P138:P139)","v":0},{"$f":"SUM(P140-O140)","v":0},{"$f":"SUM(R39,R109,R138:R139)","v":0},{"$f":"SUM(S39,S109,S138:S139)","v":0},{"$f":"SUM(S140-R140)","v":0},{"$f":"SUM(U39,U109,U138:U139)","v":0}]
[1]
[1,null,null,null,null,"Objective less Expenditure",null,null,{"$f":"ROUND(IF(I37-I140>0,IF(I37-I140<1,0,I37-I140),I37-I140),0)","v":0},0,0,0,0,{"$f":"ROUND(IF(N37-N140>0,IF(N37-N140<1,0,N37-N140),N37-N140),0)","v":0},0,0,0,0,0,0,0]
[1]

{"sheet":"11","index":15,"n_rows":143,"n_cols":22,"rows_kept":143,"cut":false,"hidden":false,"merged":[[31,11,31,13],[31,14,31,16],[31,17,31,19]]}
[]
[]
[]
[]
[]
[null,null,null,null,null,"PE No",{"$f":"Settings!O2","v":"PE196"}]
[null,null,null,null,null,"Entity name",{"$f":"Settings!$D$2","v":"Transnet Limited"}]
[]
[null,null,null,null,null,"Performance and operations information"]
["ItemCat","Item code","Hide/unhide",null,null,"Activity/Output/Outcome/Efficiency Indicator","Priorities",null,{"$f":"MyYearM3","v":"2019/20"},{"$f":"MyYearM2","v":"2020/21"},{"$f":"MyYearM1","v":"2021/22"},{"$f":"MyYear0","v":"2022/23"},{"$f":"MyYearP1","v":"2023/24"},{"$f":"MyYearP2","v":"2024/25"},{"$f":"MyYearP3","v":"2025/26"},"Related Objectives","Add to 'Performance Indicators' Sheet","Comments"]
[1,null,null,null,null,0,0,null,0,0,0,0,0,0,null,0,0,0]
[1,null,null,null,null,0,0,null,0,0,0,0,0,0,null,0,0,0]
[1,null,null,null,null,0,0,null,0,0,0,0,0,0,null,0,0,0]
[1,null,null,null,null,0,0,null,0,0,0,0,0,0,null,0,0,0]
[1,null,null,null,null,0,0,null,0,0,0,0,0,0,null,0,0,0]
[1,null,null,null,null,0,0,null,0,0,0,0,0,0,null,0,0,0]
[1,null,null,null,null,0,0,null,0,0,0,0,0,0,null,0,0,0]
[1,null,null,null,null,0,0,null,0,0,0,0,0,0,null,0,0,0]
[1,null,null,null,null,0,0,null,0,0,0,0,0,0,null,0,0,0]
[1,null,null,null,null,0,0,null,0,0,0,0,0,0,null,0,0,0]
[1,null,null,null,null,0,0,null,0,0,0,0,0,0,null,0,0,0]
[1,null,null,null,null,0,0,null,0,0,0,0,0,0,null,0,0,0]
[1,null,null,null,null,0,0,null,0,0,0,0,0,0,null,0,0,0]
[1,null,null,null,null,0,0,null,0,0,0,0,0,0,null,0,0,0]
[1,null,null,null,null,0,0,null,0,0,0,0,0,0,null,0,0,0]
[1,null,null,null,null,"Notes:"]
[1,null,null,null,null,"Performance indicators are an explanation of objectives performance.   "]
[1,null,null,null,null,"1. They are specific measurements that track progress towards achieving the goals and objectives of an institution."]
[1,null,null,null,null,"2. Institutions should use performance indicators in the 2021/22 Annual Performance Plans and those in the 2022 ENE. "]
[1,null,null,null,null,"3. Institutions should also indicate instances where targets are not affected by budget baseline reprioritisation."]
[1]
[1,null,null,null,null,null,null,null,{"$f":"MyYearM3","v":"2019/20"},{"$f":"MyYearM2","v":"2020/21"},{"$f":"MyYearM1","v":"2021/22"},{"$f":"MyYear0","v":"2022/23"},null,null,{"$f":"MyYearP1","v":"2023/24"},null,null,{"$f":"MyYearP2","v":"2024/25"},null,null,{"$f":"MyYearP3","v":"2025/26"}]
[1,null,null,null,null,"Expenses",null,null,{"$f":"Hist_year3RestatedAudited","v":"Audited\noutcome"},{"$f":"Hist_year2RestatedAudited","v":"Audited\noutcome"},{"$f":"Hist_year1Audited","v":"Audited\noutcome"},{"$f":"Cur_YearBudgEst","v":"Budget\nestimate"},{"$f":"Cur_YearApprovedBudg","v":"Approved budget"},{"$f":"Cur_YearChangeFrRevBudg","v":"Changes from \nbudget estimate"},{"$f":"MTEF1BudgEst","v":"Budget\nestimate"},{"$f":"MTEF1RevBudgEst","v":"Revised\nbudget\nestimate"},{"$f":"MTEF1_ChangeFrBudgEst","v":"Changes from budget estimate"},{"$f":"MTEF2BudgEst","v":"Budget\nestimate"},{"$f":"MTEF2RevBudgEst","v":"Revised\nbudget\nestimate"},{"$f":"MTEF2_ChangeFrBudgEst","v":"Changes from budget estimate"},{"$f":"MTEF3PlanBudgetEst","v":"Planning\nbudget \nestimate"}]
[1]
[1,null,null,null,null,"Rand thousand"]
[1,null,null,null,null,"Objective/Activity"]
[1,null,null,null,null,0,null,null,0,0,0,0,0,{"$f":"SUM(M37-L37)","v":0},0,0,{"$f":"SUM(P37-O37)","v":0},0,0,{"$f":"SUM(S37-R37)","v":0}]
[1,null,null,null,null,"Economic classification"]
[1,"EX11",null,null,null,"Current payments",null,null,{"$f":"SUM(I40,I43,I98:I99,I105)","v":0},{"$f":"SUM(J40,J43,J98:J99,J105)","v":0},{"$f":"SUM(K40,K43,K98:K99,K105)","v":0},{"$f":"SUM(L40,L43,L98:L99,L105)","v":0},{"$f":"SUM(M40,M43,M98:M99,M105)","v":0},{"$f":"SUM(M39-L39)","v":0},{"$f":"SUM(O40,O43,O98:O99,O105)","v":0},{"$f":"SUM(P40,P43,P98:P99,P105)","v":0},{"$f":"SUM(P39-O39)","v":0},{"$f":"SUM(R40,R43,R98:R99,R105)","v":0},{"$f":"SUM(S40,S43,S98:S99,S105)","v":0},{"$f":"SUM(S39-R39)","v":0},{"$f":"SUM(U40,U43,U98:U99,U105)","v":0}]
[1,"EX111",null,null,null,"Compensation of employees",null,null,{"$f":"SUM(I41:I42)","v":0},{"$f":"SUM(J41:J42)","v":0},{"$f":"SUM(K41:K42)","v":0},{"$f":"SUM(L41:L42)","v":0},{"$f":"SUM(M41:M42)","v":0},{"$f":"SUM(M40-L40)","v":0},{"$f":"SUM(O41:O42)","v":0},{"$f":"SUM(P41:P42)","v":0},{"$f":"SUM(P40-O40)","v":0},{"$f":"SUM(R41:R42)","v":0},{"$f":"SUM(S41:S42)","v":0},{"$f":"SUM(S40-R40)","v":0},{"$f":"SUM(U41:U42)","v":0}]
[1,"EX1111",null,null,null,"Salaries and wages",null,null,0,0,0,0,0,{"$f":"SUM(M41-L41)","v":0},0,0,{"$f":"SUM(P41-O41)","v":0},0,0,{"$f":"SUM(S41-R41)","v":0}]
[1,"EX1112",null,null,null,"Social contributions",null,null,0,0,0,0,0,0,0,0,0,0,0,0]
[1,"EX112",null,null,null,"Goods and services",null,null,{"$f":"SUM(I45:I54,I58:I61,I73,I75:I97)","v":0},{"$f":"SUM(J45:J54,J58:J61,J73,J75:J97)","v":0},0,0,0,0,0,0,0,0,0,0,0,{"$f":"SUM(V45:V54,V58:V61,V73,V75:V97)","v":0}]
[1,"EX000",null,null,null,"Of which 1"]
[1,"EX1133",null,null,null,"11istrative fees",null,null,0,0,0,0,0,{"$f":"SUM(M45-L45)","v":0},0,0,{"$f":"SUM(P45-O45)","v":0},0,0,{"$f":"SUM(S45-R45)","v":0}]
[1,"EX1134",null,null,null,"Advertising",null,null,0,0,0,0,0,0,0,0,0,0,0,0]
[1,"EX1135",null,null,null,"Minor assets",null,null,0,0,0,0,0,0,0,0,0,0,0,0]
[1,"EX1136",null,null,null,"Audit costs: External",null,null,0,0,0,0,0,0,0,0,0,0,0,0]
[1,"EX1139",null,null,null,"Bursaries: Employees",null,null,0,0,0,0,0,0,0,0,0,0,0,0]
[1,"EX1140",null,null,null,"Catering: Internal activities",null,null,0,0,0,0,0,0,0,0,0,0,0,0]
[1,"EX1122",null,null,null,"Communication (G&S)",null,null,0,0,0,0,0,0,0,0,0,0,0,0]
[1,"EX1123",null,null,null,"Computer services",null,null,0,0,0,0,0,0,0,0,0,0,0,0]
[1,"EX1124",null,null,null,"Consultants: Business and advisory services",null,null,0,0,0,0,0,0,0,0,0,0,0,0]
[1,"EX1180",null,null,null,"Infrastructure and planning services",null,null,{"$f":"SUM(I55:I57)","v":0},{"$f":"SUM(J55:J57)","v":0},{"$f":"SUM(K55:K57)","v":0},{"$f":"SUM(L55:L57)","v":0},{"$f":"SUM(M55:M57)","v":0},{"$f":"SUM(M54-L54)","v":0},{"$f":"SUM(O55:O57)","v":0},{"$f":"SUM(P55:P57)","v":0},{"$f":"SUM(P54-O54)","v":0},{"$f":"SUM(R55:R57)","v":0},{"$f":"SUM(S55:S57)","v":0},{"$f":"SUM(S54-R54)","v":0},{"$f":"SUM(U55:U57)","v":0}]
[1,"EX11801",null,null,null,"Maintenance and repairs: Buildings: Consultants",null,null,0,0,0,0,0,{"$f":"SUM(M55-L55)","v":0},0,0,{"$f":"SUM(P55-O55)","v":0},0,0,0]
[1,"EX11802",null,null,null,"Maintenance and repairs: Other fixed structures: Consultants",null,null,0,0,0,0,0,0,0,0,0,0,0,0]
[1,"EX11803",null,null,null,"Other",null,null,0,0,0,0,0,0,0,0,0,0,0,0]
[1,"EX1164",null,null,null,"Laboratory services",null,null,0,0,0,0,0,0,0,0,0,0,0,0]
[1,"EX1162",null,null,null,"Legal services (G&S)",null,null,0,0,0,0,0,0,0,0,0,0,0,0]
[1,"EX1165",null,null,null,"Science and technological services",null,null,0,0,0,0,0,0,0,0,0,0,0,0]
[1,"EX1125",null,null,null,"Contractors",null,null,{"$f":"SUM(I62:I66,I72)","v":0},{"$f":"SUM(J62:J66,J72)","v":0},{"$f":"SUM(K62:K66,K72)","v":0},{"$f":"SUM(L62:L66,L72)","v":0},{"$f":"SUM(M62:M66,M72)","v":0},{"$f":"SUM(M61-L61)","v":0},{"$f":"SUM(O62:O66,O72)","v":0},{"$f":"SUM(P62:P66,P72)","v":0},{"$f":"SUM(P61-O61)","v":0},{"$f":"SUM(R62:R66,R72)","v":0},{"$f":"SUM(S62:S66,S72)","v":0},0,{"$f":"SUM(U62:U66,U72)","v":0}]
[1,"EX11251",null,null,null,"Maintenance and repairs of other fixed structures",null,null,0,0,0,0,0,0,0,0,0,0,0,0]
[1,"EX11252",null,null,null,"Maintenance and repairs of other machinery and equipment",null,null,0,0,0,0,0,0,0,0,0,0,0,0]
[1,"EX11253",null,null,null,"Maintenance and repairs of heritage buildings",null,null,0,0,0,0,0,0,0,0,0,0,0,0]
[1,"EX11254",null,null,null,"Maintenance and repairs of other heritage fixed structures",null,null,0,0,0,0,0,0,0,0,0,0,0,0]
[5,"EX11255",null,null,null,"South african social security agency payment contractors",null,null,{"$f":"SUM(I67:I71)","v":0},{"$f":"SUM(J67:J71)","v":0},{"$f":"SUM(K67:K71)","v":0},{"$f":"SUM(L67:L71)","v":0},{"$f":"SUM(M67:M71)","v":0},0,{"$f":"SUM(O67:O71)","v":0},{"$f":"SUM(P67:P71)","v":0},0,{"$f":"SUM(R67:R71)","v":0},{"$f":"SUM(S67:S71)","v":0},0,{"$f":"SUM(U67:U71)","v":0}]
[5,"EX112551",null,null,null,"SASSA 11 fees",null,null,0,0,0,0,0,0,0,0,0,0,0,0]
[5,"EX112552",null,null,null,"SASSA Bankcard fees",null,null,0,0,0,0,0,0,0,0,0,0,0,0]
[5,"EX112553",null,null,null,"SASSA registration fees",null,null,0,0,0,0,0,0,0,0,0,0,0,0]
[5,"EX112554",null,null,null,"SASSA beneficiary fees",null,null,0,0,0,0,0,0,0,0,0,0,0,0]
[5,"EX112555",null,null,null,"SASSA help desk fees",null,null,0,0,0,0,0,0,0,0,0,0,0,0]
[null,null,null,null,null,"Other",null,null,0,0,0,0,0,0,0,0,0,0,0,0]
[1,"EX1121",null,null,null,"Agency and support/outsourced services",null,null,0,0,0,0,0,0,0,0,0,0,0,0]
[5,"EX11211",null,null,null,"     Of Which: Medical assessments",null,null,0,0,0,0,0,0,0,0,0,0,0,0]
[1,"EX1161",null,null,null,"Entertainment",null,null,0,0,0,0,0,0,0,0,0,0,0,0]
[1,"EX1166",null,null,null,"Fleet services (including government motor transport)",null,null,0,0,0,0,0,0,0,0,0,0,0,0]
[1,"EX1167",null,null,null,"Housing",null,null,0,0,0,0,0,0,0,0,0,0,0,0]
[1,"EX1168",null,null,null,"Inventory: Clothing material and accessories",null,null,0,0,0,0,0,0,0,0,0,0,0,0]
[1,"EX1169",null,null,null,"Inventory: Farming supplies",null,null,0,0,0,0,0,0,0,0,0,0,0,0]
[1,"EX1170",null,null,null,"Inventory: Food and food supplies",null,null,0,0,0,0,0,0,0,0,0,0,0,0]
[1,"EX1171",null,null,null,"Inventory: Fuel, oil and gas",null,null,0,0,0,0,0,0,0,0,0,0,0,0]
[1,"EX1172",null,null,null,"Inventory: Learner and teacher support material",null,null,0,0,0,0,0,0,0,0,0,0,0,0]
[1,"EX1126",null,null,null,"Inventory: Materials and supplies",null,null,0,0,0,0,0,0,0,0,0,0,0,0]
[1,"EX1173",null,null,null,"Inventory: Medical supplies",null,null,0,0,0,0,0,0,0,0,0,0,0,0]
[1,"EX1174",null,null,null,"Inventory: Medicine",null,null,0,0,0,0,0,0,0,0,0,0,0,0]
[1,"EX1175",null,null,null,"Medsas inventory interface",null,null,0,0,0,0,0,0,0,0,0,0,0,0]
[1,"EX1176",null,null,null,"Inventory: Other supplies",null,null,0,0,0,0,0,0,0,0,0,0,0,0]
[1,"EX1177",null,null,null,"Consumable supplies",null,null,0,0,0,0,0,0,0,0,0,0,0,0]
[1,"EX1144",null,null,null,"Consumables: Stationery, printing and office supplies",null,null,0,0,0,0,0,0,0,0,0,0,0,0]
[1,"EX1127",null,null,null,"Operating leases",null,null,0,0,0,0,0,0,0,0,0,0,0,0]
[1,"EX1178",null,null,null,"Rental and hiring",null,null,0,0,0,0,0,0,0,0,0,0,0,0]
[1,"EX1145",null,null,null,"Property payments",null,null,0,0,0,0,0,0,0,0,0,0,0,0]
[1,"EX1179",null,null,null,"Transport provided: Internal activities",null,null,0,0,0,0,0,0,0,0,0,0,0,0]
[1,"EX1131",null,null,null,"Travel and subsistence",null,null,0,0,0,0,0,0,0,0,0,0,0,0]
[1,"EX1130",null,null,null,"Training and development",null,null,0,0,0,0,0,0,0,0,0,0,0,0]
[1,"EX1132",null,null,null,"Operating payments",null,null,0,0,0,0,0,0,0,0,0,0,0,0]
[1,"EX1146",null,null,null,"Venues and facilities",null,null,0,0,0,0,0,0,0,0,0,0,0,0]
[1,"EX113",null,null,null,"Depreciation",null,null,0,0,0,0,0,0,0,0,0,0,0,0]
[1,"EX114",null,null,null,"Losses from",null,null,{"$f":"SUM(I100:I101,I104)","v":0},{"$f":"SUM(J100:J101,J104)","v":0},{"$f":"SUM(K100:K101,K104)","v":0},{"$f":"SUM(L100:L101,L104)","v":0},{"$f":"SUM(M100:M101,M104)","v":0},{"$f":"SUM(M99-L99)","v":0},{"$f":"SUM(O100:O101,O104)","v":0},{"$f":"SUM(P100:P101,P104)","v":0},{"$f":"SUM(P99-O99)","v":0},{"$f":"SUM(R100:R101,R104)","v":0},{"$f":"SUM(S100:S101,S104)","v":0},{"$f":"SUM(S99-R99)","v":0},{"$f":"SUM(U100:U101,U104)","v":0}]
[1,"EX1141",null,null,null,"Sale of fixed assets",null,null,0,0,0,0,0,{"$f":"SUM(M100-L100)","v":0},0,0,{"$f":"SUM(P100-O100)","v":0},0,0,{"$f":"SUM(S100-R100)","v":0}]
[1,"EX1142",null,null,null,"Impairments and adjustments to fair value",null,null,{"$f":"SUM(I102:I103)","v":0},{"$f":"SUM(J102:J103)","v":0},{"$f":"SUM(K102:K103)","v":0},{"$f":"SUM(L102:L103)","v":0},{"$f":"SUM(M102:M103)","v":0},0,{"$f":"SUM(O102:O103)","v":0},{"$f":"SUM(P102:P103)","v":0},0,{"$f":"SUM(R102:R103)","v":0},{"$f":"SUM(S102:S103)","v":0},0,{"$f":"SUM(U102:U103)","v":0}]
[1,"EX11421",null,null,null,"Adjustments to fair value of assets",null,null,0,0,0,0,0,{"$f":"SUM(M102-L102)","v":0},0,0,{"$f":"SUM(P102-O102)","v":0},0,0,{"$f":"SUM(S102-R102)","v":0}]
[1,"EX11422",null,null,null,"Impairments to assets",null,null,0,0,0,0,0,0,0,0,0,0,0,0]
[1,"EX1143",null,null,null,"Other",null,null,0,0,0,0,0,0,0,0,0,0,0,0]
[1,"EX115",null,null,null,"Interest, dividends and rent on land",null,null,{"$f":"SUM(I106:I108)","v":0},{"$f":"SUM(J106:J108)","v":0},{"$f":"SUM(K106:K108)","v":0},{"$f":"SUM(L106:L108)","v":0},{"$f":"SUM(M106:M108)","v":0},0,{"$f":"SUM(O106:O108)","v":0},{"$f":"SUM(P106:P108)","v":0},0,{"$f":"SUM(R106:R108)","v":0},{"$f":"SUM(S106:S108)","v":0},0,{"$f":"SUM(U106:U108)","v":0}]
[1,"EX1151",null,null,null,"Interest",null,null,0,0,0,0,0,{"$f":"SUM(M106-L106)","v":0},0,0,{"$f":"SUM(P106-O106)","v":0},0,0,{"$f":"SUM(S106-R106)","v":0}]
[1,"EX1152",null,null,null,"Dividends",null,null,0,0,0,0,0,0,0,0,0,0,0,0]
[1,"EX1153",null,null,null,"Rent on land",null,null,0,0,0,0,0,0,0,0,0,0,0,0]
[1,"EX12",null,null,null,"Transfers and subsidies",null,null,{"$f":"SUM(I110,I121,I132:I135)","v":0},{"$f":"SUM(J110,J121,J132:J135)","v":0},{"$f":"SUM(K110,K121,K132:K135)","v":0},{"$f":"SUM(L110,L121,L132:L135)","v":0},{"$f":"SUM(M110,M121,M132:M135)","v":0},0,{"$f":"SUM(O110,O121,O132:O135)","v":0},{"$f":"SUM(P110,P121,P132:P135)","v":0},0,{"$f":"SUM(R110,R121,R132:R135)","v":0},{"$f":"SUM(S110,S121,S132:S135)","v":0},0,{"$f":"SUM(U110,U121,U132:U135)","v":0}]
[2,"EX121",null,null,null,"Employer Grant (SETAs only)",null,null,{"$f":"SUM(I111,I117,I120)","v":0},{"$f":"SUM(J111,J117,J120)","v":0},{"$f":"SUM(K111,K117,K120)","v":0},{"$f":"SUM(L111,L117,L120)","v":0},{"$f":"SUM(M111,M117,M120)","v":0},0,{"$f":"SUM(O111,O117,O120)","v":0},{"$f":"SUM(P111,P117,P120)","v":0},0,{"$f":"SUM(R111,R117,R120)","v":0},{"$f":"SUM(S111,S117,S120)","v":0},0,{"$f":"SUM(U111,U117,U120)","v":0}]
[1,"EX122",null,null,null,"Other government units",null,null,{"$f":"SUM(I112:I116)","v":0},{"$f":"SUM(J112:J116)","v":0},{"$f":"SUM(K112:K116)","v":0},{"$f":"SUM(L112:L116)","v":0},{"$f":"SUM(M112:M116)","v":0},0,{"$f":"SUM(O112:O116)","v":0},{"$f":"SUM(P112:P116)","v":0},0,{"$f":"SUM(R112:R116)","v":0},{"$f":"SUM(S112:S116)","v":0},0,{"$f":"SUM(U112:U116)","v":0}]
[1,"EX1221",null,null,null,"National government",null,null,0,0,0,0,0,{"$f":"SUM(M112-L112)","v":0},0,0,{"$f":"SUM(P112-O112)","v":0},0,0,{"$f":"SUM(S112-R112)","v":0}]
[1,"EX1222",null,null,null,"Departmental agencies and accounts",null,null,0,0,0,0,0,0,0,0,0,0,0,0]
[1,"EX1223",null,null,null,"Provinces",null,null,0,0,0,0,0,0,0,0,0,0,0,0]
[1,"EX1224",null,null,null,"Municipalities",null,null,0,0,0,0,0,0,0,0,0,0,0,0]
[2,"EX1225",null,null,null,"National Skills Fund",null,null,0,0,0,0,0,0,0,0,0,0,0,0]
[1,"EX123",null,null,null,"Public corporations and private enterprises (subsidies and other transfers)",null,null,{"$f":"SUM(I118:I119)","v":0},{"$f":"SUM(J118:J119)","v":0},{"$f":"SUM(K118:K119)","v":0},{"$f":"SUM(L118:L119)","v":0},{"$f":"SUM(M118:M119)","v":0},0,{"$f":"SUM(O118:O119)","v":0},{"$f":"SUM(P118:P119)","v":0},0,{"$f":"SUM(R118:R119)","v":0},{"$f":"SUM(S118:S119)","v":0},0,{"$f":"SUM(U118:U119)","v":0}]
[1,"EX1231",null,null,null,"Public corporations",null,null,0,0,0,0,0,{"$f":"SUM(M118-L118)","v":0},0,0,{"$f":"SUM(P118-O118)","v":0},0,0,{"$f":"SUM(S118-R118)","v":0}]
[1,"EX1232",null,null,null,"Private enterprises",null,null,0,0,0,0,0,0,0,0,0,0,0,0]
[2,"EX124",null,null,null,"Households and non government units",null,null,0,0,0,0,0,0,0,0,0,0,0,0]
[2,"EX125",null,null,null,"Discretionary Grant (SETAs only)",null,null,{"$f":"SUM(I122,I128,I131)","v":0},{"$f":"SUM(J122,J128,J131)","v":0},{"$f":"SUM(K122,K128,K131)","v":0},{"$f":"SUM(L122,L128,L131)","v":0},{"$f":"SUM(M122,M128,M131)","v":0},0,{"$f":"SUM(O122,O128,O131)","v":0},{"$f":"SUM(P122,P128,P131)","v":0},0,{"$f":"SUM(R122,R128,R131)","v":0},{"$f":"SUM(S122,S128,S131)","v":0},0,{"$f":"SUM(U122,U128,U131)","v":0}]
[2,"EX126",null,null,null,"Other government units",null,null,{"$f":"SUM(I123:I127)","v":0},{"$f":"SUM(J123:J127)","v":0},{"$f":"SUM(K123:K127)","v":0},{"$f":"SUM(L123:L127)","v":0},{"$f":"SUM(M123:M127)","v":0},0,{"$f":"SUM(O123:O127)","v":0},{"$f":"SUM(P123:P127)","v":0},0,{"$f":"SUM(R123:R127)","v":0},{"$f":"SUM(S123:S127)","v":0},0,{"$f":"SUM(U123:U127)","v":0}]
[2,"EX1261",null,null,null,"National government",null,null,0,0,0,0,0,{"$f":"SUM(M123-L123)","v":0},0,0,{"$f":"SUM(P123-O123)","v":0},0,0,{"$f":"SUM(S123-R123)","v":0}]
[2,"EX1262",null,null,null,"Departmental agencies and accounts",null,null,0,0,0,0,0,0,0,0,0,0,0,0]
[2,"EX1263",null,null,null,"Provinces",null,null,0,0,0,0,0,0,0,0,0,0,0,0]
[2,"EX1264",null,null,null,"Municipalities",null,null,0,0,0,0,0,0,0,0,0,0,0,0]
[2,"EX1265",null,null,null,"National Skills Fund",null,null,0,0,0,0,0,0,0,0,0,0,0,0]
[2,"EX127",null,null,null,"Public corporations and private enterprises (subsidies and other transfers)",null,null,{"$f":"SUM(I129:I130)","v":0},{"$f":"SUM(J129:J130)","v":0},{"$f":"SUM(K129:K130)","v":0},{"$f":"SUM(L129:L130)","v":0},{"$f":"SUM(M129:M130)","v":0},0,{"$f":"SUM(O129:O130)","v":0},{"$f":"SUM(P129:P130)","v":0},0,{"$f":"SUM(R129:R130)","v":0},{"$f":"SUM(S129:S130)","v":0},0,{"$f":"SUM(U129:U130)","v":0}]
[2,"EX1271",null,null,null,"Public corporations",null,null,0,0,0,0,0,{"$f":"SUM(M129-L129)","v":0},0,0,{"$f":"SUM(P129-O129)","v":0},0,0,{"$f":"SUM(S129-R129)","v":0}]
[2,"EX1272",null,null,null,"Private enterprises",null,null,0,0,0,0,0,0,0,0,0,0,0,0]
[2,"EX128",null,null,null,"Households and non government units",null,null,0,0,0,0,0,0,0,0,0,0,0,0]
[1,"EX129",null,null,null,"Higher education institutions",null,null,0,0,0,0,0,0,0,0,0,0,0,0]
[1,"EX130",null,null,null,"Foreign governments and international organisations ",null,null,0,0,0,0,0,0,0,0,0,0,0,0]
[1,"EX131",null,null,null,"Non-profit institutions",null,null,0,0,0,0,0,0,0,0,0,0,0,0]
[1,"EX132",null,null,null,"Households",null,null,{"$f":"SUM(I136:I137)","v":0},{"$f":"SUM(J136:J137)","v":0},{"$f":"SUM(K136:K137)","v":0},{"$f":"SUM(L136:L137)","v":0},{"$f":"SUM(M136:M137)","v":0},0,{"$f":"SUM(O136:O137)","v":0},{"$f":"SUM(P136:P137)","v":0},0,{"$f":"SUM(R136:R137)","v":0},{"$f":"SUM(S136:S137)","v":0},0,{"$f":"SUM(U136:U137)","v":0}]
[1,"EX1301",null,null,null,"Social benefits ",null,null,0,0,0,0,0,{"$f":"SUM(M136-L136)","v":0},0,0,{"$f":"SUM(P136-O136)","v":0},0,0,{"$f":"SUM(S136-R136)","v":0}]
[1,"EX1302",null,null,null,"Other transfers to households",null,null,0,0,0,0,0,0,0,0,0,0,0,0]
[1,"EX13",null,null,null,"Tax payment",null,null,0,0,0,0,0,0,0,0,0,0,0,0]
[1,"EX14",null,null,null,"Outside shareholders Interest",null,null,0,0,0,0,0,0,0,0,0,0,0,0]
[1,"EX15",null,null,null,"Total Expenditure",null,null,{"$f":"SUM(I39,I109,I138:I139)","v":0},{"$f":"SUM(J39,J109,J138:J139)","v":0},{"$f":"SUM(K39,K109,K138:K139)","v":0},{"$f":"SUM(L39,L109,L138:L139)","v":0},{"$f":"SUM(M39,M109,M138:M139)","v":0},{"$f":"SUM(M140-L140)","v":0},{"$f":"SUM(O39,O109,O138:O139)","v":0},{"$f":"SUM(P39,P109,P138:P139)","v":0},{"$f":"SUM(P140-O140)","v":0},{"$f":"SUM(R39,R109,R138:R139)","v":0},{"$f":"SUM(S39,S109,S138:S139)","v":0},{"$f":"SUM(S140-R140)","v":0},{"$f":"SUM(U39,U109,U138:U139)","v":0}]
[1]
[1,null,null,null,null,"Objective less Expenditure",null,null,{"$f":"ROUND(IF(I37-I140>0,IF(I37-I140<1,0,I37-I140),I37-I140),0)","v":0},0,0,0,0,{"$f":"ROUND(IF(N37-N140>0,IF(N37-N140<1,0,N37-N140),N37-N140),0)","v":0},0,0,0,0,0,0,0]
[1]

{"sheet":"12","index":16,"n_rows":143,"n_cols":22,"rows_kept":143,"cut":false,"hidden":false,"merged":[[31,11,31,13],[31,14,31,16],[31,17,31,19]]}
[]
[]
[]
[]
[]
[null,null,null,null,null,"PE No",{"$f":"Settings!O2","v":"PE196"}]
[null,null,null,null,null,"Entity name",{"$f":"Settings!$D$2","v":"Transnet Limited"}]
[]
[null,null,null,null,null,"Performance and operations information"]
["ItemCat","Item code","Hide/unhide",null,null,"Activity/Output/Outcome/Efficiency Indicator","Priorities",null,{"$f":"MyYearM3","v":"2019/20"},{"$f":"MyYearM2","v":"2020/21"},{"$f":"MyYearM1","v":"2021/22"},{"$f":"MyYear0","v":"2022/23"},{"$f":"MyYearP1","v":"2023/24"},{"$f":"MyYearP2","v":"2024/25"},{"$f":"MyYearP3","v":"2025/26"},"Related Objectives","Add to 'Performance Indicators' Sheet","Comments"]
[1,null,null,null,null,0,0,null,0,0,0,0,0,0,null,0,0,0]
[1,null,null,null,null,0,0,null,0,0,0,0,0,0,null,0,0,0]
[1,null,null,null,null,0,0,null,0,0,0,0,0,0,null,0,0,0]
[1,null,null,null,null,0,0,null,0,0,0,0,0,0,null,0,0,0]
[1,null,null,null,null,0,0,null,0,0,0,0,0,0,null,0,0,0]
[1,null,null,null,null,0,0,null,0,0,0,0,0,0,null,0,0,0]
[1,null,null,null,null,0,0,null,0,0,0,0,0,0,null,0,0,0]
[1,null,null,null,null,0,0,null,0,0,0,0,0,0,null,0,0,0]
[1,null,null,null,null,0,0,null,0,0,0,0,0,0,null,0,0,0]
[1,null,null,null,null,0,0,null,0,0,0,0,0,0,null,0,0,0]
[1,null,null,null,null,0,0,null,0,0,0,0,0,0,null,0,0,0]
[1,null,null,null,null,0,0,null,0,0,0,0,0,0,null,0,0,0]
[1,null,null,null,null,0,0,null,0,0,0,0,0,0,null,0,0,0]
[1,null,null,null,null,0,0,null,0,0,0,0,0,0,null,0,0,0]
[1,null,null,null,null,0,0,null,0,0,0,0,0,0,null,0,0,0]
[1,null,null,null,null,"Notes:"]
[1,null,null,null,null,"Performance indicators are an explanation of objectives performance.   "]
[1,null,null,null,null,"1. They are specific measurements that track progress towards achieving the goals and objectives of an institution."]
[1,null,null,null,null,"2. Institutions should use performance indicators in the 2021/22 Annual Performance Plans and those in the 2022 ENE. "]
[1,null,null,null,null,"3. Institutions should also indicate instances where targets are not affected by budget baseline reprioritisation."]
[1]
[1,null,null,null,null,null,null,null,{"$f":"MyYearM3","v":"2019/20"},{"$f":"MyYearM2","v":"2020/21"},{"$f":"MyYearM1","v":"2021/22"},{"$f":"MyYear0","v":"2022/23"},null,null,{"$f":"MyYearP1","v":"2023/24"},null,null,{"$f":"MyYearP2","v":"2024/25"},null,null,{"$f":"MyYearP3","v":"2025/26"}]
[1,null,null,null,null,"Expenses",null,null,{"$f":"Hist_year3RestatedAudited","v":"Audited\noutcome"},{"$f":"Hist_year2RestatedAudited","v":"Audited\noutcome"},{"$f":"Hist_year1Audited","v":"Audited\noutcome"},{"$f":"Cur_YearBudgEst","v":"Budget\nestimate"},{"$f":"Cur_YearApprovedBudg","v":"Approved budget"},{"$f":"Cur_YearChangeFrRevBudg","v":"Changes from \nbudget estimate"},{"$f":"MTEF1BudgEst","v":"Budget\nestimate"},{"$f":"MTEF1RevBudgEst","v":"Revised\nbudget\nestimate"},{"$f":"MTEF1_ChangeFrBudgEst","v":"Changes from budget estimate"},{"$f":"MTEF2BudgEst","v":"Budget\nestimate"},{"$f":"MTEF2RevBudgEst","v":"Revised\nbudget\nestimate"},{"$f":"MTEF2_ChangeFrBudgEst","v":"Changes from budget estimate"},{"$f":"MTEF3PlanBudgetEst","v":"Planning\nbudget \nestimate"}]
[1]
[1,null,null,null,null,"Rand thousand"]
[1,null,null,null,null,"Objective/Activity"]
[1,null,null,null,null,0,null,null,0,0,0,0,0,{"$f":"SUM(M37-L37)","v":0},0,0,{"$f":"SUM(P37-O37)","v":0},0,0,{"$f":"SUM(S37-R37)","v":0}]
[1,null,null,null,null,"Economic classification"]
[1,"EX11",null,null,null,"Current payments",null,null,{"$f":"SUM(I40,I43,I98:I99,I105)","v":0},{"$f":"SUM(J40,J43,J98:J99,J105)","v":0},{"$f":"SUM(K40,K43,K98:K99,K105)","v":0},{"$f":"SUM(L40,L43,L98:L99,L105)","v":0},{"$f":"SUM(M40,M43,M98:M99,M105)","v":0},{"$f":"SUM(M39-L39)","v":0},{"$f":"SUM(O40,O43,O98:O99,O105)","v":0},{"$f":"SUM(P40,P43,P98:P99,P105)","v":0},{"$f":"SUM(P39-O39)","v":0},{"$f":"SUM(R40,R43,R98:R99,R105)","v":0},{"$f":"SUM(S40,S43,S98:S99,S105)","v":0},{"$f":"SUM(S39-R39)","v":0},{"$f":"SUM(U40,U43,U98:U99,U105)","v":0}]
[1,"EX111",null,null,null,"Compensation of employees",null,null,{"$f":"SUM(I41:I42)","v":0},{"$f":"SUM(J41:J42)","v":0},{"$f":"SUM(K41:K42)","v":0},{"$f":"SUM(L41:L42)","v":0},{"$f":"SUM(M41:M42)","v":0},{"$f":"SUM(M40-L40)","v":0},{"$f":"SUM(O41:O42)","v":0},{"$f":"SUM(P41:P42)","v":0},{"$f":"SUM(P40-O40)","v":0},{"$f":"SUM(R41:R42)","v":0},{"$f":"SUM(S41:S42)","v":0},{"$f":"SUM(S40-R40)","v":0},{"$f":"SUM(U41:U42)","v":0}]
[1,"EX1111",null,null,null,"Salaries and wages",null,null,0,0,0,0,0,{"$f":"SUM(M41-L41)","v":0},0,0,{"$f":"SUM(P41-O41)","v":0},0,0,{"$f":"SUM(S41-R41)","v":0}]
[1,"EX1112",null,null,null,"Social contributions",null,null,0,0,0,0,0,0,0,0,0,0,0,0]
[1,"EX112",null,null,null,"Goods and services",null,null,{"$f":"SUM(I45:I54,I58:I61,I73,I75:I97)","v":0},{"$f":"SUM(J45:J54,J58:J61,J73,J75:J97)","v":0},0,0,0,0,0,0,0,0,0,0,0,{"$f":"SUM(V45:V54,V58:V61,V73,V75:V97)","v":0}]
[1,"EX000",null,null,null,"Of which 1"]
[1,"EX1133",null,null,null,"12istrative fees",null,null,0,0,0,0,0,{"$f":"SUM(M45-L45)","v":0},0,0,{"$f":"SUM(P45-O45)","v":0},0,0,{"$f":"SUM(S45-R45)","v":0}]
[1,"EX1134",null,null,null,"Advertising",null,null,0,0,0,0,0,0,0,0,0,0,0,0]
[1,"EX1135",null,null,null,"Minor assets",null,null,0,0,0,0,0,0,0,0,0,0,0,0]
[1,"EX1136",null,null,null,"Audit costs: External",null,null,0,0,0,0,0,0,0,0,0,0,0,0]
[1,"EX1139",null,null,null,"Bursaries: Employees",null,null,0,0,0,0,0,0,0,0,0,0,0,0]
[1,"EX1140",null,null,null,"Catering: Internal activities",null,null,0,0,0,0,0,0,0,0,0,0,0,0]
[1,"EX1122",null,null,null,"Communication (G&S)",null,null,0,0,0,0,0,0,0,0,0,0,0,0]
[1,"EX1123",null,null,null,"Computer services",null,null,0,0,0,0,0,0,0,0,0,0,0,0]
[1,"EX1124",null,null,null,"Consultants: Business and advisory services",null,null,0,0,0,0,0,0,0,0,0,0,0,0]
[1,"EX1180",null,null,null,"Infrastructure and planning services",null,null,{"$f":"SUM(I55:I57)","v":0},{"$f":"SUM(J55:J57)","v":0},{"$f":"SUM(K55:K57)","v":0},{"$f":"SUM(L55:L57)","v":0},{"$f":"SUM(M55:M57)","v":0},{"$f":"SUM(M54-L54)","v":0},{"$f":"SUM(O55:O57)","v":0},{"$f":"SUM(P55:P57)","v":0},{"$f":"SUM(P54-O54)","v":0},{"$f":"SUM(R55:R57)","v":0},{"$f":"SUM(S55:S57)","v":0},{"$f":"SUM(S54-R54)","v":0},{"$f":"SUM(U55:U57)","v":0}]
[1,"EX11801",null,null,null,"Maintenance and repairs: Buildings: Consultants",null,null,0,0,0,0,0,{"$f":"SUM(M55-L55)","v":0},0,0,{"$f":"SUM(P55-O55)","v":0},0,0,0]
[1,"EX11802",null,null,null,"Maintenance and repairs: Other fixed structures: Consultants",null,null,0,0,0,0,0,0,0,0,0,0,0,0]
[1,"EX11803",null,null,null,"Other",null,null,0,0,0,0,0,0,0,0,0,0,0,0]
[1,"EX1164",null,null,null,"Laboratory services",null,null,0,0,0,0,0,0,0,0,0,0,0,0]
[1,"EX1162",null,null,null,"Legal services (G&S)",null,null,0,0,0,0,0,0,0,0,0,0,0,0]
[1,"EX1165",null,null,null,"Science and technological services",null,null,0,0,0,0,0,0,0,0,0,0,0,0]
[1,"EX1125",null,null,null,"Contractors",null,null,{"$f":"SUM(I62:I66,I72)","v":0},{"$f":"SUM(J62:J66,J72)","v":0},{"$f":"SUM(K62:K66,K72)","v":0},{"$f":"SUM(L62:L66,L72)","v":0},{"$f":"SUM(M62:M66,M72)","v":0},{"$f":"SUM(M61-L61)","v":0},{"$f":"SUM(O62:O66,O72)","v":0},{"$f":"SUM(P62:P66,P72)","v":0},{"$f":"SUM(P61-O61)","v":0},{"$f":"SUM(R62:R66,R72)","v":0},{"$f":"SUM(S62:S66,S72)","v":0},0,{"$f":"SUM(U62:U66,U72)","v":0}]
[1,"EX11251",null,null,null,"Maintenance and repairs of other fixed structures",null,null,0,0,0,0,0,0,0,0,0,0,0,0]
[1,"EX11252",null,null,null,"Maintenance and repairs of other machinery and equipment",null,null,0,0,0,0,0,0,0,0,0,0,0,0]
[1,"EX11253",null,null,null,"Maintenance and repairs of heritage buildings",null,null,0,0,0,0,0,0,0,0,0,0,0,0]
[1,"EX11254",null,null,null,"Maintenance and repairs of other heritage fixed structures",null,null,0,0,0,0,0,0,0,0,0,0,0,0]
[5,"EX11255",null,null,null,"South african social security agency payment contractors",null,null,{"$f":"SUM(I67:I71)","v":0},{"$f":"SUM(J67:J71)","v":0},{"$f":"SUM(K67:K71)","v":0},{"$f":"SUM(L67:L71)","v":0},{"$f":"SUM(M67:M71)","v":0},0,{"$f":"SUM(O67:O71)","v":0},{"$f":"SUM(P67:P71)","v":0},0,{"$f":"SUM(R67:R71)","v":0},{"$f":"SUM(S67:S71)","v":0},0,{"$f":"SUM(U67:U71)","v":0}]
[5,"EX112551",null,null,null,"SASSA 12 fees",null,null,0,0,0,0,0,0,0,0,0,0,0,0]
[5,"EX112552",null,null,null,"SASSA Bankcard fees",null,null,0,0,0,0,0,0,0,0,0,0,0,0]
[5,"EX112553",null,null,null,"SASSA registration fees",null,null,0,0,0,0,0,0,0,0,0,0,0,0]
[5,"EX112554",null,null,null,"SASSA beneficiary fees",null,null,0,0,0,0,0,0,0,0,0,0,0,0]
[5,"EX112555",null,null,null,"SASSA help desk fees",null,null,0,0,0,0,0,0,0,0,0,0,0,0]
[null,null,null,null,null,"Other",null,null,0,0,0,0,0,0,0,0,0,0,0,0]
[1,"EX1121",null,null,null,"Agency and support/outsourced services",null,null,0,0,0,0,0,0,0,0,0,0,0,0]
[5,"EX11211",null,null,null,"     Of Which: Medical assessments",null,null,0,0,0,0,0,0,0,0,0,0,0,0]
[1,"EX1161",null,null,null,"Entertainment",null,null,0,0,0,0,0,0,0,0,0,0,0,0]
[1,"EX1166",null,null,null,"Fleet services (including government motor transport)",null,null,0,0,0,0,0,0,0,0,0,0,0,0]
[1,"EX1167",null,null,null,"Housing",null,null,0,0,0,0,0,0,0,0,0,0,0,0]
[1,"EX1168",null,null,null,"Inventory: Clothing material and accessories",null,null,0,0,0,0,0,0,0,0,0,0,0,0]
[1,"EX1169",null,null,null,"Inventory: Farming supplies",null,null,0,0,0,0,0,0,0,0,0,0,0,0]
[1,"EX1170",null,null,null,"Inventory: Food and food supplies",null,null,0,0,0,0,0,0,0,0,0,0,0,0]
[1,"EX1171",null,null,null,"Inventory: Fuel, oil and gas",null,null,0,0,0,0,0,0,0,0,0,0,0,0]
[1,"EX1172",null,null,null,"Inventory: Learner and teacher support material",null,null,0,0,0,0,0,0,0,0,0,0,0,0]
[1,"EX1126",null,null,null,"Inventory: Materials and supplies",null,null,0,0,0,0,0,0,0,0,0,0,0,0]
[1,"EX1173",null,null,null,"Inventory: Medical supplies",null,null,0,0,0,0,0,0,0,0,0,0,0,0]
[1,"EX1174",null,null,null,"Inventory: Medicine",null,null,0,0,0,0,0,0,0,0,0,0,0,0]
[1,"EX1175",null,null,null,"Medsas inventory interface",null,null,0,0,0,0,0,0,0,0,0,0,0,0]
[1,"EX1176",null,null,null,"Inventory: Other supplies",null,null,0,0,0,0,0,0,0,0,0,0,0,0]
[1,"EX1177",null,null,null,"Consumable supplies",null,null,0,0,0,0,0,0,0,0,0,0,0,0]
[1,"EX1144",null,null,null,"Consumables: Stationery, printing and office supplies",null,null,0,0,0,0,0,0,0,0,0,0,0,0]
[1,"EX1127",null,null,null,"Operating leases",null,null,0,0,0,0,0,0,0,0,0,0,0,0]
[1,"EX1178",null,null,null,"Rental and hiring",null,null,0,0,0,0,0,0,0,0,0,0,0,0]
[1,"EX1145",null,null,null,"Property payments",null,null,0,0,0,0,0,0,0,0,0,0,0,0]
[1,"EX1179",null,null,null,"Transport provided: Internal activities",null,null,0,0,0,0,0,0,0,0,0,0,0,0]
[1,"EX1131",null,null,null,"Travel and subsistence",null,null,0,0,0,0,0,0,0,0,0,0,0,0]
[1,"EX1130",null,null,null,"Training and development",null,null,0,0,0,0,0,0,0,0,0,0,0,0]
[1,"EX1132",null,null,null,"Operating payments",null,null,0,0,0,0,0,0,0,0,0,0,0,0]
[1,"EX1146",null,null,null,"Venues and facilities",null,null,0,0,0,0,0,0,0,0,0,0,0,0]
[1,"EX113",null,null,null,"Depreciation",null,null,0,0,0,0,0,0,0,0,0,0,0,0]
[1,"EX114",null,null,null,"Losses from",null,null,{"$f":"SUM(I100:I101,I104)","v":0},{"$f":"SUM(J100:J101,J104)","v":0},{"$f":"SUM(K100:K101,K104)","v":0},{"$f":"SUM(L100:L101,L104)","v":0},{"$f":"SUM(M100:M101,M104)","v":0},{"$f":"SUM(M99-L99)","v":0},{"$f":"SUM(O100:O101,O104)","v":0},{"$f":"SUM(P100:P101,P104)","v":0},{"$f":"SUM(P99-O99)","v":0},{"$f":"SUM(R100:R101,R104)","v":0},{"$f":"SUM(S100:S101,S104)","v":0},{"$f":"SUM(S99-R99)","v":0},{"$f":"SUM(U100:U101,U104)","v":0}]
[1,"EX1141",null,null,null,"Sale of fixed assets",null,null,0,0,0,0,0,{"$f":"SUM(M100-L100)","v":0},0,0,{"$f":"SUM(P100-O100)","v":0},0,0,{"$f":"SUM(S100-R100)","v":0}]
[1,"EX1142",null,null,null,"Impairments and adjustments to fair value",null,null,{"$f":"SUM(I102:I103)","v":0},{"$f":"SUM(J102:J103)","v":0},{"$f":"SUM(K102:K103)","v":0},{"$f":"SUM(L102:L103)","v":0},{"$f":"SUM(M102:M103)","v":0},0,{"$f":"SUM(O102:O103)","v":0},{"$f":"SUM(P102:P103)","v":0},0,{"$f":"SUM(R102:R103)","v":0},{"$f":"SUM(S102:S103)","v":0},0,{"$f":"SUM(U102:U103)","v":0}]
[1,"EX11421",null,null,null,"Adjustments to fair value of assets",null,null,0,0,0,0,0,{"$f":"SUM(M102-L102)","v":0},0,0,{"$f":"SUM(P102-O102)","v":0},0,0,{"$f":"SUM(S102-R102)","v":0}]
[1,"EX11422",null,null,null,"Impairments to assets",null,null,0,0,0,0,0,0,0,0,0,0,0,0]
[1,"EX1143",null,null,null,"Other",null,null,0,0,0,0,0,0,0,0,0,0,0,0]
[1,"EX115",null,null,null,"Interest, dividends and rent on land",null,null,{"$f":"SUM(I106:I108)","v":0},{"$f":"SUM(J106:J108)","v":0},{"$f":"SUM(K106:K108)","v":0},{"$f":"SUM(L106:L108)","v":0},{"$f":"SUM(M106:M108)","v":0},0,{"$f":"SUM(O106:O108)","v":0},{"$f":"SUM(P106:P108)","v":0},0,{"$f":"SUM(R106:R108)","v":0},{"$f":"SUM(S106:S108)","v":0},0,{"$f":"SUM(U106:U108)","v":0}]
[1,"EX1151",null,null,null,"Interest",null,null,0,0,0,0,0,{"$f":"SUM(M106-L106)","v":0},0,0,{"$f":"SUM(P106-O106)","v":0},0,0,{"$f":"SUM(S106-R106)","v":0}]
[1,"EX1152",null,null,null,"Dividends",null,null,0,0,0,0,0,0,0,0,0,0,0,0]
[1,"EX1153",null,null,null,"Rent on land",null,null,0,0,0,0,0,0,0,0,0,0,0,0]
[1,"EX12",null,null,null,"Transfers and subsidies",null,null,{"$f":"SUM(I110,I121,I132:I135)","v":0},{"$f":"SUM(J110,J121,J132:J135)","v":0},{"$f":"SUM(K110,K121,K132:K135)","v":0},{"$f":"SUM(L110,L121,L132:L135)","v":0},{"$f":"SUM(M110,M121,M132:M135)","v":0},0,{"$f":"SUM(O110,O121,O132:O135)","v":0},{"$f":"SUM(P110,P121,P132:P135)","v":0},0,{"$f":"SUM(R110,R121,R132:R135)","v":0},{"$f":"SUM(S110,S121,S132:S135)","v":0},0,{"$f":"SUM(U110,U121,U132:U135)","v":0}]
[2,"EX121",null,null,null,"Employer Grant (SETAs only)",null,null,{"$f":"SUM(I111,I117,I120)","v":0},{"$f":"SUM(J111,J117,J120)","v":0},{"$f":"SUM(K111,K117,K120)","v":0},{"$f":"SUM(L111,L117,L120)","v":0},{"$f":"SUM(M111,M117,M120)","v":0},0,{"$f":"SUM(O111,O117,O120)","v":0},{"$f":"SUM(P111,P117,P120)","v":0},0,{"$f":"SUM(R111,R117,R120)","v":0},{"$f":"SUM(S111,S117,S120)","v":0},0,{"$f":"SUM(U111,U117,U120)","v":0}]
[1,"EX122",null,null,null,"Other government units",null,null,{"$f":"SUM(I112:I116)","v":0},{"$f":"SUM(J112:J116)","v":0},{"$f":"SUM(K112:K116)","v":0},{"$f":"SUM(L112:L116)","v":0},{"$f":"SUM(M112:M116)","v":0},0,{"$f":"SUM(O112:O116)","v":0},{"$f":"SUM(P112:P116)","v":0},0,{"$f":"SUM(R112:R116)","v":0},{"$f":"SUM(S112:S116)","v":0},0,{"$f":"SUM(U112:U116)","v":0}]
[1,"EX1221",null,null,null,"National government",null,null,0,0,0,0,0,{"$f":"SUM(M112-L112)","v":0},0,0,{"$f":"SUM(P112-O112)","v":0},0,0,{"$f":"SUM(S112-R112)","v":0}]
[1,"EX1222",null,null,null,"Departmental agencies and accounts",null,null,0,0,0,0,0,0,0,0,0,0,0,0]
[1,"EX1223",null,null,null,"Provinces",null,null,0,0,0,0,0,0,0,0,0,0,0,0]
[1,"EX1224",null,null,null,"Municipalities",null,null,0,0,0,0,0,0,0,0,0,0,0,0]
[2,"EX1225",null,null,null,"National Skills Fund",null,null,0,0,0,0,0,0,0,0,0,0,0,0]
[1,"EX123",null,null,null,"Public corporations and private enterprises (subsidies and other transfers)",null,null,{"$f":"SUM(I118:I119)","v":0},{"$f":"SUM(J118:J119)","v":0},{"$f":"SUM(K118:K119)","v":0},{"$f":"SUM(L118:L119)","v":0},{"$f":"SUM(M118:M119)","v":0},0,{"$f":"SUM(O118:O119)","v":0},{"$f":"SUM(P118:P119)","v":0},0,{"$f":"SUM(R118:R119)","v":0},{"$f":"SUM(S118:S119)","v":0},0,{"$f":"SUM(U118:U119)","v":0}]
[1,"EX1231",null,null,null,"Public corporations",null,null,0,0,0,0,0,{"$f":"SUM(M118-L118)","v":0},0,0,{"$f":"SUM(P118-O118)","v":0},0,0,{"$f":"SUM(S118-R118)","v":0}]
[1,"EX1232",null,null,null,"Private enterprises",null,null,0,0,0,0,0,0,0,0,0,0,0,0]
[2,"EX124",null,null,null,"Households and non government units",null,null,0,0,0,0,0,0,0,0,0,0,0,0]
[2,"EX125",null,null,null,"Discretionary Grant (SETAs only)",null,null,{"$f":"SUM(I122,I128,I131)","v":0},{"$f":"SUM(J122,J128,J131)","v":0},{"$f":"SUM(K122,K128,K131)","v":0},{"$f":"SUM(L122,L128,L131)","v":0},{"$f":"SUM(M122,M128,M131)","v":0},0,{"$f":"SUM(O122,O128,O131)","v":0},{"$f":"SUM(P122,P128,P131)","v":0},0,{"$f":"SUM(R122,R128,R131)","v":0},{"$f":"SUM(S122,S128,S131)","v":0},0,{"$f":"SUM(U122,U128,U131)","v":0}]
[2,"EX126",null,null,null,"Other government units",null,null,{"$f":"SUM(I123:I127)","v":0},{"$f":"SUM(J123:J127)","v":0},{"$f":"SUM(K123:K127)","v":0},{"$f":"SUM(L123:L127)","v":0},{"$f":"SUM(M123:M127)","v":0},0,{"$f":"SUM(O123:O127)","v":0},{"$f":"SUM(P123:P127)","v":0},0,{"$f":"SUM(R123:R127)","v":0},{"$f":"SUM(S123:S127)","v":0},0,{"$f":"SUM(U123:U127)","v":0}]
[2,"EX1261",null,null,null,"National government",null,null,0,0,0,0,0,{"$f":"SUM(M123-L123)","v":0},0,0,{"$f":"SUM(P123-O123)","v":0},0,0,{"$f":"SUM(S123-R123)","v":0}]
[2,"EX1262",null,null,null,"Departmental agencies and accounts",null,null,0,0,0,0,0,0,0,0,0,0,0,0]
[2,"EX1263",null,null,null,"Provinces",null,null,0,0,0,0,0,0,0,0,0,0,0,0]
[2,"EX1264",null,null,null,"Municipalities",null,null,0,0,0,0,0,0,0,0,0,0,0,0]
[2,"EX1265",null,null,null,"National Skills Fund",null,null,0,0,0,0,0,0,0,0,0,0,0,0]
[2,"EX127",null,null,null,"Public corporations and private enterprises (subsidies and other transfers)",null,null,{"$f":"SUM(I129:I130)","v":0},{"$f":"SUM(J129:J130)","v":0},{"$f":"SUM(K129:K130)","v":0},{"$f":"SUM(L129:L130)","v":0},{"$f":"SUM(M129:M130)","v":0},0,{"$f":"SUM(O129:O130)","v":0},{"$f":"SUM(P129:P130)","v":0},0,{"$f":"SUM(R129:R130)","v":0},{"$f":"SUM(S129:S130)","v":0},0,{"$f":"SUM(U129:U130)","v":0}]
[2,"EX1271",null,null,null,"Public corporations",null,null,0,0,0,0,0,{"$f":"SUM(M129-L129)","v":0},0,0,{"$f":"SUM(P129-O129)","v":0},0,0,{"$f":"SUM(S129-R129)","v":0}]
[2,"EX1272",null,null,null,"Private enterprises",null,null,0,0,0,0,0,0,0,0,0,0,0,0]
[2,"EX128",null,null,null,"Households and non government units",null,null,0,0,0,0,0,0,0,0,0,0,0,0]
[1,"EX129",null,null,null,"Higher education institutions",null,null,0,0,0,0,0,0,0,0,0,0,0,0]
[1,"EX130",null,null,null,"Foreign governments and international organisations ",null,null,0,0,0,0,0,0,0,0,0,0,0,0]
[1,"EX131",null,null,null,"Non-profit institutions",null,null,0,0,0,0,0,0,0,0,0,0,0,0]
[1,"EX132",null,null,null,"Households",null,null,{"$f":"SUM(I136:I137)","v":0},{"$f":"SUM(J136:J137)","v":0},{"$f":"SUM(K136:K137)","v":0},{"$f":"SUM(L136:L137)","v":0},{"$f":"SUM(M136:M137)","v":0},0,{"$f":"SUM(O136:O137)","v":0},{"$f":"SUM(P136:P137)","v":0},0,{"$f":"SUM(R136:R137)","v":0},{"$f":"SUM(S136:S137)","v":0},0,{"$f":"SUM(U136:U137)","v":0}]
[1,"EX1301",null,null,null,"Social benefits ",null,null,0,0,0,0,0,{"$f":"SUM(M136-L136)","v":0},0,0,{"$f":"SUM(P136-O136)","v":0},0,0,{"$f":"SUM(S136-R136)","v":0}]
[1,"EX1302",null,null,null,"Other transfers to households",null,null,0,0,0,0,0,0,0,0,0,0,0,0]
[1,"EX13",null,null,null,"Tax payment",null,null,0,0,0,0,0,0,0,0,0,0,0,0]
[1,"EX14",null,null,null,"Outside shareholders Interest",null,null,0,0,0,0,0,0,0,0,0,0,0,0]
[1,"EX15",null,null,null,"Total Expenditure",null,null,{"$f":"SUM(I39,I109,I138:I139)","v":0},{"$f":"SUM(J39,J109,J138:J139)","v":0},{"$f":"SUM(K39,K109,K138:K139)","v":0},{"$f":"SUM(L39,L109,L138:L139)","v":0},{"$f":"SUM(M39,M109,M138:M139)","v":0},{"$f":"SUM(M140-L140)","v":0},{"$f":"SUM(O39,O109,O138:O139)","v":0},{"$f":"SUM(P39,P109,P138:P139)","v":0},{"$f":"SUM(P140-O140)","v":0},{"$f":"SUM(R39,R109,R138:R139)","v":0},{"$f":"SUM(S39,S109,S138:S139)","v":0},{"$f":"SUM(S140-R140)","v":0},{"$f":"SUM(U39,U109,U138:U139)","v":0}]
[1]
[1,null,null,null,null,"Objective less Expenditure",null,null,{"$f":"ROUND(IF(I37-I140>0,IF(I37-I140<1,0,I37-I140),I37-I140),0)","v":0},0,0,0,0,{"$f":"ROUND(IF(N37-N140>0,IF(N37-N140<1,0,N37-N140),N37-N140),0)","v":0},0,0,0,0,0,0,0]
[1]

{"sheet":"13","index":17,"n_rows":143,"n_cols":22,"rows_kept":143,"cut":false,"hidden":false,"merged":[[31,11,31,13],[31,14,31,16],[31,17,31,19]]}
[]
[]
[]
[]
[]
[null,null,null,null,null,"PE No",{"$f":"Settings!O2","v":"PE196"}]
[null,null,null,null,null,"Entity name",{"$f":"Settings!$D$2","v":"Transnet Limited"}]
[]
[null,null,null,null,null,"Performance and operations information"]
["ItemCat","Item code","Hide/unhide",null,null,"Activity/Output/Outcome/Efficiency Indicator","Priorities",null,{"$f":"MyYearM3","v":"2019/20"},{"$f":"MyYearM2","v":"2020/21"},{"$f":"MyYearM1","v":"2021/22"},{"$f":"MyYear0","v":"2022/23"},{"$f":"MyYearP1","v":"2023/24"},{"$f":"MyYearP2","v":"2024/25"},{"$f":"MyYearP3","v":"2025/26"},"Related Objectives","Add to 'Performance Indicators' Sheet","Comments"]
[1,null,null,null,null,0,0,null,0,0,0,0,0,0,null,0,0,0]
[1,null,null,null,null,0,0,null,0,0,0,0,0,0,null,0,0,0]
[1,null,null,null,null,0,0,null,0,0,0,0,0,0,null,0,0,0]
[1,null,null,null,null,0,0,null,0,0,0,0,0,0,null,0,0,0]
[1,null,null,null,null,0,0,null,0,0,0,0,0,0,null,0,0,0]
[1,null,null,null,null,0,0,null,0,0,0,0,0,0,null,0,0,0]
[1,null,null,null,null,0,0,null,0,0,0,0,0,0,null,0,0,0]
[1,null,null,null,null,0,0,null,0,0,0,0,0,0,null,0,0,0]
[1,null,null,null,null,0,0,null,0,0,0,0,0,0,null,0,0,0]
[1,null,null,null,null,0,0,null,0,0,0,0,0,0,null,0,0,0]
[1,null,null,null,null,0,0,null,0,0,0,0,0,0,null,0,0,0]
[1,null,null,null,null,0,0,null,0,0,0,0,0,0,null,0,0,0]
[1,null,null,null,null,0,0,null,0,0,0,0,0,0,null,0,0,0]
[1,null,null,null,null,0,0,null,0,0,0,0,0,0,null,0,0,0]
[1,null,null,null,null,0,0,null,0,0,0,0,0,0,null,0,0,0]
[1,null,null,null,null,"Notes:"]
[1,null,null,null,null,"Performance indicators are an explanation of objectives performance.   "]
[1,null,null,null,null,"1. They are specific measurements that track progress towards achieving the goals and objectives of an institution."]
[1,null,null,null,null,"2. Institutions should use performance indicators in the 2021/22 Annual Performance Plans and those in the 2022 ENE. "]
[1,null,null,null,null,"3. Institutions should also indicate instances where targets are not affected by budget baseline reprioritisation."]
[1]
[1,null,null,null,null,null,null,null,{"$f":"MyYearM3","v":"2019/20"},{"$f":"MyYearM2","v":"2020/21"},{"$f":"MyYearM1","v":"2021/22"},{"$f":"MyYear0","v":"2022/23"},null,null,{"$f":"MyYearP1","v":"2023/24"},null,null,{"$f":"MyYearP2","v":"2024/25"},null,null,{"$f":"MyYearP3","v":"2025/26"}]
[1,null,null,null,null,"Expenses",null,null,{"$f":"Hist_year3RestatedAudited","v":"Audited\noutcome"},{"$f":"Hist_year2RestatedAudited","v":"Audited\noutcome"},{"$f":"Hist_year1Audited","v":"Audited\noutcome"},{"$f":"Cur_YearBudgEst","v":"Budget\nestimate"},{"$f":"Cur_YearApprovedBudg","v":"Approved budget"},{"$f":"Cur_YearChangeFrRevBudg","v":"Changes from \nbudget estimate"},{"$f":"MTEF1BudgEst","v":"Budget\nestimate"},{"$f":"MTEF1RevBudgEst","v":"Revised\nbudget\nestimate"},{"$f":"MTEF1_ChangeFrBudgEst","v":"Changes from budget estimate"},{"$f":"MTEF2BudgEst","v":"Budget\nestimate"},{"$f":"MTEF2RevBudgEst","v":"Revised\nbudget\nestimate"},{"$f":"MTEF2_ChangeFrBudgEst","v":"Changes from budget estimate"},{"$f":"MTEF3PlanBudgetEst","v":"Planning\nbudget \nestimate"}]
[1]
[1,null,null,null,null,"Rand thousand"]
[1,null,null,null,null,"Objective/Activity"]
[1,null,null,null,null,0,null,null,0,0,0,0,0,{"$f":"SUM(M37-L37)","v":0},0,0,{"$f":"SUM(P37-O37)","v":0},0,0,{"$f":"SUM(S37-R37)","v":0}]
[1,null,null,null,null,"Economic classification"]
[1,"EX11",null,null,null,"Current payments",null,null,{"$f":"SUM(I40,I43,I98:I99,I105)","v":0},{"$f":"SUM(J40,J43,J98:J99,J105)","v":0},{"$f":"SUM(K40,K43,K98:K99,K105)","v":0},{"$f":"SUM(L40,L43,L98:L99,L105)","v":0},{"$f":"SUM(M40,M43,M98:M99,M105)","v":0},{"$f":"SUM(M39-L39)","v":0},{"$f":"SUM(O40,O43,O98:O99,O105)","v":0},{"$f":"SUM(P40,P43,P98:P99,P105)","v":0},{"$f":"SUM(P39-O39)","v":0},{"$f":"SUM(R40,R43,R98:R99,R105)","v":0},{"$f":"SUM(S40,S43,S98:S99,S105)","v":0},{"$f":"SUM(S39-R39)","v":0},{"$f":"SUM(U40,U43,U98:U99,U105)","v":0}]
[1,"EX111",null,null,null,"Compensation of employees",null,null,{"$f":"SUM(I41:I42)","v":0},{"$f":"SUM(J41:J42)","v":0},{"$f":"SUM(K41:K42)","v":0},{"$f":"SUM(L41:L42)","v":0},{"$f":"SUM(M41:M42)","v":0},{"$f":"SUM(M40-L40)","v":0},{"$f":"SUM(O41:O42)","v":0},{"$f":"SUM(P41:P42)","v":0},{"$f":"SUM(P40-O40)","v":0},{"$f":"SUM(R41:R42)","v":0},{"$f":"SUM(S41:S42)","v":0},{"$f":"SUM(S40-R40)","v":0},{"$f":"SUM(U41:U42)","v":0}]
[1,"EX1111",null,null,null,"Salaries and wages",null,null,0,0,0,0,0,{"$f":"SUM(M41-L41)","v":0},0,0,{"$f":"SUM(P41-O41)","v":0},0,0,{"$f":"SUM(S41-R41)","v":0}]
[1,"EX1112",null,null,null,"Social contributions",null,null,0,0,0,0,0,0,0,0,0,0,0,0]
[1,"EX112",null,null,null,"Goods and services",null,null,{"$f":"SUM(I45:I54,I58:I61,I73,I75:I97)","v":0},{"$f":"SUM(J45:J54,J58:J61,J73,J75:J97)","v":0},0,0,0,0,0,0,0,0,0,0,0,{"$f":"SUM(V45:V54,V58:V61,V73,V75:V97)","v":0}]
[1,"EX000",null,null,null,"Of which 1"]
[1,"EX1133",null,null,null,"13istrative fees",null,null,0,0,0,0,0,{"$f":"SUM(M45-L45)","v":0},0,0,{"$f":"SUM(P45-O45)","v":0},0,0,{"$f":"SUM(S45-R45)","v":0}]
[1,"EX1134",null,null,null,"Advertising",null,null,0,0,0,0,0,0,0,0,0,0,0,0]
[1,"EX1135",null,null,null,"Minor assets",null,null,0,0,0,0,0,0,0,0,0,0,0,0]
[1,"EX1136",null,null,null,"Audit costs: External",null,null,0,0,0,0,0,0,0,0,0,0,0,0]
[1,"EX1139",null,null,null,"Bursaries: Employees",null,null,0,0,0,0,0,0,0,0,0,0,0,0]
[1,"EX1140",null,null,null,"Catering: Internal activities",null,null,0,0,0,0,0,0,0,0,0,0,0,0]
[1,"EX1122",null,null,null,"Communication (G&S)",null,null,0,0,0,0,0,0,0,0,0,0,0,0]
[1,"EX1123",null,null,null,"Computer services",null,null,0,0,0,0,0,0,0,0,0,0,0,0]
[1,"EX1124",null,null,null,"Consultants: Business and advisory services",null,null,0,0,0,0,0,0,0,0,0,0,0,0]
[1,"EX1180",null,null,null,"Infrastructure and planning services",null,null,{"$f":"SUM(I55:I57)","v":0},{"$f":"SUM(J55:J57)","v":0},{"$f":"SUM(K55:K57)","v":0},{"$f":"SUM(L55:L57)","v":0},{"$f":"SUM(M55:M57)","v":0},{"$f":"SUM(M54-L54)","v":0},{"$f":"SUM(O55:O57)","v":0},{"$f":"SUM(P55:P57)","v":0},{"$f":"SUM(P54-O54)","v":0},{"$f":"SUM(R55:R57)","v":0},{"$f":"SUM(S55:S57)","v":0},{"$f":"SUM(S54-R54)","v":0},{"$f":"SUM(U55:U57)","v":0}]
[1,"EX11801",null,null,null,"Maintenance and repairs: Buildings: Consultants",null,null,0,0,0,0,0,{"$f":"SUM(M55-L55)","v":0},0,0,{"$f":"SUM(P55-O55)","v":0},0,0,0]
[1,"EX11802",null,null,null,"Maintenance and repairs: Other fixed structures: Consultants",null,null,0,0,0,0,0,0,0,0,0,0,0,0]
[1,"EX11803",null,null,null,"Other",null,null,0,0,0,0,0,0,0,0,0,0,0,0]
[1,"EX1164",null,null,null,"Laboratory services",null,null,0,0,0,0,0,0,0,0,0,0,0,0]
[1,"EX1162",null,null,null,"Legal services (G&S)",null,null,0,0,0,0,0,0,0,0,0,0,0,0]
[1,"EX1165",null,null,null,"Science and technological services",null,null,0,0,0,0,0,0,0,0,0,0,0,0]
[1,"EX1125",null,null,null,"Contractors",null,null,{"$f":"SUM(I62:I66,I72)","v":0},{"$f":"SUM(J62:J66,J72)","v":0},{"$f":"SUM(K62:K66,K72)","v":0},{"$f":"SUM(L62:L66,L72)","v":0},{"$f":"SUM(M62:M66,M72)","v":0},{"$f":"SUM(M61-L61)","v":0},{"$f":"SUM(O62:O66,O72)","v":0},{"$f":"SUM(P62:P66,P72)","v":0},{"$f":"SUM(P61-O61)","v":0},{"$f":"SUM(R62:R66,R72)","v":0},{"$f":"SUM(S62:S66,S72)","v":0},0,{"$f":"SUM(U62:U66,U72)","v":0}]
[1,"EX11251",null,null,null,"Maintenance and repairs of other fixed structures",null,null,0,0,0,0,0,0,0,0,0,0,0,0]
[1,"EX11252",null,null,null,"Maintenance and repairs of other machinery and equipment",null,null,0,0,0,0,0,0,0,0,0,0,0,0]
[1,"EX11253",null,null,null,"Maintenance and repairs of heritage buildings",null,null,0,0,0,0,0,0,0,0,0,0,0,0]
[1,"EX11254",null,null,null,"Maintenance and repairs of other heritage fixed structures",null,null,0,0,0,0,0,0,0,0,0,0,0,0]
[5,"EX11255",null,null,null,"South african social security agency payment contractors",null,null,{"$f":"SUM(I67:I71)","v":0},{"$f":"SUM(J67:J71)","v":0},{"$f":"SUM(K67:K71)","v":0},{"$f":"SUM(L67:L71)","v":0},{"$f":"SUM(M67:M71)","v":0},0,{"$f":"SUM(O67:O71)","v":0},{"$f":"SUM(P67:P71)","v":0},0,{"$f":"SUM(R67:R71)","v":0},{"$f":"SUM(S67:S71)","v":0},0,{"$f":"SUM(U67:U71)","v":0}]
[5,"EX112551",null,null,null,"SASSA 13 fees",null,null,0,0,0,0,0,0,0,0,0,0,0,0]
[5,"EX112552",null,null,null,"SASSA Bankcard fees",null,null,0,0,0,0,0,0,0,0,0,0,0,0]
[5,"EX112553",null,null,null,"SASSA registration fees",null,null,0,0,0,0,0,0,0,0,0,0,0,0]
[5,"EX112554",null,null,null,"SASSA beneficiary fees",null,null,0,0,0,0,0,0,0,0,0,0,0,0]
[5,"EX112555",null,null,null,"SASSA help desk fees",null,null,0,0,0,0,0,0,0,0,0,0,0,0]
[null,null,null,null,null,"Other",null,null,0,0,0,0,0,0,0,0,0,0,0,0]
[1,"EX1121",null,null,null,"Agency and support/outsourced services",null,null,0,0,0,0,0,0,0,0,0,0,0,0]
[5,"EX11211",null,null,null,"     Of Which: Medical assessments",null,null,0,0,0,0,0,0,0,0,0,0,0,0]
[1,"EX1161",null,null,null,"Entertainment",null,null,0,0,0,0,0,0,0,0,0,0,0,0]
[1,"EX1166",null,null,null,"Fleet services (including government motor transport)",null,null,0,0,0,0,0,0,0,0,0,0,0,0]
[1,"EX1167",null,null,null,"Housing",null,null,0,0,0,0,0,0,0,0,0,0,0,0]
[1,"EX1168",null,null,null,"Inventory: Clothing material and accessories",null,null,0,0,0,0,0,0,0,0,0,0,0,0]
[1,"EX1169",null,null,null,"Inventory: Farming supplies",null,null,0,0,0,0,0,0,0,0,0,0,0,0]
[1,"EX1170",null,null,null,"Inventory: Food and food supplies",null,null,0,0,0,0,0,0,0,0,0,0,0,0]
[1,"EX1171",null,null,null,"Inventory: Fuel, oil and gas",null,null,0,0,0,0,0,0,0,0,0,0,0,0]
[1,"EX1172",null,null,null,"Inventory: Learner and teacher support material",null,null,0,0,0,0,0,0,0,0,0,0,0,0]
[1,"EX1126",null,null,null,"Inventory: Materials and supplies",null,null,0,0,0,0,0,0,0,0,0,0,0,0]
[1,"EX1173",null,null,null,"Inventory: Medical supplies",null,null,0,0,0,0,0,0,0,0,0,0,0,0]
[1,"EX1174",null,null,null,"Inventory: Medicine",null,null,0,0,0,0,0,0,0,0,0,0,0,0]
[1,"EX1175",null,null,null,"Medsas inventory interface",null,null,0,0,0,0,0,0,0,0,0,0,0,0]
[1,"EX1176",null,null,null,"Inventory: Other supplies",null,null,0,0,0,0,0,0,0,0,0,0,0,0]
[1,"EX1177",null,null,null,"Consumable supplies",null,null,0,0,0,0,0,0,0,0,0,0,0,0]
[1,"EX1144",null,null,null,"Consumables: Stationery, printing and office supplies",null,null,0,0,0,0,0,0,0,0,0,0,0,0]
[1,"EX1127",null,null,null,"Operating leases",null,null,0,0,0,0,0,0,0,0,0,0,0,0]
[1,"EX1178",null,null,null,"Rental and hiring",null,null,0,0,0,0,0,0,0,0,0,0,0,0]
[1,"EX1145",null,null,null,"Property payments",null,null,0,0,0,0,0,0,0,0,0,0,0,0]
[1,"EX1179",null,null,null,"Transport provided: Internal activities",null,null,0,0,0,0,0,0,0,0,0,0,0,0]
[1,"EX1131",null,null,null,"Travel and subsistence",null,null,0,0,0,0,0,0,0,0,0,0,0,0]
[1,"EX1130",null,null,null,"Training and development",null,null,0,0,0,0,0,0,0,0,0,0,0,0]
[1,"EX1132",null,null,null,"Operating payments",null,null,0,0,0,0,0,0,0,0,0,0,0,0]
[1,"EX1146",null,null,null,"Venues and facilities",null,null,0,0,0,0,0,0,0,0,0,0,0,0]
[1,"EX113",null,null,null,"Depreciation",null,null,0,0,0,0,0,0,0,0,0,0,0,0]
[1,"EX114",null,null,null,"Losses from",null,null,{"$f":"SUM(I100:I101,I104)","v":0},{"$f":"SUM(J100:J101,J104)","v":0},{"$f":"SUM(K100:K101,K104)","v":0},{"$f":"SUM(L100:L101,L104)","v":0},{"$f":"SUM(M100:M101,M104)","v":0},{"$f":"SUM(M99-L99)","v":0},{"$f":"SUM(O100:O101,O104)","v":0},{"$f":"SUM(P100:P101,P104)","v":0},{"$f":"SUM(P99-O99)","v":0},{"$f":"SUM(R100:R101,R104)","v":0},{"$f":"SUM(S100:S101,S104)","v":0},{"$f":"SUM(S99-R99)","v":0},{"$f":"SUM(U100:U101,U104)","v":0}]
[1,"EX1141",null,null,null,"Sale of fixed assets",null,null,0,0,0,0,0,{"$f":"SUM(M100-L100)","v":0},0,0,{"$f":"SUM(P100-O100)","v":0},0,0,{"$f":"SUM(S100-R100)","v":0}]
[1,"EX1142",null,null,null,"Impairments and adjustments to fair value",null,null,{"$f":"SUM(I102:I103)","v":0},{"$f":"SUM(J102:J103)","v":0},{"$f":"SUM(K102:K103)","v":0},{"$f":"SUM(L102:L103)","v":0},{"$f":"SUM(M102:M103)","v":0},0,{"$f":"SUM(O102:O103)","v":0},{"$f":"SUM(P102:P103)","v":0},0,{"$f":"SUM(R102:R103)","v":0},{"$f":"SUM(S102:S103)","v":0},0,{"$f":"SUM(U102:U103)","v":0}]
[1,"EX11421",null,null,null,"Adjustments to fair value of assets",null,null,0,0,0,0,0,{"$f":"SUM(M102-L102)","v":0},0,0,{"$f":"SUM(P102-O102)","v":0},0,0,{"$f":"SUM(S102-R102)","v":0}]
[1,"EX11422",null,null,null,"Impairments to assets",null,null,0,0,0,0,0,0,0,0,0,0,0,0]
[1,"EX1143",null,null,null,"Other",null,null,0,0,0,0,0,0,0,0,0,0,0,0]
[1,"EX115",null,null,null,"Interest, dividends and rent on land",null,null,{"$f":"SUM(I106:I108)","v":0},{"$f":"SUM(J106:J108)","v":0},{"$f":"SUM(K106:K108)","v":0},{"$f":"SUM(L106:L108)","v":0},{"$f":"SUM(M106:M108)","v":0},0,{"$f":"SUM(O106:O108)","v":0},{"$f":"SUM(P106:P108)","v":0},0,{"$f":"SUM(R106:R108)","v":0},{"$f":"SUM(S106:S108)","v":0},0,{"$f":"SUM(U106:U108)","v":0}]
[1,"EX1151",null,null,null,"Interest",null,null,0,0,0,0,0,{"$f":"SUM(M106-L106)","v":0},0,0,{"$f":"SUM(P106-O106)","v":0},0,0,{"$f":"SUM(S106-R106)","v":0}]
[1,"EX1152",null,null,null,"Dividends",null,null,0,0,0,0,0,0,0,0,0,0,0,0]
[1,"EX1153",null,null,null,"Rent on land",null,null,0,0,0,0,0,0,0,0,0,0,0,0]
[1,"EX12",null,null,null,"Transfers and subsidies",null,null,{"$f":"SUM(I110,I121,I132:I135)","v":0},{"$f":"SUM(J110,J121,J132:J135)","v":0},{"$f":"SUM(K110,K121,K132:K135)","v":0},{"$f":"SUM(L110,L121,L132:L135)","v":0},{"$f":"SUM(M110,M121,M132:M135)","v":0},0,{"$f":"SUM(O110,O121,O132:O135)","v":0},{"$f":"SUM(P110,P121,P132:P135)","v":0},0,{"$f":"SUM(R110,R121,R132:R135)","v":0},{"$f":"SUM(S110,S121,S132:S135)","v":0},0,{"$f":"SUM(U110,U121,U132:U135)","v":0}]
[2,"EX121",null,null,null,"Employer Grant (SETAs only)",null,null,{"$f":"SUM(I111,I117,I120)","v":0},{"$f":"SUM(J111,J117,J120)","v":0},{"$f":"SUM(K111,K117,K120)","v":0},{"$f":"SUM(L111,L117,L120)","v":0},{"$f":"SUM(M111,M117,M120)","v":0},0,{"$f":"SUM(O111,O117,O120)","v":0},{"$f":"SUM(P111,P117,P120)","v":0},0,{"$f":"SUM(R111,R117,R120)","v":0},{"$f":"SUM(S111,S117,S120)","v":0},0,{"$f":"SUM(U111,U117,U120)","v":0}]
[1,"EX122",null,null,null,"Other government units",null,null,{"$f":"SUM(I112:I116)","v":0},{"$f":"SUM(J112:J116)","v":0},{"$f":"SUM(K112:K116)","v":0},{"$f":"SUM(L112:L116)","v":0},{"$f":"SUM(M112:M116)","v":0},0,{"$f":"SUM(O112:O116)","v":0},{"$f":"SUM(P112:P116)","v":0},0,{"$f":"SUM(R112:R116)","v":0},{"$f":"SUM(S112:S116)","v":0},0,{"$f":"SUM(U112:U116)","v":0}]
[1,"EX1221",null,null,null,"National government",null,null,0,0,0,0,0,{"$f":"SUM(M112-L112)","v":0},0,0,{"$f":"SUM(P112-O112)","v":0},0,0,{"$f":"SUM(S112-R112)","v":0}]
[1,"EX1222",null,null,null,"Departmental agencies and accounts",null,null,0,0,0,0,0,0,0,0,0,0,0,0]
[1,"EX1223",null,null,null,"Provinces",null,null,0,0,0,0,0,0,0,0,0,0,0,0]
[1,"EX1224",null,null,null,"Municipalities",null,null,0,0,0,0,0,0,0,0,0,0,0,0]
[2,"EX1225",null,null,null,"National Skills Fund",null,null,0,0,0,0,0,0,0,0,0,0,0,0]
[1,"EX123",null,null,null,"Public corporations and private enterprises (subsidies and other transfers)",null,null,{"$f":"SUM(I118:I119)","v":0},{"$f":"SUM(J118:J119)","v":0},{"$f":"SUM(K118:K119)","v":0},{"$f":"SUM(L118:L119)","v":0},{"$f":"SUM(M118:M119)","v":0},0,{"$f":"SUM(O118:O119)","v":0},{"$f":"SUM(P118:P119)","v":0},0,{"$f":"SUM(R118:R119)","v":0},{"$f":"SUM(S118:S119)","v":0},0,{"$f":"SUM(U118:U119)","v":0}]
[1,"EX1231",null,null,null,"Public corporations",null,null,0,0,0,0,0,{"$f":"SUM(M118-L118)","v":0},0,0,{"$f":"SUM(P118-O118)","v":0},0,0,{"$f":"SUM(S118-R118)","v":0}]
[1,"EX1232",null,null,null,"Private enterprises",null,null,0,0,0,0,0,0,0,0,0,0,0,0]
[2,"EX124",null,null,null,"Households and non government units",null,null,0,0,0,0,0,0,0,0,0,0,0,0]
[2,"EX125",null,null,null,"Discretionary Grant (SETAs only)",null,null,{"$f":"SUM(I122,I128,I131)","v":0},{"$f":"SUM(J122,J128,J131)","v":0},{"$f":"SUM(K122,K128,K131)","v":0},{"$f":"SUM(L122,L128,L131)","v":0},{"$f":"SUM(M122,M128,M131)","v":0},0,{"$f":"SUM(O122,O128,O131)","v":0},{"$f":"SUM(P122,P128,P131)","v":0},0,{"$f":"SUM(R122,R128,R131)","v":0},{"$f":"SUM(S122,S128,S131)","v":0},0,{"$f":"SUM(U122,U128,U131)","v":0}]
[2,"EX126",null,null,null,"Other government units",null,null,{"$f":"SUM(I123:I127)","v":0},{"$f":"SUM(J123:J127)","v":0},{"$f":"SUM(K123:K127)","v":0},{"$f":"SUM(L123:L127)","v":0},{"$f":"SUM(M123:M127)","v":0},0,{"$f":"SUM(O123:O127)","v":0},{"$f":"SUM(P123:P127)","v":0},0,{"$f":"SUM(R123:R127)","v":0},{"$f":"SUM(S123:S127)","v":0},0,{"$f":"SUM(U123:U127)","v":0}]
[2,"EX1261",null,null,null,"National government",null,null,0,0,0,0,0,{"$f":"SUM(M123-L123)","v":0},0,0,{"$f":"SUM(P123-O123)","v":0},0,0,{"$f":"SUM(S123-R123)","v":0}]
[2,"EX1262",null,null,null,"Departmental agencies and accounts",null,null,0,0,0,0,0,0,0,0,0,0,0,0]
[2,"EX1263",null,null,null,"Provinces",null,null,0,0,0,0,0,0,0,0,0,0,0,0]
[2,"EX1264",null,null,null,"Municipalities",null,null,0,0,0,0,0,0,0,0,0,0,0,0]
[2,"EX1265",null,null,null,"National Skills Fund",null,null,0,0,0,0,0,0,0,0,0,0,0,0]
[2,"EX127",null,null,null,"Public corporations and private enterprises (subsidies and other transfers)",null,null,{"$f":"SUM(I129:I130)","v":0},{"$f":"SUM(J129:J130)","v":0},{"$f":"SUM(K129:K130)","v":0},{"$f":"SUM(L129:L130)","v":0},{"$f":"SUM(M129:M130)","v":0},0,{"$f":"SUM(O129:O130)","v":0},{"$f":"SUM(P129:P130)","v":0},0,{"$f":"SUM(R129:R130)","v":0},{"$f":"SUM(S129:S130)","v":0},0,{"$f":"SUM(U129:U130)","v":0}]
[2,"EX1271",null,null,null,"Public corporations",null,null,0,0,0,0,0,{"$f":"SUM(M129-L129)","v":0},0,0,{"$f":"SUM(P129-O129)","v":0},0,0,{"$f":"SUM(S129-R129)","v":0}]
[2,"EX1272",null,null,null,"Private enterprises",null,null,0,0,0,0,0,0,0,0,0,0,0,0]
[2,"EX128",null,null,null,"Households and non government units",null,null,0,0,0,0,0,0,0,0,0,0,0,0]
[1,"EX129",null,null,null,"Higher education institutions",null,null,0,0,0,0,0,0,0,0,0,0,0,0]
[1,"EX130",null,null,null,"Foreign governments and international organisations ",null,null,0,0,0,0,0,0,0,0,0,0,0,0]
[1,"EX131",null,null,null,"Non-profit institutions",null,null,0,0,0,0,0,0,0,0,0,0,0,0]
[1,"EX132",null,null,null,"Households",null,null,{"$f":"SUM(I136:I137)","v":0},{"$f":"SUM(J136:J137)","v":0},{"$f":"SUM(K136:K137)","v":0},{"$f":"SUM(L136:L137)","v":0},{"$f":"SUM(M136:M137)","v":0},0,{"$f":"SUM(O136:O137)","v":0},{"$f":"SUM(P136:P137)","v":0},0,{"$f":"SUM(R136:R137)","v":0},{"$f":"SUM(S136:S137)","v":0},0,{"$f":"SUM(U136:U137)","v":0}]
[1,"EX1301",null,null,null,"Social benefits ",null,null,0,0,0,0,0,{"$f":"SUM(M136-L136)","v":0},0,0,{"$f":"SUM(P136-O136)","v":0},0,0,{"$f":"SUM(S136-R136)","v":0}]
[1,"EX1302",null,null,null,"Other transfers to households",null,null,0,0,0,0,0,0,0,0,0,0,0,0]
[1,"EX13",null,null,null,"Tax payment",null,null,0,0,0,0,0,0,0,0,0,0,0,0]
[1,"EX14",null,null,null,"Outside shareholders Interest",null,null,0,0,0,0,0,0,0,0,0,0,0,0]
[1,"EX15",null,null,null,"Total Expenditure",null,null,{"$f":"SUM(I39,I109,I138:I139)","v":0},{"$f":"SUM(J39,J109,J138:J139)","v":0},{"$f":"SUM(K39,K109,K138:K139)","v":0},{"$f":"SUM(L39,L109,L138:L139)","v":0},{"$f":"SUM(M39,M109,M138:M139)","v":0},{"$f":"SUM(M140-L140)","v":0},{"$f":"SUM(O39,O109,O138:O139)","v":0},{"$f":"SUM(P39,P109,P138:P139)","v":0},{"$f":"SUM(P140-O140)","v":0},{"$f":"SUM(R39,R109,R138:R139)","v":0},{"$f":"SUM(S39,S109,S138:S139)","v":0},{"$f":"SUM(S140-R140)","v":0},{"$f":"SUM(U39,U109,U138:U139)","v":0}]
[1]
[1,null,null,null,null,"Objective less Expenditure",null,null,{"$f":"ROUND(IF(I37-I140>0,IF(I37-I140<1,0,I37-I140),I37-I140),0)","v":0},0,0,0,0,{"$f":"ROUND(IF(N37-N140>0,IF(N37-N140<1,0,N37-N140),N37-N140),0)","v":0},0,0,0,0,0,0,0]
[1]

{"sheet":"14","index":18,"n_rows":143,"n_cols":22,"rows_kept":143,"cut":false,"hidden":false,"merged":[[31,11,31,13],[31,14,31,16],[31,17,31,19]]}
[]
[]
[]
[]
[]
[null,null,null,null,null,"PE No",{"$f":"Settings!O2","v":"PE196"}]
[null,null,null,null,null,"Entity name",{"$f":"Settings!$D$2","v":"Transnet Limited"}]
[]
[null,null,null,null,null,"Performance and operations information"]
["ItemCat","Item code","Hide/unhide",null,null,"Activity/Output/Outcome/Efficiency Indicator","Priorities",null,{"$f":"MyYearM3","v":"2019/20"},{"$f":"MyYearM2","v":"2020/21"},{"$f":"MyYearM1","v":"2021/22"},{"$f":"MyYear0","v":"2022/23"},{"$f":"MyYearP1","v":"2023/24"},{"$f":"MyYearP2","v":"2024/25"},{"$f":"MyYearP3","v":"2025/26"},"Related Objectives","Add to 'Performance Indicators' Sheet","Comments"]
[1,null,null,null,null,0,0,null,0,0,0,0,0,0,null,0,0,0]
[1,null,null,null,null,0,0,null,0,0,0,0,0,0,null,0,0,0]
[1,null,null,null,null,0,0,null,0,0,0,0,0,0,null,0,0,0]
[1,null,null,null,null,0,0,null,0,0,0,0,0,0,null,0,0,0]
[1,null,null,null,null,0,0,null,0,0,0,0,0,0,null,0,0,0]
[1,null,null,null,null,0,0,null,0,0,0,0,0,0,null,0,0,0]
[1,null,null,null,null,0,0,null,0,0,0,0,0,0,null,0,0,0]
[1,null,null,null,null,0,0,null,0,0,0,0,0,0,null,0,0,0]
[1,null,null,null,null,0,0,null,0,0,0,0,0,0,null,0,0,0]
[1,null,null,null,null,0,0,null,0,0,0,0,0,0,null,0,0,0]
[1,null,null,null,null,0,0,null,0,0,0,0,0,0,null,0,0,0]
[1,null,null,null,null,0,0,null,0,0,0,0,0,0,null,0,0,0]
[1,null,null,null,null,0,0,null,0,0,0,0,0,0,null,0,0,0]
[1,null,null,null,null,0,0,null,0,0,0,0,0,0,null,0,0,0]
[1,null,null,null,null,0,0,null,0,0,0,0,0,0,null,0,0,0]
[1,null,null,null,null,"Notes:"]
[1,null,null,null,null,"Performance indicators are an explanation of objectives performance.   "]
[1,null,null,null,null,"1. They are specific measurements that track progress towards achieving the goals and objectives of an institution."]
[1,null,null,null,null,"2. Institutions should use performance indicators in the 2021/22 Annual Performance Plans and those in the 2022 ENE. "]
[1,null,null,null,null,"3. Institutions should also indicate instances where targets are not affected by budget baseline reprioritisation."]
[1]
[1,null,null,null,null,null,null,null,{"$f":"MyYearM3","v":"2019/20"},{"$f":"MyYearM2","v":"2020/21"},{"$f":"MyYearM1","v":"2021/22"},{"$f":"MyYear0","v":"2022/23"},null,null,{"$f":"MyYearP1","v":"2023/24"},null,null,{"$f":"MyYearP2","v":"2024/25"},null,null,{"$f":"MyYearP3","v":"2025/26"}]
[1,null,null,null,null,"Expenses",null,null,{"$f":"Hist_year3RestatedAudited","v":"Audited\noutcome"},{"$f":"Hist_year2RestatedAudited","v":"Audited\noutcome"},{"$f":"Hist_year1Audited","v":"Audited\noutcome"},{"$f":"Cur_YearBudgEst","v":"Budget\nestimate"},{"$f":"Cur_YearApprovedBudg","v":"Approved budget"},{"$f":"Cur_YearChangeFrRevBudg","v":"Changes from \nbudget estimate"},{"$f":"MTEF1BudgEst","v":"Budget\nestimate"},{"$f":"MTEF1RevBudgEst","v":"Revised\nbudget\nestimate"},{"$f":"MTEF1_ChangeFrBudgEst","v":"Changes from budget estimate"},{"$f":"MTEF2BudgEst","v":"Budget\nestimate"},{"$f":"MTEF2RevBudgEst","v":"Revised\nbudget\nestimate"},{"$f":"MTEF2_ChangeFrBudgEst","v":"Changes from budget estimate"},{"$f":"MTEF3PlanBudgetEst","v":"Planning\nbudget \nestimate"}]
[1]
[1,null,null,null,null,"Rand thousand"]
[1,null,null,null,null,"Objective/Activity"]
[1,null,null,null,null,0,null,null,0,0,0,0,0,{"$f":"SUM(M37-L37)","v":0},0,0,{"$f":"SUM(P37-O37)","v":0},0,0,{"$f":"SUM(S37-R37)","v":0}]
[1,null,null,null,null,"Economic classification"]
[1,"EX11",null,null,null,"Current payments",null,null,{"$f":"SUM(I40,I43,I98:I99,I105)","v":0},{"$f":"SUM(J40,J43,J98:J99,J105)","v":0},{"$f":"SUM(K40,K43,K98:K99,K105)","v":0},{"$f":"SUM(L40,L43,L98:L99,L105)","v":0},{"$f":"SUM(M40,M43,M98:M99,M105)","v":0},{"$f":"SUM(M39-L39)","v":0},{"$f":"SUM(O40,O43,O98:O99,O105)","v":0},{"$f":"SUM(P40,P43,P98:P99,P105)","v":0},{"$f":"SUM(P39-O39)","v":0},{"$f":"SUM(R40,R43,R98:R99,R105)","v":0},{"$f":"SUM(S40,S43,S98:S99,S105)","v":0},{"$f":"SUM(S39-R39)","v":0},{"$f":"SUM(U40,U43,U98:U99,U105)","v":0}]
[1,"EX111",null,null,null,"Compensation of employees",null,null,{"$f":"SUM(I41:I42)","v":0},{"$f":"SUM(J41:J42)","v":0},{"$f":"SUM(K41:K42)","v":0},{"$f":"SUM(L41:L42)","v":0},{"$f":"SUM(M41:M42)","v":0},{"$f":"SUM(M40-L40)","v":0},{"$f":"SUM(O41:O42)","v":0},{"$f":"SUM(P41:P42)","v":0},{"$f":"SUM(P40-O40)","v":0},{"$f":"SUM(R41:R42)","v":0},{"$f":"SUM(S41:S42)","v":0},{"$f":"SUM(S40-R40)","v":0},{"$f":"SUM(U41:U42)","v":0}]
[1,"EX1111",null,null,null,"Salaries and wages",null,null,0,0,0,0,0,{"$f":"SUM(M41-L41)","v":0},0,0,{"$f":"SUM(P41-O41)","v":0},0,0,{"$f":"SUM(S41-R41)","v":0}]
[1,"EX1112",null,null,null,"Social contributions",null,null,0,0,0,0,0,0,0,0,0,0,0,0]
[1,"EX112",null,null,null,"Goods and services",null,null,{"$f":"SUM(I45:I54,I58:I61,I73,I75:I97)","v":0},{"$f":"SUM(J45:J54,J58:J61,J73,J75:J97)","v":0},0,0,0,0,0,0,0,0,0,0,0,{"$f":"SUM(V45:V54,V58:V61,V73,V75:V97)","v":0}]
[1,"EX000",null,null,null,"Of which 1"]
[1,"EX1133",null,null,null,"14istrative fees",null,null,0,0,0,0,0,{"$f":"SUM(M45-L45)","v":0},0,0,{"$f":"SUM(P45-O45)","v":0},0,0,{"$f":"SUM(S45-R45)","v":0}]
[1,"EX1134",null,null,null,"Advertising",null,null,0,0,0,0,0,0,0,0,0,0,0,0]
[1,"EX1135",null,null,null,"Minor assets",null,null,0,0,0,0,0,0,0,0,0,0,0,0]
[1,"EX1136",null,null,null,"Audit costs: External",null,null,0,0,0,0,0,0,0,0,0,0,0,0]
[1,"EX1139",null,null,null,"Bursaries: Employees",null,null,0,0,0,0,0,0,0,0,0,0,0,0]
[1,"EX1140",null,null,null,"Catering: Internal activities",null,null,0,0,0,0,0,0,0,0,0,0,0,0]
[1,"EX1122",null,null,null,"Communication (G&S)",null,null,0,0,0,0,0,0,0,0,0,0,0,0]
[1,"EX1123",null,null,null,"Computer services",null,null,0,0,0,0,0,0,0,0,0,0,0,0]
[1,"EX1124",null,null,null,"Consultants: Business and advisory services",null,null,0,0,0,0,0,0,0,0,0,0,0,0]
[1,"EX1180",null,null,null,"Infrastructure and planning services",null,null,{"$f":"SUM(I55:I57)","v":0},{"$f":"SUM(J55:J57)","v":0},{"$f":"SUM(K55:K57)","v":0},{"$f":"SUM(L55:L57)","v":0},{"$f":"SUM(M55:M57)","v":0},{"$f":"SUM(M54-L54)","v":0},{"$f":"SUM(O55:O57)","v":0},{"$f":"SUM(P55:P57)","v":0},{"$f":"SUM(P54-O54)","v":0},{"$f":"SUM(R55:R57)","v":0},{"$f":"SUM(S55:S57)","v":0},{"$f":"SUM(S54-R54)","v":0},{"$f":"SUM(U55:U57)","v":0}]
[1,"EX11801",null,null,null,"Maintenance and repairs: Buildings: Consultants",null,null,0,0,0,0,0,{"$f":"SUM(M55-L55)","v":0},0,0,{"$f":"SUM(P55-O55)","v":0},0,0,0]
[1,"EX11802",null,null,null,"Maintenance and repairs: Other fixed structures: Consultants",null,null,0,0,0,0,0,0,0,0,0,0,0,0]
[1,"EX11803",null,null,null,"Other",null,null,0,0,0,0,0,0,0,0,0,0,0,0]
[1,"EX1164",null,null,null,"Laboratory services",null,null,0,0,0,0,0,0,0,0,0,0,0,0]
[1,"EX1162",null,null,null,"Legal services (G&S)",null,null,0,0,0,0,0,0,0,0,0,0,0,0]
[1,"EX1165",null,null,null,"Science and technological services",null,null,0,0,0,0,0,0,0,0,0,0,0,0]
[1,"EX1125",null,null,null,"Contractors",null,null,{"$f":"SUM(I62:I66,I72)","v":0},{"$f":"SUM(J62:J66,J72)","v":0},{"$f":"SUM(K62:K66,K72)","v":0},{"$f":"SUM(L62:L66,L72)","v":0},{"$f":"SUM(M62:M66,M72)","v":0},{"$f":"SUM(M61-L61)","v":0},{"$f":"SUM(O62:O66,O72)","v":0},{"$f":"SUM(P62:P66,P72)","v":0},{"$f":"SUM(P61-O61)","v":0},{"$f":"SUM(R62:R66,R72)","v":0},{"$f":"SUM(S62:S66,S72)","v":0},0,{"$f":"SUM(U62:U66,U72)","v":0}]
[1,"EX11251",null,null,null,"Maintenance and repairs of other fixed structures",null,null,0,0,0,0,0,0,0,0,0,0,0,0]
[1,"EX11252",null,null,null,"Maintenance and repairs of other machinery and equipment",null,null,0,0,0,0,0,0,0,0,0,0,0,0]
[1,"EX11253",null,null,null,"Maintenance and repairs of heritage buildings",null,null,0,0,0,0,0,0,0,0,0,0,0,0]
[1,"EX11254",null,null,null,"Maintenance and repairs of other heritage fixed structures",null,null,0,0,0,0,0,0,0,0,0,0,0,0]
[5,"EX11255",null,null,null,"South african social security agency payment contractors",null,null,{"$f":"SUM(I67:I71)","v":0},{"$f":"SUM(J67:J71)","v":0},{"$f":"SUM(K67:K71)","v":0},{"$f":"SUM(L67:L71)","v":0},{"$f":"SUM(M67:M71)","v":0},0,{"$f":"SUM(O67:O71)","v":0},{"$f":"SUM(P67:P71)","v":0},0,{"$f":"SUM(R67:R71)","v":0},{"$f":"SUM(S67:S71)","v":0},0,{"$f":"SUM(U67:U71)","v":0}]
[5,"EX112551",null,null,null,"SASSA 14 fees",null,null,0,0,0,0,0,0,0,0,0,0,0,0]
[5,"EX112552",null,null,null,"SASSA Bankcard fees",null,null,0,0,0,0,0,0,0,0,0,0,0,0]
[5,"EX112553",null,null,null,"SASSA registration fees",null,null,0,0,0,0,0,0,0,0,0,0,0,0]
[5,"EX112554",null,null,null,"SASSA beneficiary fees",null,null,0,0,0,0,0,0,0,0,0,0,0,0]
[5,"EX112555",null,null,null,"SASSA help desk fees",null,null,0,0,0,0,0,0,0,0,0,0,0,0]
[null,null,null,null,null,"Other",null,null,0,0,0,0,0,0,0,0,0,0,0,0]
[1,"EX1121",null,null,null,"Agency and support/outsourced services",null,null,0,0,0,0,0,0,0,0,0,0,0,0]
[5,"EX11211",null,null,null,"     Of Which: Medical assessments",null,null,0,0,0,0,0,0,0,0,0,0,0,0]
[1,"EX1161",null,null,null,"Entertainment",null,null,0,0,0,0,0,0,0,0,0,0,0,0]
[1,"EX1166",null,null,null,"Fleet services (including government motor transport)",null,null,0,0,0,0,0,0,0,0,0,0,0,0]
[1,"EX1167",null,null,null,"Housing",null,null,0,0,0,0,0,0,0,0,0,0,0,0]
[1,"EX1168",null,null,null,"Inventory: Clothing material and accessories",null,null,0,0,0,0,0,0,0,0,0,0,0,0]
[1,"EX1169",null,null,null,"Inventory: Farming supplies",null,null,0,0,0,0,0,0,0,0,0,0,0,0]
[1,"EX1170",null,null,null,"Inventory: Food and food supplies",null,null,0,0,0,0,0,0,0,0,0,0,0,0]
[1,"EX1171",null,null,null,"Inventory: Fuel, oil and gas",null,null,0,0,0,0,0,0,0,0,0,0,0,0]
[1,"EX1172",null,null,null,"Inventory: Learner and teacher support material",null,null,0,0,0,0,0,0,0,0,0,0,0,0]
[1,"EX1126",null,null,null,"Inventory: Materials and supplies",null,null,0,0,0,0,0,0,0,0,0,0,0,0]
[1,"EX1173",null,null,null,"Inventory: Medical supplies",null,null,0,0,0,0,0,0,0,0,0,0,0,0]
[1,"EX1174",null,null,null,"Inventory: Medicine",null,null,0,0,0,0,0,0,0,0,0,0,0,0]
[1,"EX1175",null,null,null,"Medsas inventory interface",null,null,0,0,0,0,0,0,0,0,0,0,0,0]
[1,"EX1176",null,null,null,"Inventory: Other supplies",null,null,0,0,0,0,0,0,0,0,0,0,0,0]
[1,"EX1177",null,null,null,"Consumable supplies",null,null,0,0,0,0,0,0,0,0,0,0,0,0]
[1,"EX1144",null,null,null,"Consumables: Stationery, printing and office supplies",null,null,0,0,0,0,0,0,0,0,0,0,0,0]
[1,"EX1127",null,null,null,"Operating leases",null,null,0,0,0,0,0,0,0,0,0,0,0,0]
[1,"EX1178",null,null,null,"Rental and hiring",null,null,0,0,0,0,0,0,0,0,0,0,0,0]
[1,"EX1145",null,null,null,"Property payments",null,null,0,0,0,0,0,0,0,0,0,0,0,0]
[1,"EX1179",null,null,null,"Transport provided: Internal activities",null,null,0,0,0,0,0,0,0,0,0,0,0,0]
[1,"EX1131",null,null,null,"Travel and subsistence",null,null,0,0,0,0,0,0,0,0,0,0,0,0]
[1,"EX1130",null,null,null,"Training and development",null,null,0,0,0,0,0,0,0,0,0,0,0,0]
[1,"EX1132",null,null,null,"Operating payments",null,null,0,0,0,0,0,0,0,0,0,0,0,0]
[1,"EX1146",null,null,null,"Venues and facilities",null,null,0,0,0,0,0,0,0,0,0,0,0,0]
[1,"EX113",null,null,null,"Depreciation",null,null,0,0,0,0,0,0,0,0,0,0,0,0]
[1,"EX114",null,null,null,"Losses from",null,null,{"$f":"SUM(I100:I101,I104)","v":0},{"$f":"SUM(J100:J101,J104)","v":0},{"$f":"SUM(K100:K101,K104)","v":0},{"$f":"SUM(L100:L101,L104)","v":0},{"$f":"SUM(M100:M101,M104)","v":0},{"$f":"SUM(M99-L99)","v":0},{"$f":"SUM(O100:O101,O104)","v":0},{"$f":"SUM(P100:P101,P104)","v":0},{"$f":"SUM(P99-O99)","v":0},{"$f":"SUM(R100:R101,R104)","v":0},{"$f":"SUM(S100:S101,S104)","v":0},{"$f":"SUM(S99-R99)","v":0},{"$f":"SUM(U100:U101,U104)","v":0}]
[1,"EX1141",null,null,null,"Sale of fixed assets",null,null,0,0,0,0,0,{"$f":"SUM(M100-L100)","v":0},0,0,{"$f":"SUM(P100-O100)","v":0},0,0,{"$f":"SUM(S100-R100)","v":0}]
[1,"EX1142",null,null,null,"Impairments and adjustments to fair value",null,null,{"$f":"SUM(I102:I103)","v":0},{"$f":"SUM(J102:J103)","v":0},{"$f":"SUM(K102:K103)","v":0},{"$f":"SUM(L102:L103)","v":0},{"$f":"SUM(M102:M103)","v":0},0,{"$f":"SUM(O102:O103)","v":0},{"$f":"SUM(P102:P103)","v":0},0,{"$f":"SUM(R102:R103)","v":0},{"$f":"SUM(S102:S103)","v":0},0,{"$f":"SUM(U102:U103)","v":0}]
[1,"EX11421",null,null,null,"Adjustments to fair value of assets",null,null,0,0,0,0,0,{"$f":"SUM(M102-L102)","v":0},0,0,{"$f":"SUM(P102-O102)","v":0},0,0,{"$f":"SUM(S102-R102)","v":0}]
[1,"EX11422",null,null,null,"Impairments to assets",null,null,0,0,0,0,0,0,0,0,0,0,0,0]
[1,"EX1143",null,null,null,"Other",null,null,0,0,0,0,0,0,0,0,0,0,0,0]
[1,"EX115",null,null,null,"Interest, dividends and rent on land",null,null,{"$f":"SUM(I106:I108)","v":0},{"$f":"SUM(J106:J108)","v":0},{"$f":"SUM(K106:K108)","v":0},{"$f":"SUM(L106:L108)","v":0},{"$f":"SUM(M106:M108)","v":0},0,{"$f":"SUM(O106:O108)","v":0},{"$f":"SUM(P106:P108)","v":0},0,{"$f":"SUM(R106:R108)","v":0},{"$f":"SUM(S106:S108)","v":0},0,{"$f":"SUM(U106:U108)","v":0}]
[1,"EX1151",null,null,null,"Interest",null,null,0,0,0,0,0,{"$f":"SUM(M106-L106)","v":0},0,0,{"$f":"SUM(P106-O106)","v":0},0,0,{"$f":"SUM(S106-R106)","v":0}]
[1,"EX1152",null,null,null,"Dividends",null,null,0,0,0,0,0,0,0,0,0,0,0,0]
[1,"EX1153",null,null,null,"Rent on land",null,null,0,0,0,0,0,0,0,0,0,0,0,0]
[1,"EX12",null,null,null,"Transfers and subsidies",null,null,{"$f":"SUM(I110,I121,I132:I135)","v":0},{"$f":"SUM(J110,J121,J132:J135)","v":0},{"$f":"SUM(K110,K121,K132:K135)","v":0},{"$f":"SUM(L110,L121,L132:L135)","v":0},{"$f":"SUM(M110,M121,M132:M135)","v":0},0,{"$f":"SUM(O110,O121,O132:O135)","v":0},{"$f":"SUM(P110,P121,P132:P135)","v":0},0,{"$f":"SUM(R110,R121,R132:R135)","v":0},{"$f":"SUM(S110,S121,S132:S135)","v":0},0,{"$f":"SUM(U110,U121,U132:U135)","v":0}]
[2,"EX121",null,null,null,"Employer Grant (SETAs only)",null,null,{"$f":"SUM(I111,I117,I120)","v":0},{"$f":"SUM(J111,J117,J120)","v":0},{"$f":"SUM(K111,K117,K120)","v":0},{"$f":"SUM(L111,L117,L120)","v":0},{"$f":"SUM(M111,M117,M120)","v":0},0,{"$f":"SUM(O111,O117,O120)","v":0},{"$f":"SUM(P111,P117,P120)","v":0},0,{"$f":"SUM(R111,R117,R120)","v":0},{"$f":"SUM(S111,S117,S120)","v":0},0,{"$f":"SUM(U111,U117,U120)","v":0}]
[1,"EX122",null,null,null,"Other government units",null,null,{"$f":"SUM(I112:I116)","v":0},{"$f":"SUM(J112:J116)","v":0},{"$f":"SUM(K112:K116)","v":0},{"$f":"SUM(L112:L116)","v":0},{"$f":"SUM(M112:M116)","v":0},0,{"$f":"SUM(O112:O116)","v":0},{"$f":"SUM(P112:P116)","v":0},0,{"$f":"SUM(R112:R116)","v":0},{"$f":"SUM(S112:S116)","v":0},0,{"$f":"SUM(U112:U116)","v":0}]
[1,"EX1221",null,null,null,"National government",null,null,0,0,0,0,0,{"$f":"SUM(M112-L112)","v":0},0,0,{"$f":"SUM(P112-O112)","v":0},0,0,{"$f":"SUM(S112-R112)","v":0}]
[1,"EX1222",null,null,null,"Departmental agencies and accounts",null,null,0,0,0,0,0,0,0,0,0,0,0,0]
[1,"EX1223",null,null,null,"Provinces",null,null,0,0,0,0,0,0,0,0,0,0,0,0]
[1,"EX1224",null,null,null,"Municipalities",null,null,0,0,0,0,0,0,0,0,0,0,0,0]
[2,"EX1225",null,null,null,"National Skills Fund",null,null,0,0,0,0,0,0,0,0,0,0,0,0]
[1,"EX123",null,null,null,"Public corporations and private enterprises (subsidies and other transfers)",null,null,{"$f":"SUM(I118:I119)","v":0},{"$f":"SUM(J118:J119)","v":0},{"$f":"SUM(K118:K119)","v":0},{"$f":"SUM(L118:L119)","v":0},{"$f":"SUM(M118:M119)","v":0},0,{"$f":"SUM(O118:O119)","v":0},{"$f":"SUM(P118:P119)","v":0},0,{"$f":"SUM(R118:R119)","v":0},{"$f":"SUM(S118:S119)","v":0},0,{"$f":"SUM(U118:U119)","v":0}]
[1,"EX1231",null,null,null,"Public corporations",null,null,0,0,0,0,0,{"$f":"SUM(M118-L118)","v":0},0,0,{"$f":"SUM(P118-O118)","v":0},0,0,{"$f":"SUM(S118-R118)","v":0}]
[1,"EX1232",null,null,null,"Private enterprises",null,null,0,0,0,0,0,0,0,0,0,0,0,0]
[2,"EX124",null,null,null,"Households and non government units",null,null,0,0,0,0,0,0,0,0,0,0,0,0]
[2,"EX125",null,null,null,"Discretionary Grant (SETAs only)",null,null,{"$f":"SUM(I122,I128,I131)","v":0},{"$f":"SUM(J122,J128,J131)","v":0},{"$f":"SUM(K122,K128,K131)","v":0},{"$f":"SUM(L122,L128,L131)","v":0},{"$f":"SUM(M122,M128,M131)","v":0},0,{"$f":"SUM(O122,O128,O131)","v":0},{"$f":"SUM(P122,P128,P131)","v":0},0,{"$f":"SUM(R122,R128,R131)","v":0},{"$f":"SUM(S122,S128,S131)","v":0},0,{"$f":"SUM(U122,U128,U131)","v":0}]
[2,"EX126",null,null,null,"Other government units",null,null,{"$f":"SUM(I123:I127)","v":0},{"$f":"SUM(J123:J127)","v":0},{"$f":"SUM(K123:K127)","v":0},{"$f":"SUM(L123:L127)","v":0},{"$f":"SUM(M123:M127)","v":0},0,{"$f":"SUM(O123:O127)","v":0},{"$f":"SUM(P123:P127)","v":0},0,{"$f":"SUM(R123:R127)","v":0},{"$f":"SUM(S123:S127)","v":0},0,{"$f":"SUM(U123:U127)","v":0}]
[2,"EX1261",null,null,null,"National government",null,null,0,0,0,0,0,{"$f":"SUM(M123-L123)","v":0},0,0,{"$f":"SUM(P123-O123)","v":0},0,0,{"$f":"SUM(S123-R123)","v":0}]
[2,"EX1262",null,null,null,"Departmental agencies and accounts",null,null,0,0,0,0,0,0,0,0,0,0,0,0]
[2,"EX1263",null,null,null,"Provinces",null,null,0,0,0,0,0,0,0,0,0,0,0,0]
[2,"EX1264",null,null,null,"Municipalities",null,null,0,0,0,0,0,0,0,0,0,0,0,0]
[2,"EX1265",null,null,null,"National Skills Fund",null,null,0,0,0,0,0,0,0,0,0,0,0,0]
[2,"EX127",null,null,null,"Public corporations and private enterprises (subsidies and other transfers)",null,null,{"$f":"SUM(I129:I130)","v":0},{"$f":"SUM(J129:J130)","v":0},{"$f":"SUM(K129:K130)","v":0},{"$f":"SUM(L129:L130)","v":0},{"$f":"SUM(M129:M130)","v":0},0,{"$f":"SUM(O129:O130)","v":0},{"$f":"SUM(P129:P130)","v":0},0,{"$f":"SUM(R129:R130)","v":0},{"$f":"SUM(S129:S130)","v":0},0,{"$f":"SUM(U129:U130)","v":0}]
[2,"EX1271",null,null,null,"Public corporations",null,null,0,0,0,0,0,{"$f":"SUM(M129-L129)","v":0},0,0,{"$f":"SUM(P129-O129)","v":0},0,0,{"$f":"SUM(S129-R129)","v":0}]
[2,"EX1272",null,null,null,"Private enterprises",null,null,0,0,0,0,0,0,0,0,0,0,0,0]
[2,"EX128",null,null,null,"Households and non government units",null,null,0,0,0,0,0,0,0,0,0,0,0,0]
[1,"EX129",null,null,null,"Higher education institutions",null,null,0,0,0,0,0,0,0,0,0,0,0,0]
[1,"EX130",null,null,null,"Foreign governments and international organisations ",null,null,0,0,0,0,0,0,0,0,0,0,0,0]
[1,"EX131",null,null,null,"Non-profit institutions",null,null,0,0,0,0,0,0,0,0,0,0,0,0]
[1,"EX132",null,null,null,"Households",null,null,{"$f":"SUM(I136:I137)","v":0},{"$f":"SUM(J136:J137)","v":0},{"$f":"SUM(K136:K137)","v":0},{"$f":"SUM(L136:L137)","v":0},{"$f":"SUM(M136:M137)","v":0},0,{"$f":"SUM(O136:O137)","v":0},{"$f":"SUM(P136:P137)","v":0},0,{"$f":"SUM(R136:R137)","v":0},{"$f":"SUM(S136:S137)","v":0},0,{"$f":"SUM(U136:U137)","v":0}]
[1,"EX1301",null,null,null,"Social benefits ",null,null,0,0,0,0,0,{"$f":"SUM(M136-L136)","v":0},0,0,{"$f":"SUM(P136-O136)","v":0},0,0,{"$f":"SUM(S136-R136)","v":0}]
[1,"EX1302",null,null,null,"Other transfers to households",null,null,0,0,0,0,0,0,0,0,0,0,0,0]
[1,"EX13",null,null,null,"Tax payment",null,null,0,0,0,0,0,0,0,0,0,0,0,0]
[1,"EX14",null,null,null,"Outside shareholders Interest",null,null,0,0,0,0,0,0,0,0,0,0,0,0]
[1,"EX15",null,null,null,"Total Expenditure",null,null,{"$f":"SUM(I39,I109,I138:I139)","v":0},{"$f":"SUM(J39,J109,J138:J139)","v":0},{"$f":"SUM(K39,K109,K138:K139)","v":0},{"$f":"SUM(L39,L109,L138:L139)","v":0},{"$f":"SUM(M39,M109,M138:M139)","v":0},{"$f":"SUM(M140-L140)","v":0},{"$f":"SUM(O39,O109,O138:O139)","v":0},{"$f":"SUM(P39,P109,P138:P139)","v":0},{"$f":"SUM(P140-O140)","v":0},{"$f":"SUM(R39,R109,R138:R139)","v":0},{"$f":"SUM(S39,S109,S138:S139)","v":0},{"$f":"SUM(S140-R140)","v":0},{"$f":"SUM(U39,U109,U138:U139)","v":0}]
[1]
[1,null,null,null,null,"Objective less Expenditure",null,null,{"$f":"ROUND(IF(I37-I140>0,IF(I37-I140<1,0,I37-I140),I37-I140),0)","v":0},0,0,0,0,{"$f":"ROUND(IF(N37-N140>0,IF(N37-N140<1,0,N37-N140),N37-N140),0)","v":0},0,0,0,0,0,0,0]
[1]

{"sheet":"15","index":19,"n_rows":143,"n_cols":22,"rows_kept":143,"cut":false,"hidden":false,"merged":[[31,11,31,13],[31,14,31,16],[31,17,31,19]]}
[]
[]
[]
[]
[]
[null,null,null,null,null,"PE No",{"$f":"Settings!O2","v":"PE196"}]
[null,null,null,null,null,"Entity name",{"$f":"Settings!$D$2","v":"Transnet Limited"}]
[]
[null,null,null,null,null,"Performance and operations information"]
["ItemCat","Item code","Hide/unhide",null,null,"Activity/Output/Outcome/Efficiency Indicator","Priorities",null,{"$f":"MyYearM3","v":"2019/20"},{"$f":"MyYearM2","v":"2020/21"},{"$f":"MyYearM1","v":"2021/22"},{"$f":"MyYear0","v":"2022/23"},{"$f":"MyYearP1","v":"2023/24"},{"$f":"MyYearP2","v":"2024/25"},{"$f":"MyYearP3","v":"2025/26"},"Related Objectives","Add to 'Performance Indicators' Sheet","Comments"]
[1,null,null,null,null,0,0,null,0,0,0,0,0,0,null,0,0,0]
[1,null,null,null,null,0,0,null,0,0,0,0,0,0,null,0,0,0]
[1,null,null,null,null,0,0,null,0,0,0,0,0,0,null,0,0,0]
[1,null,null,null,null,0,0,null,0,0,0,0,0,0,null,0,0,0]
[1,null,null,null,null,0,0,null,0,0,0,0,0,0,null,0,0,0]
[1,null,null,null,null,0,0,null,0,0,0,0,0,0,null,0,0,0]
[1,null,null,null,null,0,0,null,0,0,0,0,0,0,null,0,0,0]
[1,null,null,null,null,0,0,null,0,0,0,0,0,0,null,0,0,0]
[1,null,null,null,null,0,0,null,0,0,0,0,0,0,null,0,0,0]
[1,null,null,null,null,0,0,null,0,0,0,0,0,0,null,0,0,0]
[1,null,null,null,null,0,0,null,0,0,0,0,0,0,null,0,0,0]
[1,null,null,null,null,0,0,null,0,0,0,0,0,0,null,0,0,0]
[1,null,null,null,null,0,0,null,0,0,0,0,0,0,null,0,0,0]
[1,null,null,null,null,0,0,null,0,0,0,0,0,0,null,0,0,0]
[1,null,null,null,null,0,0,null,0,0,0,0,0,0,null,0,0,0]
[1,null,null,null,null,"Notes:"]
[1,null,null,null,null,"Performance indicators are an explanation of objectives performance.   "]
[1,null,null,null,null,"1. They are specific measurements that track progress towards achieving the goals and objectives of an institution."]
[1,null,null,null,null,"2. Institutions should use performance indicators in the 2021/22 Annual Performance Plans and those in the 2022 ENE. "]
[1,null,null,null,null,"3. Institutions should also indicate instances where targets are not affected by budget baseline reprioritisation."]
[1]
[1,null,null,null,null,null,null,null,{"$f":"MyYearM3","v":"2019/20"},{"$f":"MyYearM2","v":"2020/21"},{"$f":"MyYearM1","v":"2021/22"},{"$f":"MyYear0","v":"2022/23"},null,null,{"$f":"MyYearP1","v":"2023/24"},null,null,{"$f":"MyYearP2","v":"2024/25"},null,null,{"$f":"MyYearP3","v":"2025/26"}]
[1,null,null,null,null,"Expenses",null,null,{"$f":"Hist_year3RestatedAudited","v":"Audited\noutcome"},{"$f":"Hist_year2RestatedAudited","v":"Audited\noutcome"},{"$f":"Hist_year1Audited","v":"Audited\noutcome"},{"$f":"Cur_YearBudgEst","v":"Budget\nestimate"},{"$f":"Cur_YearApprovedBudg","v":"Approved budget"},{"$f":"Cur_YearChangeFrRevBudg","v":"Changes from \nbudget estimate"},{"$f":"MTEF1BudgEst","v":"Budget\nestimate"},{"$f":"MTEF1RevBudgEst","v":"Revised\nbudget\nestimate"},{"$f":"MTEF1_ChangeFrBudgEst","v":"Changes from budget estimate"},{"$f":"MTEF2BudgEst","v":"Budget\nestimate"},{"$f":"MTEF2RevBudgEst","v":"Revised\nbudget\nestimate"},{"$f":"MTEF2_ChangeFrBudgEst","v":"Changes from budget estimate"},{"$f":"MTEF3PlanBudgetEst","v":"Planning\nbudget \nestimate"}]
[1]
[1,null,null,null,null,"Rand thousand"]
[1,null,null,null,null,"Objective/Activity"]
[1,null,null,null,null,0,null,null,0,0,0,0,0,{"$f":"SUM(M37-L37)","v":0},0,0,{"$f":"SUM(P37-O37)","v":0},0,0,{"$f":"SUM(S37-R37)","v":0}]
[1,null,null,null,null,"Economic classification"]
[1,"EX11",null,null,null,"Current payments",null,null,{"$f":"SUM(I40,I43,I98:I99,I105)","v":0},{"$f":"SUM(J40,J43,J98:J99,J105)","v":0},{"$f":"SUM(K40,K43,K98:K99,K105)","v":0},{"$f":"SUM(L40,L43,L98:L99,L105)","v":0},{"$f":"SUM(M40,M43,M98:M99,M105)","v":0},{"$f":"SUM(M39-L39)","v":0},{"$f":"SUM(O40,O43,O98:O99,O105)","v":0},{"$f":"SUM(P40,P43,P98:P99,P105)","v":0},{"$f":"SUM(P39-O39)","v":0},{"$f":"SUM(R40,R43,R98:R99,R105)","v":0},{"$f":"SUM(S40,S43,S98:S99,S105)","v":0},{"$f":"SUM(S39-R39)","v":0},{"$f":"SUM(U40,U43,U98:U99,U105)","v":0}]
[1,"EX111",null,null,null,"Compensation of employees",null,null,{"$f":"SUM(I41:I42)","v":0},{"$f":"SUM(J41:J42)","v":0},{"$f":"SUM(K41:K42)","v":0},{"$f":"SUM(L41:L42)","v":0},{"$f":"SUM(M41:M42)","v":0},{"$f":"SUM(M40-L40)","v":0},{"$f":"SUM(O41:O42)","v":0},{"$f":"SUM(P41:P42)","v":0},{"$f":"SUM(P40-O40)","v":0},{"$f":"SUM(R41:R42)","v":0},{"$f":"SUM(S41:S42)","v":0},{"$f":"SUM(S40-R40)","v":0},{"$f":"SUM(U41:U42)","v":0}]
[1,"EX1111",null,null,null,"Salaries and wages",null,null,0,0,0,0,0,{"$f":"SUM(M41-L41)","v":0},0,0,{"$f":"SUM(P41-O41)","v":0},0,0,{"$f":"SUM(S41-R41)","v":0}]
[1,"EX1112",null,null,null,"Social contributions",null,null,0,0,0,0,0,0,0,0,0,0,0,0]
[1,"EX112",null,null,null,"Goods and services",null,null,{"$f":"SUM(I45:I54,I58:I61,I73,I75:I97)","v":0},{"$f":"SUM(J45:J54,J58:J61,J73,J75:J97)","v":0},0,0,0,0,0,0,0,0,0,0,0,{"$f":"SUM(V45:V54,V58:V61,V73,V75:V97)","v":0}]
[1,"EX000",null,null,null,"Of which 1"]
[1,"EX1133",null,null,null,"15istrative fees",null,null,0,0,0,0,0,{"$f":"SUM(M45-L45)","v":0},0,0,{"$f":"SUM(P45-O45)","v":0},0,0,{"$f":"SUM(S45-R45)","v":0}]
[1,"EX1134",null,null,null,"Advertising",null,null,0,0,0,0,0,0,0,0,0,0,0,0]
[1,"EX1135",null,null,null,"Minor assets",null,null,0,0,0,0,0,0,0,0,0,0,0,0]
[1,"EX1136",null,null,null,"Audit costs: External",null,null,0,0,0,0,0,0,0,0,0,0,0,0]
[1,"EX1139",null,null,null,"Bursaries: Employees",null,null,0,0,0,0,0,0,0,0,0,0,0,0]
[1,"EX1140",null,null,null,"Catering: Internal activities",null,null,0,0,0,0,0,0,0,0,0,0,0,0]
[1,"EX1122",null,null,null,"Communication (G&S)",null,null,0,0,0,0,0,0,0,0,0,0,0,0]
[1,"EX1123",null,null,null,"Computer services",null,null,0,0,0,0,0,0,0,0,0,0,0,0]
[1,"EX1124",null,null,null,"Consultants: Business and advisory services",null,null,0,0,0,0,0,0,0,0,0,0,0,0]
[1,"EX1180",null,null,null,"Infrastructure and planning services",null,null,{"$f":"SUM(I55:I57)","v":0},{"$f":"SUM(J55:J57)","v":0},{"$f":"SUM(K55:K57)","v":0},{"$f":"SUM(L55:L57)","v":0},{"$f":"SUM(M55:M57)","v":0},{"$f":"SUM(M54-L54)","v":0},{"$f":"SUM(O55:O57)","v":0},{"$f":"SUM(P55:P57)","v":0},{"$f":"SUM(P54-O54)","v":0},{"$f":"SUM(R55:R57)","v":0},{"$f":"SUM(S55:S57)","v":0},{"$f":"SUM(S54-R54)","v":0},{"$f":"SUM(U55:U57)","v":0}]
[1,"EX11801",null,null,null,"Maintenance and repairs: Buildings: Consultants",null,null,0,0,0,0,0,{"$f":"SUM(M55-L55)","v":0},0,0,{"$f":"SUM(P55-O55)","v":0},0,0,0]
[1,"EX11802",null,null,null,"Maintenance and repairs: Other fixed structures: Consultants",null,null,0,0,0,0,0,0,0,0,0,0,0,0]
[1,"EX11803",null,null,null,"Other",null,null,0,0,0,0,0,0,0,0,0,0,0,0]
[1,"EX1164",null,null,null,"Laboratory services",null,null,0,0,0,0,0,0,0,0,0,0,0,0]
[1,"EX1162",null,null,null,"Legal services (G&S)",null,null,0,0,0,0,0,0,0,0,0,0,0,0]
[1,"EX1165",null,null,null,"Science and technological services",null,null,0,0,0,0,0,0,0,0,0,0,0,0]
[1,"EX1125",null,null,null,"Contractors",null,null,{"$f":"SUM(I62:I66,I72)","v":0},{"$f":"SUM(J62:J66,J72)","v":0},{"$f":"SUM(K62:K66,K72)","v":0},{"$f":"SUM(L62:L66,L72)","v":0},{"$f":"SUM(M62:M66,M72)","v":0},{"$f":"SUM(M61-L61)","v":0},{"$f":"SUM(O62:O66,O72)","v":0},{"$f":"SUM(P62:P66,P72)","v":0},{"$f":"SUM(P61-O61)","v":0},{"$f":"SUM(R62:R66,R72)","v":0},{"$f":"SUM(S62:S66,S72)","v":0},0,{"$f":"SUM(U62:U66,U72)","v":0}]
[1,"EX11251",null,null,null,"Maintenance and repairs of other fixed structures",null,null,0,0,0,0,0,0,0,0,0,0,0,0]
[1,"EX11252",null,null,null,"Maintenance and repairs of other machinery and equipment",null,null,0,0,0,0,0,0,0,0,0,0,0,0]
[1,"EX11253",null,null,null,"Maintenance and repairs of heritage buildings",null,null,0,0,0,0,0,0,0,0,0,0,0,0]
[1,"EX11254",null,null,null,"Maintenance and repairs of other heritage fixed structures",null,null,0,0,0,0,0,0,0,0,0,0,0,0]
[5,"EX11255",null,null,null,"South african social security agency payment contractors",null,null,{"$f":"SUM(I67:I71)","v":0},{"$f":"SUM(J67:J71)","v":0},{"$f":"SUM(K67:K71)","v":0},{"$f":"SUM(L67:L71)","v":0},{"$f":"SUM(M67:M71)","v":0},0,{"$f":"SUM(O67:O71)","v":0},{"$f":"SUM(P67:P71)","v":0},0,{"$f":"SUM(R67:R71)","v":0},{"$f":"SUM(S67:S71)","v":0},0,{"$f":"SUM(U67:U71)","v":0}]
[5,"EX112551",null,null,null,"SASSA 15 fees",null,null,0,0,0,0,0,0,0,0,0,0,0,0]
[5,"EX112552",null,null,null,"SASSA Bankcard fees",null,null,0,0,0,0,0,0,0,0,0,0,0,0]
[5,"EX112553",null,null,null,"SASSA registration fees",null,null,0,0,0,0,0,0,0,0,0,0,0,0]
[5,"EX112554",null,null,null,"SASSA beneficiary fees",null,null,0,0,0,0,0,0,0,0,0,0,0,0]
[5,"EX112555",null,null,null,"SASSA help desk fees",null,null,0,0,0,0,0,0,0,0,0,0,0,0]
[null,null,null,null,null,"Other",null,null,0,0,0,0,0,0,0,0,0,0,0,0]
[1,"EX1121",null,null,null,"Agency and support/outsourced services",null,null,0,0,0,0,0,0,0,0,0,0,0,0]
[5,"EX11211",null,null,null,"     Of Which: Medical assessments",null,null,0,0,0,0,0,0,0,0,0,0,0,0]
[1,"EX1161",null,null,null,"Entertainment",null,null,0,0,0,0,0,0,0,0,0,0,0,0]
[1,"EX1166",null,null,null,"Fleet services (including government motor transport)",null,null,0,0,0,0,0,0,0,0,0,0,0,0]
[1,"EX1167",null,null,null,"Housing",null,null,0,0,0,0,0,0,0,0,0,0,0,0]
[1,"EX1168",null,null,null,"Inventory: Clothing material and accessories",null,null,0,0,0,0,0,0,0,0,0,0,0,0]
[1,"EX1169",null,null,null,"Inventory: Farming supplies",null,null,0,0,0,0,0,0,0,0,0,0,0,0]
[1,"EX1170",null,null,null,"Inventory: Food and food supplies",null,null,0,0,0,0,0,0,0,0,0,0,0,0]
[1,"EX1171",null,null,null,"Inventory: Fuel, oil and gas",null,null,0,0,0,0,0,0,0,0,0,0,0,0]
[1,"EX1172",null,null,null,"Inventory: Learner and teacher support material",null,null,0,0,0,0,0,0,0,0,0,0,0,0]
[1,"EX1126",null,null,null,"Inventory: Materials and supplies",null,null,0,0,0,0,0,0,0,0,0,0,0,0]
[1,"EX1173",null,null,null,"Inventory: Medical supplies",null,null,0,0,0,0,0,0,0,0,0,0,0,0]
[1,"EX1174",null,null,null,"Inventory: Medicine",null,null,0,0,0,0,0,0,0,0,0,0,0,0]
[1,"EX1175",null,null,null,"Medsas inventory interface",null,null,0,0,0,0,0,0,0,0,0,0,0,0]
[1,"EX1176",null,null,null,"Inventory: Other supplies",null,null,0,0,0,0,0,0,0,0,0,0,0,0]
[1,"EX1177",null,null,null,"Consumable supplies",null,null,0,0,0,0,0,0,0,0,0,0,0,0]
[1,"EX1144",null,null,null,"Consumables: Stationery, printing and office supplies",null,null,0,0,0,0,0,0,0,0,0,0,0,0]
[1,"EX1127",null,null,null,"Operating leases",null,null,0,0,0,0,0,0,0,0,0,0,0,0]
[1,"EX1178",null,null,null,"Rental and hiring",null,null,0,0,0,0,0,0,0,0,0,0,0,0]
[1,"EX1145",null,null,null,"Property payments",null,null,0,0,0,0,0,0,0,0,0,0,0,0]
[1,"EX1179",null,null,null,"Transport provided: Internal activities",null,null,0,0,0,0,0,0,0,0,0,0,0,0]
[1,"EX1131",null,null,null,"Travel and subsistence",null,null,0,0,0,0,0,0,0,0,0,0,0,0]
[1,"EX1130",null,null,null,"Training and development",null,null,0,0,0,0,0,0,0,0,0,0,0,0]
[1,"EX1132",null,null,null,"Operating payments",null,null,0,0,0,0,0,0,0,0,0,0,0,0]
[1,"EX1146",null,null,null,"Venues and facilities",null,null,0,0,0,0,0,0,0,0,0,0,0,0]
[1,"EX113",null,null,null,"Depreciation",null,null,0,0,0,0,0,0,0,0,0,0,0,0]
[1,"EX114",null,null,null,"Losses from",null,null,{"$f":"SUM(I100:I101,I104)","v":0},{"$f":"SUM(J100:J101,J104)","v":0},{"$f":"SUM(K100:K101,K104)","v":0},{"$f":"SUM(L100:L101,L104)","v":0},{"$f":"SUM(M100:M101,M104)","v":0},{"$f":"SUM(M99-L99)","v":0},{"$f":"SUM(O100:O101,O104)","v":0},{"$f":"SUM(P100:P101,P104)","v":0},{"$f":"SUM(P99-O99)","v":0},{"$f":"SUM(R100:R101,R104)","v":0},{"$f":"SUM(S100:S101,S104)","v":0},{"$f":"SUM(S99-R99)","v":0},{"$f":"SUM(U100:U101,U104)","v":0}]
[1,"EX1141",null,null,null,"Sale of fixed assets",null,null,0,0,0,0,0,{"$f":"SUM(M100-L100)","v":0},0,0,{"$f":"SUM(P100-O100)","v":0},0,0,{"$f":"SUM(S100-R100)","v":0}]
[1,"EX1142",null,null,null,"Impairments and adjustments to fair value",null,null,{"$f":"SUM(I102:I103)","v":0},{"$f":"SUM(J102:J103)","v":0},{"$f":"SUM(K102:K103)","v":0},{"$f":"SUM(L102:L103)","v":0},{"$f":"SUM(M102:M103)","v":0},0,{"$f":"SUM(O102:O103)","v":0},{"$f":"SUM(P102:P103)","v":0},0,{"$f":"SUM(R102:R103)","v":0},{"$f":"SUM(S102:S103)","v":0},0,{"$f":"SUM(U102:U103)","v":0}]
[1,"EX11421",null,null,null,"Adjustments to fair value of assets",null,null,0,0,0,0,0,{"$f":"SUM(M102-L102)","v":0},0,0,{"$f":"SUM(P102-O102)","v":0},0,0,{"$f":"SUM(S102-R102)","v":0}]
[1,"EX11422",null,null,null,"Impairments to assets",null,null,0,0,0,0,0,0,0,0,0,0,0,0]
[1,"EX1143",null,null,null,"Other",null,null,0,0,0,0,0,0,0,0,0,0,0,0]
[1,"EX115",null,null,null,"Interest, dividends and rent on land",null,null,{"$f":"SUM(I106:I108)","v":0},{"$f":"SUM(J106:J108)","v":0},{"$f":"SUM(K106:K108)","v":0},{"$f":"SUM(L106:L108)","v":0},{"$f":"SUM(M106:M108)","v":0},0,{"$f":"SUM(O106:O108)","v":0},{"$f":"SUM(P106:P108)","v":0},0,{"$f":"SUM(R106:R108)","v":0},{"$f":"SUM(S106:S108)","v":0},0,{"$f":"SUM(U106:U108)","v":0}]
[1,"EX1151",null,null,null,"Interest",null,null,0,0,0,0,0,{"$f":"SUM(M106-L106)","v":0},0,0,{"$f":"SUM(P106-O106)","v":0},0,0,{"$f":"SUM(S106-R106)","v":0}]
[1,"EX1152",null,null,null,"Dividends",null,null,0,0,0,0,0,0,0,0,0,0,0,0]
[1,"EX1153",null,null,null,"Rent on land",null,null,0,0,0,0,0,0,0,0,0,0,0,0]
[1,"EX12",null,null,null,"Transfers and subsidies",null,null,{"$f":"SUM(I110,I121,I132:I135)","v":0},{"$f":"SUM(J110,J121,J132:J135)","v":0},{"$f":"SUM(K110,K121,K132:K135)","v":0},{"$f":"SUM(L110,L121,L132:L135)","v":0},{"$f":"SUM(M110,M121,M132:M135)","v":0},0,{"$f":"SUM(O110,O121,O132:O135)","v":0},{"$f":"SUM(P110,P121,P132:P135)","v":0},0,{"$f":"SUM(R110,R121,R132:R135)","v":0},{"$f":"SUM(S110,S121,S132:S135)","v":0},0,{"$f":"SUM(U110,U121,U132:U135)","v":0}]
[2,"EX121",null,null,null,"Employer Grant (SETAs only)",null,null,{"$f":"SUM(I111,I117,I120)","v":0},{"$f":"SUM(J111,J117,J120)","v":0},{"$f":"SUM(K111,K117,K120)","v":0},{"$f":"SUM(L111,L117,L120)","v":0},{"$f":"SUM(M111,M117,M120)","v":0},0,{"$f":"SUM(O111,O117,O120)","v":0},{"$f":"SUM(P111,P117,P120)","v":0},0,{"$f":"SUM(R111,R117,R120)","v":0},{"$f":"SUM(S111,S117,S120)","v":0},0,{"$f":"SUM(U111,U117,U120)","v":0}]
[1,"EX122",null,null,null,"Other government units",null,null,{"$f":"SUM(I112:I116)","v":0},{"$f":"SUM(J112:J116)","v":0},{"$f":"SUM(K112:K116)","v":0},{"$f":"SUM(L112:L116)","v":0},{"$f":"SUM(M112:M116)","v":0},0,{"$f":"SUM(O112:O116)","v":0},{"$f":"SUM(P112:P116)","v":0},0,{"$f":"SUM(R112:R116)","v":0},{"$f":"SUM(S112:S116)","v":0},0,{"$f":"SUM(U112:U116)","v":0}]
[1,"EX1221",null,null,null,"National government",null,null,0,0,0,0,0,{"$f":"SUM(M112-L112)","v":0},0,0,{"$f":"SUM(P112-O112)","v":0},0,0,{"$f":"SUM(S112-R112)","v":0}]
[1,"EX1222",null,null,null,"Departmental agencies and accounts",null,null,0,0,0,0,0,0,0,0,0,0,0,0]
[1,"EX1223",null,null,null,"Provinces",null,null,0,0,0,0,0,0,0,0,0,0,0,0]
[1,"EX1224",null,null,null,"Municipalities",null,null,0,0,0,0,0,0,0,0,0,0,0,0]
[2,"EX1225",null,null,null,"National Skills Fund",null,null,0,0,0,0,0,0,0,0,0,0,0,0]
[1,"EX123",null,null,null,"Public corporations and private enterprises (subsidies and other transfers)",null,null,{"$f":"SUM(I118:I119)","v":0},{"$f":"SUM(J118:J119)","v":0},{"$f":"SUM(K118:K119)","v":0},{"$f":"SUM(L118:L119)","v":0},{"$f":"SUM(M118:M119)","v":0},0,{"$f":"SUM(O118:O119)","v":0},{"$f":"SUM(P118:P119)","v":0},0,{"$f":"SUM(R118:R119)","v":0},{"$f":"SUM(S118:S119)","v":0},0,{"$f":"SUM(U118:U119)","v":0}]
[1,"EX1231",null,null,null,"Public corporations",null,null,0,0,0,0,0,{"$f":"SUM(M118-L118)","v":0},0,0,{"$f":"SUM(P118-O118)","v":0},0,0,{"$f":"SUM(S118-R118)","v":0}]
[1,"EX1232",null,null,null,"Private enterprises",null,null,0,0,0,0,0,0,0,0,0,0,0,0]
[2,"EX124",null,null,null,"Households and non government units",null,null,0,0,0,0,0,0,0,0,0,0,0,0]
[2,"EX125",null,null,null,"Discretionary Grant (SETAs only)",null,null,{"$f":"SUM(I122,I128,I131)","v":0},{"$f":"SUM(J122,J128,J131)","v":0},{"$f":"SUM(K122,K128,K131)","v":0},{"$f":"SUM(L122,L128,L131)","v":0},{"$f":"SUM(M122,M128,M131)","v":0},0,{"$f":"SUM(O122,O128,O131)","v":0},{"$f":"SUM(P122,P128,P131)","v":0},0,{"$f":"SUM(R122,R128,R131)","v":0},{"$f":"SUM(S122,S128,S131)","v":0},0,{"$f":"SUM(U122,U128,U131)","v":0}]
[2,"EX126",null,null,null,"Other government units",null,null,{"$f":"SUM(I123:I127)","v":0},{"$f":"SUM(J123:J127)","v":0},{"$f":"SUM(K123:K127)","v":0},{"$f":"SUM(L123:L127)","v":0},{"$f":"SUM(M123:M127)","v":0},0,{"$f":"SUM(O123:O127)","v":0},{"$f":"SUM(P123:P127)","v":0},0,{"$f":"SUM(R123:R127)","v":0},{"$f":"SUM(S123:S127)","v":0},0,{"$f":"SUM(U123:U127)","v":0}]
[2,"EX1261",null,null,null,"National government",null,null,0,0,0,0,0,{"$f":"SUM(M123-L123)","v":0},0,0,{"$f":"SUM(P123-O123)","v":0},0,0,{"$f":"SUM(S123-R123)","v":0}]
[2,"EX1262",null,null,null,"Departmental agencies and accounts",null,null,0,0,0,0,0,0,0,0,0,0,0,0]
[2,"EX1263",null,null,null,"Provinces",null,null,0,0,0,0,0,0,0,0,0,0,0,0]
[2,"EX1264",null,null,null,"Municipalities",null,null,0,0,0,0,0,0,0,0,0,0,0,0]
[2,"EX1265",null,null,null,"National Skills Fund",null,null,0,0,0,0,0,0,0,0,0,0,0,0]
[2,"EX127",null,null,null,"Public corporations and private enterprises (subsidies and other transfers)",null,null,{"$f":"SUM(I129:I130)","v":0},{"$f":"SUM(J129:J130)","v":0},{"$f":"SUM(K129:K130)","v":0},{"$f":"SUM(L129:L130)","v":0},{"$f":"SUM(M129:M130)","v":0},0,{"$f":"SUM(O129:O130)","v":0},{"$f":"SUM(P129:P130)","v":0},0,{"$f":"SUM(R129:R130)","v":0},{"$f":"SUM(S129:S130)","v":0},0,{"$f":"SUM(U129:U130)","v":0}]
[2,"EX1271",null,null,null,"Public corporations",null,null,0,0,0,0,0,{"$f":"SUM(M129-L129)","v":0},0,0,{"$f":"SUM(P129-O129)","v":0},0,0,{"$f":"SUM(S129-R129)","v":0}]
[2,"EX1272",null,null,null,"Private enterprises",null,null,0,0,0,0,0,0,0,0,0,0,0,0]
[2,"EX128",null,null,null,"Households and non government units",null,null,0,0,0,0,0,0,0,0,0,0,0,0]
[1,"EX129",null,null,null,"Higher education institutions",null,null,0,0,0,0,0,0,0,0,0,0,0,0]
[1,"EX130",null,null,null,"Foreign governments and international organisations ",null,null,0,0,0,0,0,0,0,0,0,0,0,0]
[1,"EX131",null,null,null,"Non-profit institutions",null,null,0,0,0,0,0,0,0,0,0,0,0,0]
[1,"EX132",null,null,null,"Households",null,null,{"$f":"SUM(I136:I137)","v":0},{"$f":"SUM(J136:J137)","v":0},{"$f":"SUM(K136:K137)","v":0},{"$f":"SUM(L136:L137)","v":0},{"$f":"SUM(M136:M137)","v":0},0,{"$f":"SUM(O136:O137)","v":0},{"$f":"SUM(P136:P137)","v":0},0,{"$f":"SUM(R136:R137)","v":0},{"$f":"SUM(S136:S137)","v":0},0,{"$f":"SUM(U136:U137)","v":0}]
[1,"EX1301",null,null,null,"Social benefits ",null,null,0,0,0,0,0,{"$f":"SUM(M136-L136)","v":0},0,0,{"$f":"SUM(P136-O136)","v":0},0,0,{"$f":"SUM(S136-R136)","v":0}]
[1,"EX1302",null,null,null,"Other transfers to households",null,null,0,0,0,0,0,0,0,0,0,0,0,0]
[1,"EX13",null,null,null,"Tax payment",null,null,0,0,0,0,0,0,0,0,0,0,0,0]
[1,"EX14",null,null,null,"Outside shareholders Interest",null,null,0,0,0,0,0,0,0,0,0,0,0,0]
[1,"EX15",null,null,null,"Total Expenditure",null,null,{"$f":"SUM(I39,I109,I138:I139)","v":0},{"$f":"SUM(J39,J109,J138:J139)","v":0},{"$f":"SUM(K39,K109,K138:K139)","v":0},{"$f":"SUM(L39,L109,L138:L139)","v":0},{"$f":"SUM(M39,M109,M138:M139)","v":0},{"$f":"SUM(M140-L140)","v":0},{"$f":"SUM(O39,O109,O138:O139)","v":0},{"$f":"SUM(P39,P109,P138:P139)","v":0},{"$f":"SUM(P140-O140)","v":0},{"$f":"SUM(R39,R109,R138:R139)","v":0},{"$f":"SUM(S39,S109,S138:S139)","v":0},{"$f":"SUM(S140-R140)","v":0},{"$f":"SUM(U39,U109,U138:U139)","v":0}]
[1]
[1,null,null,null,null,"Objective less Expenditure",null,null,{"$f":"ROUND(IF(I37-I140>0,IF(I37-I140<1,0,I37-I140),I37-I140),0)","v":0},0,0,0,0,{"$f":"ROUND(IF(N37-N140>0,IF(N37-N140<1,0,N37-N140),N37-N140),0)","v":0},0,0,0,0,0,0,0]
[1]

{"sheet":"Expend summary","index":20,"n_rows":143,"n_cols":26,"rows_kept":143,"cut":false,"hidden":false,"merged":[[15,8,15,9],[15,14,15,16],[15,17,15,19],[15,20,15,22],[15,12,15,13],[15,10,15,11]]}
[]
[]
[]
[]
[]
[null,null,null,null,null,"PE No",{"$f":"Settings!$O$2","v":"PE196"}]
[null,null,null,null,null,"Entity name",{"$f":"Settings!$D$2","v":"Transnet Limited"}]
[]
[]
["ItemCat","Item code","Hide/unhide"]
[1]
[1]
[1]
[1]
[1,null,null,null,null,null,null,null,null,null,null,null,null,null,null,null,null,null,null,null,null,null,null,{"$f":"IF(X140<V140/2,\"Complete the outer year in the Objective sheets\",\"\")","v":""}]
[1,null,null,null,null,null,null,null,{"$f":"MyYearM3","v":"2019/20"},null,{"$f":"MyYearM2","v":"2020/21"},null,{"$f":"MyYearM1","v":"2021/22"},null,{"$f":"MyYear0","v":"2022/23"},null,null,{"$f":"MyYearP1","v":"2023/24"},null,null,{"$f":"MyYearP2","v":"2024/25"},null,null,{"$f":"MyYearP3","v":"2025/26"}]
[1,null,null,null,null,"",null,null,{"$f":"Hist_year3Audited","v":"Budget"},{"$f":"Hist_year3RestatedAudited","v":"Audited\noutcome"},{"$f":"Hist_year2Audited","v":"Budget"},{"$f":"Hist_year2RestatedAudited","v":"Audited\noutcome"},{"$f":"Hist_year1Budget","v":"Budget"},{"$f":"Hist_year1Audited","v":"Audited\noutcome"},{"$f":"Cur_YearBudgEst","v":"Budget\nestimate"},{"$f":"Cur_YearApprovedBudg","v":"Approved budget"},{"$f":"Cur_YearChangeFrRevBudg","v":"Changes from \nbudget estimate"},{"$f":"MTEF1BudgEst","v":"Budget\nestimate"},{"$f":"MTEF1RevBudgEst","v":"Revised\nbudget\nestimate"},{"$f":"MTEF1_ChangeFrBudgEst","v":"Changes from budget estimate"},{"$f":"MTEF2BudgEst","v":"Budget\nestimate"},{"$f":"MTEF2RevBudgEst","v":"Revised\nbudget\nestimate"},{"$f":"MTEF2_ChangeFrBudgEst","v":"Changes from budget estimate"},{"$f":"MTEF3PlanBudgetEst","v":"Planning\nbudget \nestimate"}]
[1]
[1,null,null,null,null,"Rand thousand"]
[1,null,null,null,null,"Objective/Activity"]
[1,null,null,null,null,{"$f":"Admin!F37","v":"Administration"},null,null,0,{"$f":"Admin!I37","v":0},0,{"$f":"Admin!J37","v":0},0,{"$f":"Admin!K37","v":0},{"$f":"Admin!L37","v":0},{"$f":"Admin!M37","v":0},{"$f":"Admin!N37","v":0},{"$f":"Admin!O37","v":0},{"$f":"Admin!P37","v":0},{"$f":"Admin!Q37","v":0},{"$f":"Admin!R37","v":0},{"$f":"Admin!S37","v":0},{"$f":"Admin!T37","v":0},{"$f":"Admin!U37","v":0}]
[1,null,null,null,null,{"$f":"'2'!F37","v":0},null,null,0,{"$f":"'2'!I37","v":0},0,{"$f":"'2'!J37","v":0},0,{"$f":"'2'!K37","v":0},{"$f":"'2'!L37","v":0},{"$f":"'2'!M37","v":0},{"$f":"'2'!N37","v":0},{"$f":"'2'!O37","v":0},{"$f":"'2'!P37","v":0},{"$f":"'2'!Q37","v":0},{"$f":"'2'!R37","v":0},{"$f":"'2'!S37","v":0},{"$f":"'2'!T37","v":0},{"$f":"'2'!U37","v":0}]
[1,null,null,null,null,{"$f":"'3'!F37","v":0},null,null,0,{"$f":"'3'!I37","v":0},0,{"$f":"'3'!J37","v":0},0,{"$f":"'3'!K37","v":0},{"$f":"'3'!L37","v":0},{"$f":"'3'!M37","v":0},{"$f":"'3'!N37","v":0},{"$f":"'3'!O37","v":0},{"$f":"'3'!P37","v":0},{"$f":"'3'!Q37","v":0},{"$f":"'3'!R37","v":0},{"$f":"'3'!S37","v":0},{"$f":"'3'!T37","v":0},{"$f":"'3'!U37","v":0}]
[1,null,null,null,null,{"$f":"'4'!F37","v":0},null,null,0,{"$f":"'4'!I37","v":0},0,{"$f":"'4'!J37","v":0},0,{"$f":"'4'!K37","v":0},{"$f":"'4'!L37","v":0},{"$f":"'4'!M37","v":0},{"$f":"'4'!N37","v":0},{"$f":"'4'!O37","v":0},{"$f":"'4'!P37","v":0},{"$f":"'4'!Q37","v":0},{"$f":"'4'!R37","v":0},{"$f":"'4'!S37","v":0},{"$f":"'4'!T37","v":0},{"$f":"'4'!U37","v":0}]
[1,null,null,null,null,{"$f":"'5'!F37","v":0},null,null,0,{"$f":"'5'!I37","v":0},0,{"$f":"'5'!J37","v":0},0,{"$f":"'5'!K37","v":0},{"$f":"'5'!L37","v":0},{"$f":"'5'!M37","v":0},{"$f":"'5'!N37","v":0},{"$f":"'5'!O37","v":0},{"$f":"'5'!P37","v":0},{"$f":"'5'!Q37","v":0},{"$f":"'5'!R37","v":0},{"$f":"'5'!S37","v":0},{"$f":"'5'!T37","v":0},{"$f":"'5'!U37","v":0}]
[1,null,null,null,null,{"$f":"'6'!F37","v":0},null,null,0,{"$f":"'6'!I37","v":0},0,{"$f":"'6'!J37","v":0},0,{"$f":"'6'!K37","v":0},{"$f":"'6'!L37","v":0},{"$f":"'6'!M37","v":0},{"$f":"'6'!N37","v":0},{"$f":"'6'!O37","v":0},{"$f":"'6'!P37","v":0},{"$f":"'6'!Q37","v":0},{"$f":"'6'!R37","v":0},{"$f":"'6'!S37","v":0},{"$f":"'6'!T37","v":0},{"$f":"'6'!U37","v":0}]
[1,null,null,null,null,{"$f":"'7'!F37","v":0},null,null,0,{"$f":"'7'!I37","v":0},0,{"$f":"'7'!J37","v":0},0,{"$f":"'7'!K37","v":0},{"$f":"'7'!L37","v":0},{"$f":"'7'!M37","v":0},{"$f":"'7'!N37","v":0},{"$f":"'7'!O37","v":0},{"$f":"'7'!P37","v":0},{"$f":"'7'!Q37","v":0},{"$f":"'7'!R37","v":0},{"$f":"'7'!S37","v":0},{"$f":"'7'!T37","v":0},{"$f":"'7'!U37","v":0}]
[1,null,null,null,null,{"$f":"'8'!F37","v":0},null,null,0,{"$f":"'8'!I37","v":0},0,{"$f":"'8'!J37","v":0},0,{"$f":"'8'!K37","v":0},{"$f":"'8'!L37","v":0},{"$f":"'8'!M37","v":0},{"$f":"'8'!N37","v":0},{"$f":"'8'!O37","v":0},{"$f":"'8'!P37","v":0},{"$f":"'8'!Q37","v":0},{"$f":"'8'!R37","v":0},{"$f":"'8'!S37","v":0},{"$f":"'8'!T37","v":0},{"$f":"'8'!U37","v":0}]
[1,null,null,null,null,{"$f":"'9'!F37","v":0},null,null,0,{"$f":"'9'!I37","v":0},0,{"$f":"'9'!J37","v":0},0,{"$f":"'9'!K37","v":0},{"$f":"'9'!L37","v":0},{"$f":"'9'!M37","v":0},{"$f":"'9'!N37","v":0},{"$f":"'9'!O37","v":0},{"$f":"'9'!P37","v":0},{"$f":"'9'!Q37","v":0},{"$f":"'9'!R37","v":0},{"$f":"'9'!S37","v":0},{"$f":"'9'!T37","v":0},{"$f":"'9'!U37","v":0}]
[1,null,null,null,null,{"$f":"'10'!F37","v":0},null,null,0,{"$f":"'10'!I37","v":0},0,{"$f":"'10'!J37","v":0},0,{"$f":"'10'!K37","v":0},{"$f":"'10'!L37","v":0},{"$f":"'10'!M37","v":0},{"$f":"'10'!N37","v":0},{"$f":"'10'!O37","v":0},{"$f":"'10'!P37","v":0},{"$f":"'10'!Q37","v":0},{"$f":"'10'!R37","v":0},{"$f":"'10'!S37","v":0},{"$f":"'10'!T37","v":0},{"$f":"'10'!U37","v":0}]
[1,null,null,null,null,{"$f":"'11'!F37","v":0},null,null,0,{"$f":"'11'!I37","v":0},0,{"$f":"'11'!J37","v":0},0,{"$f":"'11'!K37","v":0},{"$f":"'11'!L37","v":0},{"$f":"'11'!M37","v":0},{"$f":"'11'!N37","v":0},{"$f":"'11'!O37","v":0},{"$f":"'11'!P37","v":0},{"$f":"'11'!Q37","v":0},{"$f":"'11'!R37","v":0},{"$f":"'11'!S37","v":0},{"$f":"'11'!T37","v":0},{"$f":"'11'!U37","v":0}]
[1,null,null,null,null,{"$f":"'12'!F37","v":0},null,null,0,{"$f":"'12'!I37","v":0},0,{"$f":"'12'!J37","v":0},0,{"$f":"'12'!K37","v":0},{"$f":"'12'!L37","v":0},{"$f":"'12'!M37","v":0},{"$f":"'12'!N37","v":0},{"$f":"'12'!O37","v":0},{"$f":"'12'!P37","v":0},{"$f":"'12'!Q37","v":0},{"$f":"'12'!R37","v":0},{"$f":"'12'!S37","v":0},{"$f":"'12'!T37","v":0},{"$f":"'12'!U37","v":0}]
[1,null,null,null,null,{"$f":"'13'!F37","v":0},null,null,0,{"$f":"'13'!I37","v":0},0,{"$f":"'13'!J37","v":0},0,{"$f":"'13'!K37","v":0},{"$f":"'13'!L37","v":0},{"$f":"'13'!M37","v":0},{"$f":"'13'!N37","v":0},{"$f":"'13'!O37","v":0},{"$f":"'13'!P37","v":0},{"$f":"'13'!Q37","v":0},{"$f":"'13'!R37","v":0},{"$f":"'13'!S37","v":0},{"$f":"'13'!T37","v":0},{"$f":"'13'!U37","v":0}]
[1,null,null,null,null,{"$f":"'14'!F37","v":0},null,null,0,{"$f":"'14'!I37","v":0},0,{"$f":"'14'!J37","v":0},0,{"$f":"'14'!K37","v":0},{"$f":"'14'!L37","v":0},{"$f":"'14'!M37","v":0},{"$f":"'14'!N37","v":0},{"$f":"'14'!O37","v":0},{"$f":"'14'!P37","v":0},{"$f":"'14'!Q37","v":0},{"$f":"'14'!R37","v":0},{"$f":"'14'!S37","v":0},{"$f":"'14'!T37","v":0},{"$f":"'14'!U37","v":0}]
[1,null,null,null,null,{"$f":"'15'!F37","v":0},null,null,0,{"$f":"'15'!I37","v":0},0,{"$f":"'15'!J37","v":0},0,{"$f":"'15'!K37","v":0},{"$f":"'15'!L37","v":0},{"$f":"'15'!M37","v":0},{"$f":"'15'!N37","v":0},{"$f":"'15'!O37","v":0},{"$f":"'15'!P37","v":0},{"$f":"'15'!Q37","v":0},{"$f":"'15'!R37","v":0},{"$f":"'15'!S37","v":0},{"$f":"'15'!T37","v":0},{"$f":"'15'!U37","v":0}]
[1,null,null,null,null,"Total",null,null,{"$f":"SUM(I21:I35)","v":0},0,0,0,0,0,0,0,0,0,0,0,0,0,0,0]
[1,null,null,null,null,null,null,null,null,null,null,null,null,null,null,{"$f":"SUM(O37-L37)","v":0}]
[1,"EX1",null,null,null,"Economic classification"]
[1,"EX11",null,null,null,"Current payments",null,null,{"$f":"SUM(I40,I43,I98:I99,I105)","v":0},{"$f":"SUM(J40,J43,J98:J99,J105)","v":0},0,0,0,0,{"$f":"SUM(O40,O43,O98:O99,O105)","v":0},0,0,0,0,0,0,0,0,0]
[1,"EX111",null,null,null,"Compensation of employees",null,null,{"$f":"SUM(I41:I42)","v":0},0,0,0,0,0,{"$f":"SUM(O41:O42)","v":0},0,0,0,0,0,0,0,0,0]
[1,"EX1111",null,null,null,"Salaries and wages",null,null,0,{"$f":"SUM('Admin:15'!I41)","v":0},0,{"$f":"SUM('Admin:15'!J41)","v":0},0,{"$f":"SUM('Admin:15'!K41)","v":0},{"$f":"SUM('Admin:15'!L41)","v":0},{"$f":"SUM('Admin:15'!M41)","v":0},{"$f":"SUM('Admin:15'!N41)","v":0},{"$f":"SUM('Admin:15'!O41)","v":0},{"$f":"SUM('Admin:15'!P41)","v":0},{"$f":"SUM('Admin:15'!Q41)","v":0},{"$f":"SUM('Admin:15'!R41)","v":0},{"$f":"SUM('Admin:15'!S41)","v":0},{"$f":"SUM('Admin:15'!T41)","v":0},{"$f":"SUM('Admin:15'!U41)","v":0}]
[1,"EX1112",null,null,null,"Social contributions",null,null,0,{"$f":"SUM('Admin:15'!I42)","v":0},0,{"$f":"SUM('Admin:15'!J42)","v":0},0,{"$f":"SUM('Admin:15'!K42)","v":0},{"$f":"SUM('Admin:15'!L42)","v":0},{"$f":"SUM('Admin:15'!M42)","v":0},{"$f":"SUM('Admin:15'!N42)","v":0},{"$f":"SUM('Admin:15'!O42)","v":0},{"$f":"SUM('Admin:15'!P42)","v":0},{"$f":"SUM('Admin:15'!Q42)","v":0},{"$f":"SUM('Admin:15'!R42)","v":0},{"$f":"SUM('Admin:15'!S42)","v":0},{"$f":"SUM('Admin:15'!T42)","v":0},{"$f":"SUM('Admin:15'!U42)","v":0}]
[1,"EX112",null,null,null,"Goods and services",null,null,{"$f":"SUM(I45:I54,I58:I61,I73,I75:I97)","v":0},{"$f":"SUM(J45:J54,J58:J61,J73,J75:J97)","v":0},0,0,0,0,0,0,{"$f":"SUM(Q45:Q54,Q58:Q61,Q73,Q75:Q97)","v":0},0,0,0,0,0,0,0]
[1,"EX000",null,null,null,"Of which ",null,null,0,null,0,null,0]
[1,"EX1133",null,null,null,"Administrative fees",null,null,0,{"$f":"SUM('Admin:15'!I45)","v":0},0,{"$f":"SUM('Admin:15'!J45)","v":0},0,{"$f":"SUM('Admin:15'!K45)","v":0},{"$f":"SUM('Admin:15'!L45)","v":0},{"$f":"SUM('Admin:15'!M45)","v":0},{"$f":"SUM('Admin:15'!N45)","v":0},{"$f":"SUM('Admin:15'!O45)","v":0},{"$f":"SUM('Admin:15'!P45)","v":0},{"$f":"SUM('Admin:15'!Q45)","v":0},{"$f":"SUM('Admin:15'!R45)","v":0},{"$f":"SUM('Admin:15'!S45)","v":0},{"$f":"SUM('Admin:15'!T45)","v":0},{"$f":"SUM('Admin:15'!U45)","v":0}]
[1,"EX1134",null,null,null,"Advertising",null,null,0,{"$f":"SUM('Admin:15'!I46)","v":0},0,{"$f":"SUM('Admin:15'!J46)","v":0},0,{"$f":"SUM('Admin:15'!K46)","v":0},{"$f":"SUM('Admin:15'!L46)","v":0},{"$f":"SUM('Admin:15'!M46)","v":0},{"$f":"SUM('Admin:15'!N46)","v":0},{"$f":"SUM('Admin:15'!O46)","v":0},{"$f":"SUM('Admin:15'!P46)","v":0},{"$f":"SUM('Admin:15'!Q46)","v":0},{"$f":"SUM('Admin:15'!R46)","v":0},{"$f":"SUM('Admin:15'!S46)","v":0},{"$f":"SUM('Admin:15'!T46)","v":0},{"$f":"SUM('Admin:15'!U46)","v":0}]
[1,"EX1135",null,null,null,"Minor assets",null,null,0,{"$f":"SUM('Admin:15'!I47)","v":0},0,{"$f":"SUM('Admin:15'!J47)","v":0},0,{"$f":"SUM('Admin:15'!K47)","v":0},{"$f":"SUM('Admin:15'!L47)","v":0},{"$f":"SUM('Admin:15'!M47)","v":0},{"$f":"SUM('Admin:15'!N47)","v":0},{"$f":"SUM('Admin:15'!O47)","v":0},{"$f":"SUM('Admin:15'!P47)","v":0},{"$f":"SUM('Admin:15'!Q47)","v":0},{"$f":"SUM('Admin:15'!R47)","v":0},{"$f":"SUM('Admin:15'!S47)","v":0},{"$f":"SUM('Admin:15'!T47)","v":0},{"$f":"SUM('Admin:15'!U47)","v":0}]
[1,"EX1136",null,null,null,"Audit costs: External",null,null,0,{"$f":"SUM('Admin:15'!I48)","v":0},0,{"$f":"SUM('Admin:15'!J48)","v":0},0,{"$f":"SUM('Admin:15'!K48)","v":0},{"$f":"SUM('Admin:15'!L48)","v":0},{"$f":"SUM('Admin:15'!M48)","v":0},{"$f":"SUM('Admin:15'!N48)","v":0},{"$f":"SUM('Admin:15'!O48)","v":0},{"$f":"SUM('Admin:15'!P48)","v":0},{"$f":"SUM('Admin:15'!Q48)","v":0},{"$f":"SUM('Admin:15'!R48)","v":0},{"$f":"SUM('Admin:15'!S48)","v":0},{"$f":"SUM('Admin:15'!T48)","v":0},{"$f":"SUM('Admin:15'!U48)","v":0}]
[1,"EX1139",null,null,null,"Bursaries: Employees",null,null,0,{"$f":"SUM('Admin:15'!I49)","v":0},0,{"$f":"SUM('Admin:15'!J49)","v":0},0,{"$f":"SUM('Admin:15'!K49)","v":0},{"$f":"SUM('Admin:15'!L49)","v":0},{"$f":"SUM('Admin:15'!M49)","v":0},{"$f":"SUM('Admin:15'!N49)","v":0},{"$f":"SUM('Admin:15'!O49)","v":0},{"$f":"SUM('Admin:15'!P49)","v":0},{"$f":"SUM('Admin:15'!Q49)","v":0},{"$f":"SUM('Admin:15'!R49)","v":0},{"$f":"SUM('Admin:15'!S49)","v":0},{"$f":"SUM('Admin:15'!T49)","v":0},{"$f":"SUM('Admin:15'!U49)","v":0}]
[1,"EX1140",null,null,null,"Catering: Internal activities",null,null,0,{"$f":"SUM('Admin:15'!I50)","v":0},0,{"$f":"SUM('Admin:15'!J50)","v":0},0,{"$f":"SUM('Admin:15'!K50)","v":0},{"$f":"SUM('Admin:15'!L50)","v":0},{"$f":"SUM('Admin:15'!M50)","v":0},{"$f":"SUM('Admin:15'!N50)","v":0},{"$f":"SUM('Admin:15'!O50)","v":0},{"$f":"SUM('Admin:15'!P50)","v":0},{"$f":"SUM('Admin:15'!Q50)","v":0},{"$f":"SUM('Admin:15'!R50)","v":0},{"$f":"SUM('Admin:15'!S50)","v":0},{"$f":"SUM('Admin:15'!T50)","v":0},{"$f":"SUM('Admin:15'!U50)","v":0}]
[1,"EX1122",null,null,null,"Communication (G&S)",null,null,0,{"$f":"SUM('Admin:15'!I51)","v":0},0,{"$f":"SUM('Admin:15'!J51)","v":0},0,{"$f":"SUM('Admin:15'!K51)","v":0},{"$f":"SUM('Admin:15'!L51)","v":0},{"$f":"SUM('Admin:15'!M51)","v":0},{"$f":"SUM('Admin:15'!N51)","v":0},{"$f":"SUM('Admin:15'!O51)","v":0},{"$f":"SUM('Admin:15'!P51)","v":0},{"$f":"SUM('Admin:15'!Q51)","v":0},{"$f":"SUM('Admin:15'!R51)","v":0},{"$f":"SUM('Admin:15'!S51)","v":0},{"$f":"SUM('Admin:15'!T51)","v":0},{"$f":"SUM('Admin:15'!U51)","v":0}]
[1,"EX1123",null,null,null,"Computer services",null,null,0,{"$f":"SUM('Admin:15'!I52)","v":0},0,{"$f":"SUM('Admin:15'!J52)","v":0},0,{"$f":"SUM('Admin:15'!K52)","v":0},{"$f":"SUM('Admin:15'!L52)","v":0},{"$f":"SUM('Admin:15'!M52)","v":0},{"$f":"SUM('Admin:15'!N52)","v":0},{"$f":"SUM('Admin:15'!O52)","v":0},{"$f":"SUM('Admin:15'!P52)","v":0},{"$f":"SUM('Admin:15'!Q52)","v":0},{"$f":"SUM('Admin:15'!R52)","v":0},{"$f":"SUM('Admin:15'!S52)","v":0},{"$f":"SUM('Admin:15'!T52)","v":0},{"$f":"SUM('Admin:15'!U52)","v":0}]
[1,"EX1124",null,null,null,"Consultants: Business and advisory services",null,null,0,{"$f":"SUM('Admin:15'!I53)","v":0},0,{"$f":"SUM('Admin:15'!J53)","v":0},0,{"$f":"SUM('Admin:15'!K53)","v":0},{"$f":"SUM('Admin:15'!L53)","v":0},{"$f":"SUM('Admin:15'!M53)","v":0},{"$f":"SUM('Admin:15'!N53)","v":0},{"$f":"SUM('Admin:15'!O53)","v":0},{"$f":"SUM('Admin:15'!P53)","v":0},{"$f":"SUM('Admin:15'!Q53)","v":0},{"$f":"SUM('Admin:15'!R53)","v":0},{"$f":"SUM('Admin:15'!S53)","v":0},{"$f":"SUM('Admin:15'!T53)","v":0},{"$f":"SUM('Admin:15'!U53)","v":0}]
[1,"EX1180",null,null,null,"Infrastructure and planning services",null,null,{"$f":"SUM(I55:I57)","v":0},0,0,0,0,0,{"$f":"SUM(O55:O57)","v":0},0,0,0,0,0,0,0,0,0]
[1,"EX11801",null,null,null,"Maintenance and repairs: Buildings: Consultants",null,null,0,{"$f":"SUM('Admin:15'!I55)","v":0},0,{"$f":"SUM('Admin:15'!J55)","v":0},0,{"$f":"SUM('Admin:15'!K55)","v":0},{"$f":"SUM('Admin:15'!L55)","v":0},{"$f":"SUM('Admin:15'!M55)","v":0},{"$f":"SUM('Admin:15'!N55)","v":0},{"$f":"SUM('Admin:15'!O55)","v":0},{"$f":"SUM('Admin:15'!P55)","v":0},{"$f":"SUM('Admin:15'!Q55)","v":0},{"$f":"SUM('Admin:15'!R55)","v":0},{"$f":"SUM('Admin:15'!S55)","v":0},{"$f":"SUM('Admin:15'!T55)","v":0},{"$f":"SUM('Admin:15'!U55)","v":0}]
[1,"EX11802",null,null,null,"Maintenance and repairs: Other fixed structures: Consultants",null,null,0,{"$f":"SUM('Admin:15'!I56)","v":0},0,{"$f":"SUM('Admin:15'!J56)","v":0},0,{"$f":"SUM('Admin:15'!K56)","v":0},{"$f":"SUM('Admin:15'!L56)","v":0},{"$f":"SUM('Admin:15'!M56)","v":0},{"$f":"SUM('Admin:15'!N56)","v":0},{"$f":"SUM('Admin:15'!O56)","v":0},{"$f":"SUM('Admin:15'!P56)","v":0},{"$f":"SUM('Admin:15'!Q56)","v":0},{"$f":"SUM('Admin:15'!R56)","v":0},{"$f":"SUM('Admin:15'!S56)","v":0},{"$f":"SUM('Admin:15'!T56)","v":0},{"$f":"SUM('Admin:15'!U56)","v":0}]
[1,"EX11803",null,null,null,"Other",null,null,0,{"$f":"SUM('Admin:15'!I57)","v":0},0,{"$f":"SUM('Admin:15'!J57)","v":0},0,{"$f":"SUM('Admin:15'!K57)","v":0},{"$f":"SUM('Admin:15'!L57)","v":0},{"$f":"SUM('Admin:15'!M57)","v":0},{"$f":"SUM('Admin:15'!N57)","v":0},{"$f":"SUM('Admin:15'!O57)","v":0},{"$f":"SUM('Admin:15'!P57)","v":0},{"$f":"SUM('Admin:15'!Q57)","v":0},{"$f":"SUM('Admin:15'!R57)","v":0},{"$f":"SUM('Admin:15'!S57)","v":0},{"$f":"SUM('Admin:15'!T57)","v":0},{"$f":"SUM('Admin:15'!U57)","v":0}]
[1,"EX1164",null,null,null,"Laboratory services",null,null,0,{"$f":"SUM('Admin:15'!I58)","v":0},0,{"$f":"SUM('Admin:15'!J58)","v":0},0,{"$f":"SUM('Admin:15'!K58)","v":0},{"$f":"SUM('Admin:15'!L58)","v":0},{"$f":"SUM('Admin:15'!M58)","v":0},{"$f":"SUM('Admin:15'!N58)","v":0},{"$f":"SUM('Admin:15'!O58)","v":0},{"$f":"SUM('Admin:15'!P58)","v":0},{"$f":"SUM('Admin:15'!Q58)","v":0},{"$f":"SUM('Admin:15'!R58)","v":0},{"$f":"SUM('Admin:15'!S58)","v":0},{"$f":"SUM('Admin:15'!T58)","v":0},{"$f":"SUM('Admin:15'!U58)","v":0}]
[1,"EX1162",null,null,null,"Legal services (G&S)",null,null,0,{"$f":"SUM('Admin:15'!I59)","v":0},0,{"$f":"SUM('Admin:15'!J59)","v":0},0,{"$f":"SUM('Admin:15'!K59)","v":0},{"$f":"SUM('Admin:15'!L59)","v":0},{"$f":"SUM('Admin:15'!M59)","v":0},{"$f":"SUM('Admin:15'!N59)","v":0},{"$f":"SUM('Admin:15'!O59)","v":0},{"$f":"SUM('Admin:15'!P59)","v":0},{"$f":"SUM('Admin:15'!Q59)","v":0},{"$f":"SUM('Admin:15'!R59)","v":0},{"$f":"SUM('Admin:15'!S59)","v":0},{"$f":"SUM('Admin:15'!T59)","v":0},{"$f":"SUM('Admin:15'!U59)","v":0}]
[1,"EX1165",null,null,null,"Science and technological services",null,null,0,{"$f":"SUM('Admin:15'!I60)","v":0},0,{"$f":"SUM('Admin:15'!J60)","v":0},0,{"$f":"SUM('Admin:15'!K60)","v":0},{"$f":"SUM('Admin:15'!L60)","v":0},{"$f":"SUM('Admin:15'!M60)","v":0},{"$f":"SUM('Admin:15'!N60)","v":0},{"$f":"SUM('Admin:15'!O60)","v":0},{"$f":"SUM('Admin:15'!P60)","v":0},{"$f":"SUM('Admin:15'!Q60)","v":0},{"$f":"SUM('Admin:15'!R60)","v":0},{"$f":"SUM('Admin:15'!S60)","v":0},{"$f":"SUM('Admin:15'!T60)","v":0},{"$f":"SUM('Admin:15'!U60)","v":0}]
[1,"EX1125",null,null,null,"Contractors",null,null,{"$f":"SUM(I62:I66,I72)","v":0},{"$f":"SUM(J62:J66,J72)","v":0},0,0,0,0,0,0,0,0,0,0,0,0,0,0]
[1,"EX11251",null,null,null,"Maintenance and repairs of other fixed structures",null,null,0,{"$f":"SUM('Admin:15'!I62)","v":0},0,{"$f":"SUM('Admin:15'!J62)","v":0},0,{"$f":"SUM('Admin:15'!K62)","v":0},{"$f":"SUM('Admin:15'!L62)","v":0},{"$f":"SUM('Admin:15'!M62)","v":0},{"$f":"SUM('Admin:15'!N62)","v":0},{"$f":"SUM('Admin:15'!O62)","v":0},{"$f":"SUM('Admin:15'!P62)","v":0},{"$f":"SUM('Admin:15'!Q62)","v":0},{"$f":"SUM('Admin:15'!R62)","v":0},{"$f":"SUM('Admin:15'!S62)","v":0},{"$f":"SUM('Admin:15'!T62)","v":0},{"$f":"SUM('Admin:15'!U62)","v":0}]
[1,"EX11252",null,null,null,"Maintenance and repairs of other machinery and equipment",null,null,0,{"$f":"SUM('Admin:15'!I63)","v":0},0,{"$f":"SUM('Admin:15'!J63)","v":0},0,{"$f":"SUM('Admin:15'!K63)","v":0},{"$f":"SUM('Admin:15'!L63)","v":0},{"$f":"SUM('Admin:15'!M63)","v":0},{"$f":"SUM('Admin:15'!N63)","v":0},{"$f":"SUM('Admin:15'!O63)","v":0},{"$f":"SUM('Admin:15'!P63)","v":0},{"$f":"SUM('Admin:15'!Q63)","v":0},{"$f":"SUM('Admin:15'!R63)","v":0},{"$f":"SUM('Admin:15'!S63)","v":0},{"$f":"SUM('Admin:15'!T63)","v":0},{"$f":"SUM('Admin:15'!U63)","v":0}]
[1,"EX11253",null,null,null,"Maintenance and repairs of heritage buildings",null,null,0,{"$f":"SUM('Admin:15'!I64)","v":0},0,{"$f":"SUM('Admin:15'!J64)","v":0},0,{"$f":"SUM('Admin:15'!K64)","v":0},{"$f":"SUM('Admin:15'!L64)","v":0},{"$f":"SUM('Admin:15'!M64)","v":0},{"$f":"SUM('Admin:15'!N64)","v":0},{"$f":"SUM('Admin:15'!O64)","v":0},{"$f":"SUM('Admin:15'!P64)","v":0},{"$f":"SUM('Admin:15'!Q64)","v":0},{"$f":"SUM('Admin:15'!R64)","v":0},{"$f":"SUM('Admin:15'!S64)","v":0},{"$f":"SUM('Admin:15'!T64)","v":0},{"$f":"SUM('Admin:15'!U64)","v":0}]
[1,"EX11254",null,null,null,"Maintenance and repairs of other heritage fixed structures",null,null,0,{"$f":"SUM('Admin:15'!I65)","v":0},0,{"$f":"SUM('Admin:15'!J65)","v":0},0,{"$f":"SUM('Admin:15'!K65)","v":0},{"$f":"SUM('Admin:15'!L65)","v":0},{"$f":"SUM('Admin:15'!M65)","v":0},{"$f":"SUM('Admin:15'!N65)","v":0},{"$f":"SUM('Admin:15'!O65)","v":0},{"$f":"SUM('Admin:15'!P65)","v":0},{"$f":"SUM('Admin:15'!Q65)","v":0},{"$f":"SUM('Admin:15'!R65)","v":0},{"$f":"SUM('Admin:15'!S65)","v":0},{"$f":"SUM('Admin:15'!T65)","v":0},{"$f":"SUM('Admin:15'!U65)","v":0}]
[5,"EX11255",null,null,null,"South african social security agency payment contractors",null,null,{"$f":"SUM(I67:I71)","v":0},{"$f":"SUM(J67:J71)","v":0},0,0,0,0,0,0,0,0,0,0,0,0,0,0]
[5,"EX112551",null,null,null,"SASSA Admin fees",null,null,0,{"$f":"SUM('Admin:15'!I67)","v":0},0,{"$f":"SUM('Admin:15'!J67)","v":0},0,{"$f":"SUM('Admin:15'!K67)","v":0},{"$f":"SUM('Admin:15'!L67)","v":0},{"$f":"SUM('Admin:15'!M67)","v":0},{"$f":"SUM('Admin:15'!N67)","v":0},{"$f":"SUM('Admin:15'!O67)","v":0},{"$f":"SUM('Admin:15'!P67)","v":0},{"$f":"SUM('Admin:15'!Q67)","v":0},{"$f":"SUM('Admin:15'!R67)","v":0},{"$f":"SUM('Admin:15'!S67)","v":0},{"$f":"SUM('Admin:15'!T67)","v":0},{"$f":"SUM('Admin:15'!U67)","v":0}]
[5,"EX112552",null,null,null,"SASSA Bankcard fees",null,null,0,{"$f":"SUM('Admin:15'!I68)","v":0},0,{"$f":"SUM('Admin:15'!J68)","v":0},0,{"$f":"SUM('Admin:15'!K68)","v":0},{"$f":"SUM('Admin:15'!L68)","v":0},{"$f":"SUM('Admin:15'!M68)","v":0},{"$f":"SUM('Admin:15'!N68)","v":0},{"$f":"SUM('Admin:15'!O68)","v":0},{"$f":"SUM('Admin:15'!P68)","v":0},{"$f":"SUM('Admin:15'!Q68)","v":0},{"$f":"SUM('Admin:15'!R68)","v":0},{"$f":"SUM('Admin:15'!S68)","v":0},{"$f":"SUM('Admin:15'!T68)","v":0},{"$f":"SUM('Admin:15'!U68)","v":0}]
[5,"EX112553",null,null,null,"SASSA registration fees",null,null,0,{"$f":"SUM('Admin:15'!I69)","v":0},0,{"$f":"SUM('Admin:15'!J69)","v":0},0,{"$f":"SUM('Admin:15'!K69)","v":0},{"$f":"SUM('Admin:15'!L69)","v":0},{"$f":"SUM('Admin:15'!M69)","v":0},{"$f":"SUM('Admin:15'!N69)","v":0},{"$f":"SUM('Admin:15'!O69)","v":0},{"$f":"SUM('Admin:15'!P69)","v":0},{"$f":"SUM('Admin:15'!Q69)","v":0},{"$f":"SUM('Admin:15'!R69)","v":0},{"$f":"SUM('Admin:15'!S69)","v":0},{"$f":"SUM('Admin:15'!T69)","v":0},{"$f":"SUM('Admin:15'!U69)","v":0}]
[5,"EX112554",null,null,null,"SASSA beneficiary fees",null,null,0,{"$f":"SUM('Admin:15'!I70)","v":0},0,{"$f":"SUM('Admin:15'!J70)","v":0},0,{"$f":"SUM('Admin:15'!K70)","v":0},{"$f":"SUM('Admin:15'!L70)","v":0},{"$f":"SUM('Admin:15'!M70)","v":0},{"$f":"SUM('Admin:15'!N70)","v":0},{"$f":"SUM('Admin:15'!O70)","v":0},{"$f":"SUM('Admin:15'!P70)","v":0},{"$f":"SUM('Admin:15'!Q70)","v":0},{"$f":"SUM('Admin:15'!R70)","v":0},{"$f":"SUM('Admin:15'!S70)","v":0},{"$f":"SUM('Admin:15'!T70)","v":0},{"$f":"SUM('Admin:15'!U70)","v":0}]
[5,"EX112555",null,null,null,"SASSA help desk fees",null,null,0,{"$f":"SUM('Admin:15'!I71)","v":0},0,{"$f":"SUM('Admin:15'!J71)","v":0},0,{"$f":"SUM('Admin:15'!K71)","v":0},{"$f":"SUM('Admin:15'!L71)","v":0},{"$f":"SUM('Admin:15'!M71)","v":0},{"$f":"SUM('Admin:15'!N71)","v":0},{"$f":"SUM('Admin:15'!O71)","v":0},{"$f":"SUM('Admin:15'!P71)","v":0},{"$f":"SUM('Admin:15'!Q71)","v":0},{"$f":"SUM('Admin:15'!R71)","v":0},{"$f":"SUM('Admin:15'!S71)","v":0},{"$f":"SUM('Admin:15'!T71)","v":0},{"$f":"SUM('Admin:15'!U71)","v":0}]
[1,"EX11256",null,null,null,"Other",null,null,0,{"$f":"SUM('Admin:15'!I72)","v":0},0,{"$f":"SUM('Admin:15'!J72)","v":0},0,{"$f":"SUM('Admin:15'!K72)","v":0},{"$f":"SUM('Admin:15'!L72)","v":0},{"$f":"SUM('Admin:15'!M72)","v":0},{"$f":"SUM('Admin:15'!N72)","v":0},{"$f":"SUM('Admin:15'!O72)","v":0},{"$f":"SUM('Admin:15'!P72)","v":0},{"$f":"SUM('Admin:15'!Q72)","v":0},{"$f":"SUM('Admin:15'!R72)","v":0},{"$f":"SUM('Admin:15'!S72)","v":0},{"$f":"SUM('Admin:15'!T72)","v":0},{"$f":"SUM('Admin:15'!U72)","v":0}]
[1,"EX1121",null,null,null,"Agency and support/outsourced services",null,null,0,{"$f":"SUM('Admin:15'!I73)","v":0},0,{"$f":"SUM('Admin:15'!J73)","v":0},0,{"$f":"SUM('Admin:15'!K73)","v":0},{"$f":"SUM('Admin:15'!L73)","v":0},{"$f":"SUM('Admin:15'!M73)","v":0},{"$f":"SUM('Admin:15'!N73)","v":0},{"$f":"SUM('Admin:15'!O73)","v":0},{"$f":"SUM('Admin:15'!P73)","v":0},{"$f":"SUM('Admin:15'!Q73)","v":0},{"$f":"SUM('Admin:15'!R73)","v":0},{"$f":"SUM('Admin:15'!S73)","v":0},{"$f":"SUM('Admin:15'!T73)","v":0},{"$f":"SUM('Admin:15'!U73)","v":0}]
[5,"EX11211",null,null,null,"     Of Which: Medical assessments",null,null,0,{"$f":"SUM('Admin:15'!I74)","v":0},0,{"$f":"SUM('Admin:15'!J74)","v":0},0,{"$f":"SUM('Admin:15'!K74)","v":0},{"$f":"SUM('Admin:15'!L74)","v":0},{"$f":"SUM('Admin:15'!M74)","v":0},{"$f":"SUM('Admin:15'!N74)","v":0},{"$f":"SUM('Admin:15'!O74)","v":0},{"$f":"SUM('Admin:15'!P74)","v":0},{"$f":"SUM('Admin:15'!Q74)","v":0},{"$f":"SUM('Admin:15'!R74)","v":0},{"$f":"SUM('Admin:15'!S74)","v":0},{"$f":"SUM('Admin:15'!T74)","v":0},{"$f":"SUM('Admin:15'!U74)","v":0}]
[1,"EX1161",null,null,null,"Entertainment",null,null,0,{"$f":"SUM('Admin:15'!I75)","v":0},0,{"$f":"SUM('Admin:15'!J75)","v":0},0,{"$f":"SUM('Admin:15'!K75)","v":0},{"$f":"SUM('Admin:15'!L75)","v":0},{"$f":"SUM('Admin:15'!M75)","v":0},{"$f":"SUM('Admin:15'!N75)","v":0},{"$f":"SUM('Admin:15'!O75)","v":0},{"$f":"SUM('Admin:15'!P75)","v":0},{"$f":"SUM('Admin:15'!Q75)","v":0},{"$f":"SUM('Admin:15'!R75)","v":0},{"$f":"SUM('Admin:15'!S75)","v":0},{"$f":"SUM('Admin:15'!T75)","v":0},{"$f":"SUM('Admin:15'!U75)","v":0}]
[1,"EX1166",null,null,null,"Fleet services (including government motor transport)",null,null,0,{"$f":"SUM('Admin:15'!I76)","v":0},0,{"$f":"SUM('Admin:15'!J76)","v":0},0,{"$f":"SUM('Admin:15'!K76)","v":0},{"$f":"SUM('Admin:15'!L76)","v":0},{"$f":"SUM('Admin:15'!M76)","v":0},{"$f":"SUM('Admin:15'!N76)","v":0},{"$f":"SUM('Admin:15'!O76)","v":0},{"$f":"SUM('Admin:15'!P76)","v":0},{"$f":"SUM('Admin:15'!Q76)","v":0},{"$f":"SUM('Admin:15'!R76)","v":0},{"$f":"SUM('Admin:15'!S76)","v":0},{"$f":"SUM('Admin:15'!T76)","v":0},{"$f":"SUM('Admin:15'!U76)","v":0}]
[1,"EX1167",null,null,null,"Housing",null,null,0,{"$f":"SUM('Admin:15'!I77)","v":0},0,{"$f":"SUM('Admin:15'!J77)","v":0},0,{"$f":"SUM('Admin:15'!K77)","v":0},{"$f":"SUM('Admin:15'!L77)","v":0},{"$f":"SUM('Admin:15'!M77)","v":0},{"$f":"SUM('Admin:15'!N77)","v":0},{"$f":"SUM('Admin:15'!O77)","v":0},{"$f":"SUM('Admin:15'!P77)","v":0},{"$f":"SUM('Admin:15'!Q77)","v":0},{"$f":"SUM('Admin:15'!R77)","v":0},{"$f":"SUM('Admin:15'!S77)","v":0},{"$f":"SUM('Admin:15'!T77)","v":0},{"$f":"SUM('Admin:15'!U77)","v":0}]
[1,"EX1168",null,null,null,"Inventory: Clothing material and accessories",null,null,0,{"$f":"SUM('Admin:15'!I78)","v":0},0,{"$f":"SUM('Admin:15'!J78)","v":0},0,{"$f":"SUM('Admin:15'!K78)","v":0},{"$f":"SUM('Admin:15'!L78)","v":0},{"$f":"SUM('Admin:15'!M78)","v":0},{"$f":"SUM('Admin:15'!N78)","v":0},{"$f":"SUM('Admin:15'!O78)","v":0},{"$f":"SUM('Admin:15'!P78)","v":0},{"$f":"SUM('Admin:15'!Q78)","v":0},{"$f":"SUM('Admin:15'!R78)","v":0},{"$f":"SUM('Admin:15'!S78)","v":0},{"$f":"SUM('Admin:15'!T78)","v":0},{"$f":"SUM('Admin:15'!U78)","v":0}]
[1,"EX1169",null,null,null,"Inventory: Farming supplies",null,null,0,{"$f":"SUM('Admin:15'!I79)","v":0},0,{"$f":"SUM('Admin:15'!J79)","v":0},0,{"$f":"SUM('Admin:15'!K79)","v":0},{"$f":"SUM('Admin:15'!L79)","v":0},{"$f":"SUM('Admin:15'!M79)","v":0},{"$f":"SUM('Admin:15'!N79)","v":0},{"$f":"SUM('Admin:15'!O79)","v":0},{"$f":"SUM('Admin:15'!P79)","v":0},{"$f":"SUM('Admin:15'!Q79)","v":0},{"$f":"SUM('Admin:15'!R79)","v":0},{"$f":"SUM('Admin:15'!S79)","v":0},{"$f":"SUM('Admin:15'!T79)","v":0},{"$f":"SUM('Admin:15'!U79)","v":0}]
[1,"EX1170",null,null,null,"Inventory: Food and food supplies",null,null,0,{"$f":"SUM('Admin:15'!I80)","v":0},0,{"$f":"SUM('Admin:15'!J80)","v":0},0,{"$f":"SUM('Admin:15'!K80)","v":0},{"$f":"SUM('Admin:15'!L80)","v":0},{"$f":"SUM('Admin:15'!M80)","v":0},{"$f":"SUM('Admin:15'!N80)","v":0},{"$f":"SUM('Admin:15'!O80)","v":0},{"$f":"SUM('Admin:15'!P80)","v":0},{"$f":"SUM('Admin:15'!Q80)","v":0},{"$f":"SUM('Admin:15'!R80)","v":0},{"$f":"SUM('Admin:15'!S80)","v":0},{"$f":"SUM('Admin:15'!T80)","v":0},{"$f":"SUM('Admin:15'!U80)","v":0}]
[1,"EX1171",null,null,null,"Inventory: Fuel, oil and gas",null,null,0,{"$f":"SUM('Admin:15'!I81)","v":0},0,{"$f":"SUM('Admin:15'!J81)","v":0},0,{"$f":"SUM('Admin:15'!K81)","v":0},{"$f":"SUM('Admin:15'!L81)","v":0},{"$f":"SUM('Admin:15'!M81)","v":0},{"$f":"SUM('Admin:15'!N81)","v":0},{"$f":"SUM('Admin:15'!O81)","v":0},{"$f":"SUM('Admin:15'!P81)","v":0},{"$f":"SUM('Admin:15'!Q81)","v":0},{"$f":"SUM('Admin:15'!R81)","v":0},{"$f":"SUM('Admin:15'!S81)","v":0},{"$f":"SUM('Admin:15'!T81)","v":0},{"$f":"SUM('Admin:15'!U81)","v":0}]
[1,"EX1172",null,null,null,"Inventory: Learner and teacher support material",null,null,0,{"$f":"SUM('Admin:15'!I82)","v":0},0,{"$f":"SUM('Admin:15'!J82)","v":0},0,{"$f":"SUM('Admin:15'!K82)","v":0},{"$f":"SUM('Admin:15'!L82)","v":0},{"$f":"SUM('Admin:15'!M82)","v":0},{"$f":"SUM('Admin:15'!N82)","v":0},{"$f":"SUM('Admin:15'!O82)","v":0},{"$f":"SUM('Admin:15'!P82)","v":0},{"$f":"SUM('Admin:15'!Q82)","v":0},{"$f":"SUM('Admin:15'!R82)","v":0},{"$f":"SUM('Admin:15'!S82)","v":0},{"$f":"SUM('Admin:15'!T82)","v":0},{"$f":"SUM('Admin:15'!U82)","v":0}]
[1,"EX1126",null,null,null,"Inventory: Materials and supplies",null,null,0,{"$f":"SUM('Admin:15'!I83)","v":0},0,{"$f":"SUM('Admin:15'!J83)","v":0},0,{"$f":"SUM('Admin:15'!K83)","v":0},{"$f":"SUM('Admin:15'!L83)","v":0},{"$f":"SUM('Admin:15'!M83)","v":0},{"$f":"SUM('Admin:15'!N83)","v":0},{"$f":"SUM('Admin:15'!O83)","v":0},{"$f":"SUM('Admin:15'!P83)","v":0},{"$f":"SUM('Admin:15'!Q83)","v":0},{"$f":"SUM('Admin:15'!R83)","v":0},{"$f":"SUM('Admin:15'!S83)","v":0},{"$f":"SUM('Admin:15'!T83)","v":0},{"$f":"SUM('Admin:15'!U83)","v":0}]
[1,"EX1173",null,null,null,"Inventory: Medical supplies",null,null,0,{"$f":"SUM('Admin:15'!I84)","v":0},0,{"$f":"SUM('Admin:15'!J84)","v":0},0,{"$f":"SUM('Admin:15'!K84)","v":0},{"$f":"SUM('Admin:15'!L84)","v":0},{"$f":"SUM('Admin:15'!M84)","v":0},{"$f":"SUM('Admin:15'!N84)","v":0},{"$f":"SUM('Admin:15'!O84)","v":0},{"$f":"SUM('Admin:15'!P84)","v":0},{"$f":"SUM('Admin:15'!Q84)","v":0},{"$f":"SUM('Admin:15'!R84)","v":0},{"$f":"SUM('Admin:15'!S84)","v":0},{"$f":"SUM('Admin:15'!T84)","v":0},{"$f":"SUM('Admin:15'!U84)","v":0}]
[1,"EX1174",null,null,null,"Inventory: Medicine",null,null,0,{"$f":"SUM('Admin:15'!I85)","v":0},0,{"$f":"SUM('Admin:15'!J85)","v":0},0,{"$f":"SUM('Admin:15'!K85)","v":0},{"$f":"SUM('Admin:15'!L85)","v":0},{"$f":"SUM('Admin:15'!M85)","v":0},{"$f":"SUM('Admin:15'!N85)","v":0},{"$f":"SUM('Admin:15'!O85)","v":0},{"$f":"SUM('Admin:15'!P85)","v":0},{"$f":"SUM('Admin:15'!Q85)","v":0},{"$f":"SUM('Admin:15'!R85)","v":0},{"$f":"SUM('Admin:15'!S85)","v":0},{"$f":"SUM('Admin:15'!T85)","v":0},{"$f":"SUM('Admin:15'!U85)","v":0}]
[1,"EX1175",null,null,null,"Medsas inventory interface",null,null,0,{"$f":"SUM('Admin:15'!I86)","v":0},0,{"$f":"SUM('Admin:15'!J86)","v":0},0,{"$f":"SUM('Admin:15'!K86)","v":0},{"$f":"SUM('Admin:15'!L86)","v":0},{"$f":"SUM('Admin:15'!M86)","v":0},{"$f":"SUM('Admin:15'!N86)","v":0},{"$f":"SUM('Admin:15'!O86)","v":0},{"$f":"SUM('Admin:15'!P86)","v":0},{"$f":"SUM('Admin:15'!Q86)","v":0},{"$f":"SUM('Admin:15'!R86)","v":0},{"$f":"SUM('Admin:15'!S86)","v":0},{"$f":"SUM('Admin:15'!T86)","v":0},{"$f":"SUM('Admin:15'!U86)","v":0}]
[1,"EX1176",null,null,null,"Inventory: Other supplies",null,null,0,{"$f":"SUM('Admin:15'!I87)","v":0},0,{"$f":"SUM('Admin:15'!J87)","v":0},0,{"$f":"SUM('Admin:15'!K87)","v":0},{"$f":"SUM('Admin:15'!L87)","v":0},{"$f":"SUM('Admin:15'!M87)","v":0},{"$f":"SUM('Admin:15'!N87)","v":0},{"$f":"SUM('Admin:15'!O87)","v":0},{"$f":"SUM('Admin:15'!P87)","v":0},{"$f":"SUM('Admin:15'!Q87)","v":0},{"$f":"SUM('Admin:15'!R87)","v":0},{"$f":"SUM('Admin:15'!S87)","v":0},{"$f":"SUM('Admin:15'!T87)","v":0},{"$f":"SUM('Admin:15'!U87)","v":0}]
[1,"EX1177",null,null,null,"Consumable supplies",null,null,0,{"$f":"SUM('Admin:15'!I88)","v":0},0,{"$f":"SUM('Admin:15'!J88)","v":0},0,{"$f":"SUM('Admin:15'!K88)","v":0},{"$f":"SUM('Admin:15'!L88)","v":0},{"$f":"SUM('Admin:15'!M88)","v":0},{"$f":"SUM('Admin:15'!N88)","v":0},{"$f":"SUM('Admin:15'!O88)","v":0},{"$f":"SUM('Admin:15'!P88)","v":0},{"$f":"SUM('Admin:15'!Q88)","v":0},{"$f":"SUM('Admin:15'!R88)","v":0},{"$f":"SUM('Admin:15'!S88)","v":0},{"$f":"SUM('Admin:15'!T88)","v":0},{"$f":"SUM('Admin:15'!U88)","v":0}]
[1,"EX1144",null,null,null,"Consumables: Stationery, printing and office supplies",null,null,0,{"$f":"SUM('Admin:15'!I89)","v":0},0,{"$f":"SUM('Admin:15'!J89)","v":0},0,{"$f":"SUM('Admin:15'!K89)","v":0},{"$f":"SUM('Admin:15'!L89)","v":0},{"$f":"SUM('Admin:15'!M89)","v":0},{"$f":"SUM('Admin:15'!N89)","v":0},{"$f":"SUM('Admin:15'!O89)","v":0},{"$f":"SUM('Admin:15'!P89)","v":0},{"$f":"SUM('Admin:15'!Q89)","v":0},{"$f":"SUM('Admin:15'!R89)","v":0},{"$f":"SUM('Admin:15'!S89)","v":0},{"$f":"SUM('Admin:15'!T89)","v":0},{"$f":"SUM('Admin:15'!U89)","v":0}]
[1,"EX1127",null,null,null,"Operating leases",null,null,0,{"$f":"SUM('Admin:15'!I90)","v":0},0,{"$f":"SUM('Admin:15'!J90)","v":0},0,{"$f":"SUM('Admin:15'!K90)","v":0},{"$f":"SUM('Admin:15'!L90)","v":0},{"$f":"SUM('Admin:15'!M90)","v":0},{"$f":"SUM('Admin:15'!N90)","v":0},{"$f":"SUM('Admin:15'!O90)","v":0},{"$f":"SUM('Admin:15'!P90)","v":0},{"$f":"SUM('Admin:15'!Q90)","v":0},{"$f":"SUM('Admin:15'!R90)","v":0},{"$f":"SUM('Admin:15'!S90)","v":0},{"$f":"SUM('Admin:15'!T90)","v":0},{"$f":"SUM('Admin:15'!U90)","v":0}]
[1,"EX1178",null,null,null,"Rental and hiring",null,null,0,{"$f":"SUM('Admin:15'!I91)","v":0},0,{"$f":"SUM('Admin:15'!J91)","v":0},0,{"$f":"SUM('Admin:15'!K91)","v":0},{"$f":"SUM('Admin:15'!L91)","v":0},{"$f":"SUM('Admin:15'!M91)","v":0},{"$f":"SUM('Admin:15'!N91)","v":0},{"$f":"SUM('Admin:15'!O91)","v":0},{"$f":"SUM('Admin:15'!P91)","v":0},{"$f":"SUM('Admin:15'!Q91)","v":0},{"$f":"SUM('Admin:15'!R91)","v":0},{"$f":"SUM('Admin:15'!S91)","v":0},{"$f":"SUM('Admin:15'!T91)","v":0},{"$f":"SUM('Admin:15'!U91)","v":0}]
[1,"EX1145",null,null,null,"Property payments",null,null,0,{"$f":"SUM('Admin:15'!I92)","v":0},0,{"$f":"SUM('Admin:15'!J92)","v":0},0,{"$f":"SUM('Admin:15'!K92)","v":0},{"$f":"SUM('Admin:15'!L92)","v":0},{"$f":"SUM('Admin:15'!M92)","v":0},{"$f":"SUM('Admin:15'!N92)","v":0},{"$f":"SUM('Admin:15'!O92)","v":0},{"$f":"SUM('Admin:15'!P92)","v":0},{"$f":"SUM('Admin:15'!Q92)","v":0},{"$f":"SUM('Admin:15'!R92)","v":0},{"$f":"SUM('Admin:15'!S92)","v":0},{"$f":"SUM('Admin:15'!T92)","v":0},{"$f":"SUM('Admin:15'!U92)","v":0}]
[1,"EX1179",null,null,null,"Transport provided: Internal activities",null,null,0,{"$f":"SUM('Admin:15'!I93)","v":0},0,{"$f":"SUM('Admin:15'!J93)","v":0},0,{"$f":"SUM('Admin:15'!K93)","v":0},{"$f":"SUM('Admin:15'!L93)","v":0},{"$f":"SUM('Admin:15'!M93)","v":0},{"$f":"SUM('Admin:15'!N93)","v":0},{"$f":"SUM('Admin:15'!O93)","v":0},{"$f":"SUM('Admin:15'!P93)","v":0},{"$f":"SUM('Admin:15'!Q93)","v":0},{"$f":"SUM('Admin:15'!R93)","v":0},{"$f":"SUM('Admin:15'!S93)","v":0},{"$f":"SUM('Admin:15'!T93)","v":0},{"$f":"SUM('Admin:15'!U93)","v":0}]
[1,"EX1131",null,null,null,"Travel and subsistence",null,null,0,{"$f":"SUM('Admin:15'!I94)","v":0},0,{"$f":"SUM('Admin:15'!J94)","v":0},0,{"$f":"SUM('Admin:15'!K94)","v":0},{"$f":"SUM('Admin:15'!L94)","v":0},{"$f":"SUM('Admin:15'!M94)","v":0},{"$f":"SUM('Admin:15'!N94)","v":0},{"$f":"SUM('Admin:15'!O94)","v":0},{"$f":"SUM('Admin:15'!P94)","v":0},{"$f":"SUM('Admin:15'!Q94)","v":0},{"$f":"SUM('Admin:15'!R94)","v":0},{"$f":"SUM('Admin:15'!S94)","v":0},{"$f":"SUM('Admin:15'!T94)","v":0},{"$f":"SUM('Admin:15'!U94)","v":0}]
[1,"EX1130",null,null,null,"Training and development",null,null,0,{"$f":"SUM('Admin:15'!I95)","v":0},0,{"$f":"SUM('Admin:15'!J95)","v":0},0,{"$f":"SUM('Admin:15'!K95)","v":0},{"$f":"SUM('Admin:15'!L95)","v":0},{"$f":"SUM('Admin:15'!M95)","v":0},{"$f":"SUM('Admin:15'!N95)","v":0},{"$f":"SUM('Admin:15'!O95)","v":0},{"$f":"SUM('Admin:15'!P95)","v":0},{"$f":"SUM('Admin:15'!Q95)","v":0},{"$f":"SUM('Admin:15'!R95)","v":0},{"$f":"SUM('Admin:15'!S95)","v":0},{"$f":"SUM('Admin:15'!T95)","v":0},{"$f":"SUM('Admin:15'!U95)","v":0}]
[1,"EX1132",null,null,null,"Operating payments",null,null,0,{"$f":"SUM('Admin:15'!I96)","v":0},0,{"$f":"SUM('Admin:15'!J96)","v":0},0,{"$f":"SUM('Admin:15'!K96)","v":0},{"$f":"SUM('Admin:15'!L96)","v":0},{"$f":"SUM('Admin:15'!M96)","v":0},{"$f":"SUM('Admin:15'!N96)","v":0},{"$f":"SUM('Admin:15'!O96)","v":0},{"$f":"SUM('Admin:15'!P96)","v":0},{"$f":"SUM('Admin:15'!Q96)","v":0},{"$f":"SUM('Admin:15'!R96)","v":0},{"$f":"SUM('Admin:15'!S96)","v":0},{"$f":"SUM('Admin:15'!T96)","v":0},{"$f":"SUM('Admin:15'!U96)","v":0}]
[1,"EX1146",null,null,null,"Venues and facilities",null,null,0,{"$f":"SUM('Admin:15'!I97)","v":0},0,{"$f":"SUM('Admin:15'!J97)","v":0},0,{"$f":"SUM('Admin:15'!K97)","v":0},{"$f":"SUM('Admin:15'!L97)","v":0},{"$f":"SUM('Admin:15'!M97)","v":0},{"$f":"SUM('Admin:15'!N97)","v":0},{"$f":"SUM('Admin:15'!O97)","v":0},{"$f":"SUM('Admin:15'!P97)","v":0},{"$f":"SUM('Admin:15'!Q97)","v":0},{"$f":"SUM('Admin:15'!R97)","v":0},{"$f":"SUM('Admin:15'!S97)","v":0},{"$f":"SUM('Admin:15'!T97)","v":0},{"$f":"SUM('Admin:15'!U97)","v":0}]
[1,"EX113",null,null,null,"Depreciation",null,null,0,{"$f":"SUM('Admin:15'!I98)","v":0},0,{"$f":"SUM('Admin:15'!J98)","v":0},0,{"$f":"SUM('Admin:15'!K98)","v":0},{"$f":"SUM('Admin:15'!L98)","v":0},{"$f":"SUM('Admin:15'!M98)","v":0},{"$f":"SUM('Admin:15'!N98)","v":0},{"$f":"SUM('Admin:15'!O98)","v":0},{"$f":"SUM('Admin:15'!P98)","v":0},{"$f":"SUM('Admin:15'!Q98)","v":0},{"$f":"SUM('Admin:15'!R98)","v":0},{"$f":"SUM('Admin:15'!S98)","v":0},{"$f":"SUM('Admin:15'!T98)","v":0},{"$f":"SUM('Admin:15'!U98)","v":0}]
[1,"EX114",null,null,null,"Losses from",null,null,{"$f":"SUM(I100:I101,I104)","v":0},{"$f":"SUM(J100:J101,J104)","v":0},0,0,0,0,{"$f":"SUM(O100:O101,O104)","v":0},0,0,0,0,0,0,0,0,0]
[1,"EX1141",null,null,null,"Sale of fixed assets",null,null,0,{"$f":"SUM('Admin:15'!I100)","v":0},0,{"$f":"SUM('Admin:15'!J100)","v":0},0,{"$f":"SUM('Admin:15'!K100)","v":0},{"$f":"SUM('Admin:15'!L100)","v":0},{"$f":"SUM('Admin:15'!M100)","v":0},{"$f":"SUM('Admin:15'!N100)","v":0},{"$f":"SUM('Admin:15'!O100)","v":0},{"$f":"SUM('Admin:15'!P100)","v":0},{"$f":"SUM('Admin:15'!Q100)","v":0},{"$f":"SUM('Admin:15'!R100)","v":0},{"$f":"SUM('Admin:15'!S100)","v":0},{"$f":"SUM('Admin:15'!T100)","v":0},{"$f":"SUM('Admin:15'!U100)","v":0}]
[1,"EX1142",null,null,null,"Impairments and adjustments to fair value",null,null,{"$f":"SUM(I102:I103)","v":0},{"$f":"SUM(J102:J103)","v":0},{"$f":"SUM(K102:K103)","v":0},{"$f":"SUM(L102:L103)","v":0},{"$f":"SUM(M102:M103)","v":0},{"$f":"SUM(N102:N103)","v":0},0,0,0,0,0,0,0,0,0,0]
[1,"EX11421",null,null,null,"Adjustments to fair value of assets",null,null,0,{"$f":"SUM('Admin:15'!I102)","v":0},0,{"$f":"SUM('Admin:15'!J102)","v":0},0,{"$f":"SUM('Admin:15'!K102)","v":0},{"$f":"SUM('Admin:15'!L102)","v":0},{"$f":"SUM('Admin:15'!M102)","v":0},{"$f":"SUM('Admin:15'!N102)","v":0},{"$f":"SUM('Admin:15'!O102)","v":0},{"$f":"SUM('Admin:15'!P102)","v":0},{"$f":"SUM('Admin:15'!Q102)","v":0},{"$f":"SUM('Admin:15'!R102)","v":0},{"$f":"SUM('Admin:15'!S102)","v":0},{"$f":"SUM('Admin:15'!T102)","v":0},{"$f":"SUM('Admin:15'!U102)","v":0}]
[1,"EX11422",null,null,null,"Impairments to assets",null,null,0,{"$f":"SUM('Admin:15'!I103)","v":0},0,{"$f":"SUM('Admin:15'!J103)","v":0},0,{"$f":"SUM('Admin:15'!K103)","v":0},{"$f":"SUM('Admin:15'!L103)","v":0},{"$f":"SUM('Admin:15'!M103)","v":0},{"$f":"SUM('Admin:15'!N103)","v":0},{"$f":"SUM('Admin:15'!O103)","v":0},{"$f":"SUM('Admin:15'!P103)","v":0},{"$f":"SUM('Admin:15'!Q103)","v":0},{"$f":"SUM('Admin:15'!R103)","v":0},{"$f":"SUM('Admin:15'!S103)","v":0},{"$f":"SUM('Admin:15'!T103)","v":0},{"$f":"SUM('Admin:15'!U103)","v":0}]
[1,"EX1143",null,null,null,"Other",null,null,0,{"$f":"SUM('Admin:15'!I104)","v":0},0,{"$f":"SUM('Admin:15'!J104)","v":0},0,{"$f":"SUM('Admin:15'!K104)","v":0},{"$f":"SUM('Admin:15'!L104)","v":0},{"$f":"SUM('Admin:15'!M104)","v":0},{"$f":"SUM('Admin:15'!N104)","v":0},{"$f":"SUM('Admin:15'!O104)","v":0},{"$f":"SUM('Admin:15'!P104)","v":0},{"$f":"SUM('Admin:15'!Q104)","v":0},{"$f":"SUM('Admin:15'!R104)","v":0},{"$f":"SUM('Admin:15'!S104)","v":0},{"$f":"SUM('Admin:15'!T104)","v":0},{"$f":"SUM('Admin:15'!U104)","v":0}]
[1,"EX115",null,null,null,"Interest, dividends and rent on land",null,null,{"$f":"SUM(I106:I108)","v":0},0,0,0,0,0,{"$f":"SUM(O106:O108)","v":0},0,0,0,0,0,0,0,0,0]
[1,"EX1151",null,null,null,"Interest",null,null,0,{"$f":"SUM('Admin:15'!I106)","v":0},0,{"$f":"SUM('Admin:15'!J106)","v":0},0,{"$f":"SUM('Admin:15'!K106)","v":0},{"$f":"SUM('Admin:15'!L106)","v":0},{"$f":"SUM('Admin:15'!M106)","v":0},{"$f":"SUM('Admin:15'!N106)","v":0},{"$f":"SUM('Admin:15'!O106)","v":0},{"$f":"SUM('Admin:15'!P106)","v":0},{"$f":"SUM('Admin:15'!Q106)","v":0},{"$f":"SUM('Admin:15'!R106)","v":0},{"$f":"SUM('Admin:15'!S106)","v":0},{"$f":"SUM('Admin:15'!T106)","v":0},{"$f":"SUM('Admin:15'!U106)","v":0}]
[1,"EX1152",null,null,null,"Dividends",null,null,0,{"$f":"SUM('Admin:15'!I107)","v":0},0,{"$f":"SUM('Admin:15'!J107)","v":0},0,{"$f":"SUM('Admin:15'!K107)","v":0},{"$f":"SUM('Admin:15'!L107)","v":0},{"$f":"SUM('Admin:15'!M107)","v":0},{"$f":"SUM('Admin:15'!N107)","v":0},{"$f":"SUM('Admin:15'!O107)","v":0},{"$f":"SUM('Admin:15'!P107)","v":0},{"$f":"SUM('Admin:15'!Q107)","v":0},{"$f":"SUM('Admin:15'!R107)","v":0},{"$f":"SUM('Admin:15'!S107)","v":0},{"$f":"SUM('Admin:15'!T107)","v":0},{"$f":"SUM('Admin:15'!U107)","v":0}]
[1,"EX1153",null,null,null,"Rent on land",null,null,0,{"$f":"SUM('Admin:15'!I108)","v":0},0,{"$f":"SUM('Admin:15'!J108)","v":0},0,{"$f":"SUM('Admin:15'!K108)","v":0},{"$f":"SUM('Admin:15'!L108)","v":0},{"$f":"SUM('Admin:15'!M108)","v":0},{"$f":"SUM('Admin:15'!N108)","v":0},{"$f":"SUM('Admin:15'!O108)","v":0},{"$f":"SUM('Admin:15'!P108)","v":0},{"$f":"SUM('Admin:15'!Q108)","v":0},{"$f":"SUM('Admin:15'!R108)","v":0},{"$f":"SUM('Admin:15'!S108)","v":0},{"$f":"SUM('Admin:15'!T108)","v":0},{"$f":"SUM('Admin:15'!U108)","v":0}]
[1,"EX12",null,null,null,"Transfers and subsidies",null,null,{"$f":"SUM(I110,I121,I132:I135)","v":0},0,0,0,0,0,{"$f":"SUM(O110,O121,O132:O135)","v":0},0,0,0,0,0,0,0,0,0]
[2,"EX121",null,null,null,"Employer Grant (SETAs only)",null,null,{"$f":"SUM(I111,I117,I120)","v":0},0,0,0,0,0,{"$f":"SUM(O111,O117,O120)","v":0},0,0,0,0,0,0,0,0,0]
[1,"EX122",null,null,null,"Other government units",null,null,{"$f":"SUM(I112:I116)","v":0},0,0,0,0,0,{"$f":"SUM(O112:O116)","v":0},0,0,0,0,0,0,0,0,0]
[1,"EX1221",null,null,null,"National government",null,null,0,{"$f":"SUM('Admin:15'!I112)","v":0},0,{"$f":"SUM('Admin:15'!J112)","v":0},0,{"$f":"SUM('Admin:15'!K112)","v":0},{"$f":"SUM('Admin:15'!L112)","v":0},{"$f":"SUM('Admin:15'!M112)","v":0},{"$f":"SUM('Admin:15'!N112)","v":0},{"$f":"SUM('Admin:15'!O112)","v":0},{"$f":"SUM('Admin:15'!P112)","v":0},{"$f":"SUM('Admin:15'!Q112)","v":0},{"$f":"SUM('Admin:15'!R112)","v":0},{"$f":"SUM('Admin:15'!S112)","v":0},{"$f":"SUM('Admin:15'!T112)","v":0},{"$f":"SUM('Admin:15'!U112)","v":0}]
[1,"EX1222",null,null,null,"Departmental agencies and accounts",null,null,0,{"$f":"SUM('Admin:15'!I113)","v":0},0,{"$f":"SUM('Admin:15'!J113)","v":0},0,{"$f":"SUM('Admin:15'!K113)","v":0},{"$f":"SUM('Admin:15'!L113)","v":0},{"$f":"SUM('Admin:15'!M113)","v":0},{"$f":"SUM('Admin:15'!N113)","v":0},{"$f":"SUM('Admin:15'!O113)","v":0},{"$f":"SUM('Admin:15'!P113)","v":0},{"$f":"SUM('Admin:15'!Q113)","v":0},{"$f":"SUM('Admin:15'!R113)","v":0},{"$f":"SUM('Admin:15'!S113)","v":0},{"$f":"SUM('Admin:15'!T113)","v":0},{"$f":"SUM('Admin:15'!U113)","v":0}]
[1,"EX1223",null,null,null,"Provinces",null,null,0,{"$f":"SUM('Admin:15'!I114)","v":0},0,{"$f":"SUM('Admin:15'!J114)","v":0},0,{"$f":"SUM('Admin:15'!K114)","v":0},{"$f":"SUM('Admin:15'!L114)","v":0},{"$f":"SUM('Admin:15'!M114)","v":0},{"$f":"SUM('Admin:15'!N114)","v":0},{"$f":"SUM('Admin:15'!O114)","v":0},{"$f":"SUM('Admin:15'!P114)","v":0},{"$f":"SUM('Admin:15'!Q114)","v":0},{"$f":"SUM('Admin:15'!R114)","v":0},{"$f":"SUM('Admin:15'!S114)","v":0},{"$f":"SUM('Admin:15'!T114)","v":0},{"$f":"SUM('Admin:15'!U114)","v":0}]
[1,"EX1224",null,null,null,"Municipalities",null,null,0,{"$f":"SUM('Admin:15'!I115)","v":0},0,{"$f":"SUM('Admin:15'!J115)","v":0},0,{"$f":"SUM('Admin:15'!K115)","v":0},{"$f":"SUM('Admin:15'!L115)","v":0},{"$f":"SUM('Admin:15'!M115)","v":0},{"$f":"SUM('Admin:15'!N115)","v":0},{"$f":"SUM('Admin:15'!O115)","v":0},{"$f":"SUM('Admin:15'!P115)","v":0},{"$f":"SUM('Admin:15'!Q115)","v":0},{"$f":"SUM('Admin:15'!R115)","v":0},{"$f":"SUM('Admin:15'!S115)","v":0},{"$f":"SUM('Admin:15'!T115)","v":0},{"$f":"SUM('Admin:15'!U115)","v":0}]
[2,"EX1225",null,null,null,"National Skills Fund",null,null,0,{"$f":"SUM('Admin:15'!I116)","v":0},0,{"$f":"SUM('Admin:15'!J116)","v":0},0,{"$f":"SUM('Admin:15'!K116)","v":0},{"$f":"SUM('Admin:15'!L116)","v":0},{"$f":"SUM('Admin:15'!M116)","v":0},{"$f":"SUM('Admin:15'!N116)","v":0},{"$f":"SUM('Admin:15'!O116)","v":0},{"$f":"SUM('Admin:15'!P116)","v":0},{"$f":"SUM('Admin:15'!Q116)","v":0},{"$f":"SUM('Admin:15'!R116)","v":0},{"$f":"SUM('Admin:15'!S116)","v":0},{"$f":"SUM('Admin:15'!T116)","v":0},{"$f":"SUM('Admin:15'!U116)","v":0}]
[1,"EX123",null,null,null,"Public corporations and private enterprises (subsidies and other transfers)",null,null,{"$f":"SUM(I118:I119)","v":0},0,0,0,0,0,{"$f":"SUM(O118:O119)","v":0},0,0,0,0,0,0,0,0,0]
[1,"EX1231",null,null,null,"Public corporations",null,null,0,{"$f":"SUM('Admin:15'!I118)","v":0},0,{"$f":"SUM('Admin:15'!J118)","v":0},0,{"$f":"SUM('Admin:15'!K118)","v":0},{"$f":"SUM('Admin:15'!L118)","v":0},{"$f":"SUM('Admin:15'!M118)","v":0},{"$f":"SUM('Admin:15'!N118)","v":0},{"$f":"SUM('Admin:15'!O118)","v":0},{"$f":"SUM('Admin:15'!P118)","v":0},{"$f":"SUM('Admin:15'!Q118)","v":0},{"$f":"SUM('Admin:15'!R118)","v":0},{"$f":"SUM('Admin:15'!S118)","v":0},{"$f":"SUM('Admin:15'!T118)","v":0},{"$f":"SUM('Admin:15'!U118)","v":0}]
[1,"EX1232",null,null,null,"Private enterprises",null,null,0,{"$f":"SUM('Admin:15'!I119)","v":0},0,{"$f":"SUM('Admin:15'!J119)","v":0},0,{"$f":"SUM('Admin:15'!K119)","v":0},{"$f":"SUM('Admin:15'!L119)","v":0},{"$f":"SUM('Admin:15'!M119)","v":0},{"$f":"SUM('Admin:15'!N119)","v":0},{"$f":"SUM('Admin:15'!O119)","v":0},{"$f":"SUM('Admin:15'!P119)","v":0},{"$f":"SUM('Admin:15'!Q119)","v":0},{"$f":"SUM('Admin:15'!R119)","v":0},{"$f":"SUM('Admin:15'!S119)","v":0},{"$f":"SUM('Admin:15'!T119)","v":0},{"$f":"SUM('Admin:15'!U119)","v":0}]
[2,"EX124",null,null,null,"Households and non government units",null,null,0,{"$f":"SUM('Admin:15'!I120)","v":0},0,{"$f":"SUM('Admin:15'!J120)","v":0},0,{"$f":"SUM('Admin:15'!K120)","v":0},{"$f":"SUM('Admin:15'!L120)","v":0},{"$f":"SUM('Admin:15'!M120)","v":0},{"$f":"SUM('Admin:15'!N120)","v":0},{"$f":"SUM('Admin:15'!O120)","v":0},{"$f":"SUM('Admin:15'!P120)","v":0},{"$f":"SUM('Admin:15'!Q120)","v":0},{"$f":"SUM('Admin:15'!R120)","v":0},{"$f":"SUM('Admin:15'!S120)","v":0},{"$f":"SUM('Admin:15'!T120)","v":0},{"$f":"SUM('Admin:15'!U120)","v":0}]
[2,"EX125",null,null,null,"Discretionary Grant (SETAs only)",null,null,{"$f":"SUM(I122,I128,I131)","v":0},0,0,0,0,0,{"$f":"SUM(O122,O128,O131)","v":0},0,0,0,0,0,0,0,0,0]
[2,"EX126",null,null,null,"Other government units",null,null,0,{"$f":"SUM('Admin:15'!I122)","v":0},0,{"$f":"SUM('Admin:15'!J122)","v":0},0,{"$f":"SUM('Admin:15'!K122)","v":0},{"$f":"SUM('Admin:15'!L122)","v":0},{"$f":"SUM('Admin:15'!M122)","v":0},{"$f":"SUM('Admin:15'!N122)","v":0},{"$f":"SUM('Admin:15'!O122)","v":0},{"$f":"SUM('Admin:15'!P122)","v":0},{"$f":"SUM('Admin:15'!Q122)","v":0},{"$f":"SUM('Admin:15'!R122)","v":0},{"$f":"SUM('Admin:15'!S122)","v":0},{"$f":"SUM('Admin:15'!T122)","v":0},{"$f":"SUM('Admin:15'!U122)","v":0}]
[2,"EX1261",null,null,null,"National government",null,null,0,{"$f":"SUM('Admin:15'!I123)","v":0},0,{"$f":"SUM('Admin:15'!J123)","v":0},0,{"$f":"SUM('Admin:15'!K123)","v":0},{"$f":"SUM('Admin:15'!L123)","v":0},{"$f":"SUM('Admin:15'!M123)","v":0},{"$f":"SUM('Admin:15'!N123)","v":0},{"$f":"SUM('Admin:15'!O123)","v":0},{"$f":"SUM('Admin:15'!P123)","v":0},{"$f":"SUM('Admin:15'!Q123)","v":0},{"$f":"SUM('Admin:15'!R123)","v":0},{"$f":"SUM('Admin:15'!S123)","v":0},{"$f":"SUM('Admin:15'!T123)","v":0},{"$f":"SUM('Admin:15'!U123)","v":0}]
[2,"EX1262",null,null,null,"Departmental agencies and accounts",null,null,0,{"$f":"SUM('Admin:15'!I124)","v":0},0,{"$f":"SUM('Admin:15'!J124)","v":0},0,{"$f":"SUM('Admin:15'!K124)","v":0},{"$f":"SUM('Admin:15'!L124)","v":0},{"$f":"SUM('Admin:15'!M124)","v":0},{"$f":"SUM('Admin:15'!N124)","v":0},{"$f":"SUM('Admin:15'!O124)","v":0},{"$f":"SUM('Admin:15'!P124)","v":0},{"$f":"SUM('Admin:15'!Q124)","v":0},{"$f":"SUM('Admin:15'!R124)","v":0},{"$f":"SUM('Admin:15'!S124)","v":0},{"$f":"SUM('Admin:15'!T124)","v":0},{"$f":"SUM('Admin:15'!U124)","v":0}]
[2,"EX1263",null,null,null,"Provinces",null,null,0,{"$f":"SUM('Admin:15'!I125)","v":0},0,{"$f":"SUM('Admin:15'!J125)","v":0},0,{"$f":"SUM('Admin:15'!K125)","v":0},{"$f":"SUM('Admin:15'!L125)","v":0},{"$f":"SUM('Admin:15'!M125)","v":0},{"$f":"SUM('Admin:15'!N125)","v":0},{"$f":"SUM('Admin:15'!O125)","v":0},{"$f":"SUM('Admin:15'!P125)","v":0},{"$f":"SUM('Admin:15'!Q125)","v":0},{"$f":"SUM('Admin:15'!R125)","v":0},{"$f":"SUM('Admin:15'!S125)","v":0},{"$f":"SUM('Admin:15'!T125)","v":0},{"$f":"SUM('Admin:15'!U125)","v":0}]
[2,"EX1264",null,null,null,"Municipalities",null,null,0,{"$f":"SUM('Admin:15'!I126)","v":0},0,{"$f":"SUM('Admin:15'!J126)","v":0},0,{"$f":"SUM('Admin:15'!K126)","v":0},{"$f":"SUM('Admin:15'!L126)","v":0},{"$f":"SUM('Admin:15'!M126)","v":0},{"$f":"SUM('Admin:15'!N126)","v":0},{"$f":"SUM('Admin:15'!O126)","v":0},{"$f":"SUM('Admin:15'!P126)","v":0},{"$f":"SUM('Admin:15'!Q126)","v":0},{"$f":"SUM('Admin:15'!R126)","v":0},{"$f":"SUM('Admin:15'!S126)","v":0},{"$f":"SUM('Admin:15'!T126)","v":0},{"$f":"SUM('Admin:15'!U126)","v":0}]
[2,"EX1265",null,null,null,"National Skills Fund",null,null,0,{"$f":"SUM('Admin:15'!I127)","v":0},0,{"$f":"SUM('Admin:15'!J127)","v":0},0,{"$f":"SUM('Admin:15'!K127)","v":0},{"$f":"SUM('Admin:15'!L127)","v":0},{"$f":"SUM('Admin:15'!M127)","v":0},{"$f":"SUM('Admin:15'!N127)","v":0},{"$f":"SUM('Admin:15'!O127)","v":0},{"$f":"SUM('Admin:15'!P127)","v":0},{"$f":"SUM('Admin:15'!Q127)","v":0},{"$f":"SUM('Admin:15'!R127)","v":0},{"$f":"SUM('Admin:15'!S127)","v":0},{"$f":"SUM('Admin:15'!T127)","v":0},{"$f":"SUM('Admin:15'!U127)","v":0}]
[2,"EX127",null,null,null,"Public corporations and private enterprises (subsidies and other transfers)",null,null,{"$f":"SUM(I129:I130)","v":0},0,0,0,0,0,{"$f":"SUM(O129:O130)","v":0},0,0,0,0,0,0,0,0,0]
[2,"EX1271",null,null,null,"Public corporations",null,null,0,{"$f":"SUM('Admin:15'!I129)","v":0},0,{"$f":"SUM('Admin:15'!J129)","v":0},0,{"$f":"SUM('Admin:15'!K129)","v":0},{"$f":"SUM('Admin:15'!L129)","v":0},{"$f":"SUM('Admin:15'!M129)","v":0},{"$f":"SUM('Admin:15'!N129)","v":0},{"$f":"SUM('Admin:15'!O129)","v":0},{"$f":"SUM('Admin:15'!P129)","v":0},{"$f":"SUM('Admin:15'!Q129)","v":0},{"$f":"SUM('Admin:15'!R129)","v":0},{"$f":"SUM('Admin:15'!S129)","v":0},{"$f":"SUM('Admin:15'!T129)","v":0},{"$f":"SUM('Admin:15'!U129)","v":0}]
[2,"EX1272",null,null,null,"Private enterprises",null,null,0,{"$f":"SUM('Admin:15'!I130)","v":0},0,{"$f":"SUM('Admin:15'!J130)","v":0},0,{"$f":"SUM('Admin:15'!K130)","v":0},{"$f":"SUM('Admin:15'!L130)","v":0},{"$f":"SUM('Admin:15'!M130)","v":0},{"$f":"SUM('Admin:15'!N130)","v":0},{"$f":"SUM('Admin:15'!O130)","v":0},{"$f":"SUM('Admin:15'!P130)","v":0},{"$f":"SUM('Admin:15'!Q130)","v":0},{"$f":"SUM('Admin:15'!R130)","v":0},{"$f":"SUM('Admin:15'!S130)","v":0},{"$f":"SUM('Admin:15'!T130)","v":0},{"$f":"SUM('Admin:15'!U130)","v":0}]
[2,"EX128",null,null,null,"Households and non government units",null,null,0,{"$f":"SUM('Admin:15'!I131)","v":0},0,{"$f":"SUM('Admin:15'!J131)","v":0},0,{"$f":"SUM('Admin:15'!K131)","v":0},{"$f":"SUM('Admin:15'!L131)","v":0},{"$f":"SUM('Admin:15'!M131)","v":0},{"$f":"SUM('Admin:15'!N131)","v":0},{"$f":"SUM('Admin:15'!O131)","v":0},{"$f":"SUM('Admin:15'!P131)","v":0},{"$f":"SUM('Admin:15'!Q131)","v":0},{"$f":"SUM('Admin:15'!R131)","v":0},{"$f":"SUM('Admin:15'!S131)","v":0},{"$f":"SUM('Admin:15'!T131)","v":0},{"$f":"SUM('Admin:15'!U131)","v":0}]
[1,"EX129",null,null,null,"Higher education institutions",null,null,0,{"$f":"SUM('Admin:15'!I132)","v":0},0,{"$f":"SUM('Admin:15'!J132)","v":0},0,{"$f":"SUM('Admin:15'!K132)","v":0},{"$f":"SUM('Admin:15'!L132)","v":0},{"$f":"SUM('Admin:15'!M132)","v":0},{"$f":"SUM('Admin:15'!N132)","v":0},{"$f":"SUM('Admin:15'!O132)","v":0},{"$f":"SUM('Admin:15'!P132)","v":0},{"$f":"SUM('Admin:15'!Q132)","v":0},{"$f":"SUM('Admin:15'!R132)","v":0},{"$f":"SUM('Admin:15'!S132)","v":0},{"$f":"SUM('Admin:15'!T132)","v":0},{"$f":"SUM('Admin:15'!U132)","v":0}]
[1,"EX130",null,null,null,"Foreign governments and international organisations ",null,null,0,{"$f":"SUM('Admin:15'!I133)","v":0},0,{"$f":"SUM('Admin:15'!J133)","v":0},0,{"$f":"SUM('Admin:15'!K133)","v":0},{"$f":"SUM('Admin:15'!L133)","v":0},{"$f":"SUM('Admin:15'!M133)","v":0},{"$f":"SUM('Admin:15'!N133)","v":0},{"$f":"SUM('Admin:15'!O133)","v":0},{"$f":"SUM('Admin:15'!P133)","v":0},{"$f":"SUM('Admin:15'!Q133)","v":0},{"$f":"SUM('Admin:15'!R133)","v":0},{"$f":"SUM('Admin:15'!S133)","v":0},{"$f":"SUM('Admin:15'!T133)","v":0},{"$f":"SUM('Admin:15'!U133)","v":0}]
[1,"EX131",null,null,null,"Non-profit institutions",null,null,0,{"$f":"SUM('Admin:15'!I134)","v":0},0,{"$f":"SUM('Admin:15'!J134)","v":0},0,{"$f":"SUM('Admin:15'!K134)","v":0},{"$f":"SUM('Admin:15'!L134)","v":0},{"$f":"SUM('Admin:15'!M134)","v":0},{"$f":"SUM('Admin:15'!N134)","v":0},{"$f":"SUM('Admin:15'!O134)","v":0},{"$f":"SUM('Admin:15'!P134)","v":0},{"$f":"SUM('Admin:15'!Q134)","v":0},{"$f":"SUM('Admin:15'!R134)","v":0},{"$f":"SUM('Admin:15'!S134)","v":0},{"$f":"SUM('Admin:15'!T134)","v":0},{"$f":"SUM('Admin:15'!U134)","v":0}]
[1,"EX132",null,null,null,"Households",null,null,{"$f":"SUM(I136:I137)","v":0},0,0,0,0,0,{"$f":"SUM(O136:O137)","v":0},0,0,0,0,0,0,0,0,0]
[1,"EX1301",null,null,null,"Social benefits ",null,null,0,{"$f":"SUM('Admin:15'!I136)","v":0},0,{"$f":"SUM('Admin:15'!J136)","v":0},0,{"$f":"SUM('Admin:15'!K136)","v":0},{"$f":"SUM('Admin:15'!L136)","v":0},{"$f":"SUM('Admin:15'!M136)","v":0},{"$f":"SUM('Admin:15'!N136)","v":0},{"$f":"SUM('Admin:15'!O136)","v":0},{"$f":"SUM('Admin:15'!P136)","v":0},{"$f":"SUM('Admin:15'!Q136)","v":0},{"$f":"SUM('Admin:15'!R136)","v":0},{"$f":"SUM('Admin:15'!S136)","v":0},{"$f":"SUM('Admin:15'!T136)","v":0},{"$f":"SUM('Admin:15'!U136)","v":0}]
[1,"EX1302",null,null,null,"Other transfers to households",null,null,0,{"$f":"SUM('Admin:15'!I137)","v":0},0,{"$f":"SUM('Admin:15'!J137)","v":0},0,{"$f":"SUM('Admin:15'!K137)","v":0},{"$f":"SUM('Admin:15'!L137)","v":0},{"$f":"SUM('Admin:15'!M137)","v":0},{"$f":"SUM('Admin:15'!N137)","v":0},{"$f":"SUM('Admin:15'!O137)","v":0},{"$f":"SUM('Admin:15'!P137)","v":0},{"$f":"SUM('Admin:15'!Q137)","v":0},{"$f":"SUM('Admin:15'!R137)","v":0},{"$f":"SUM('Admin:15'!S137)","v":0},{"$f":"SUM('Admin:15'!T137)","v":0},{"$f":"SUM('Admin:15'!U137)","v":0}]
[1,"EX13",null,null,null,"Tax payment",null,null,0,{"$f":"SUM('Admin:15'!I138)","v":0},0,{"$f":"SUM('Admin:15'!J138)","v":0},0,{"$f":"SUM('Admin:15'!K138)","v":0},{"$f":"SUM('Admin:15'!L138)","v":0},{"$f":"SUM('Admin:15'!M138)","v":0},{"$f":"SUM('Admin:15'!N138)","v":0},{"$f":"SUM('Admin:15'!O138)","v":0},{"$f":"SUM('Admin:15'!P138)","v":0},{"$f":"SUM('Admin:15'!Q138)","v":0},{"$f":"SUM('Admin:15'!R138)","v":0},{"$f":"SUM('Admin:15'!S138)","v":0},{"$f":"SUM('Admin:15'!T138)","v":0},{"$f":"SUM('Admin:15'!U138)","v":0}]
[1,"EX14",null,null,null,"Outside shareholders Interest",null,null,0,{"$f":"SUM('Admin:15'!I139)","v":0},0,{"$f":"SUM('Admin:15'!J139)","v":0},0,{"$f":"SUM('Admin:15'!K139)","v":0},{"$f":"SUM('Admin:15'!L139)","v":0},{"$f":"SUM('Admin:15'!M139)","v":0},{"$f":"SUM('Admin:15'!N139)","v":0},{"$f":"SUM('Admin:15'!O139)","v":0},{"$f":"SUM('Admin:15'!P139)","v":0},{"$f":"SUM('Admin:15'!Q139)","v":0},{"$f":"SUM('Admin:15'!R139)","v":0},{"$f":"SUM('Admin:15'!S139)","v":0},{"$f":"SUM('Admin:15'!T139)","v":0},{"$f":"SUM('Admin:15'!U139)","v":0}]
[1,"EX15",null,null,null,"Total Expenditure",null,null,{"$f":"SUM(I39,I109,I138:I139)","v":0},0,0,0,0,0,{"$f":"SUM(O39,O109,O138:O139)","v":0},0,0,0,0,0,0,0,0,0,null,{"$f":"IF(X140<V140/2,\"Complete the outer year in the Objective sheets\",\"\")","v":""}]
[1]
[1,null,null,null,null,"Objective less Expenditure",null,{"$f":"ROUND(IF(H36-H140>0,IF(H40-H140<1,0,H36-H140),H36-H140),0)","v":0},null,{"$f":"ROUND(IF(J36-J140>0,IF(J36-J140<1,0,J36-J140),J36-J140),0)","v":0},null,{"$f":"ROUND(IF(L36-L140>0,IF(L36-L140<1,0,L36-L140),L36-L140),0)","v":0},0,0,0,0,0,0,0,0,0,0,0,0]
[1]

{"sheet":"CashFlow","index":21,"n_rows":221,"n_cols":23,"rows_kept":221,"cut":false,"hidden":false,"merged":[[7,18,7,19],[7,12,7,13],[7,10,7,11],[7,8,7,9],[7,16,7,17],[7,14,7,15]]}
[]
[]
[]
[]
[]
[null,null,null,null,null,"PE No",{"$f":"Settings!$O$2","v":"PE196"}]
[null,null,null,null,null,"Entity name",{"$f":"Settings!$D$2","v":"Transnet Limited"}]
[null,null,null,null,null,null,"Notes",null,{"$f":"MyYearM3","v":"2019/20"},null,{"$f":"MyYearM2","v":"2020/21"},null,{"$f":"MyYearM1","v":"2021/22"},null,{"$f":"MyYear0","v":"2022/23"},null,{"$f":"MyYearP1","v":"2023/24"},null,{"$f":"MyYearP2","v":"2024/25"},null,{"$f":"MyYearP3","v":"2025/26"}]
[null,null,null,null,null,"Cash flow data",null,null,{"$f":"Hist_year3Audited","v":"Budget"},{"$f":"Hist_year3RestatedAudited","v":"Audited\noutcome"},{"$f":"Hist_year2Audited","v":"Budget"},{"$f":"Hist_year2RestatedAudited","v":"Audited\noutcome"},{"$f":"Hist_year1Budget","v":"Budget"},{"$f":"Hist_year1Audited","v":"Audited\noutcome"},{"$f":"Cur_YearBudgEst","v":"Budget\nestimate"},{"$f":"Cur_YearApprovedBudg","v":"Approved budget"},{"$f":"MTEF1BudgEst","v":"Budget\nestimate"},{"$f":"MTEF1RevBudgEst","v":"Revised\nbudget\nestimate"},{"$f":"MTEF2BudgEst","v":"Budget\nestimate"},{"$f":"MTEF2RevBudgEst","v":"Revised\nbudget\nestimate"},{"$f":"MTEF3PlanBudgetEst","v":"Planning\nbudget \nestimate"}]
["ItemCat","Item code","Hide/unhide",null,null,"R Thousand"]
[1,"CF3",null,null,null,"Cash flow from operating activities",null,null,{"$f":"(I12-I58)","v":0},0,0,0,0,0,0,0,0,0,0,0,0]
[1,"CF1",null,null,null,"Cash receipts from stakeholders",null,null,{"$f":"SUM(I13,I14,I30,I48:I49,I53,I56:I57)","v":0},{"$f":"SUM(J13,J14,J30,J48:J49,J53,J56:J57)","v":0},0,0,0,0,0,0,0,0,0,0,0,null,{"$f":"IF(U12<T12/2,\"Complete outer year budget\",\"\")","v":""}]
[1,"CF11",null,null,null,"Tax receipts",1,null,0,0,0,0,0,0,0,0,0,0,0,0]
[1,"CF12",null,null,null,"Sales of goods and services other than capital assets",2,null,{"$f":"SUM(I15,I29)","v":0},{"$f":"SUM(J15,J29)","v":0},0,0,0,0,0,0,0,0,0,0,0]
[1,"CF1111",null,null,null,"Sales of goods and services produced by entity",3,null,{"$f":"SUM(I16,I21,I26)","v":0},{"$f":"SUM(J16,J21,J26)","v":0},0,0,0,0,0,0,0,0,0,0,0]
[1,"CF11111",null,null,null,"Administrative fees",4,null,{"$f":"SUM(I17:I20)","v":0},{"$f":"SUM(J17:J20)","v":0},{"$f":"SUM(K17:K20)","v":0},0,0,0,0,0,0,0,0,0,0]
[1,"CF111111",null,null,null,"Inspectorate and Compliance",null,null,0,0,0,0,0,0,0,0,0,0,0,0]
[1,"CF111112",null,null,null,"Medicines (incl CAMs)",null,null,0,0,0,0,0,0,0,0,0,0,0,0]
[1,"CF111113",null,null,null,"Medical Devices & IVDs (incl Radiation Control)",null,null,0,0,0,0,0,0,0,0,0,0,0,0]
[1,"CF111114",null,null,null,"Please specify",null,null,0,0,0,0,0,0,0,0,0,0,0,0]
[1,"CF11112",null,null,null,"Sales by market establishments",5,null,{"$f":"SUM(I22:I25)","v":0},{"$f":"SUM(J22:J25)","v":0},0,0,0,0,0,0,0,0,0,0,{"$f":"SUM(U22:U25)","v":0}]
[1,"CF111121",null,null,null,"Ticket Sales",null,null,0,0,0,0,0,0,0,0,0,0,0,0]
[1,"CF111122",null,null,null,"Bar Sales",null,null,0,0,0,0,0,0,0,0,0,0,0,0]
[1,"CF111123",null,null,null,"Venue hire",null,null,0,0,0,0,0,0,0,0,0,0,0,0]
[1,"CF111124",null,null,null,0,null,null,0,0,0,0,0,0,0,0,0,0,0,0]
[1,"CF11113",null,null,null,"Other sales",6,null,{"$f":"SUM(I27:I28)","v":0},{"$f":"SUM(J27:J28)","v":0},0,0,0,0,0,0,0,0,0,0,0]
[1,"CF111131",null,null,null,"User charges",null,null,0,0,0,0,0,0,0,0,0,0,0,0]
[1,"CF111132",null,null,null,"Sales other than user charges",null,null,0,0,0,0,0,0,0,0,0,0,0,0]
[1,"CF11114",null,null,null,"Sales of scrap, waste, arms and other used current goods",7,null,0,0,0,0,0,0,0,0,0,0,0,0]
[1,"CF112",null,null,null,"Transfers received",8,null,{"$f":"SUM(I31:I32,I36,I45:I47)","v":0},{"$f":"SUM(J31:J32,J36,J45:J47)","v":0},0,0,0,0,0,0,0,0,0,0,0]
[4,"CF1121",null,null,null,"Social contributions",null,null,0,0,0,0,0,0,0,0,0,0,0,0]
[1,"CF1122",null,null,null,"Other goverment units",9,null,{"$f":"SUM(I33,I42:I44)","v":0},{"$f":"SUM(J33,J42:J44)","v":0},0,0,0,0,0,0,0,0,0,0,0]
[1,"CF11221",null,null,null,"National government",10,null,{"$f":"SUM(I34:I35)","v":0},{"$f":"SUM(J34:J35)","v":0},0,0,0,0,0,0,0,0,0,0,0]
[1,"CF112211",null,null,null,"Departmental transfers",11,null,0,0,0,0,0,0,0,0,0,0,0,0]
[1,"CF1122121",null,null,null,"Other national departments",12,null,0,0,0,0,0,0,0,0,0,0,0,0]
[2,"CF11225",null,null,null,"Skills development  (SETAS only)",null,null,{"$f":"SUM(I37,I41)","v":0},{"$f":"SUM(J37,J41)","v":0},{"$f":"SUM(K37,K41)","v":0},0,0,0,0,0,0,0,0,0,0]
[2,"CF1122122",null,null,null,"Skills development levies ",null,null,{"$f":"SUM(I38:I40)","v":0},{"$f":"SUM(J38:J40)","v":0},0,0,0,0,0,0,0,0,0,0,0]
[2,"CF11221221",null,null,null," Admin - 10.5%",null,null,0,0,0,0,0,0,0,0,0,0,0,0]
[2,"CF11221222",null,null,null,"Employer grant fund levy -  20%",null,null,0,0,0,0,0,0,0,0,0,0,0,0]
[2,"CF11221223",null,null,null,"Discretionary grants - 49.5%",null,null,0,0,0,0,0,0,0,0,0,0,0,0]
[2,"CF1122126",null,null,null,"National skills fund ",null,null,0,0,0,0,0,0,0,0,0,0,0,0]
[1,"CF1122123",null,null,null,"Departmental agencies and accounts",13,null,0,0,0,0,0,0,0,0,0,0,0,0]
[1,"CF1122124",null,null,null,"Provincial governments",14,null,0,0,0,0,0,0,0,0,0,0,0,0]
[1,"CF1122125",null,null,null,"Local governments",15,null,0,0,0,0,0,0,0,0,0,0,0,0]
[1,"CF11222",null,null,null,"Higher education institutions",16,null,0,0,0,0,0,0,0,0,0,0,0,0]
[1,"CF11223",null,null,null,"Foreign governments and international organisations",17,null,0,0,0,0,0,0,0,0,0,0,0,0]
[1,"CF11224",null,null,null,"Local non-government donors",18,null,0,0,0,0,0,0,0,0,0,0,0,0]
[1,"CF113",null,null,null,"Fines, penalties and forfeits",19,null,0,0,0,0,0,0,0,0,0,0,0,0]
[1,"CF114",null,null,null,"Interest and rent on land",20,null,{"$f":"SUM(I50:I52)","v":0},{"$f":"SUM(J50:J52)","v":0},{"$f":"SUM(K50:K52)","v":0},{"$f":"SUM(L50:L52)","v":0},{"$f":"SUM(M50:M52)","v":0},0,0,0,0,0,0,{"$f":"SUM(T50:T52)","v":0},0]
[1,"CF1141",null,null,null,"Interest",21,null,0,0,0,0,0,0,0,0,0,0,0,0]
[1,"CF1142",null,null,null,"Dividends",22,null,0,0,0,0,0,0,0,0,0,0,0,0]
[1,"CF1143",null,null,null,"Rent on land",23,null,0,0,0,0,0,0,0,0,0,0,0,0]
[1,"CF119",null,null,null,"Financial transactions in assets and liabilities",null,null,{"$f":"SUM(I54:I55)","v":0},{"$f":"SUM(J54:J55)","v":0},0,0,0,0,0,0,0,0,0,0,0]
[1,"CF1191",null,null,null,"Forex gains",null,null,0,0,0,0,0,0,0,0,0,0,0,0]
[1,"CF115",null,null,null,"Other receipts",24,null,0,0,0,0,0,0,0,0,0,0,0,0]
[1,"CF116",null,null,null,"Tax benefit",25,null,0,0,0,0,0,0,0,0,0,0,0,0]
[1,"CF117",null,null,null,"Outside shareholders interest",26,null,0,0,0,0,0,0,0,0,0,0,0,0]
[1,"CF2",null,null,null,"Cash paid to stakeholders",null,null,{"$f":"SUM(I59,I121,I150,I155:I156)","v":0},{"$f":"SUM(J59,J121,J150,J155:J156)","v":0},{"$f":"SUM(K59,K121,K150,K155:K156)","v":0},0,0,0,0,0,0,0,0,0,0,null,{"$f":"IF(U58<T58/2,\"Complete outer year budget\",\"\")","v":""}]
[1,"CF21",null,null,null,"Current payments",null,null,{"$f":"SUM(I60,I63,,I117)","v":0},{"$f":"SUM(J60,J63,J117)","v":0},0,0,0,0,0,0,{"$f":"SUM(Q60,Q63,Q117)","v":0},{"$f":"SUM(R60,R63,R117)","v":0},{"$f":"SUM(S60,S63,S117)","v":0},{"$f":"SUM(T60,T63,T117)","v":0},{"$f":"SUM(U60,U63,U117)","v":0}]
[1,"CF211",null,null,null,"Compensation of employees",27,null,{"$f":"SUM(I61:I62)","v":0},0,0,0,0,0,0,0,0,0,0,0,0]
[1,"CF2111",null,null,null,"Salaries and wages",28,null,0,0,0,0,0,0,0,0,0,0,0,0]
[1,"CF2112",null,null,null,"Social contributions",29,null,0,0,0,0,0,0,0,0,0,0,0,0]
[1,"CF212",null,null,null,"Goods and services",null,null,{"$f":"SUM(I64:I73,I77:I80,I92,I94:I116)","v":0},{"$f":"SUM(J64:J73,J77:J80,J92,J94:J116)","v":0},0,0,0,0,0,0,{"$f":"SUM(Q64:Q73,Q77:Q80,Q92,Q94:Q116)","v":0},{"$f":"SUM(R64:R73,R77:R80,R92,R94:R116)","v":0},{"$f":"SUM(S64:S73,S77:S80,S92,S94:S116)","v":0},{"$f":"SUM(T64:T73,T77:T80,T92,T94:T116)","v":0},{"$f":"SUM(U64:U73,U77:U80,U92,U94:U116)","v":0}]
[1,"CF2121",null,null,null,"Administrative fees",30,null,0,0,0,0,0,0,0,0,0,0,0,0]
[1,"CF2122",null,null,null,"Advertising",31,null,0,0,0,0,0,0,0,0,0,0,0,0]
[1,"CF2124",null,null,null,"Minor assets",32,null,0,0,0,0,0,0,0,0,0,0,0,0]
[1,"CF2125",null,null,null,"Audit costs: External",33,null,0,0,0,0,0,0,0,0,0,0,0,0]
[1,"CF2128",null,null,null,"Bursaries: Employees",34,null,0,0,0,0,0,0,0,0,0,0,0,0]
[1,"CF2129",null,null,null,"Catering: Internal activities",35,null,0,0,0,0,0,0,0,0,0,0,0,0]
[1,"CF2130",null,null,null,"Communication (G&S)",36,null,0,0,0,0,0,0,0,0,0,0,0,0]
[1,"CF2131",null,null,null,"Computer services",37,null,0,0,0,0,0,0,0,0,0,0,0,0]
[1,"CF2132",null,null,null,"Consultants: Business and advisory services",38,null,0,0,0,0,0,0,0,0,0,0,0,0]
[1,"CF2179",null,null,null,"Infrastructure and planning services",39,null,{"$f":"SUM(I74:I76)","v":0},{"$f":"SUM(J74:J76)","v":0},0,{"$f":"SUM(L74:L76)","v":0},0,0,0,0,0,0,0,0,0]
[1,"CF21791",null,null,null,"Maintenance and repairs: Buildings: Consultants",40,null,0,0,0,0,0,0,0,0,0,0,0,0]
[1,"CF21792",null,null,null,"Maintenance and repairs: Other fixed structures: Consultants",41,null,0,0,0,0,0,0,0,0,0,0,0,0]
[1,"CF21793",null,null,null,"Other",null,null,0,0,0,0,0,0,0,0,0,0,0,0]
[1,"CF2163",null,null,null,"Laboratory services",42,null,0,0,0,0,0,0,0,0,0,0,0,0]
[1,"CF2137",null,null,null,"Legal services (G&S)",43,null,0,0,0,0,0,0,0,0,0,0,0,0]
[1,"CF2164",null,null,null,"Science and technological services",44,null,0,0,0,0,0,0,0,0,0,0,0,0]
[1,"CF2133",null,null,null,"Contractors",45,null,{"$f":"SUM(I81:I85,I91)","v":0},{"$f":"SUM(J81:J85,J91)","v":0},0,0,0,{"$f":"SUM(N81:N85,N91)","v":0},0,0,0,0,0,0,0]
[1,"CF21331",null,null,null,"Maintenance and repairs of other fixed structures",null,null,0,0,0,0,0,0,0,0,0,0,0,0]
[1,"CF21332",null,null,null,"Maintenance and repairs of other machinery and equipment",null,null,0,0,0,0,0,0,0,0,0,0,0,0]
[1,"CF21333",null,null,null,"Maintenance and repairs of heritage buildings",null,null,0,0,0,0,0,0,0,0,0,0,0,0]
[1,"CF21334",null,null,null,"Maintenance and repairs of other heritage fixed structures",null,null,0,0,0,0,0,0,0,0,0,0,0,0]
[5,"CF21335",null,null,null,"South african social security agency payment contractors",null,null,{"$f":"SUM(I86:I90)","v":0},{"$f":"SUM(J86:J90)","v":0},0,0,0,0,0,0,0,0,0,0,0]
[5,"CF213351",null,null,null,"SASSA Admin fees",null,null,0,0,0,0,0,0,0,0,0,0,0,0]
[5,"CF213352",null,null,null,"SASSA Bankcard fees",null,null,0,0,0,0,0,0,0,0,0,0,0,0]
[5,"CF213353",null,null,null,"SASSA registration fees",null,null,0,0,0,0,0,0,0,0,0,0,0,0]
[5,"CF213354",null,null,null,"SASSA beneficiary fees",null,null,0,0,0,0,0,0,0,0,0,0,0,0]
[5,"CF213355",null,null,null,"SASSA help desk fees",null,null,0,0,0,0,0,0,0,0,0,0,0,0]
[1,"CF21336",null,null,null,"Other",null,null,0,0,0,0,0,0,0,0,0,0,0,0]
[1,"CF2123",null,null,null,"Agency and support/outsourced services",46,null,0,0,0,0,0,0,0,0,0,0,0,0]
[5,"CF21231",null,null,null,"     Of Which: Medical assessments",null,null,0,0,0,0,0,0,0,0,0,0,0,0]
[1,"CF2134",null,null,null,"Entertainment",48,null,0,0,0,0,0,0,0,0,0,0,0,0]
[1,"CF2165",null,null,null,"Fleet services (including government motor transport)",48,null,0,0,0,0,0,0,0,0,0,0,0,0]
[1,"CF2166",null,null,null,"Housing",49,null,0,0,0,0,0,0,0,0,0,0,0,0]
[1,"CF2167",null,null,null,"Inventory: Clothing material and accessories",50,null,0,0,0,0,0,0,0,0,0,0,0,0]
[1,"CF2168",null,null,null,"Inventory: Farming supplies",51,null,0,0,0,0,0,0,0,0,0,0,0,0]
[1,"CF2169",null,null,null,"Inventory: Food and food supplies",52,null,0,0,0,0,0,0,0,0,0,0,0,0]
[1,"CF2170",null,null,null,"Inventory: Fuel, oil and gas",53,null,0,0,0,0,0,0,0,0,0,0,0,0]
[1,"CF2171",null,null,null,"Inventory: Learner and teacher support material",54,null,0,0,0,0,0,0,0,0,0,0,0,0]
[1,"CF2135",null,null,null,"Inventory: Materials and supplies",55,null,0,0,0,0,0,0,0,0,0,0,0,0]
[1,"CF2172",null,null,null,"Inventory: Medical supplies",56,null,0,0,0,0,0,0,0,0,0,0,0,0]
[1,"CF2173",null,null,null,"Inventory: Medicine",57,null,0,0,0,0,0,0,0,0,0,0,0,0]
[1,"CF2174",null,null,null,"Medsas inventory interface",58,null,0,0,0,0,0,0,0,0,0,0,0,0]
[1,"CF2175",null,null,null,"Inventory: Other supplies",59,null,0,0,0,0,0,0,0,0,0,0,0,0]
[1,"CF2176",null,null,null,"Consumable supplies",60,null,0,0,0,0,0,0,0,0,0,0,0,0]
[1,"CF2139",null,null,null,"Consumables: Stationery, printing and office supplies",61,null,0,0,0,0,0,0,0,0,0,0,0,0]
[1,"CF2136",null,null,null,"Operating leases",62,null,0,0,0,0,0,0,0,0,0,0,0,0]
[1,"CF2177",null,null,null,"Rental and hiring",63,null,0,0,0,0,0,0,0,0,0,0,0,0]
[1,"CF2140",null,null,null,"Property payments",64,null,0,0,0,0,0,0,0,0,0,0,0,0]
[1,"CF2178",null,null,null,"Transport provided: Internal activities",65,null,0,0,0,0,0,0,0,0,0,0,0,0]
[1,"CF2144",null,null,null,"Travel and subsistence",66,null,0,0,0,0,0,0,0,0,0,0,0,0]
[1,"CF2143",null,null,null,"Training and development",67,null,0,0,0,0,0,0,0,0,0,0,0,0]
[1,"CF2146",null,null,null,"Operating payments",68,null,0,0,0,0,0,0,0,0,0,0,0,0]
[1,"CF2145",null,null,null,"Venues and facilities",69,null,0,0,0,0,0,0,0,0,0,0,0,0]
[1,"CF213",null,null,null,"Interest and rent on land",null,null,{"$f":"SUM(I118:I120)","v":0},{"$f":"SUM(J118:J120)","v":0},{"$f":"SUM(K118:K120)","v":0},{"$f":"SUM(L118:L120)","v":0},0,0,{"$f":"SUM(O118:O120)","v":0},0,0,0,0,0,0]
[1,"CF2160",null,null,null,"Interest",70,null,0,0,0,0,0,0,0,0,0,0,0,0]
[1,"CF2161",null,null,null,"Dividends",71,null,0,0,0,0,0,0,0,0,0,0,0,0]
[1,"CF2162",null,null,null,"Rent on land",72,null,0,0,0,0,0,0,0,0,0,0,0,0]
[1,"CF24",null,null,null,"Transfers and subsidies",null,null,{"$f":"SUM(I122,I133,I144:I147)","v":0},0,0,0,0,0,0,0,0,0,0,0,0]
[2,"CF241",null,null,null,"Employer Grant (SETAs only)",null,null,{"$f":"SUM(I123,I129,I132)","v":0},0,0,0,0,0,0,0,0,0,0,0,0]
[1,"CF242",null,null,null,"Other government units",null,null,{"$f":"SUM(I124:I128)","v":0},0,0,0,0,0,0,0,0,0,0,0,0]
[1,"CF2421",null,null,null,"National government",null,null,0,0,0,0,0,0,0,0,0,0,0,0]
[1,"CF2422",null,null,null,"Departmental agencies and accounts",null,null,0,0,0,0,0,0,0,0,0,0,0,0]
[1,"CF2423",null,null,null,"Provinces",null,null,0,0,0,0,0,0,0,0,0,0,0,0]
[1,"CF2424",null,null,null,"Municipalities",null,null,0,0,0,0,0,0,0,0,0,0,0,0]
[1,"CF2425",null,null,null,"National Skills Fund",null,null,0,0,0,0,0,0,0,0,0,0,0,0]
[1,"CF243",null,null,null,"Public corporations and private enterprises (subsidies and other transfers)",null,null,{"$f":"SUM(I130:I131)","v":0},{"$f":"SUM(J130:J131)","v":0},{"$f":"SUM(K130:K131)","v":0},{"$f":"SUM(L130:L131)","v":0},{"$f":"SUM(M130:M131)","v":0},0,0,0,0,0,0,{"$f":"SUM(T130:T131)","v":0},0]
[1,"CF2431",null,null,null,"Public corporations",null,null,0,0,0,0,0,0,0,0,0,0,0,0]
[1,"CF2432",null,null,null,"Private enterprises",null,null,0,0,0,0,0,0,0,0,0,0,0,0]
[2,"CF244",null,null,null,"Households and non government units",null,null,0,0,0,0,0,0,0,0,0,0,0,0]
[2,"CF245",null,null,null,"Discretionary Grant (SETAs only)",null,null,{"$f":"SUM(I134,I140,I143)","v":0},0,0,0,0,0,0,0,0,0,0,0,0]
[2,"CF246",null,null,null,"Other government units",null,null,{"$f":"SUM(I135:I139)","v":0},0,0,0,0,0,0,0,0,0,0,0,0]
[2,"CF2461",null,null,null,"National government",null,null,0,0,0,0,0,0,0,0,0,0,0,0]
[2,"CF2462",null,null,null,"Departmental agencies and accounts",null,null,0,0,0,0,0,0,0,0,0,0,0,0]
[2,"CF2463",null,null,null,"Provinces",null,null,0,0,0,0,0,0,0,0,0,0,0,0]
[2,"CF2464",null,null,null,"Municipalities",null,null,0,0,0,0,0,0,0,0,0,0,0,0]
[2,"CF2465",null,null,null,"National Skills Fund",null,null,0,0,0,0,0,0,0,0,0,0,0,0]
[2,"CF247",null,null,null,"Public corporations and private enterprises (subsidies and other transfers)",null,null,{"$f":"SUM(I141:I142)","v":0},{"$f":"SUM(J141:J142)","v":0},{"$f":"SUM(K141:K142)","v":0},{"$f":"SUM(L141:L142)","v":0},0,0,{"$f":"SUM(O141:O142)","v":0},0,0,0,0,{"$f":"SUM(T141:T142)","v":0},0]
[2,"CF2471",null,null,null,"Public corporations",null,null,0,0,0,0,0,0,0,0,0,0,0,0]
[2,"CF2472",null,null,null,"Private enterprises",null,null,0,0,0,0,0,0,0,0,0,0,0,0]
[2,"CF248",null,null,null,"Households and non government units",null,null,0,0,0,0,0,0,0,0,0,0,0,0]
[1,"CF249",null,null,null,"Higher education institutions",null,null,0,0,0,0,0,0,0,0,0,0,0,0]
[1,"CF250",null,null,null,"Foreign governments and international organisations",null,null,0,0,0,0,0,0,0,0,0,0,0,0]
[1,"CF251",null,null,null,"Non-profit institutions",null,null,0,0,0,0,0,0,0,0,0,0,0,0]
[1,"CF252",null,null,null,"Households",null,null,{"$f":"SUM(I148:I149)","v":0},0,0,0,0,0,0,0,0,0,0,0,0]
[1,"CF2521",null,null,null,"Social benefits",null,null,0,0,0,0,0,0,0,0,0,0,0,0]
[1,"CF2522",null,null,null,"Other transfers to households",null,null,0,0,0,0,0,0,0,0,0,0,0,0]
[1,"CF26",null,null,null,"Payments for financial assets",null,null,{"$f":"SUM(I151:I154)","v":0},{"$f":"SUM(J151:J154)","v":0},0,0,0,0,0,0,0,0,0,0,0]
[1,"CF261",null,null,null,"Forex losses",null,null,0,0,0,0,0,0,0,0,0,0,0,0]
[1,"CF262",null,null,null,"Thefts and losses",null,null,0,0,0,0,0,0,0,0,0,0,0,0]
[1,"CF263",null,null,null,"Purchase of equity",null,null,0,0,0,0,0,0,0,0,0,0,0,0]
[1,"CF264",null,null,null,"Other",null,null,0,0,0,0,0,0,0,0,0,0,0,0]
[1,"CF22",null,null,null,"Tax payment",null,null,0,0,0,0,0,0,0,0,0,0,0,0]
[1,"CF23",null,null,null,"Outside shareholders interest",null,null,0,0,0,0,0,0,0,0,0,0,0,0]
[3,"CF4",null,null,null,"Cash flow from advancing activities (Financial Institutions only)",null,null,{"$f":"SUM(I158,I163)","v":0},{"$f":"SUM(J158,J163)","v":0},0,{"$f":"SUM(L158,L163)","v":0},0,0,0,0,0,0,0,0,0]
[3,"CF41",null,null,null,"Disbursements and other payments",null,null,{"$f":"SUM(I159:I162)","v":0},{"$f":"SUM(J159:J162)","v":0},0,0,0,0,0,0,0,0,0,0,0]
[3,"CF411",null,null,null,"Loan disbursements",null,null,0,0,0,0,0,0,0,0,0,0,0,0]
[3,"CF412",null,null,null,"Equity investments disbursements",null,null,0,0,0,0,0,0,0,0,0,0,0,0]
[3,"CF413",null,null,null,"Please specify",null,null,0,0,0,0,0,0,0,0,0,0,0,0]
[3,"CF414",null,null,null,"Please specify",null,null,0,0,0,0,0,0,0,0,0,0,0,0]
[3,"CF42",null,null,null,"Repayments and other receipts",null,null,{"$f":"SUM(I164:I167)","v":0},{"$f":"SUM(J164:J167)","v":0},0,0,0,0,0,0,0,0,0,0,0]
[3,"CF421",null,null,null,"Loan principal repayments",null,null,0,0,0,0,0,0,0,0,0,0,0,0]
[3,"CF422",null,null,null,"Equity investments repayments",null,null,0,0,0,0,0,0,0,0,0,0,0,0]
[3,"CF423",null,null,null,"Please specify",null,null,0,0,0,0,0,0,0,0,0,0,0,0]
[3,"CF424",null,null,null,"Please specify",null,null,0,0,0,0,0,0,0,0,0,0,0,0]
[1,"CF5",null,null,null,"Cash flow from investing activities",null,null,{"$f":"SUM(I169,I182:I185)","v":0},0,0,0,0,0,0,0,0,0,0,0,0]
[1,"CF51",null,null,null,"Acquisition of property, plant, equipment",null,null,{"$f":"SUM(I170:I176,I179:I181)","v":0},{"$f":"SUM(J170:J176,J179:J181)","v":0},{"$f":"SUM(K170:K176,K179:K181)","v":0},{"$f":"SUM(L170:L176,L179:L181)","v":0},0,0,0,0,0,0,0,0,0]
[1,"CF511",null,null,null,"Buildings: residential",82,null,0,0,0,0,0,0,0,0,0,0,0,0]
[1,"CF512",null,null,null,"Buildings: non-residential",83,null,0,0,0,0,0,0,0,0,0,0,0,0]
[1,"CF513",null,null,null,"Other fixed structures",84,null,0,0,0,0,0,0,0,0,0,0,0,0]
[1,"CF515",null,null,null,"Transport equipment",85,null,0,0,0,0,0,0,0,0,0,0,0,0]
[1,"CF516",null,null,null,"Furniture and office equipment",85,null,0,0,0,0,0,0,0,0,0,0,0,0]
[1,"CF517",null,null,null,"Other machinery and equipment",85,null,0,0,0,0,0,0,0,0,0,0,0,0]
[1,"CF518",null,null,null,"Heritage assets",86,null,{"$f":"SUM(I177:I178)","v":0},0,0,0,0,0,{"$f":"SUM(O177:O178)","v":0},0,0,0,0,0,0]
[1,"CF5181",null,null,null,"Buildings and other fixed structures",null,null,0,0,0,0,0,0,0,0,0,0,0,0]
[1,"CF5182",null,null,null,"Other than buildings and fixed structures",null,null,0,0,0,0,0,0,0,0,0,0,0,0]
[1,"CF519",null,null,null,"Biological assets",87,null,0,0,0,0,0,0,0,0,0,0,0,0]
[1,"CF531",null,null,null,"Land & subsoil assets",88,null,0,0,0,0,0,0,0,0,0,0,0,0]
[1,"CF532",null,null,null,"Computer equipment",85,null,0,0,0,0,0,0,0,0,0,0,0,0]
[1,"CF514",null,null,null,"Investment property",89,null,0,0,0,0,0,0,0,0,0,0,0,0]
[1,"CF520",null,null,null,"Acquisition of software and other intangible assets",null,null,0,0,0,0,0,0,0,0,0,0,0,0]
[1,"CF5212",null,null,null,"Proceeds from sale of property, plant, equipment & intangible assets",null,null,0,0,0,0,0,0,0,0,0,0,0,0]
[1,"CF52",null,null,null,"Other flows from Investing Activities",81,null,{"$f":"SUM(I186,I189,I192:I194)","v":0},0,0,0,0,0,0,0,0,0,0,0,0]
[1,"CF521",null,null,null,"Domestic",91,null,{"$f":"SUM(I187:I188)","v":0},0,0,0,0,0,0,0,0,0,0,0,0]
[1,"CF5211",null,null,null,"long term investments",null,null,0,0,0,0,0,0,0,0,0,0,0,0]
[1,"CF5214",null,null,null,"Other",null,null,0,0,0,0,0,0,0,0,0,0,0,0]
[1,"CF522",null,null,null,"Foreign",92,null,{"$f":"SUM(I190:I191)","v":0},0,0,0,0,0,0,0,0,0,0,0,0]
[1,"CF5221",null,null,null,"long term investments",null,null,0,0,0,0,0,0,0,0,0,0,0,0]
[1,"CF5223",null,null,null,"Other",null,null,0,0,0,0,0,0,0,0,0,0,0,0]
[1,"CF523",null,null,null,"Interest",93,null,0,0,0,0,0,0,0,0,0,0,0,0]
[1,"CF524",null,null,null,"Dividends",94,null,0,0,0,0,0,0,0,0,0,0,0,0]
[1,"CF525",null,null,null,"Outside shareholders interest",95,null,0,0,0,0,0,0,0,0,0,0,0,0]
[1,"CF6",null,null,null,"Cash flow from financing activities",null,null,{"$f":"SUM(I196,I199,I211:I214)","v":0},{"$f":"SUM(J196,J199,J211:J214)","v":0},0,0,0,0,0,0,0,0,0,0,0]
[1,"CF61",null,null,null,"Deferred Income",96,null,{"$f":"SUM(I197:I198)","v":0},0,0,0,0,0,0,0,0,0,0,0,0]
[1,"CF611",null,null,null,"Departmental transfer",null,null,0,0,0,0,0,0,0,0,0,0,0,0]
[1,"CF612",null,null,null,"Other Revenue",null,null,0,0,0,0,0,0,0,0,0,0,0,0]
[1,"CF62",null,null,null,"Borrowing Activities",97,null,{"$f":"SUM(I200,I207)","v":0},{"$f":"SUM(J200,J207)","v":0},0,0,0,0,0,0,0,0,0,0,0]
[1,"CF621",null,null,null,"Domestic",null,null,{"$f":"SUM(I201:I203,I206)","v":0},{"$f":"SUM(J201:J203,J206)","v":0},{"$f":"SUM(K201:K203,K206)","v":0},0,0,0,0,0,0,0,0,0,0]
[1,"CF6211",null,null,null,"Loan from other government units",null,null,0,0,0,0,0,0,0,0,0,0,0,0]
[1,"CF6212",null,null,null,"Short-term (≤12 months)",null,null,0,0,0,0,0,0,0,0,0,0,0,0]
[1,"CF6213",null,null,null,"Long-term (>12 months)",null,null,{"$f":"SUM(I204:I205)","v":0},{"$f":"SUM(J204:J205)","v":0},0,0,0,0,{"$f":"SUM(O204:O205)","v":0},0,0,0,0,{"$f":"SUM(T204:T205)","v":0},0]
[1,"CF62131",null,null,null,"Market loans",null,null,0,0,0,0,0,0,0,0,0,0,0,0]
[1,"CF62132",null,null,null,"Other",null,null,0,0,0,0,0,0,0,0,0,0,0,0]
[1,"CF6214",null,null,null,"Repayment of long-term loans",null,null,0,0,0,0,0,0,0,0,0,0,0,0]
[1,"CF622",null,null,null,"Foreign",null,null,{"$f":"SUM(I208:I210)","v":0},{"$f":"SUM(J208:J210)","v":0},{"$f":"SUM(K208:K210)","v":0},{"$f":"SUM(L208:L210)","v":0},{"$f":"SUM(M208:M210)","v":0},0,0,0,0,0,0,{"$f":"SUM(T208:T210)","v":0},0]
[1,"CF6221",null,null,null,"Market loans",null,null,0,0,0,0,0,0,0,0,0,0,0,0]
[1,"CF6222",null,null,null,"Other",null,null,0,0,0,0,0,0,0,0,0,0,0,0]
[1,"CF6223",null,null,null,"Repayment of long-term loans",null,null,0,0,0,0,0,0,0,0,0,0,0,0]
[1,"CF63",null,null,null,"Repayment of finance leases",98,null,0,0,0,0,0,0,0,0,0,0,0,0]
[1,"CF64",null,null,null,"Other (e.g. issuance of shares, revaluations)",99,null,0,0,0,0,0,0,0,0,0,0,0,0]
[1,"CF65",null,null,null,"Interest",100,null,0,0,0,0,0,0,0,0,0,0,0,0]
[1,"CF66",null,null,null,"Dividends",100,null,0,0,0,0,0,0,0,0,0,0,0,0]
[1,"CF7",null,null,null,"Net increase / (decrease) in cash and cash equivalents",null,null,{"$f":"SUM(I11,I157,I168,I195)","v":0},0,0,0,0,0,0,0,0,0,0,0,0]
[1]
[1]
[1,null,null,null,null,"Check"]
[1,null,null,null,null,"Net movement in Cash and cash equivalents as per the Financial statements",null,null,null,0,null,0]
[1,null,null,null,null,"Differences",null,null,null,{"$f":"ROUND(IF(J215-J219>0,IF(J215-J219<1,0,J215-J219),J215-J219),0)","v":0},null,{"$f":"ROUND(IF(L215-L219>0,IF(L215-L219<1,0,L215-L219),L215-L219),0)","v":0},null,{"$f":"ROUND(IF(N215-N219>0,IF(N215-N219<1,0,N215-N219),N215-N219),0)","v":0}]
[1]

{"sheet":"CashFlowDiff","index":22,"n_rows":193,"n_cols":29,"rows_kept":193,"cut":false,"hidden":false,"merged":[[7,16,7,17],[7,26,7,27],[7,18,7,19],[7,20,7,21],[7,24,7,25],[7,22,7,23]]}
[]
[null,null,null,null,null,null,null,"Legend"]
[null,null,null,null,null,"Differences between MTEC23 less BR22",null,"Red",null,"This colour signifies that the difference is above R100 000"]
[null,null,null,null,null,null,null,"Green",null,"This colour signifies that the difference is above (R100 000)"]
[]
[null,null,null,null,null,"PE No",{"$f":"Settings!$O$2","v":"PE196"}]
[null,null,null,null,null,"Entity name",{"$f":"Settings!$D$2","v":"Transnet Limited"}]
[null,null,null,null,null,"Cash flow data",null,{"$f":"MyYearM3","v":"2019/20"},{"$f":"MyYearM2","v":"2020/21"},{"$f":"MyYearM1","v":"2021/22"},{"$f":"MyYear0","v":"2022/23"},{"$f":"MyYearP1","v":"2023/24"},{"$f":"MyYearP2","v":"2024/25"},null,"EXPLANATIONS",null,{"$f":"MyYearM3","v":"2019/20"},null,{"$f":"MyYearM2","v":"2020/21"},null,{"$f":"MyYearM1","v":"2021/22"},null,{"$f":"MyYear0","v":"2022/23"},null,{"$f":"MyYearP1","v":"2023/24"},null,{"$f":"MyYearP2","v":"2024/25"},null,{"$f":"MyYearP3","v":"2025/26"}]
[null,null,null,null,null,"R Thousand",null,{"$f":"Hist_year3RestatedAudited","v":"Audited\noutcome"},{"$f":"Hist_year2RestatedAudited","v":"Audited\noutcome"},{"$f":"Hist_year1Audited","v":"Audited\noutcome"},{"$f":"Cur_YearApprovedBudg","v":"Approved budget"},{"$f":"MTEF1RevBudgEst","v":"Revised\nbudget\nestimate"},{"$f":"MTEF2RevBudgEst","v":"Revised\nbudget\nestimate"},null,null,null,{"$f":"Hist_year3RestatedAudited","v":"Audited\noutcome"},{"$f":"Hist_year3RestatedAudited","v":"Audited\noutcome"},{"$f":"Hist_year3RestatedAudited","v":"Audited\noutcome"},{"$f":"Hist_year2RestatedAudited","v":"Audited\noutcome"},{"$f":"Hist_year1Budget","v":"Budget"},{"$f":"Hist_year1Audited","v":"Audited\noutcome"},{"$f":"Cur_YearBudgEst","v":"Budget\nestimate"},{"$f":"Cur_YearApprovedBudg","v":"Approved budget"},{"$f":"MTEF1BudgEst","v":"Budget\nestimate"},{"$f":"MTEF1RevBudgEst","v":"Revised\nbudget\nestimate"},{"$f":"MTEF2BudgEst","v":"Budget\nestimate"},{"$f":"MTEF2RevBudgEst","v":"Revised\nbudget\nestimate"},{"$f":"MTEF3PlanBudgetEst","v":"Planning\nbudget \nestimate"}]
[null,null,null,null,null,null,null,null,null,null,null,null,null,null,null,null,"BR22","MTEC23","BR22","MTEC23","BR22","MTEC23","BR22","MTEC23","BR22","MTEC23","BR22","MTEC23","MTEC23"]
[{"$f":"CashFlow!A11","v":1},{"$f":"CashFlow!B11","v":"CF3"},null,null,null,"Cash flow from operating activities",null,null,null,null,null,null,null,null,null,null,{"$f":"(Q12-Q58)","v":0},0,0,0,0,0,0,0,0,0,0,0,0]
[{"$f":"CashFlow!A12","v":1},{"$f":"CashFlow!B12","v":"CF1"},null,null,null,"Cash receipts from stakeholders",null,{"$f":"R12-Q12","v":0},{"$f":"T12-S12","v":0},{"$f":"V12-U12","v":0},{"$f":"X12-W12","v":0},{"$f":"Z12-Y12","v":0},{"$f":"AB12-AA12","v":0},null,0,null,{"$f":"SUM(Q13,Q14,Q30,Q48:Q49,Q53,Q56:Q57)","v":0},{"$f":"SUM(R13,R14,R30,R48:R49,R53,R56:R57)","v":0},0,0,0,0,0,0,0,0,0,0,0]
[{"$f":"CashFlow!A13","v":1},{"$f":"CashFlow!B13","v":"CF11"},null,null,null,"Tax receipts",null,0,0,0,0,0,0,null,0,null,0,{"$f":"CashFlow!J13","v":0},0,{"$f":"CashFlow!L13","v":0},{"$f":"CashFlow!M13","v":0},{"$f":"CashFlow!N13","v":0},{"$f":"CashFlow!O13","v":0},{"$f":"CashFlow!P13","v":0},{"$f":"CashFlow!Q13","v":0},{"$f":"CashFlow!R13","v":0},{"$f":"CashFlow!S13","v":0},{"$f":"CashFlow!T13","v":0},{"$f":"CashFlow!U13","v":0}]
[{"$f":"CashFlow!A14","v":1},{"$f":"CashFlow!B14","v":"CF12"},null,null,null,"Sales of goods and services other than capital assets",null,0,0,0,0,0,0,null,0,null,{"$f":"SUM(Q15,Q29)","v":0},{"$f":"SUM(R15,R29)","v":0},0,0,0,0,0,0,0,0,0,0,0]
[{"$f":"CashFlow!A15","v":1},{"$f":"CashFlow!B15","v":"CF1111"},null,null,null,"Sales of goods and services produced by entity",null,0,0,0,0,0,0,null,0,null,{"$f":"SUM(Q16,Q21,Q26)","v":0},{"$f":"SUM(R16,R21,R26)","v":0},0,0,0,0,0,0,0,0,0,0,0]
[{"$f":"CashFlow!A16","v":1},{"$f":"CashFlow!B16","v":"CF11111"},null,null,null,"Administrative fees",null,0,0,0,0,0,0,null,0,null,{"$f":"SUM(Q17:Q20)","v":0},{"$f":"SUM(R17:R20)","v":0},0,0,0,0,0,0,0,0,0,0,0]
[{"$f":"CashFlow!A17","v":1},{"$f":"CashFlow!B17","v":"CF111111"},null,null,null,{"$f":"CashFlow!F17","v":"Inspectorate and Compliance"},null,0,0,0,0,0,0,null,0,null,0,{"$f":"CashFlow!J17","v":0},0,{"$f":"CashFlow!L17","v":0},{"$f":"CashFlow!M17","v":0},{"$f":"CashFlow!N17","v":0},{"$f":"CashFlow!O17","v":0},{"$f":"CashFlow!P17","v":0},{"$f":"CashFlow!Q17","v":0},{"$f":"CashFlow!R17","v":0},{"$f":"CashFlow!S17","v":0},{"$f":"CashFlow!T17","v":0},{"$f":"CashFlow!U17","v":0}]
[{"$f":"CashFlow!A18","v":1},{"$f":"CashFlow!B18","v":"CF111112"},null,null,null,{"$f":"CashFlow!F18","v":"Medicines (incl CAMs)"},null,0,0,0,0,0,0,null,0,null,0,{"$f":"CashFlow!J18","v":0},0,{"$f":"CashFlow!L18","v":0},{"$f":"CashFlow!M18","v":0},{"$f":"CashFlow!N18","v":0},{"$f":"CashFlow!O18","v":0},{"$f":"CashFlow!P18","v":0},{"$f":"CashFlow!Q18","v":0},{"$f":"CashFlow!R18","v":0},{"$f":"CashFlow!S18","v":0},{"$f":"CashFlow!T18","v":0},{"$f":"CashFlow!U18","v":0}]
[{"$f":"CashFlow!A19","v":1},{"$f":"CashFlow!B19","v":"CF111113"},null,null,null,{"$f":"CashFlow!F19","v":"Medical Devices & IVDs (incl Radiation Control)"},null,0,0,0,0,0,0,null,0,null,0,{"$f":"CashFlow!J19","v":0},0,{"$f":"CashFlow!L19","v":0},{"$f":"CashFlow!M19","v":0},{"$f":"CashFlow!N19","v":0},{"$f":"CashFlow!O19","v":0},{"$f":"CashFlow!P19","v":0},{"$f":"CashFlow!Q19","v":0},{"$f":"CashFlow!R19","v":0},{"$f":"CashFlow!S19","v":0},{"$f":"CashFlow!T19","v":0},{"$f":"CashFlow!U19","v":0}]
[{"$f":"CashFlow!A20","v":1},{"$f":"CashFlow!B20","v":"CF111114"},null,null,null,{"$f":"CashFlow!F20","v":"Please specify"},null,0,0,0,0,0,0,null,0,null,0,{"$f":"CashFlow!J20","v":0},0,{"$f":"CashFlow!L20","v":0},{"$f":"CashFlow!M20","v":0},{"$f":"CashFlow!N20","v":0},{"$f":"CashFlow!O20","v":0},{"$f":"CashFlow!P20","v":0},{"$f":"CashFlow!Q20","v":0},{"$f":"CashFlow!R20","v":0},{"$f":"CashFlow!S20","v":0},{"$f":"CashFlow!T20","v":0},{"$f":"CashFlow!U20","v":0}]
[{"$f":"CashFlow!A21","v":1},{"$f":"CashFlow!B21","v":"CF11112"},null,null,null,"Sales by market establishments",null,0,0,0,0,0,0,null,0,null,{"$f":"SUM(Q22:Q25)","v":0},{"$f":"SUM(R22:R25)","v":0},0,0,0,0,0,0,0,0,0,0,0]
[{"$f":"CashFlow!A22","v":1},{"$f":"CashFlow!B22","v":"CF111121"},null,null,null,{"$f":"CashFlow!F22","v":"Ticket Sales"},null,0,0,0,0,0,0,null,0,null,0,{"$f":"CashFlow!J22","v":0},0,{"$f":"CashFlow!L22","v":0},{"$f":"CashFlow!M22","v":0},{"$f":"CashFlow!N22","v":0},{"$f":"CashFlow!O22","v":0},{"$f":"CashFlow!P22","v":0},{"$f":"CashFlow!Q22","v":0},{"$f":"CashFlow!R22","v":0},{"$f":"CashFlow!S22","v":0},{"$f":"CashFlow!T22","v":0},{"$f":"CashFlow!U22","v":0}]
[{"$f":"CashFlow!A23","v":1},{"$f":"CashFlow!B23","v":"CF111122"},null,null,null,{"$f":"CashFlow!F23","v":"Bar Sales"},null,0,0,0,0,0,0,null,0,null,0,{"$f":"CashFlow!J23","v":0},0,{"$f":"CashFlow!L23","v":0},{"$f":"CashFlow!M23","v":0},{"$f":"CashFlow!N23","v":0},{"$f":"CashFlow!O23","v":0},{"$f":"CashFlow!P23","v":0},{"$f":"CashFlow!Q23","v":0},{"$f":"CashFlow!R23","v":0},{"$f":"CashFlow!S23","v":0},{"$f":"CashFlow!T23","v":0},{"$f":"CashFlow!U23","v":0}]
[{"$f":"CashFlow!A24","v":1},{"$f":"CashFlow!B24","v":"CF111123"},null,null,null,{"$f":"CashFlow!F24","v":"Venue hire"},null,0,0,0,0,0,0,null,0,null,0,{"$f":"CashFlow!J24","v":0},0,{"$f":"CashFlow!L24","v":0},{"$f":"CashFlow!M24","v":0},{"$f":"CashFlow!N24","v":0},{"$f":"CashFlow!O24","v":0},{"$f":"CashFlow!P24","v":0},{"$f":"CashFlow!Q24","v":0},{"$f":"CashFlow!R24","v":0},{"$f":"CashFlow!S24","v":0},{"$f":"CashFlow!T24","v":0},{"$f":"CashFlow!U24","v":0}]
[{"$f":"CashFlow!A25","v":1},{"$f":"CashFlow!B25","v":"CF111124"},null,null,null,{"$f":"CashFlow!F25","v":0},null,0,0,0,0,0,0,null,0,null,0,{"$f":"CashFlow!J25","v":0},0,{"$f":"CashFlow!L25","v":0},{"$f":"CashFlow!M25","v":0},{"$f":"CashFlow!N25","v":0},{"$f":"CashFlow!O25","v":0},{"$f":"CashFlow!P25","v":0},{"$f":"CashFlow!Q25","v":0},{"$f":"CashFlow!R25","v":0},{"$f":"CashFlow!S25","v":0},{"$f":"CashFlow!T25","v":0},{"$f":"CashFlow!U25","v":0}]
[{"$f":"CashFlow!A26","v":1},{"$f":"CashFlow!B26","v":"CF11113"},null,null,null,"Other sales",null,0,0,0,0,0,0,null,0,null,{"$f":"SUM(Q27:Q28)","v":0},{"$f":"SUM(R27:R28)","v":0},{"$f":"SUM(S27:S28)","v":0},0,0,0,0,0,0,0,0,0,0]
[{"$f":"CashFlow!A27","v":1},{"$f":"CashFlow!B27","v":"CF111131"},null,null,null,"User charges",null,0,0,0,0,0,0,null,0,null,0,{"$f":"CashFlow!J27","v":0},0,{"$f":"CashFlow!L27","v":0},{"$f":"CashFlow!M27","v":0},{"$f":"CashFlow!N27","v":0},{"$f":"CashFlow!O27","v":0},{"$f":"CashFlow!P27","v":0},{"$f":"CashFlow!Q27","v":0},{"$f":"CashFlow!R27","v":0},{"$f":"CashFlow!S27","v":0},{"$f":"CashFlow!T27","v":0},{"$f":"CashFlow!U27","v":0}]
[{"$f":"CashFlow!A28","v":1},{"$f":"CashFlow!B28","v":"CF111132"},null,null,null,"Sales other than user charges",null,0,0,0,0,0,0,null,0,null,0,{"$f":"CashFlow!J28","v":0},0,{"$f":"CashFlow!L28","v":0},{"$f":"CashFlow!M28","v":0},{"$f":"CashFlow!N28","v":0},{"$f":"CashFlow!O28","v":0},{"$f":"CashFlow!P28","v":0},{"$f":"CashFlow!Q28","v":0},{"$f":"CashFlow!R28","v":0},{"$f":"CashFlow!S28","v":0},{"$f":"CashFlow!T28","v":0},{"$f":"CashFlow!U28","v":0}]
[{"$f":"CashFlow!A29","v":1},{"$f":"CashFlow!B29","v":"CF11114"},null,null,null,"Sales of scrap, waste, arms and other used current goods",null,null,null,null,null,null,null,null,0,null,0,{"$f":"CashFlow!J29","v":0},0,{"$f":"CashFlow!L29","v":0},{"$f":"CashFlow!M29","v":0},{"$f":"CashFlow!N29","v":0},{"$f":"CashFlow!O29","v":0},{"$f":"CashFlow!P29","v":0},{"$f":"CashFlow!Q29","v":0},{"$f":"CashFlow!R29","v":0},{"$f":"CashFlow!S29","v":0},{"$f":"CashFlow!T29","v":0},{"$f":"CashFlow!U29","v":0}]
[{"$f":"CashFlow!A30","v":1},{"$f":"CashFlow!B30","v":"CF112"},null,null,null,"Transfers received",null,0,0,0,0,0,0,null,0,null,{"$f":"SUM(Q31:Q32,Q36,Q45:Q47)","v":0},{"$f":"SUM(R31:R32,R36,R45:R47)","v":0},{"$f":"SUM(S31:S32,S36,S45:S47)","v":0},0,0,0,0,0,0,0,0,0,0]
[{"$f":"CashFlow!A31","v":4},{"$f":"CashFlow!B31","v":"CF1121"},null,null,null,"Social contributions",null,0,0,0,0,0,0,null,0,null,0,{"$f":"CashFlow!J31","v":0},0,{"$f":"CashFlow!L31","v":0},{"$f":"CashFlow!M31","v":0},{"$f":"CashFlow!N31","v":0},{"$f":"CashFlow!O31","v":0},{"$f":"CashFlow!P31","v":0},{"$f":"CashFlow!Q31","v":0},{"$f":"CashFlow!R31","v":0},{"$f":"CashFlow!S31","v":0},{"$f":"CashFlow!T31","v":0},{"$f":"CashFlow!U31","v":0}]
[{"$f":"CashFlow!A32","v":1},{"$f":"CashFlow!B32","v":"CF1122"},null,null,null,"Other goverment units",null,0,0,0,0,0,0,null,0,null,{"$f":"SUM(Q33,Q42:Q44)","v":0},{"$f":"SUM(R33,R42:R44)","v":0},{"$f":"SUM(S33,S42:S44)","v":0},0,0,0,0,0,0,0,0,0,0]
[{"$f":"CashFlow!A33","v":1},{"$f":"CashFlow!B33","v":"CF11221"},null,null,null,"National government",null,0,0,0,0,0,0,null,0,null,{"$f":"SUM(Q34:Q35)","v":0},{"$f":"SUM(R34:R35)","v":0},{"$f":"SUM(S34:S35)","v":0},0,0,0,0,0,0,0,0,0,0]
[{"$f":"CashFlow!A34","v":1},{"$f":"CashFlow!B34","v":"CF112211"},null,null,null,"Departmental transfers",null,0,0,0,0,0,0,null,0,null,0,{"$f":"CashFlow!J34","v":0},0,{"$f":"CashFlow!L34","v":0},{"$f":"CashFlow!M34","v":0},{"$f":"CashFlow!N34","v":0},{"$f":"CashFlow!O34","v":0},{"$f":"CashFlow!P34","v":0},{"$f":"CashFlow!Q34","v":0},{"$f":"CashFlow!R34","v":0},{"$f":"CashFlow!S34","v":0},{"$f":"CashFlow!T34","v":0},{"$f":"CashFlow!U34","v":0}]
[{"$f":"CashFlow!A35","v":1},{"$f":"CashFlow!B35","v":"CF1122121"},null,null,null,"Other national departments",null,0,0,0,0,0,0,null,0,null,0,{"$f":"CashFlow!J35","v":0},0,{"$f":"CashFlow!L35","v":0},{"$f":"CashFlow!M35","v":0},{"$f":"CashFlow!N35","v":0},{"$f":"CashFlow!O35","v":0},{"$f":"CashFlow!P35","v":0},{"$f":"CashFlow!Q35","v":0},{"$f":"CashFlow!R35","v":0},{"$f":"CashFlow!S35","v":0},{"$f":"CashFlow!T35","v":0},{"$f":"CashFlow!U35","v":0}]
[{"$f":"CashFlow!A37","v":2},{"$f":"CashFlow!B37","v":"CF1122122"},null,null,null,"Skills development (SETAs)",null,0,0,0,0,0,0,null,0,null,{"$f":"SUM(Q37,Q41)","v":0},{"$f":"SUM(R37,R41)","v":0},0,0,0,0,0,0,0,0,0,0,0]
[{"$f":"CashFlow!A38","v":2},{"$f":"CashFlow!B38","v":"CF11221221"},null,null,null,"Skills development levies ",null,{"$f":"R37-Q37","v":0},{"$f":"T37-S37","v":0},{"$f":"V37-U37","v":0},{"$f":"X37-W37","v":0},{"$f":"Z37-Y37","v":0},{"$f":"AB37-AA37","v":0},null,0,null,{"$f":"SUM(Q38:Q40)","v":0},{"$f":"SUM(R38:R40)","v":0},0,0,0,0,0,0,0,0,0,0,0]
[{"$f":"CashFlow!A39","v":2},{"$f":"CashFlow!B39","v":"CF11221222"},null,null,null," Admin - 10.5%",null,{"$f":"R38-Q38","v":0},{"$f":"T38-S38","v":0},{"$f":"V38-U38","v":0},{"$f":"X38-W38","v":0},{"$f":"Z38-Y38","v":0},{"$f":"AB38-AA38","v":0},null,0,null,0,{"$f":"CashFlow!J38","v":0},0,{"$f":"CashFlow!L38","v":0},{"$f":"CashFlow!M38","v":0},{"$f":"CashFlow!N38","v":0},{"$f":"CashFlow!O38","v":0},{"$f":"CashFlow!P38","v":0},{"$f":"CashFlow!Q38","v":0},{"$f":"CashFlow!R38","v":0},{"$f":"CashFlow!S38","v":0},{"$f":"CashFlow!T38","v":0},{"$f":"CashFlow!U38","v":0}]
[{"$f":"CashFlow!A40","v":2},{"$f":"CashFlow!B40","v":"CF11221223"},null,null,null,"Employer grant fund levy -  20%",null,{"$f":"R39-Q39","v":0},{"$f":"T39-S39","v":0},{"$f":"V39-U39","v":0},{"$f":"X39-W39","v":0},{"$f":"Z39-Y39","v":0},{"$f":"AB39-AA39","v":0},null,0,null,0,{"$f":"CashFlow!J39","v":0},0,{"$f":"CashFlow!L39","v":0},{"$f":"CashFlow!M39","v":0},{"$f":"CashFlow!N39","v":0},{"$f":"CashFlow!O39","v":0},{"$f":"CashFlow!P39","v":0},{"$f":"CashFlow!Q39","v":0},{"$f":"CashFlow!R39","v":0},{"$f":"CashFlow!S39","v":0},{"$f":"CashFlow!T39","v":0},{"$f":"CashFlow!U39","v":0}]
[{"$f":"CashFlow!A41","v":2},{"$f":"CashFlow!B41","v":"CF1122126"},null,null,null,"Discretionary grants - 49.5%",null,{"$f":"R40-Q40","v":0},{"$f":"T40-S40","v":0},{"$f":"V40-U40","v":0},{"$f":"X40-W40","v":0},{"$f":"Z40-Y40","v":0},{"$f":"AB40-AA40","v":0},null,0,null,0,{"$f":"CashFlow!J40","v":0},0,{"$f":"CashFlow!L40","v":0},{"$f":"CashFlow!M40","v":0},{"$f":"CashFlow!N40","v":0},{"$f":"CashFlow!O40","v":0},{"$f":"CashFlow!P40","v":0},{"$f":"CashFlow!Q40","v":0},{"$f":"CashFlow!R40","v":0},{"$f":"CashFlow!S40","v":0},{"$f":"CashFlow!T40","v":0},{"$f":"CashFlow!U40","v":0}]
[{"$f":"CashFlow!A41","v":2},{"$f":"CashFlow!B41","v":"CF1122126"},null,null,null,"National skills fund ",null,0,0,0,0,0,0,null,0,null,0,{"$f":"CashFlow!J41","v":0},0,{"$f":"CashFlow!L41","v":0},{"$f":"CashFlow!M41","v":0},{"$f":"CashFlow!N41","v":0},{"$f":"CashFlow!O41","v":0},{"$f":"CashFlow!P41","v":0},{"$f":"CashFlow!Q41","v":0},{"$f":"CashFlow!R41","v":0},{"$f":"CashFlow!S41","v":0},{"$f":"CashFlow!T41","v":0},{"$f":"CashFlow!U41","v":0}]
[{"$f":"CashFlow!A42","v":1},{"$f":"CashFlow!B42","v":"CF1122123"},null,null,null,"Departmental agencies and accounts",null,0,0,0,0,0,0,null,0,null,0,{"$f":"CashFlow!J42","v":0},0,{"$f":"CashFlow!L42","v":0},{"$f":"CashFlow!M42","v":0},{"$f":"CashFlow!N42","v":0},{"$f":"CashFlow!O42","v":0},{"$f":"CashFlow!P42","v":0},{"$f":"CashFlow!Q42","v":0},{"$f":"CashFlow!R42","v":0},{"$f":"CashFlow!S42","v":0},{"$f":"CashFlow!T42","v":0},{"$f":"CashFlow!U42","v":0}]
[{"$f":"CashFlow!A43","v":1},{"$f":"CashFlow!B43","v":"CF1122124"},null,null,null,"Provincial governments",null,0,0,0,0,0,0,null,0,null,0,{"$f":"CashFlow!J43","v":0},0,{"$f":"CashFlow!L43","v":0},{"$f":"CashFlow!M43","v":0},{"$f":"CashFlow!N43","v":0},{"$f":"CashFlow!O43","v":0},{"$f":"CashFlow!P43","v":0},{"$f":"CashFlow!Q43","v":0},{"$f":"CashFlow!R43","v":0},{"$f":"CashFlow!S43","v":0},{"$f":"CashFlow!T43","v":0},{"$f":"CashFlow!U43","v":0}]
[{"$f":"CashFlow!A44","v":1},{"$f":"CashFlow!B44","v":"CF1122125"},null,null,null,"Local governments",null,0,0,0,0,0,0,null,0,null,0,{"$f":"CashFlow!J44","v":0},0,{"$f":"CashFlow!L44","v":0},{"$f":"CashFlow!M44","v":0},{"$f":"CashFlow!N44","v":0},{"$f":"CashFlow!O44","v":0},{"$f":"CashFlow!P44","v":0},{"$f":"CashFlow!Q44","v":0},{"$f":"CashFlow!R44","v":0},{"$f":"CashFlow!S44","v":0},{"$f":"CashFlow!T44","v":0},{"$f":"CashFlow!U44","v":0}]
[{"$f":"CashFlow!A45","v":1},{"$f":"CashFlow!B45","v":"CF11222"},null,null,null,"Higher education institutions",null,0,0,0,0,0,0,null,0,null,0,{"$f":"CashFlow!J45","v":0},0,{"$f":"CashFlow!L45","v":0},{"$f":"CashFlow!M45","v":0},{"$f":"CashFlow!N45","v":0},{"$f":"CashFlow!O45","v":0},{"$f":"CashFlow!P45","v":0},{"$f":"CashFlow!Q45","v":0},{"$f":"CashFlow!R45","v":0},{"$f":"CashFlow!S45","v":0},{"$f":"CashFlow!T45","v":0},{"$f":"CashFlow!U45","v":0}]
[{"$f":"CashFlow!A46","v":1},{"$f":"CashFlow!B46","v":"CF11223"},null,null,null,"Foreign governments and international organisations",null,0,0,0,0,0,0,null,0,null,0,{"$f":"CashFlow!J46","v":0},0,{"$f":"CashFlow!L46","v":0},{"$f":"CashFlow!M46","v":0},{"$f":"CashFlow!N46","v":0},{"$f":"CashFlow!O46","v":0},{"$f":"CashFlow!P46","v":0},{"$f":"CashFlow!Q46","v":0},{"$f":"CashFlow!R46","v":0},{"$f":"CashFlow!S46","v":0},{"$f":"CashFlow!T46","v":0},{"$f":"CashFlow!U46","v":0}]
[{"$f":"CashFlow!A47","v":1},{"$f":"CashFlow!B47","v":"CF11224"},null,null,null,"Local non-government donors",null,0,0,0,0,0,0,null,0,null,0,{"$f":"CashFlow!J47","v":0},0,{"$f":"CashFlow!L47","v":0},{"$f":"CashFlow!M47","v":0},{"$f":"CashFlow!N47","v":0},{"$f":"CashFlow!O47","v":0},{"$f":"CashFlow!P47","v":0},{"$f":"CashFlow!Q47","v":0},{"$f":"CashFlow!R47","v":0},{"$f":"CashFlow!S47","v":0},{"$f":"CashFlow!T47","v":0},{"$f":"CashFlow!U47","v":0}]
[{"$f":"CashFlow!A48","v":1},{"$f":"CashFlow!B48","v":"CF113"},null,null,null,"Fines, penalties and forfeits",null,0,0,0,0,0,0,null,0,null,0,{"$f":"CashFlow!J48","v":0},0,{"$f":"CashFlow!L48","v":0},{"$f":"CashFlow!M48","v":0},{"$f":"CashFlow!N48","v":0},{"$f":"CashFlow!O48","v":0},{"$f":"CashFlow!P48","v":0},{"$f":"CashFlow!Q48","v":0},{"$f":"CashFlow!R48","v":0},{"$f":"CashFlow!S48","v":0},{"$f":"CashFlow!T48","v":0},{"$f":"CashFlow!U48","v":0}]
[{"$f":"CashFlow!A49","v":1},{"$f":"CashFlow!B49","v":"CF114"},null,null,null,"Interest and rent on land",null,{"$f":"R49-Q49","v":0},{"$f":"T49-S49","v":0},{"$f":"V49-U49","v":0},{"$f":"X49-W49","v":0},{"$f":"Z49-Y49","v":0},{"$f":"AB49-AA49","v":0},null,0,null,{"$f":"SUM(Q50:Q52)","v":0},{"$f":"SUM(R50:R52)","v":0},0,0,0,0,0,0,0,0,0,0,0]
[{"$f":"CashFlow!A50","v":1},{"$f":"CashFlow!B50","v":"CF1141"},null,null,null,"Interest",null,0,0,0,0,0,0,null,0,null,0,{"$f":"CashFlow!J50","v":0},0,{"$f":"CashFlow!L50","v":0},{"$f":"CashFlow!M50","v":0},{"$f":"CashFlow!N50","v":0},{"$f":"CashFlow!O50","v":0},{"$f":"CashFlow!P50","v":0},{"$f":"CashFlow!Q50","v":0},{"$f":"CashFlow!R50","v":0},{"$f":"CashFlow!S50","v":0},{"$f":"CashFlow!T50","v":0},{"$f":"CashFlow!U50","v":0}]
[{"$f":"CashFlow!A51","v":1},{"$f":"CashFlow!B51","v":"CF1142"},null,null,null,"Dividends",null,0,0,0,0,0,0,null,0,null,0,{"$f":"CashFlow!J51","v":0},0,{"$f":"CashFlow!L51","v":0},{"$f":"CashFlow!M51","v":0},{"$f":"CashFlow!N51","v":0},{"$f":"CashFlow!O51","v":0},{"$f":"CashFlow!P51","v":0},{"$f":"CashFlow!Q51","v":0},{"$f":"CashFlow!R51","v":0},{"$f":"CashFlow!S51","v":0},{"$f":"CashFlow!T51","v":0},{"$f":"CashFlow!U51","v":0}]
[{"$f":"CashFlow!A52","v":1},{"$f":"CashFlow!B52","v":"CF1143"},null,null,null,"Rent on land",null,0,0,0,0,0,0,null,0,null,0,{"$f":"CashFlow!J52","v":0},0,{"$f":"CashFlow!L52","v":0},{"$f":"CashFlow!M52","v":0},{"$f":"CashFlow!N52","v":0},{"$f":"CashFlow!O52","v":0},{"$f":"CashFlow!P52","v":0},{"$f":"CashFlow!Q52","v":0},{"$f":"CashFlow!R52","v":0},{"$f":"CashFlow!S52","v":0},{"$f":"CashFlow!T52","v":0},{"$f":"CashFlow!U52","v":0}]
[{"$f":"CashFlow!A53","v":1},{"$f":"CashFlow!B53","v":"CF119"},null,null,null,"Financial transactions in assets and liabilities",null,{"$f":"R53-Q53","v":0},{"$f":"T53-S53","v":0},{"$f":"V53-U53","v":0},{"$f":"X53-W53","v":0},{"$f":"Z53-Y53","v":0},{"$f":"AB53-AA53","v":0},null,0,null,{"$f":"SUM(Q54:Q55)","v":0},{"$f":"SUM(R54:R55)","v":0},{"$f":"SUM(S54:S55)","v":0},0,0,0,0,0,0,0,0,0,0]
[{"$f":"CashFlow!A54","v":1},{"$f":"CashFlow!B54","v":"CF1191"},null,null,null,"Forex gains",null,{"$f":"R54-Q54","v":0},{"$f":"T54-S54","v":0},{"$f":"V54-U54","v":0},{"$f":"X54-W54","v":0},{"$f":"Z54-Y54","v":0},{"$f":"AB54-AA54","v":0},null,0,null,0,{"$f":"CashFlow!J54","v":0},0,{"$f":"CashFlow!L54","v":0},{"$f":"CashFlow!M54","v":0},{"$f":"CashFlow!N54","v":0},{"$f":"CashFlow!O54","v":0},{"$f":"CashFlow!P54","v":0},{"$f":"CashFlow!Q54","v":0},{"$f":"CashFlow!R54","v":0},{"$f":"CashFlow!S54","v":0},{"$f":"CashFlow!T54","v":0},{"$f":"CashFlow!U54","v":0}]
[{"$f":"CashFlow!A55","v":1},{"$f":"CashFlow!B55","v":"CF115"},null,null,null,"Other receipts",null,0,0,0,0,0,0,null,0,null,0,{"$f":"CashFlow!J55","v":0},0,{"$f":"CashFlow!L55","v":0},{"$f":"CashFlow!M55","v":0},{"$f":"CashFlow!N55","v":0},{"$f":"CashFlow!O55","v":0},{"$f":"CashFlow!P55","v":0},{"$f":"CashFlow!Q55","v":0},{"$f":"CashFlow!R55","v":0},{"$f":"CashFlow!S55","v":0},{"$f":"CashFlow!T55","v":0},{"$f":"CashFlow!U55","v":0}]
[{"$f":"CashFlow!A56","v":1},{"$f":"CashFlow!B56","v":"CF116"},null,null,null,"Tax benefit",null,0,0,0,0,0,0,null,0,null,0,{"$f":"CashFlow!J56","v":0},0,{"$f":"CashFlow!L56","v":0},{"$f":"CashFlow!M56","v":0},{"$f":"CashFlow!N56","v":0},{"$f":"CashFlow!O56","v":0},{"$f":"CashFlow!P56","v":0},{"$f":"CashFlow!Q56","v":0},{"$f":"CashFlow!R56","v":0},{"$f":"CashFlow!S56","v":0},{"$f":"CashFlow!T56","v":0},{"$f":"CashFlow!U56","v":0}]
[{"$f":"CashFlow!A57","v":1},{"$f":"CashFlow!B57","v":"CF117"},null,null,null,"Outside shareholders interest",null,0,0,0,0,0,0,null,0,null,0,{"$f":"CashFlow!J57","v":0},0,{"$f":"CashFlow!L57","v":0},{"$f":"CashFlow!M57","v":0},{"$f":"CashFlow!N57","v":0},{"$f":"CashFlow!O57","v":0},{"$f":"CashFlow!P57","v":0},{"$f":"CashFlow!Q57","v":0},{"$f":"CashFlow!R57","v":0},{"$f":"CashFlow!S57","v":0},{"$f":"CashFlow!T57","v":0},{"$f":"CashFlow!U57","v":0}]
[{"$f":"CashFlow!A58","v":1},{"$f":"CashFlow!B58","v":"CF2"},null,null,null,"Cash paid to stakeholders",null,0,0,0,0,0,0,null,0,null,{"$f":"SUM(Q59,Q121,Q150,Q155:Q156)","v":0},{"$f":"SUM(R59,R121,R150,R155:R156)","v":0},{"$f":"SUM(S59,S121,S150,S155:S156)","v":0},0,0,0,0,0,0,0,0,0,0]
[{"$f":"CashFlow!A59","v":1},{"$f":"CashFlow!B59","v":"CF21"},null,null,null,"Current payments",null,0,0,0,0,0,0,null,0,null,{"$f":"SUM(Q60,Q63,Q117)","v":0},{"$f":"SUM(R60,R63,R117)","v":0},0,0,0,0,0,0,0,0,0,0,0]
[{"$f":"CashFlow!A60","v":1},{"$f":"CashFlow!B60","v":"CF211"},null,null,null,"Compensation of employees",null,0,0,0,0,0,0,null,0,null,{"$f":"SUM(Q61:Q62)","v":0},{"$f":"SUM(R61:R62)","v":0},0,0,0,0,0,0,0,0,0,0,0]
[{"$f":"CashFlow!A61","v":1},{"$f":"CashFlow!B61","v":"CF2111"},null,null,null,"Salaries and wages",null,0,0,0,0,0,0,null,0,null,0,{"$f":"CashFlow!J61","v":0},0,{"$f":"CashFlow!L61","v":0},{"$f":"CashFlow!M61","v":0},{"$f":"CashFlow!N61","v":0},{"$f":"CashFlow!O61","v":0},{"$f":"CashFlow!P61","v":0},{"$f":"CashFlow!Q61","v":0},{"$f":"CashFlow!R61","v":0},{"$f":"CashFlow!S61","v":0},{"$f":"CashFlow!T61","v":0},{"$f":"CashFlow!U61","v":0}]
[{"$f":"CashFlow!A62","v":1},{"$f":"CashFlow!B62","v":"CF2112"},null,null,null,"Social contributions",null,0,0,0,0,0,0,null,0,null,0,{"$f":"CashFlow!J62","v":0},0,{"$f":"CashFlow!L62","v":0},{"$f":"CashFlow!M62","v":0},{"$f":"CashFlow!N62","v":0},{"$f":"CashFlow!O62","v":0},{"$f":"CashFlow!P62","v":0},{"$f":"CashFlow!Q62","v":0},{"$f":"CashFlow!R62","v":0},{"$f":"CashFlow!S62","v":0},{"$f":"CashFlow!T62","v":0},{"$f":"CashFlow!U62","v":0}]
[{"$f":"CashFlow!A63","v":1},{"$f":"CashFlow!B63","v":"CF212"},null,null,null,"Goods and services",null,0,0,0,0,0,0,null,0,null,{"$f":"SUM(Q64:Q73,Q77:Q80,Q92,Q94:Q116)","v":0},{"$f":"SUM(R64:R73,R77:R80,R92,R94:R116)","v":0},0,0,0,0,0,0,0,0,0,0,0]
[{"$f":"CashFlow!A64","v":1},{"$f":"CashFlow!B64","v":"CF2121"},null,null,null,"Administrative fees",null,0,0,0,0,0,0,null,0,null,0,{"$f":"CashFlow!J64","v":0},0,{"$f":"CashFlow!L64","v":0},{"$f":"CashFlow!M64","v":0},{"$f":"CashFlow!N64","v":0},{"$f":"CashFlow!O64","v":0},{"$f":"CashFlow!P64","v":0},{"$f":"CashFlow!Q64","v":0},{"$f":"CashFlow!R64","v":0},{"$f":"CashFlow!S64","v":0},{"$f":"CashFlow!T64","v":0},{"$f":"CashFlow!U64","v":0}]
[{"$f":"CashFlow!A65","v":1},{"$f":"CashFlow!B65","v":"CF2122"},null,null,null,"Advertising",null,0,0,0,0,0,0,null,0,null,0,{"$f":"CashFlow!J65","v":0},0,{"$f":"CashFlow!L65","v":0},{"$f":"CashFlow!M65","v":0},{"$f":"CashFlow!N65","v":0},{"$f":"CashFlow!O65","v":0},{"$f":"CashFlow!P65","v":0},{"$f":"CashFlow!Q65","v":0},{"$f":"CashFlow!R65","v":0},{"$f":"CashFlow!S65","v":0},{"$f":"CashFlow!T65","v":0},{"$f":"CashFlow!U65","v":0}]
[{"$f":"CashFlow!A66","v":1},{"$f":"CashFlow!B66","v":"CF2124"},null,null,null,"Minor assets",null,0,0,0,0,0,0,null,0,null,0,{"$f":"CashFlow!J66","v":0},0,{"$f":"CashFlow!L66","v":0},{"$f":"CashFlow!M66","v":0},{"$f":"CashFlow!N66","v":0},{"$f":"CashFlow!O66","v":0},{"$f":"CashFlow!P66","v":0},{"$f":"CashFlow!Q66","v":0},{"$f":"CashFlow!R66","v":0},{"$f":"CashFlow!S66","v":0},{"$f":"CashFlow!T66","v":0},{"$f":"CashFlow!U66","v":0}]
[{"$f":"CashFlow!A67","v":1},{"$f":"CashFlow!B67","v":"CF2125"},null,null,null,"Audit costs: External",null,0,0,0,0,0,0,null,0,null,0,{"$f":"CashFlow!J67","v":0},0,{"$f":"CashFlow!L67","v":0},{"$f":"CashFlow!M67","v":0},{"$f":"CashFlow!N67","v":0},{"$f":"CashFlow!O67","v":0},{"$f":"CashFlow!P67","v":0},{"$f":"CashFlow!Q67","v":0},{"$f":"CashFlow!R67","v":0},{"$f":"CashFlow!S67","v":0},{"$f":"CashFlow!T67","v":0},{"$f":"CashFlow!U67","v":0}]
[{"$f":"CashFlow!A68","v":1},{"$f":"CashFlow!B68","v":"CF2128"},null,null,null,"Bursaries: Employees",null,0,0,0,0,0,0,null,0,null,0,{"$f":"CashFlow!J68","v":0},0,{"$f":"CashFlow!L68","v":0},{"$f":"CashFlow!M68","v":0},{"$f":"CashFlow!N68","v":0},{"$f":"CashFlow!O68","v":0},{"$f":"CashFlow!P68","v":0},{"$f":"CashFlow!Q68","v":0},{"$f":"CashFlow!R68","v":0},{"$f":"CashFlow!S68","v":0},{"$f":"CashFlow!T68","v":0},{"$f":"CashFlow!U68","v":0}]
[{"$f":"CashFlow!A69","v":1},{"$f":"CashFlow!B69","v":"CF2129"},null,null,null,"Catering: Internal activities",null,0,0,0,0,0,0,null,0,null,0,{"$f":"CashFlow!J69","v":0},0,{"$f":"CashFlow!L69","v":0},{"$f":"CashFlow!M69","v":0},{"$f":"CashFlow!N69","v":0},{"$f":"CashFlow!O69","v":0},{"$f":"CashFlow!P69","v":0},{"$f":"CashFlow!Q69","v":0},{"$f":"CashFlow!R69","v":0},{"$f":"CashFlow!S69","v":0},{"$f":"CashFlow!T69","v":0},{"$f":"CashFlow!U69","v":0}]
[{"$f":"CashFlow!A70","v":1},{"$f":"CashFlow!B70","v":"CF2130"},null,null,null,"Communication (G&S)",null,0,0,0,0,0,0,null,0,null,0,{"$f":"CashFlow!J70","v":0},0,{"$f":"CashFlow!L70","v":0},{"$f":"CashFlow!M70","v":0},{"$f":"CashFlow!N70","v":0},{"$f":"CashFlow!O70","v":0},{"$f":"CashFlow!P70","v":0},{"$f":"CashFlow!Q70","v":0},{"$f":"CashFlow!R70","v":0},{"$f":"CashFlow!S70","v":0},{"$f":"CashFlow!T70","v":0},{"$f":"CashFlow!U70","v":0}]
[{"$f":"CashFlow!A71","v":1},{"$f":"CashFlow!B71","v":"CF2131"},null,null,null,"Computer services",null,0,0,0,0,0,0,null,0,null,0,{"$f":"CashFlow!J71","v":0},0,{"$f":"CashFlow!L71","v":0},{"$f":"CashFlow!M71","v":0},{"$f":"CashFlow!N71","v":0},{"$f":"CashFlow!O71","v":0},{"$f":"CashFlow!P71","v":0},{"$f":"CashFlow!Q71","v":0},{"$f":"CashFlow!R71","v":0},{"$f":"CashFlow!S71","v":0},{"$f":"CashFlow!T71","v":0},{"$f":"CashFlow!U71","v":0}]
[{"$f":"CashFlow!A72","v":1},{"$f":"CashFlow!B72","v":"CF2132"},null,null,null,"Consultants: Business and advisory services",null,0,0,0,0,0,0,null,0,null,0,{"$f":"CashFlow!J72","v":0},0,{"$f":"CashFlow!L72","v":0},{"$f":"CashFlow!M72","v":0},{"$f":"CashFlow!N72","v":0},{"$f":"CashFlow!O72","v":0},{"$f":"CashFlow!P72","v":0},{"$f":"CashFlow!Q72","v":0},{"$f":"CashFlow!R72","v":0},{"$f":"CashFlow!S72","v":0},{"$f":"CashFlow!T72","v":0},{"$f":"CashFlow!U72","v":0}]
[{"$f":"CashFlow!A73","v":1},{"$f":"CashFlow!B73","v":"CF2179"},null,null,null,"Infrastructure and planning services",null,0,0,0,0,0,0,null,0,null,{"$f":"SUM(Q74:Q76)","v":0},{"$f":"SUM(R74:R76)","v":0},0,0,0,0,0,0,0,0,0,0,0]
[{"$f":"CashFlow!A74","v":1},{"$f":"CashFlow!B74","v":"CF21791"},null,null,null,"Maintenance and repairs: Buildings: Consultants",null,0,0,0,0,0,0,null,0,null,0,{"$f":"CashFlow!J74","v":0},0,{"$f":"CashFlow!L74","v":0},{"$f":"CashFlow!M74","v":0},{"$f":"CashFlow!N74","v":0},{"$f":"CashFlow!O74","v":0},{"$f":"CashFlow!P74","v":0},{"$f":"CashFlow!Q74","v":0},{"$f":"CashFlow!R74","v":0},{"$f":"CashFlow!S74","v":0},{"$f":"CashFlow!T74","v":0},{"$f":"CashFlow!U74","v":0}]
[{"$f":"CashFlow!A75","v":1},{"$f":"CashFlow!B75","v":"CF21792"},null,null,null,"Maintenance and repairs: Other fixed structures: Consultants",null,0,0,0,0,0,0,null,0,null,0,{"$f":"CashFlow!J75","v":0},0,{"$f":"CashFlow!L75","v":0},{"$f":"CashFlow!M75","v":0},{"$f":"CashFlow!N75","v":0},{"$f":"CashFlow!O75","v":0},{"$f":"CashFlow!P75","v":0},{"$f":"CashFlow!Q75","v":0},{"$f":"CashFlow!R75","v":0},{"$f":"CashFlow!S75","v":0},{"$f":"CashFlow!T75","v":0},{"$f":"CashFlow!U75","v":0}]
[{"$f":"CashFlow!A76","v":1},{"$f":"CashFlow!B76","v":"CF21793"},null,null,null,"Other",null,0,0,0,0,0,0,null,0,null,0,{"$f":"CashFlow!J76","v":0},0,{"$f":"CashFlow!L76","v":0},{"$f":"CashFlow!M76","v":0},{"$f":"CashFlow!N76","v":0},{"$f":"CashFlow!O76","v":0},{"$f":"CashFlow!P76","v":0},{"$f":"CashFlow!Q76","v":0},{"$f":"CashFlow!R76","v":0},{"$f":"CashFlow!S76","v":0},{"$f":"CashFlow!T76","v":0},{"$f":"CashFlow!U76","v":0}]
[{"$f":"CashFlow!A77","v":1},{"$f":"CashFlow!B77","v":"CF2163"},null,null,null,"Laboratory services",null,0,0,0,0,0,0,null,0,null,0,{"$f":"CashFlow!J77","v":0},0,{"$f":"CashFlow!L77","v":0},{"$f":"CashFlow!M77","v":0},{"$f":"CashFlow!N77","v":0},{"$f":"CashFlow!O77","v":0},{"$f":"CashFlow!P77","v":0},{"$f":"CashFlow!Q77","v":0},{"$f":"CashFlow!R77","v":0},{"$f":"CashFlow!S77","v":0},{"$f":"CashFlow!T77","v":0},{"$f":"CashFlow!U77","v":0}]
[{"$f":"CashFlow!A78","v":1},{"$f":"CashFlow!B78","v":"CF2137"},null,null,null,"Legal services (G&S)",null,0,0,0,0,0,0,null,0,null,0,{"$f":"CashFlow!J78","v":0},0,{"$f":"CashFlow!L78","v":0},{"$f":"CashFlow!M78","v":0},{"$f":"CashFlow!N78","v":0},{"$f":"CashFlow!O78","v":0},{"$f":"CashFlow!P78","v":0},{"$f":"CashFlow!Q78","v":0},{"$f":"CashFlow!R78","v":0},{"$f":"CashFlow!S78","v":0},{"$f":"CashFlow!T78","v":0},{"$f":"CashFlow!U78","v":0}]
[{"$f":"CashFlow!A79","v":1},{"$f":"CashFlow!B79","v":"CF2164"},null,null,null,"Science and technological services",null,0,0,0,0,0,0,null,0,null,0,{"$f":"CashFlow!J79","v":0},0,{"$f":"CashFlow!L79","v":0},{"$f":"CashFlow!M79","v":0},{"$f":"CashFlow!N79","v":0},{"$f":"CashFlow!O79","v":0},{"$f":"CashFlow!P79","v":0},{"$f":"CashFlow!Q79","v":0},{"$f":"CashFlow!R79","v":0},{"$f":"CashFlow!S79","v":0},{"$f":"CashFlow!T79","v":0},{"$f":"CashFlow!U79","v":0}]
[{"$f":"CashFlow!A80","v":1},{"$f":"CashFlow!B80","v":"CF2133"},null,null,null,"Contractors",null,0,0,0,0,0,0,null,0,null,{"$f":"SUM(Q81:Q85,Q91)","v":0},{"$f":"SUM(R81:R85,R91)","v":0},0,0,0,0,0,0,0,0,0,0,0]
[{"$f":"CashFlow!A81","v":1},{"$f":"CashFlow!B81","v":"CF21331"},null,null,null,"Maintenance and repairs of other fixed structures",null,0,0,0,0,0,0,null,0,null,0,{"$f":"CashFlow!J81","v":0},0,{"$f":"CashFlow!L81","v":0},{"$f":"CashFlow!M81","v":0},{"$f":"CashFlow!N81","v":0},{"$f":"CashFlow!O81","v":0},{"$f":"CashFlow!P81","v":0},{"$f":"CashFlow!Q81","v":0},{"$f":"CashFlow!R81","v":0},{"$f":"CashFlow!S81","v":0},{"$f":"CashFlow!T81","v":0},{"$f":"CashFlow!U81","v":0}]
[{"$f":"CashFlow!A82","v":1},{"$f":"CashFlow!B82","v":"CF21332"},null,null,null,"Maintenance and repairs of other machinery and equipment",null,0,0,0,0,0,0,null,0,null,0,{"$f":"CashFlow!J82","v":0},0,{"$f":"CashFlow!L82","v":0},{"$f":"CashFlow!M82","v":0},{"$f":"CashFlow!N82","v":0},{"$f":"CashFlow!O82","v":0},{"$f":"CashFlow!P82","v":0},{"$f":"CashFlow!Q82","v":0},{"$f":"CashFlow!R82","v":0},{"$f":"CashFlow!S82","v":0},{"$f":"CashFlow!T82","v":0},{"$f":"CashFlow!U82","v":0}]
[{"$f":"CashFlow!A83","v":1},{"$f":"CashFlow!B83","v":"CF21333"},null,null,null,"Maintenance and repairs of heritage buildings",null,{"$f":"R83-Q83","v":0},{"$f":"T83-S83","v":0},{"$f":"V83-U83","v":0},{"$f":"X83-W83","v":0},{"$f":"Z83-Y83","v":0},{"$f":"AB83-AA83","v":0},null,0,null,0,{"$f":"CashFlow!J83","v":0},0,{"$f":"CashFlow!L83","v":0},{"$f":"CashFlow!M83","v":0},{"$f":"CashFlow!N83","v":0},{"$f":"CashFlow!O83","v":0},{"$f":"CashFlow!P83","v":0},{"$f":"CashFlow!Q83","v":0},{"$f":"CashFlow!R83","v":0},{"$f":"CashFlow!S83","v":0},{"$f":"CashFlow!T83","v":0},{"$f":"CashFlow!U83","v":0}]
[{"$f":"CashFlow!A84","v":1},{"$f":"CashFlow!B84","v":"CF21334"},null,null,null,"Maintenance and repairs of other heritage fixed structures",null,0,0,0,0,0,0,null,0,null,0,{"$f":"CashFlow!J84","v":0},0,{"$f":"CashFlow!L84","v":0},{"$f":"CashFlow!M84","v":0},{"$f":"CashFlow!N84","v":0},{"$f":"CashFlow!O84","v":0},{"$f":"CashFlow!P84","v":0},{"$f":"CashFlow!Q84","v":0},{"$f":"CashFlow!R84","v":0},{"$f":"CashFlow!S84","v":0},{"$f":"CashFlow!T84","v":0},{"$f":"CashFlow!U84","v":0}]
[{"$f":"CashFlow!A85","v":5},{"$f":"CashFlow!B85","v":"CF21335"},null,null,null,"South african social security agency payment contractors",null,0,0,0,0,0,0,null,0,null,{"$f":"SUM(Q86:Q90)","v":0},{"$f":"SUM(R86:R90)","v":0},0,0,0,0,0,0,0,0,0,0,0]
[{"$f":"CashFlow!A86","v":5},{"$f":"CashFlow!B86","v":"CF213351"},null,null,null,"SASSA Admin fees",null,0,0,0,0,0,0,null,0,null,0,{"$f":"CashFlow!J86","v":0},0,{"$f":"CashFlow!L86","v":0},{"$f":"CashFlow!M86","v":0},{"$f":"CashFlow!N86","v":0},{"$f":"CashFlow!O86","v":0},{"$f":"CashFlow!P86","v":0},{"$f":"CashFlow!Q86","v":0},{"$f":"CashFlow!R86","v":0},{"$f":"CashFlow!S86","v":0},{"$f":"CashFlow!T86","v":0},{"$f":"CashFlow!U86","v":0}]
[{"$f":"CashFlow!A87","v":5},{"$f":"CashFlow!B87","v":"CF213352"},null,null,null,"SASSA Bankcard fees",null,0,0,0,0,0,0,null,0,null,0,{"$f":"CashFlow!J87","v":0},0,{"$f":"CashFlow!L87","v":0},{"$f":"CashFlow!M87","v":0},{"$f":"CashFlow!N87","v":0},{"$f":"CashFlow!O87","v":0},{"$f":"CashFlow!P87","v":0},{"$f":"CashFlow!Q87","v":0},{"$f":"CashFlow!R87","v":0},{"$f":"CashFlow!S87","v":0},{"$f":"CashFlow!T87","v":0},{"$f":"CashFlow!U87","v":0}]
[{"$f":"CashFlow!A88","v":5},{"$f":"CashFlow!B88","v":"CF213353"},null,null,null,"SASSA registration fees",null,0,0,0,0,0,0,null,0,null,0,{"$f":"CashFlow!J88","v":0},0,{"$f":"CashFlow!L88","v":0},{"$f":"CashFlow!M88","v":0},{"$f":"CashFlow!N88","v":0},{"$f":"CashFlow!O88","v":0},{"$f":"CashFlow!P88","v":0},{"$f":"CashFlow!Q88","v":0},{"$f":"CashFlow!R88","v":0},{"$f":"CashFlow!S88","v":0},{"$f":"CashFlow!T88","v":0},{"$f":"CashFlow!U88","v":0}]
[{"$f":"CashFlow!A89","v":5},{"$f":"CashFlow!B89","v":"CF213354"},null,null,null,"SASSA beneficiary fees",null,0,0,0,0,0,0,null,0,null,0,{"$f":"CashFlow!J89","v":0},0,{"$f":"CashFlow!L89","v":0},{"$f":"CashFlow!M89","v":0},{"$f":"CashFlow!N89","v":0},{"$f":"CashFlow!O89","v":0},{"$f":"CashFlow!P89","v":0},{"$f":"CashFlow!Q89","v":0},{"$f":"CashFlow!R89","v":0},{"$f":"CashFlow!S89","v":0},{"$f":"CashFlow!T89","v":0},{"$f":"CashFlow!U89","v":0}]
[{"$f":"CashFlow!A90","v":5},{"$f":"CashFlow!B90","v":"CF213355"},null,null,null,"SASSA help desk fees",null,0,0,0,0,0,0,null,0,null,0,{"$f":"CashFlow!J90","v":0},0,{"$f":"CashFlow!L90","v":0},{"$f":"CashFlow!M90","v":0},{"$f":"CashFlow!N90","v":0},{"$f":"CashFlow!O90","v":0},{"$f":"CashFlow!P90","v":0},{"$f":"CashFlow!Q90","v":0},{"$f":"CashFlow!R90","v":0},{"$f":"CashFlow!S90","v":0},{"$f":"CashFlow!T90","v":0},{"$f":"CashFlow!U90","v":0}]
[{"$f":"CashFlow!A91","v":1},{"$f":"CashFlow!B91","v":"CF21336"},null,null,null,"Other",null,0,0,0,0,0,0,null,0,null,0,{"$f":"CashFlow!J91","v":0},0,{"$f":"CashFlow!L91","v":0},{"$f":"CashFlow!M91","v":0},{"$f":"CashFlow!N91","v":0},{"$f":"CashFlow!O91","v":0},{"$f":"CashFlow!P91","v":0},{"$f":"CashFlow!Q91","v":0},{"$f":"CashFlow!R91","v":0},{"$f":"CashFlow!S91","v":0},{"$f":"CashFlow!T91","v":0},{"$f":"CashFlow!U91","v":0}]
[{"$f":"CashFlow!A92","v":1},{"$f":"CashFlow!B92","v":"CF2123"},null,null,null,"Agency and support/outsourced services",null,0,0,0,0,0,0,null,0,null,0,{"$f":"CashFlow!J92","v":0},0,{"$f":"CashFlow!L92","v":0},{"$f":"CashFlow!M92","v":0},{"$f":"CashFlow!N92","v":0},{"$f":"CashFlow!O92","v":0},{"$f":"CashFlow!P92","v":0},{"$f":"CashFlow!Q92","v":0},{"$f":"CashFlow!R92","v":0},{"$f":"CashFlow!S92","v":0},{"$f":"CashFlow!T92","v":0},{"$f":"CashFlow!U92","v":0}]
[{"$f":"CashFlow!A93","v":5},{"$f":"CashFlow!B93","v":"CF21231"},null,null,null,"     Of Which: Medical assessments",null,null,null,null,null,null,null,null,0,null,0,{"$f":"CashFlow!J93","v":0},0,{"$f":"CashFlow!L93","v":0},{"$f":"CashFlow!M93","v":0},{"$f":"CashFlow!N93","v":0},{"$f":"CashFlow!O93","v":0},{"$f":"CashFlow!P93","v":0},{"$f":"CashFlow!Q93","v":0},{"$f":"CashFlow!R93","v":0},{"$f":"CashFlow!S93","v":0},{"$f":"CashFlow!T93","v":0},{"$f":"CashFlow!U93","v":0}]
[{"$f":"CashFlow!A94","v":1},{"$f":"CashFlow!B94","v":"CF2134"},null,null,null,"Entertainment",null,{"$f":"R94-Q94","v":0},{"$f":"T94-S94","v":0},{"$f":"V94-U94","v":0},{"$f":"X94-W94","v":0},{"$f":"Z94-Y94","v":0},{"$f":"AB94-AA94","v":0},null,0,null,0,{"$f":"CashFlow!J94","v":0},0,{"$f":"CashFlow!L94","v":0},{"$f":"CashFlow!M94","v":0},{"$f":"CashFlow!N94","v":0},{"$f":"CashFlow!O94","v":0},{"$f":"CashFlow!P94","v":0},{"$f":"CashFlow!Q94","v":0},{"$f":"CashFlow!R94","v":0},{"$f":"CashFlow!S94","v":0},{"$f":"CashFlow!T94","v":0},{"$f":"CashFlow!U94","v":0}]
[{"$f":"CashFlow!A95","v":1},{"$f":"CashFlow!B95","v":"CF2165"},null,null,null,"Fleet services (including government motor transport)",null,0,0,0,0,0,0,null,0,null,0,{"$f":"CashFlow!J95","v":0},0,{"$f":"CashFlow!L95","v":0},{"$f":"CashFlow!M95","v":0},{"$f":"CashFlow!N95","v":0},{"$f":"CashFlow!O95","v":0},{"$f":"CashFlow!P95","v":0},{"$f":"CashFlow!Q95","v":0},{"$f":"CashFlow!R95","v":0},{"$f":"CashFlow!S95","v":0},{"$f":"CashFlow!T95","v":0},{"$f":"CashFlow!U95","v":0}]
[{"$f":"CashFlow!A96","v":1},{"$f":"CashFlow!B96","v":"CF2166"},null,null,null,"Housing",null,0,0,0,0,0,0,null,0,null,0,{"$f":"CashFlow!J96","v":0},0,{"$f":"CashFlow!L96","v":0},{"$f":"CashFlow!M96","v":0},{"$f":"CashFlow!N96","v":0},{"$f":"CashFlow!O96","v":0},{"$f":"CashFlow!P96","v":0},{"$f":"CashFlow!Q96","v":0},{"$f":"CashFlow!R96","v":0},{"$f":"CashFlow!S96","v":0},{"$f":"CashFlow!T96","v":0},{"$f":"CashFlow!U96","v":0}]
[{"$f":"CashFlow!A97","v":1},{"$f":"CashFlow!B97","v":"CF2167"},null,null,null,"Inventory: Clothing material and accessories",null,0,0,0,0,0,0,null,0,null,0,{"$f":"CashFlow!J97","v":0},0,{"$f":"CashFlow!L97","v":0},{"$f":"CashFlow!M97","v":0},{"$f":"CashFlow!N97","v":0},{"$f":"CashFlow!O97","v":0},{"$f":"CashFlow!P97","v":0},{"$f":"CashFlow!Q97","v":0},{"$f":"CashFlow!R97","v":0},{"$f":"CashFlow!S97","v":0},{"$f":"CashFlow!T97","v":0},{"$f":"CashFlow!U97","v":0}]
[{"$f":"CashFlow!A98","v":1},{"$f":"CashFlow!B98","v":"CF2168"},null,null,null,"Inventory: Farming supplies",null,0,0,0,0,0,0,null,0,null,0,{"$f":"CashFlow!J98","v":0},0,{"$f":"CashFlow!L98","v":0},{"$f":"CashFlow!M98","v":0},{"$f":"CashFlow!N98","v":0},{"$f":"CashFlow!O98","v":0},{"$f":"CashFlow!P98","v":0},{"$f":"CashFlow!Q98","v":0},{"$f":"CashFlow!R98","v":0},{"$f":"CashFlow!S98","v":0},{"$f":"CashFlow!T98","v":0},{"$f":"CashFlow!U98","v":0}]
[{"$f":"CashFlow!A99","v":1},{"$f":"CashFlow!B99","v":"CF2169"},null,null,null,"Inventory: Food and food supplies",null,0,0,0,0,0,0,null,0,null,0,{"$f":"CashFlow!J99","v":0},0,{"$f":"CashFlow!L99","v":0},{"$f":"CashFlow!M99","v":0},{"$f":"CashFlow!N99","v":0},{"$f":"CashFlow!O99","v":0},{"$f":"CashFlow!P99","v":0},{"$f":"CashFlow!Q99","v":0},{"$f":"CashFlow!R99","v":0},{"$f":"CashFlow!S99","v":0},{"$f":"CashFlow!T99","v":0},{"$f":"CashFlow!U99","v":0}]
[{"$f":"CashFlow!A100","v":1},{"$f":"CashFlow!B100","v":"CF2170"},null,null,null,"Inventory: Fuel, oil and gas",null,0,0,0,0,0,0,null,0,null,0,{"$f":"CashFlow!J100","v":0},0,{"$f":"CashFlow!L100","v":0},{"$f":"CashFlow!M100","v":0},{"$f":"CashFlow!N100","v":0},{"$f":"CashFlow!O100","v":0},{"$f":"CashFlow!P100","v":0},{"$f":"CashFlow!Q100","v":0},{"$f":"CashFlow!R100","v":0},{"$f":"CashFlow!S100","v":0},{"$f":"CashFlow!T100","v":0},{"$f":"CashFlow!U100","v":0}]
[{"$f":"CashFlow!A101","v":1},{"$f":"CashFlow!B101","v":"CF2171"},null,null,null,"Inventory: Learner and teacher support material",null,0,0,0,0,0,0,null,0,null,0,{"$f":"CashFlow!J101","v":0},0,{"$f":"CashFlow!L101","v":0},{"$f":"CashFlow!M101","v":0},{"$f":"CashFlow!N101","v":0},{"$f":"CashFlow!O101","v":0},{"$f":"CashFlow!P101","v":0},{"$f":"CashFlow!Q101","v":0},{"$f":"CashFlow!R101","v":0},{"$f":"CashFlow!S101","v":0},{"$f":"CashFlow!T101","v":0},{"$f":"CashFlow!U101","v":0}]
[{"$f":"CashFlow!A102","v":1},{"$f":"CashFlow!B102","v":"CF2135"},null,null,null,"Inventory: Materials and supplies",null,0,0,0,0,0,0,null,0,null,0,{"$f":"CashFlow!J102","v":0},0,{"$f":"CashFlow!L102","v":0},{"$f":"CashFlow!M102","v":0},{"$f":"CashFlow!N102","v":0},{"$f":"CashFlow!O102","v":0},{"$f":"CashFlow!P102","v":0},{"$f":"CashFlow!Q102","v":0},{"$f":"CashFlow!R102","v":0},{"$f":"CashFlow!S102","v":0},{"$f":"CashFlow!T102","v":0},{"$f":"CashFlow!U102","v":0}]
[{"$f":"CashFlow!A103","v":1},{"$f":"CashFlow!B103","v":"CF2172"},null,null,null,"Inventory: Medical supplies",null,0,0,0,0,0,0,null,0,null,0,{"$f":"CashFlow!J103","v":0},0,{"$f":"CashFlow!L103","v":0},{"$f":"CashFlow!M103","v":0},{"$f":"CashFlow!N103","v":0},{"$f":"CashFlow!O103","v":0},{"$f":"CashFlow!P103","v":0},{"$f":"CashFlow!Q103","v":0},{"$f":"CashFlow!R103","v":0},{"$f":"CashFlow!S103","v":0},{"$f":"CashFlow!T103","v":0},{"$f":"CashFlow!U103","v":0}]
[{"$f":"CashFlow!A104","v":1},{"$f":"CashFlow!B104","v":"CF2173"},null,null,null,"Inventory: Medicine",null,0,0,0,0,0,0,null,0,null,0,{"$f":"CashFlow!J104","v":0},0,{"$f":"CashFlow!L104","v":0},{"$f":"CashFlow!M104","v":0},{"$f":"CashFlow!N104","v":0},{"$f":"CashFlow!O104","v":0},{"$f":"CashFlow!P104","v":0},{"$f":"CashFlow!Q104","v":0},{"$f":"CashFlow!R104","v":0},{"$f":"CashFlow!S104","v":0},{"$f":"CashFlow!T104","v":0},{"$f":"CashFlow!U104","v":0}]
[{"$f":"CashFlow!A105","v":1},{"$f":"CashFlow!B105","v":"CF2174"},null,null,null,"Medsas inventory interface",null,0,0,0,0,0,0,null,0,null,0,{"$f":"CashFlow!J105","v":0},0,{"$f":"CashFlow!L105","v":0},{"$f":"CashFlow!M105","v":0},{"$f":"CashFlow!N105","v":0},{"$f":"CashFlow!O105","v":0},{"$f":"CashFlow!P105","v":0},{"$f":"CashFlow!Q105","v":0},{"$f":"CashFlow!R105","v":0},{"$f":"CashFlow!S105","v":0},{"$f":"CashFlow!T105","v":0},{"$f":"CashFlow!U105","v":0}]
[{"$f":"CashFlow!A106","v":1},{"$f":"CashFlow!B106","v":"CF2175"},null,null,null,"Inventory: Other supplies",null,0,0,0,0,0,0,null,0,null,0,{"$f":"CashFlow!J106","v":0},0,{"$f":"CashFlow!L106","v":0},{"$f":"CashFlow!M106","v":0},{"$f":"CashFlow!N106","v":0},{"$f":"CashFlow!O106","v":0},{"$f":"CashFlow!P106","v":0},{"$f":"CashFlow!Q106","v":0},{"$f":"CashFlow!R106","v":0},{"$f":"CashFlow!S106","v":0},{"$f":"CashFlow!T106","v":0},{"$f":"CashFlow!U106","v":0}]
[{"$f":"CashFlow!A107","v":1},{"$f":"CashFlow!B107","v":"CF2176"},null,null,null,"Consumable supplies",null,0,0,0,0,0,0,null,0,null,0,{"$f":"CashFlow!J107","v":0},0,{"$f":"CashFlow!L107","v":0},{"$f":"CashFlow!M107","v":0},{"$f":"CashFlow!N107","v":0},{"$f":"CashFlow!O107","v":0},{"$f":"CashFlow!P107","v":0},{"$f":"CashFlow!Q107","v":0},{"$f":"CashFlow!R107","v":0},{"$f":"CashFlow!S107","v":0},{"$f":"CashFlow!T107","v":0},{"$f":"CashFlow!U107","v":0}]
[{"$f":"CashFlow!A108","v":1},{"$f":"CashFlow!B108","v":"CF2139"},null,null,null,"Consumables: Stationery, printing and office supplies",null,0,0,0,0,0,0,null,0,null,0,{"$f":"CashFlow!J108","v":0},0,{"$f":"CashFlow!L108","v":0},{"$f":"CashFlow!M108","v":0},{"$f":"CashFlow!N108","v":0},{"$f":"CashFlow!O108","v":0},{"$f":"CashFlow!P108","v":0},{"$f":"CashFlow!Q108","v":0},{"$f":"CashFlow!R108","v":0},{"$f":"CashFlow!S108","v":0},{"$f":"CashFlow!T108","v":0},{"$f":"CashFlow!U108","v":0}]
[{"$f":"CashFlow!A109","v":1},{"$f":"CashFlow!B109","v":"CF2136"},null,null,null,"Operating leases",null,0,0,0,0,0,0,null,0,null,0,{"$f":"CashFlow!J109","v":0},0,{"$f":"CashFlow!L109","v":0},{"$f":"CashFlow!M109","v":0},{"$f":"CashFlow!N109","v":0},{"$f":"CashFlow!O109","v":0},{"$f":"CashFlow!P109","v":0},{"$f":"CashFlow!Q109","v":0},{"$f":"CashFlow!R109","v":0},{"$f":"CashFlow!S109","v":0},{"$f":"CashFlow!T109","v":0},{"$f":"CashFlow!U109","v":0}]
[{"$f":"CashFlow!A110","v":1},{"$f":"CashFlow!B110","v":"CF2177"},null,null,null,"Rental and hiring",null,0,0,0,0,0,0,null,0,null,0,{"$f":"CashFlow!J110","v":0},0,{"$f":"CashFlow!L110","v":0},{"$f":"CashFlow!M110","v":0},{"$f":"CashFlow!N110","v":0},{"$f":"CashFlow!O110","v":0},{"$f":"CashFlow!P110","v":0},{"$f":"CashFlow!Q110","v":0},{"$f":"CashFlow!R110","v":0},{"$f":"CashFlow!S110","v":0},{"$f":"CashFlow!T110","v":0},{"$f":"CashFlow!U110","v":0}]
[{"$f":"CashFlow!A111","v":1},{"$f":"CashFlow!B111","v":"CF2140"},null,null,null,"Property payments",null,0,0,0,0,0,0,null,0,null,0,{"$f":"CashFlow!J111","v":0},0,{"$f":"CashFlow!L111","v":0},{"$f":"CashFlow!M111","v":0},{"$f":"CashFlow!N111","v":0},{"$f":"CashFlow!O111","v":0},{"$f":"CashFlow!P111","v":0},{"$f":"CashFlow!Q111","v":0},{"$f":"CashFlow!R111","v":0},{"$f":"CashFlow!S111","v":0},{"$f":"CashFlow!T111","v":0},{"$f":"CashFlow!U111","v":0}]
[{"$f":"CashFlow!A112","v":1},{"$f":"CashFlow!B112","v":"CF2178"},null,null,null,"Transport provided: Internal activities",null,0,0,0,0,0,0,null,0,null,0,{"$f":"CashFlow!J112","v":0},0,{"$f":"CashFlow!L112","v":0},{"$f":"CashFlow!M112","v":0},{"$f":"CashFlow!N112","v":0},{"$f":"CashFlow!O112","v":0},{"$f":"CashFlow!P112","v":0},{"$f":"CashFlow!Q112","v":0},{"$f":"CashFlow!R112","v":0},{"$f":"CashFlow!S112","v":0},{"$f":"CashFlow!T112","v":0},{"$f":"CashFlow!U112","v":0}]
[{"$f":"CashFlow!A113","v":1},{"$f":"CashFlow!B113","v":"CF2144"},null,null,null,"Travel and subsistence",null,0,0,0,0,0,0,null,0,null,0,{"$f":"CashFlow!J113","v":0},0,{"$f":"CashFlow!L113","v":0},{"$f":"CashFlow!M113","v":0},{"$f":"CashFlow!N113","v":0},{"$f":"CashFlow!O113","v":0},{"$f":"CashFlow!P113","v":0},{"$f":"CashFlow!Q113","v":0},{"$f":"CashFlow!R113","v":0},{"$f":"CashFlow!S113","v":0},{"$f":"CashFlow!T113","v":0},{"$f":"CashFlow!U113","v":0}]
[{"$f":"CashFlow!A114","v":1},{"$f":"CashFlow!B114","v":"CF2143"},null,null,null,"Training and development",null,0,0,0,0,0,0,null,0,null,0,{"$f":"CashFlow!J114","v":0},0,{"$f":"CashFlow!L114","v":0},{"$f":"CashFlow!M114","v":0},{"$f":"CashFlow!N114","v":0},{"$f":"CashFlow!O114","v":0},{"$f":"CashFlow!P114","v":0},{"$f":"CashFlow!Q114","v":0},{"$f":"CashFlow!R114","v":0},{"$f":"CashFlow!S114","v":0},{"$f":"CashFlow!T114","v":0},{"$f":"CashFlow!U114","v":0}]
[{"$f":"CashFlow!A115","v":1},{"$f":"CashFlow!B115","v":"CF2146"},null,null,null,"Operating payments",null,0,0,0,0,0,0,null,0,null,0,{"$f":"CashFlow!J115","v":0},0,{"$f":"CashFlow!L115","v":0},{"$f":"CashFlow!M115","v":0},{"$f":"CashFlow!N115","v":0},{"$f":"CashFlow!O115","v":0},{"$f":"CashFlow!P115","v":0},{"$f":"CashFlow!Q115","v":0},{"$f":"CashFlow!R115","v":0},{"$f":"CashFlow!S115","v":0},{"$f":"CashFlow!T115","v":0},{"$f":"CashFlow!U115","v":0}]
[{"$f":"CashFlow!A116","v":1},{"$f":"CashFlow!B116","v":"CF2145"},null,null,null,"Venues and facilities",null,0,0,0,0,0,0,null,0,null,0,{"$f":"CashFlow!J116","v":0},0,{"$f":"CashFlow!L116","v":0},{"$f":"CashFlow!M116","v":0},{"$f":"CashFlow!N116","v":0},{"$f":"CashFlow!O116","v":0},{"$f":"CashFlow!P116","v":0},{"$f":"CashFlow!Q116","v":0},{"$f":"CashFlow!R116","v":0},{"$f":"CashFlow!S116","v":0},{"$f":"CashFlow!T116","v":0},{"$f":"CashFlow!U116","v":0}]
[{"$f":"CashFlow!A117","v":1},{"$f":"CashFlow!B117","v":"CF213"},null,null,null,"Interest and rent on land",null,0,0,0,0,0,0,null,0,null,{"$f":"SUM(Q118:Q120)","v":0},{"$f":"SUM(R118:R120)","v":0},0,0,0,0,0,0,0,0,0,0,0]
[{"$f":"CashFlow!A118","v":1},{"$f":"CashFlow!B118","v":"CF2160"},null,null,null,"Interest",null,0,0,0,0,0,0,null,0,null,0,{"$f":"CashFlow!J118","v":0},0,{"$f":"CashFlow!L118","v":0},{"$f":"CashFlow!M118","v":0},{"$f":"CashFlow!N118","v":0},{"$f":"CashFlow!O118","v":0},{"$f":"CashFlow!P118","v":0},{"$f":"CashFlow!Q118","v":0},{"$f":"CashFlow!R118","v":0},{"$f":"CashFlow!S118","v":0},{"$f":"CashFlow!T118","v":0},{"$f":"CashFlow!U118","v":0}]
[{"$f":"CashFlow!A119","v":1},{"$f":"CashFlow!B119","v":"CF2161"},null,null,null,"Dividends",null,0,0,0,0,0,0,null,0,null,0,{"$f":"CashFlow!J119","v":0},0,{"$f":"CashFlow!L119","v":0},{"$f":"CashFlow!M119","v":0},{"$f":"CashFlow!N119","v":0},{"$f":"CashFlow!O119","v":0},{"$f":"CashFlow!P119","v":0},{"$f":"CashFlow!Q119","v":0},{"$f":"CashFlow!R119","v":0},{"$f":"CashFlow!S119","v":0},{"$f":"CashFlow!T119","v":0},{"$f":"CashFlow!U119","v":0}]
[{"$f":"CashFlow!A120","v":1},{"$f":"CashFlow!B120","v":"CF2162"},null,null,null,"Rent on land",null,0,0,0,0,0,0,null,0,null,0,{"$f":"CashFlow!J120","v":0},0,{"$f":"CashFlow!L120","v":0},{"$f":"CashFlow!M120","v":0},{"$f":"CashFlow!N120","v":0},{"$f":"CashFlow!O120","v":0},{"$f":"CashFlow!P120","v":0},{"$f":"CashFlow!Q120","v":0},{"$f":"CashFlow!R120","v":0},{"$f":"CashFlow!S120","v":0},{"$f":"CashFlow!T120","v":0},{"$f":"CashFlow!U120","v":0}]
[{"$f":"CashFlow!A121","v":1},{"$f":"CashFlow!B121","v":"CF24"},null,null,null,"Transfers and subsidies",null,0,0,0,0,0,0,null,0,null,{"$f":"SUM(Q122,Q133,Q144:Q147)","v":0},{"$f":"SUM(R122,R133,R144:R147)","v":0},0,0,0,0,0,0,0,0,0,0,0]
[{"$f":"CashFlow!A122","v":2},{"$f":"CashFlow!B122","v":"CF241"},null,null,null,"Employer Grant (SETAs only)",null,0,0,0,0,0,0,null,0,null,{"$f":"SUM(Q123,Q129,Q132)","v":0},{"$f":"SUM(R123,R129,R132)","v":0},0,0,0,0,0,0,0,0,0,0,0]
[{"$f":"CashFlow!A123","v":1},{"$f":"CashFlow!B123","v":"CF242"},null,null,null,"Other government units",null,0,0,0,0,0,0,null,0,null,{"$f":"SUM(Q124:Q128)","v":0},{"$f":"SUM(R124:R128)","v":0},0,0,0,0,0,0,0,0,0,0,0]
[{"$f":"CashFlow!A124","v":1},{"$f":"CashFlow!B124","v":"CF2421"},null,null,null,"National government",null,0,0,0,0,0,0,null,0,null,0,{"$f":"CashFlow!J124","v":0},0,{"$f":"CashFlow!L124","v":0},{"$f":"CashFlow!M124","v":0},{"$f":"CashFlow!N124","v":0},{"$f":"CashFlow!O124","v":0},{"$f":"CashFlow!P124","v":0},{"$f":"CashFlow!Q124","v":0},{"$f":"CashFlow!R124","v":0},{"$f":"CashFlow!S124","v":0},{"$f":"CashFlow!T124","v":0},{"$f":"CashFlow!U124","v":0}]
[{"$f":"CashFlow!A125","v":1},{"$f":"CashFlow!B125","v":"CF2422"},null,null,null,"Departmental agencies and accounts",null,0,0,0,0,0,0,null,0,null,0,{"$f":"CashFlow!J125","v":0},0,{"$f":"CashFlow!L125","v":0},{"$f":"CashFlow!M125","v":0},{"$f":"CashFlow!N125","v":0},{"$f":"CashFlow!O125","v":0},{"$f":"CashFlow!P125","v":0},{"$f":"CashFlow!Q125","v":0},{"$f":"CashFlow!R125","v":0},{"$f":"CashFlow!S125","v":0},{"$f":"CashFlow!T125","v":0},{"$f":"CashFlow!U125","v":0}]
[{"$f":"CashFlow!A126","v":1},{"$f":"CashFlow!B126","v":"CF2423"},null,null,null,"Provinces",null,{"$f":"R126-Q126","v":0},{"$f":"T126-S126","v":0},{"$f":"V126-U126","v":0},{"$f":"X126-W126","v":0},{"$f":"Z126-Y126","v":0},{"$f":"AB126-AA126","v":0},null,0,null,0,{"$f":"CashFlow!J126","v":0},0,{"$f":"CashFlow!L126","v":0},{"$f":"CashFlow!M126","v":0},{"$f":"CashFlow!N126","v":0},{"$f":"CashFlow!O126","v":0},{"$f":"CashFlow!P126","v":0},{"$f":"CashFlow!Q126","v":0},{"$f":"CashFlow!R126","v":0},{"$f":"CashFlow!S126","v":0},{"$f":"CashFlow!T126","v":0},{"$f":"CashFlow!U126","v":0}]
[{"$f":"CashFlow!A127","v":1},{"$f":"CashFlow!B127","v":"CF2424"},null,null,null,"Municipalities",null,0,0,0,0,0,0,null,0,null,0,{"$f":"CashFlow!J127","v":0},0,{"$f":"CashFlow!L127","v":0},{"$f":"CashFlow!M127","v":0},{"$f":"CashFlow!N127","v":0},{"$f":"CashFlow!O127","v":0},{"$f":"CashFlow!P127","v":0},{"$f":"CashFlow!Q127","v":0},{"$f":"CashFlow!R127","v":0},{"$f":"CashFlow!S127","v":0},{"$f":"CashFlow!T127","v":0},{"$f":"CashFlow!U127","v":0}]
[{"$f":"CashFlow!A128","v":1},{"$f":"CashFlow!B128","v":"CF2425"},null,null,null,"National Skills Fund",null,0,0,0,0,0,0,null,0,null,0,{"$f":"CashFlow!J128","v":0},0,{"$f":"CashFlow!L128","v":0},{"$f":"CashFlow!M128","v":0},{"$f":"CashFlow!N128","v":0},{"$f":"CashFlow!O128","v":0},{"$f":"CashFlow!P128","v":0},{"$f":"CashFlow!Q128","v":0},{"$f":"CashFlow!R128","v":0},{"$f":"CashFlow!S128","v":0},{"$f":"CashFlow!T128","v":0},{"$f":"CashFlow!U128","v":0}]
[{"$f":"CashFlow!A129","v":1},{"$f":"CashFlow!B129","v":"CF243"},null,null,null,"Public corporations and private enterprises (subsidies and other transfers)",null,0,0,0,0,0,0,null,0,null,{"$f":"SUM(Q130:Q131)","v":0},{"$f":"SUM(R130:R131)","v":0},0,0,0,0,0,0,0,0,0,0,0]
[{"$f":"CashFlow!A130","v":1},{"$f":"CashFlow!B130","v":"CF2431"},null,null,null,"Public corporations",null,0,0,0,0,0,0,null,0,null,0,{"$f":"CashFlow!J130","v":0},0,{"$f":"CashFlow!L130","v":0},{"$f":"CashFlow!M130","v":0},{"$f":"CashFlow!N130","v":0},{"$f":"CashFlow!O130","v":0},{"$f":"CashFlow!P130","v":0},{"$f":"CashFlow!Q130","v":0},{"$f":"CashFlow!R130","v":0},{"$f":"CashFlow!S130","v":0},{"$f":"CashFlow!T130","v":0},{"$f":"CashFlow!U130","v":0}]
[{"$f":"CashFlow!A131","v":1},{"$f":"CashFlow!B131","v":"CF2432"},null,null,null,"Private enterprises",null,0,0,0,0,0,0,null,0,null,0,{"$f":"CashFlow!J131","v":0},0,{"$f":"CashFlow!L131","v":0},{"$f":"CashFlow!M131","v":0},{"$f":"CashFlow!N131","v":0},{"$f":"CashFlow!O131","v":0},{"$f":"CashFlow!P131","v":0},{"$f":"CashFlow!Q131","v":0},{"$f":"CashFlow!R131","v":0},{"$f":"CashFlow!S131","v":0},{"$f":"CashFlow!T131","v":0},{"$f":"CashFlow!U131","v":0}]
[{"$f":"CashFlow!A132","v":2},{"$f":"CashFlow!B132","v":"CF244"},null,null,null,"Households and non government units",null,0,0,0,0,0,0,null,0,null,0,{"$f":"CashFlow!J132","v":0},0,{"$f":"CashFlow!L132","v":0},{"$f":"CashFlow!M132","v":0},{"$f":"CashFlow!N132","v":0},{"$f":"CashFlow!O132","v":0},{"$f":"CashFlow!P132","v":0},{"$f":"CashFlow!Q132","v":0},{"$f":"CashFlow!R132","v":0},{"$f":"CashFlow!S132","v":0},{"$f":"CashFlow!T132","v":0},{"$f":"CashFlow!U132","v":0}]
[{"$f":"CashFlow!A133","v":2},{"$f":"CashFlow!B133","v":"CF245"},null,null,null,"Discretionary Grant (SETAs only)",null,0,0,0,0,0,0,null,0,null,{"$f":"SUM(Q134,Q140,Q143)","v":0},{"$f":"SUM(R134,R140,R143)","v":0},0,0,0,0,0,0,0,0,0,0,0]
[{"$f":"CashFlow!A134","v":2},{"$f":"CashFlow!B134","v":"CF246"},null,null,null,"Other government units",null,0,0,0,0,0,0,null,0,null,{"$f":"SUM(Q135:Q139)","v":0},{"$f":"SUM(R135:R139)","v":0},0,0,0,0,0,0,0,0,0,0,0]
[{"$f":"CashFlow!A135","v":2},{"$f":"CashFlow!B135","v":"CF2461"},null,null,null,"National government",null,0,0,0,0,0,0,null,0,null,0,{"$f":"CashFlow!J135","v":0},0,{"$f":"CashFlow!L135","v":0},{"$f":"CashFlow!M135","v":0},{"$f":"CashFlow!N135","v":0},{"$f":"CashFlow!O135","v":0},{"$f":"CashFlow!P135","v":0},{"$f":"CashFlow!Q135","v":0},{"$f":"CashFlow!R135","v":0},{"$f":"CashFlow!S135","v":0},{"$f":"CashFlow!T135","v":0},{"$f":"CashFlow!U135","v":0}]
[{"$f":"CashFlow!A136","v":2},{"$f":"CashFlow!B136","v":"CF2462"},null,null,null,"Departmental agencies and accounts",null,0,0,0,0,0,0,null,0,null,0,{"$f":"CashFlow!J136","v":0},0,{"$f":"CashFlow!L136","v":0},{"$f":"CashFlow!M136","v":0},{"$f":"CashFlow!N136","v":0},{"$f":"CashFlow!O136","v":0},{"$f":"CashFlow!P136","v":0},{"$f":"CashFlow!Q136","v":0},{"$f":"CashFlow!R136","v":0},{"$f":"CashFlow!S136","v":0},{"$f":"CashFlow!T136","v":0},{"$f":"CashFlow!U136","v":0}]
[{"$f":"CashFlow!A137","v":2},{"$f":"CashFlow!B137","v":"CF2463"},null,null,null,"Provinces",null,0,0,0,0,0,0,null,0,null,0,{"$f":"CashFlow!J137","v":0},0,{"$f":"CashFlow!L137","v":0},{"$f":"CashFlow!M137","v":0},{"$f":"CashFlow!N137","v":0},{"$f":"CashFlow!O137","v":0},{"$f":"CashFlow!P137","v":0},{"$f":"CashFlow!Q137","v":0},{"$f":"CashFlow!R137","v":0},{"$f":"CashFlow!S137","v":0},{"$f":"CashFlow!T137","v":0},{"$f":"CashFlow!U137","v":0}]
[{"$f":"CashFlow!A138","v":2},{"$f":"CashFlow!B138","v":"CF2464"},null,null,null,"Municipalities",null,0,0,0,0,0,0,null,0,null,0,{"$f":"CashFlow!J138","v":0},0,{"$f":"CashFlow!L138","v":0},{"$f":"CashFlow!M138","v":0},{"$f":"CashFlow!N138","v":0},{"$f":"CashFlow!O138","v":0},{"$f":"CashFlow!P138","v":0},{"$f":"CashFlow!Q138","v":0},{"$f":"CashFlow!R138","v":0},{"$f":"CashFlow!S138","v":0},{"$f":"CashFlow!T138","v":0},{"$f":"CashFlow!U138","v":0}]
[{"$f":"CashFlow!A139","v":2},{"$f":"CashFlow!B139","v":"CF2465"},null,null,null,"National Skills Fund",null,0,0,0,0,0,0,null,0,null,0,{"$f":"CashFlow!J139","v":0},0,{"$f":"CashFlow!L139","v":0},{"$f":"CashFlow!M139","v":0},{"$f":"CashFlow!N139","v":0},{"$f":"CashFlow!O139","v":0},{"$f":"CashFlow!P139","v":0},{"$f":"CashFlow!Q139","v":0},{"$f":"CashFlow!R139","v":0},{"$f":"CashFlow!S139","v":0},{"$f":"CashFlow!T139","v":0},{"$f":"CashFlow!U139","v":0}]
[{"$f":"CashFlow!A140","v":2},{"$f":"CashFlow!B140","v":"CF247"},null,null,null,"Public corporations and private enterprises (subsidies and other transfers)",null,0,0,0,0,0,0,null,0,null,{"$f":"SUM(Q141:Q142)","v":0},{"$f":"SUM(R141:R142)","v":0},0,0,0,0,0,0,0,0,0,0,0]
[{"$f":"CashFlow!A141","v":2},{"$f":"CashFlow!B141","v":"CF2471"},null,null,null,"Public corporations",null,0,0,0,0,0,0,null,0,null,0,{"$f":"CashFlow!J141","v":0},0,{"$f":"CashFlow!L141","v":0},{"$f":"CashFlow!M141","v":0},{"$f":"CashFlow!N141","v":0},{"$f":"CashFlow!O141","v":0},{"$f":"CashFlow!P141","v":0},{"$f":"CashFlow!Q141","v":0},{"$f":"CashFlow!R141","v":0},{"$f":"CashFlow!S141","v":0},{"$f":"CashFlow!T141","v":0},{"$f":"CashFlow!U141","v":0}]
[{"$f":"CashFlow!A142","v":2},{"$f":"CashFlow!B142","v":"CF2472"},null,null,null,"Private enterprises",null,0,0,0,0,0,0,null,0,null,0,{"$f":"CashFlow!J142","v":0},0,{"$f":"CashFlow!L142","v":0},{"$f":"CashFlow!M142","v":0},{"$f":"CashFlow!N142","v":0},{"$f":"CashFlow!O142","v":0},{"$f":"CashFlow!P142","v":0},{"$f":"CashFlow!Q142","v":0},{"$f":"CashFlow!R142","v":0},{"$f":"CashFlow!S142","v":0},{"$f":"CashFlow!T142","v":0},{"$f":"CashFlow!U142","v":0}]
[{"$f":"CashFlow!A143","v":2},{"$f":"CashFlow!B143","v":"CF248"},null,null,null,"Households and non government units",null,0,0,0,0,0,0,null,0,null,0,{"$f":"CashFlow!J143","v":0},0,{"$f":"CashFlow!L143","v":0},{"$f":"CashFlow!M143","v":0},{"$f":"CashFlow!N143","v":0},{"$f":"CashFlow!O143","v":0},{"$f":"CashFlow!P143","v":0},{"$f":"CashFlow!Q143","v":0},{"$f":"CashFlow!R143","v":0},{"$f":"CashFlow!S143","v":0},{"$f":"CashFlow!T143","v":0},{"$f":"CashFlow!U143","v":0}]
[{"$f":"CashFlow!A144","v":1},{"$f":"CashFlow!B144","v":"CF249"},null,null,null,"Higher education institutions",null,0,0,0,0,0,0,null,0,null,0,{"$f":"CashFlow!J144","v":0},0,{"$f":"CashFlow!L144","v":0},{"$f":"CashFlow!M144","v":0},{"$f":"CashFlow!N144","v":0},{"$f":"CashFlow!O144","v":0},{"$f":"CashFlow!P144","v":0},{"$f":"CashFlow!Q144","v":0},{"$f":"CashFlow!R144","v":0},{"$f":"CashFlow!S144","v":0},{"$f":"CashFlow!T144","v":0},{"$f":"CashFlow!U144","v":0}]
[{"$f":"CashFlow!A145","v":1},{"$f":"CashFlow!B145","v":"CF250"},null,null,null,"Foreign governments and international organisations",null,0,0,0,0,0,0,null,0,null,0,{"$f":"CashFlow!J145","v":0},0,{"$f":"CashFlow!L145","v":0},{"$f":"CashFlow!M145","v":0},{"$f":"CashFlow!N145","v":0},{"$f":"CashFlow!O145","v":0},{"$f":"CashFlow!P145","v":0},{"$f":"CashFlow!Q145","v":0},{"$f":"CashFlow!R145","v":0},{"$f":"CashFlow!S145","v":0},{"$f":"CashFlow!T145","v":0},{"$f":"CashFlow!U145","v":0}]
[{"$f":"CashFlow!A146","v":1},{"$f":"CashFlow!B146","v":"CF251"},null,null,null,"Non-profit institutions",null,0,0,0,0,0,0,null,0,null,0,{"$f":"CashFlow!J146","v":0},0,{"$f":"CashFlow!L146","v":0},{"$f":"CashFlow!M146","v":0},{"$f":"CashFlow!N146","v":0},{"$f":"CashFlow!O146","v":0},{"$f":"CashFlow!P146","v":0},{"$f":"CashFlow!Q146","v":0},{"$f":"CashFlow!R146","v":0},{"$f":"CashFlow!S146","v":0},{"$f":"CashFlow!T146","v":0},{"$f":"CashFlow!U146","v":0}]
[{"$f":"CashFlow!A147","v":1},{"$f":"CashFlow!B147","v":"CF252"},null,null,null,"Households",null,0,0,0,0,0,0,null,0,null,{"$f":"SUM(Q148:Q149)","v":0},{"$f":"SUM(R148:R149)","v":0},0,0,0,0,0,0,0,0,0,0,0]
[{"$f":"CashFlow!A148","v":1},{"$f":"CashFlow!B148","v":"CF2521"},null,null,null,"Social benefits",null,0,0,0,0,0,0,null,0,null,0,{"$f":"CashFlow!J148","v":0},0,{"$f":"CashFlow!L148","v":0},{"$f":"CashFlow!M148","v":0},{"$f":"CashFlow!N148","v":0},{"$f":"CashFlow!O148","v":0},{"$f":"CashFlow!P148","v":0},{"$f":"CashFlow!Q148","v":0},{"$f":"CashFlow!R148","v":0},{"$f":"CashFlow!S148","v":0},{"$f":"CashFlow!T148","v":0},{"$f":"CashFlow!U148","v":0}]
[{"$f":"CashFlow!A149","v":1},{"$f":"CashFlow!B149","v":"CF2522"},null,null,null,"Other transfers to households",null,0,0,0,0,0,0,null,0,null,0,{"$f":"CashFlow!J149","v":0},0,{"$f":"CashFlow!L149","v":0},{"$f":"CashFlow!M149","v":0},{"$f":"CashFlow!N149","v":0},{"$f":"CashFlow!O149","v":0},{"$f":"CashFlow!P149","v":0},{"$f":"CashFlow!Q149","v":0},{"$f":"CashFlow!R149","v":0},{"$f":"CashFlow!S149","v":0},{"$f":"CashFlow!T149","v":0},{"$f":"CashFlow!U149","v":0}]
[{"$f":"CashFlow!A150","v":1},{"$f":"CashFlow!B150","v":"CF26"},null,null,null,"Payments for financial assets",null,{"$f":"R150-Q150","v":0},{"$f":"T150-S150","v":0},{"$f":"V150-U150","v":0},{"$f":"X150-W150","v":0},{"$f":"Z150-Y150","v":0},{"$f":"AB150-AA150","v":0},null,0,null,{"$f":"SUM(Q151:Q154)","v":0},{"$f":"SUM(R151:R154)","v":0},{"$f":"SUM(S151:S154)","v":0},0,0,0,0,0,0,0,0,0,0]
[{"$f":"CashFlow!A151","v":1},{"$f":"CashFlow!B151","v":"CF261"},null,null,null,"Forex losses",null,{"$f":"R151-Q151","v":0},{"$f":"T151-S151","v":0},{"$f":"V151-U151","v":0},{"$f":"X151-W151","v":0},{"$f":"Z151-Y151","v":0},{"$f":"AB151-AA151","v":0},null,0,null,0,{"$f":"CashFlow!J151","v":0},0,{"$f":"CashFlow!L151","v":0},{"$f":"CashFlow!M151","v":0},{"$f":"CashFlow!N151","v":0},{"$f":"CashFlow!O151","v":0},{"$f":"CashFlow!P151","v":0},{"$f":"CashFlow!Q151","v":0},{"$f":"CashFlow!R151","v":0},{"$f":"CashFlow!S151","v":0},{"$f":"CashFlow!T151","v":0},{"$f":"CashFlow!U151","v":0}]
[{"$f":"CashFlow!A152","v":1},{"$f":"CashFlow!B152","v":"CF262"},null,null,null,"Thefts and losses",null,{"$f":"R152-Q152","v":0},{"$f":"T152-S152","v":0},{"$f":"V152-U152","v":0},{"$f":"X152-W152","v":0},{"$f":"Z152-Y152","v":0},{"$f":"AB152-AA152","v":0},null,0,null,0,{"$f":"CashFlow!J152","v":0},0,{"$f":"CashFlow!L152","v":0},{"$f":"CashFlow!M152","v":0},{"$f":"CashFlow!N152","v":0},{"$f":"CashFlow!O152","v":0},{"$f":"CashFlow!P152","v":0},{"$f":"CashFlow!Q152","v":0},{"$f":"CashFlow!R152","v":0},{"$f":"CashFlow!S152","v":0},{"$f":"CashFlow!T152","v":0},{"$f":"CashFlow!U152","v":0}]
[{"$f":"CashFlow!A153","v":1},{"$f":"CashFlow!B153","v":"CF263"},null,null,null,"Purchase of equity",null,{"$f":"R153-Q153","v":0},{"$f":"T153-S153","v":0},{"$f":"V153-U153","v":0},{"$f":"X153-W153","v":0},{"$f":"Z153-Y153","v":0},{"$f":"AB153-AA153","v":0},null,0,null,0,{"$f":"CashFlow!J153","v":0},0,{"$f":"CashFlow!L153","v":0},{"$f":"CashFlow!M153","v":0},{"$f":"CashFlow!N153","v":0},{"$f":"CashFlow!O153","v":0},{"$f":"CashFlow!P153","v":0},{"$f":"CashFlow!Q153","v":0},{"$f":"CashFlow!R153","v":0},{"$f":"CashFlow!S153","v":0},{"$f":"CashFlow!T153","v":0},{"$f":"CashFlow!U153","v":0}]
[{"$f":"CashFlow!A154","v":1},{"$f":"CashFlow!B154","v":"CF264"},null,null,null,"Other",null,{"$f":"R154-Q154","v":0},{"$f":"T154-S154","v":0},{"$f":"V154-U154","v":0},{"$f":"X154-W154","v":0},{"$f":"Z154-Y154","v":0},{"$f":"AB154-AA154","v":0},null,0,null,0,{"$f":"CashFlow!J154","v":0},0,{"$f":"CashFlow!L154","v":0},{"$f":"CashFlow!M154","v":0},{"$f":"CashFlow!N154","v":0},{"$f":"CashFlow!O154","v":0},{"$f":"CashFlow!P154","v":0},{"$f":"CashFlow!Q154","v":0},{"$f":"CashFlow!R154","v":0},{"$f":"CashFlow!S154","v":0},{"$f":"CashFlow!T154","v":0},{"$f":"CashFlow!U154","v":0}]
[{"$f":"CashFlow!A155","v":1},{"$f":"CashFlow!B155","v":"CF22"},null,null,null,"Tax payment",null,0,0,0,0,0,0,null,0,null,0,{"$f":"CashFlow!J155","v":0},0,{"$f":"CashFlow!L155","v":0},{"$f":"CashFlow!M155","v":0},{"$f":"CashFlow!N155","v":0},{"$f":"CashFlow!O155","v":0},{"$f":"CashFlow!P155","v":0},{"$f":"CashFlow!Q155","v":0},{"$f":"CashFlow!R155","v":0},{"$f":"CashFlow!S155","v":0},{"$f":"CashFlow!T155","v":0},{"$f":"CashFlow!U155","v":0}]
[{"$f":"CashFlow!A156","v":1},{"$f":"CashFlow!B156","v":"CF23"},null,null,null,"Outside shareholders interest",null,0,0,0,0,0,0,null,0,null,0,{"$f":"CashFlow!J156","v":0},0,{"$f":"CashFlow!L156","v":0},{"$f":"CashFlow!M156","v":0},{"$f":"CashFlow!N156","v":0},{"$f":"CashFlow!O156","v":0},{"$f":"CashFlow!P156","v":0},{"$f":"CashFlow!Q156","v":0},{"$f":"CashFlow!R156","v":0},{"$f":"CashFlow!S156","v":0},{"$f":"CashFlow!T156","v":0},{"$f":"CashFlow!U156","v":0}]
[{"$f":"CashFlow!A157","v":3},{"$f":"CashFlow!B157","v":"CF4"},null,null,null,"Cash flow from advancing activities (Financial Institutions only)",null,{"$f":"R157-Q157","v":0},{"$f":"T157-S157","v":0},{"$f":"V157-U157","v":0},{"$f":"X157-W157","v":0},{"$f":"Z157-Y157","v":0},{"$f":"AB157-AA157","v":0},null,0,null,{"$f":"SUM(Q158,Q163)","v":0},{"$f":"SUM(R158,R163)","v":0},{"$f":"SUM(S158,S163)","v":0},0,0,0,0,0,0,0,0,0,0]
[{"$f":"CashFlow!A158","v":3},{"$f":"CashFlow!B158","v":"CF41"},null,null,null,"Disbursements and other payments",null,0,0,0,0,0,0,null,0,null,{"$f":"SUM(Q159:Q162)","v":0},{"$f":"SUM(R159:R162)","v":0},{"$f":"SUM(S159:S162)","v":0},0,0,0,0,0,0,0,0,0,0]
[{"$f":"CashFlow!A159","v":3},{"$f":"CashFlow!B159","v":"CF411"},null,null,null,"Loan disbursements",null,{"$f":"R159-Q159","v":0},0,0,0,0,0,null,0,null,0,{"$f":"CashFlow!J159","v":0},0,{"$f":"CashFlow!L159","v":0},{"$f":"CashFlow!M159","v":0},{"$f":"CashFlow!N159","v":0},{"$f":"CashFlow!O159","v":0},{"$f":"CashFlow!P159","v":0},{"$f":"CashFlow!Q159","v":0},{"$f":"CashFlow!R159","v":0},{"$f":"CashFlow!S159","v":0},{"$f":"CashFlow!T159","v":0},{"$f":"CashFlow!U159","v":0}]
[{"$f":"CashFlow!A160","v":3},{"$f":"CashFlow!B160","v":"CF412"},null,null,null,"Equity investments disbursements",null,0,0,0,0,0,0,null,0,null,0,{"$f":"CashFlow!J160","v":0},0,{"$f":"CashFlow!L160","v":0},{"$f":"CashFlow!M160","v":0},{"$f":"CashFlow!N160","v":0},{"$f":"CashFlow!O160","v":0},{"$f":"CashFlow!P160","v":0},{"$f":"CashFlow!Q160","v":0},{"$f":"CashFlow!R160","v":0},{"$f":"CashFlow!S160","v":0},{"$f":"CashFlow!T160","v":0},{"$f":"CashFlow!U160","v":0}]
[{"$f":"CashFlow!A161","v":3},{"$f":"CashFlow!B161","v":"CF413"},null,null,null,{"$f":"CashFlow!F161","v":"Please specify"},null,0,0,0,0,0,0,null,0,null,0,{"$f":"CashFlow!J161","v":0},0,{"$f":"CashFlow!L161","v":0},{"$f":"CashFlow!M161","v":0},{"$f":"CashFlow!N161","v":0},{"$f":"CashFlow!O161","v":0},{"$f":"CashFlow!P161","v":0},{"$f":"CashFlow!Q161","v":0},{"$f":"CashFlow!R161","v":0},{"$f":"CashFlow!S161","v":0},{"$f":"CashFlow!T161","v":0},{"$f":"CashFlow!U161","v":0}]
[{"$f":"CashFlow!A162","v":3},{"$f":"CashFlow!B162","v":"CF414"},null,null,null,{"$f":"CashFlow!F162","v":"Please specify"},null,0,0,0,0,0,0,null,0,null,0,{"$f":"CashFlow!J162","v":0},0,{"$f":"CashFlow!L162","v":0},{"$f":"CashFlow!M162","v":0},{"$f":"CashFlow!N162","v":0},{"$f":"CashFlow!O162","v":0},{"$f":"CashFlow!P162","v":0},{"$f":"CashFlow!Q162","v":0},{"$f":"CashFlow!R162","v":0},{"$f":"CashFlow!S162","v":0},{"$f":"CashFlow!T162","v":0},{"$f":"CashFlow!U162","v":0}]
[{"$f":"CashFlow!A163","v":3},{"$f":"CashFlow!B163","v":"CF42"},null,null,null,"Repayments and other receipts",null,0,0,0,0,0,0,null,0,null,{"$f":"SUM(Q164:Q167)","v":0},{"$f":"SUM(R164:R167)","v":0},{"$f":"SUM(S164:S167)","v":0},0,0,0,0,0,0,0,0,0,0]
[{"$f":"CashFlow!A164","v":3},{"$f":"CashFlow!B164","v":"CF421"},null,null,null,"Loan principal repayments",null,0,0,0,0,0,0,null,0,null,0,{"$f":"CashFlow!J164","v":0},0,{"$f":"CashFlow!L164","v":0},{"$f":"CashFlow!M164","v":0},{"$f":"CashFlow!N164","v":0},{"$f":"CashFlow!O164","v":0},{"$f":"CashFlow!P164","v":0},{"$f":"CashFlow!Q164","v":0},{"$f":"CashFlow!R164","v":0},{"$f":"CashFlow!S164","v":0},{"$f":"CashFlow!T164","v":0},{"$f":"CashFlow!U164","v":0}]
[{"$f":"CashFlow!A165","v":3},{"$f":"CashFlow!B165","v":"CF422"},null,null,null,"Equity investments repayments",null,0,0,0,0,0,0,null,0,null,0,{"$f":"CashFlow!J165","v":0},0,{"$f":"CashFlow!L165","v":0},{"$f":"CashFlow!M165","v":0},{"$f":"CashFlow!N165","v":0},{"$f":"CashFlow!O165","v":0},{"$f":"CashFlow!P165","v":0},{"$f":"CashFlow!Q165","v":0},{"$f":"CashFlow!R165","v":0},{"$f":"CashFlow!S165","v":0},{"$f":"CashFlow!T165","v":0},{"$f":"CashFlow!U165","v":0}]
[{"$f":"CashFlow!A166","v":3},{"$f":"CashFlow!B166","v":"CF423"},null,null,null,{"$f":"CashFlow!F166","v":"Please specify"},null,0,0,0,0,0,0,null,0,null,0,{"$f":"CashFlow!J166","v":0},0,{"$f":"CashFlow!L166","v":0},{"$f":"CashFlow!M166","v":0},{"$f":"CashFlow!N166","v":0},{"$f":"CashFlow!O166","v":0},{"$f":"CashFlow!P166","v":0},{"$f":"CashFlow!Q166","v":0},{"$f":"CashFlow!R166","v":0},{"$f":"CashFlow!S166","v":0},{"$f":"CashFlow!T166","v":0},{"$f":"CashFlow!U166","v":0}]
[{"$f":"CashFlow!A167","v":3},{"$f":"CashFlow!B167","v":"CF424"},null,null,null,{"$f":"CashFlow!F167","v":"Please specify"},null,0,0,0,0,0,0,null,0,null,0,{"$f":"CashFlow!J167","v":0},0,{"$f":"CashFlow!L167","v":0},{"$f":"CashFlow!M167","v":0},{"$f":"CashFlow!N167","v":0},{"$f":"CashFlow!O167","v":0},{"$f":"CashFlow!P167","v":0},{"$f":"CashFlow!Q167","v":0},{"$f":"CashFlow!R167","v":0},{"$f":"CashFlow!S167","v":0},{"$f":"CashFlow!T167","v":0},{"$f":"CashFlow!U167","v":0}]
[{"$f":"CashFlow!A168","v":1},{"$f":"CashFlow!B168","v":"CF5"},null,null,null,"Cash flow from investing activities",null,{"$f":"-R168+Q168","v":0},{"$f":"-T168+S168","v":0},{"$f":"-V168+U168","v":0},{"$f":"-X168+W168","v":0},{"$f":"-Z168+Y168","v":0},{"$f":"-AB168+AA168","v":0},null,0,null,{"$f":"SUM(Q169,Q182:Q183)","v":0},{"$f":"SUM(R169,R182:R183)","v":0},{"$f":"SUM(S169,S182:S183)","v":0},{"$f":"SUM(T169,T182:T183)","v":0},0,0,0,0,0,0,0,0,0]
[{"$f":"CashFlow!A169","v":1},{"$f":"CashFlow!B169","v":"CF51"},null,null,null,"Acquisition of property, plant, equipment",null,{"$f":"-R169+Q169","v":0},{"$f":"-T169+S169","v":0},{"$f":"-V169+U169","v":0},{"$f":"-X169+W169","v":0},{"$f":"-Z169+Y169","v":0},{"$f":"-AB169+AA169","v":0},null,0,null,{"$f":"SUM(Q170:Q176,Q179:Q181)","v":0},{"$f":"SUM(R170:R176,R179:R181)","v":0},0,0,0,0,0,0,0,0,0,0,0]
[{"$f":"CashFlow!A170","v":1},{"$f":"CashFlow!B170","v":"CF511"},null,null,null,"Buildings: residential",null,{"$f":"-R170+Q170","v":0},{"$f":"-T170+S170","v":0},{"$f":"-V170+U170","v":0},{"$f":"-X170+W170","v":0},{"$f":"-Z170+Y170","v":0},{"$f":"-AB170+AA170","v":0},null,0,null,0,{"$f":"CashFlow!J170","v":0},0,{"$f":"CashFlow!L170","v":0},{"$f":"CashFlow!M170","v":0},{"$f":"CashFlow!N170","v":0},{"$f":"CashFlow!O170","v":0},{"$f":"CashFlow!P170","v":0},{"$f":"CashFlow!Q170","v":0},{"$f":"CashFlow!R170","v":0},{"$f":"CashFlow!S170","v":0},{"$f":"CashFlow!T170","v":0},{"$f":"CashFlow!U170","v":0}]
[{"$f":"CashFlow!A171","v":1},{"$f":"CashFlow!B171","v":"CF512"},null,null,null,"Buildings: non-residential",null,0,0,0,0,0,0,null,0,null,0,{"$f":"CashFlow!J171","v":0},0,{"$f":"CashFlow!L171","v":0},{"$f":"CashFlow!M171","v":0},{"$f":"CashFlow!N171","v":0},{"$f":"CashFlow!O171","v":0},{"$f":"CashFlow!P171","v":0},{"$f":"CashFlow!Q171","v":0},{"$f":"CashFlow!R171","v":0},{"$f":"CashFlow!S171","v":0},{"$f":"CashFlow!T171","v":0},{"$f":"CashFlow!U171","v":0}]
[{"$f":"CashFlow!A172","v":1},{"$f":"CashFlow!B172","v":"CF513"},null,null,null,"Other fixed structures",null,0,0,0,0,0,0,null,0,null,0,{"$f":"CashFlow!J172","v":0},0,{"$f":"CashFlow!L172","v":0},{"$f":"CashFlow!M172","v":0},{"$f":"CashFlow!N172","v":0},{"$f":"CashFlow!O172","v":0},{"$f":"CashFlow!P172","v":0},{"$f":"CashFlow!Q172","v":0},{"$f":"CashFlow!R172","v":0},{"$f":"CashFlow!S172","v":0},{"$f":"CashFlow!T172","v":0},{"$f":"CashFlow!U172","v":0}]
[{"$f":"CashFlow!A173","v":1},{"$f":"CashFlow!B173","v":"CF515"},null,null,null,"Transport equipment",null,0,0,0,0,0,0,null,0,null,0,{"$f":"CashFlow!J173","v":0},0,{"$f":"CashFlow!L173","v":0},{"$f":"CashFlow!M173","v":0},{"$f":"CashFlow!N173","v":0},{"$f":"CashFlow!O173","v":0},{"$f":"CashFlow!P173","v":0},{"$f":"CashFlow!Q173","v":0},{"$f":"CashFlow!R173","v":0},{"$f":"CashFlow!S173","v":0},{"$f":"CashFlow!T173","v":0},{"$f":"CashFlow!U173","v":0}]
[{"$f":"CashFlow!A174","v":1},{"$f":"CashFlow!B174","v":"CF516"},null,null,null,"Furniture and office equipment",null,0,0,0,0,0,0,null,0,null,0,{"$f":"CashFlow!J174","v":0},0,{"$f":"CashFlow!L174","v":0},{"$f":"CashFlow!M174","v":0},{"$f":"CashFlow!N174","v":0},{"$f":"CashFlow!O174","v":0},{"$f":"CashFlow!P174","v":0},{"$f":"CashFlow!Q174","v":0},{"$f":"CashFlow!R174","v":0},{"$f":"CashFlow!S174","v":0},{"$f":"CashFlow!T174","v":0},{"$f":"CashFlow!U174","v":0}]
[{"$f":"CashFlow!A175","v":1},{"$f":"CashFlow!B175","v":"CF517"},null,null,null,"Other machinery and equipment",null,0,0,0,0,0,0,null,0,null,0,{"$f":"CashFlow!J175","v":0},0,{"$f":"CashFlow!L175","v":0},{"$f":"CashFlow!M175","v":0},{"$f":"CashFlow!N175","v":0},{"$f":"CashFlow!O175","v":0},{"$f":"CashFlow!P175","v":0},{"$f":"CashFlow!Q175","v":0},{"$f":"CashFlow!R175","v":0},{"$f":"CashFlow!S175","v":0},{"$f":"CashFlow!T175","v":0},{"$f":"CashFlow!U175","v":0}]
[{"$f":"CashFlow!A176","v":1},{"$f":"CashFlow!B176","v":"CF518"},null,null,null,"Heritage assets",null,0,0,0,0,0,0,null,0,null,{"$f":"SUM(Q177:Q178)","v":0},{"$f":"SUM(R177:R178)","v":0},0,0,0,0,0,0,0,0,0,0,0]
[{"$f":"CashFlow!A177","v":1},{"$f":"CashFlow!B177","v":"CF5181"},null,null,null,"Buildings and other fixed structures",null,0,0,0,0,0,0,null,0,null,0,{"$f":"CashFlow!J177","v":0},0,{"$f":"CashFlow!L177","v":0},{"$f":"CashFlow!M177","v":0},{"$f":"CashFlow!N177","v":0},{"$f":"CashFlow!O177","v":0},{"$f":"CashFlow!P177","v":0},{"$f":"CashFlow!Q177","v":0},{"$f":"CashFlow!R177","v":0},{"$f":"CashFlow!S177","v":0},{"$f":"CashFlow!T177","v":0},{"$f":"CashFlow!U177","v":0}]
[{"$f":"CashFlow!A178","v":1},{"$f":"CashFlow!B178","v":"CF5182"},null,null,null,"Other than buildings and fixed structures",null,0,0,0,0,0,0,null,0,null,0,{"$f":"CashFlow!J178","v":0},0,{"$f":"CashFlow!L178","v":0},{"$f":"CashFlow!M178","v":0},{"$f":"CashFlow!N178","v":0},{"$f":"CashFlow!O178","v":0},{"$f":"CashFlow!P178","v":0},{"$f":"CashFlow!Q178","v":0},{"$f":"CashFlow!R178","v":0},{"$f":"CashFlow!S178","v":0},{"$f":"CashFlow!T178","v":0},{"$f":"CashFlow!U178","v":0}]
[{"$f":"CashFlow!A179","v":1},{"$f":"CashFlow!B179","v":"CF519"},null,null,null,"Biological assets",null,0,0,0,0,0,0,null,0,null,0,{"$f":"CashFlow!J179","v":0},0,{"$f":"CashFlow!L179","v":0},{"$f":"CashFlow!M179","v":0},{"$f":"CashFlow!N179","v":0},{"$f":"CashFlow!O179","v":0},{"$f":"CashFlow!P179","v":0},{"$f":"CashFlow!Q179","v":0},{"$f":"CashFlow!R179","v":0},{"$f":"CashFlow!S179","v":0},{"$f":"CashFlow!T179","v":0},{"$f":"CashFlow!U179","v":0}]
[{"$f":"CashFlow!A180","v":1},{"$f":"CashFlow!B180","v":"CF531"},null,null,null,"Land & subsoil assets",null,0,0,0,0,0,0,null,0,null,0,{"$f":"CashFlow!J180","v":0},0,{"$f":"CashFlow!L180","v":0},{"$f":"CashFlow!M180","v":0},{"$f":"CashFlow!N180","v":0},{"$f":"CashFlow!O180","v":0},{"$f":"CashFlow!P180","v":0},{"$f":"CashFlow!Q180","v":0},{"$f":"CashFlow!R180","v":0},{"$f":"CashFlow!S180","v":0},{"$f":"CashFlow!T180","v":0},{"$f":"CashFlow!U180","v":0}]
[{"$f":"CashFlow!A181","v":1},{"$f":"CashFlow!B181","v":"CF532"},null,null,null,"Computer equipment",null,0,0,0,0,0,0,null,0,null,0,{"$f":"CashFlow!J181","v":0},0,{"$f":"CashFlow!L181","v":0},{"$f":"CashFlow!M181","v":0},{"$f":"CashFlow!N181","v":0},{"$f":"CashFlow!O181","v":0},{"$f":"CashFlow!P181","v":0},{"$f":"CashFlow!Q181","v":0},{"$f":"CashFlow!R181","v":0},{"$f":"CashFlow!S181","v":0},{"$f":"CashFlow!T181","v":0},{"$f":"CashFlow!U181","v":0}]
[{"$f":"CashFlow!A182","v":1},{"$f":"CashFlow!B182","v":"CF514"},null,null,null,"Investment property",null,{"$f":"-R182+Q182","v":0},{"$f":"-T182+S182","v":0},{"$f":"-V182+U182","v":0},{"$f":"-X182+W182","v":0},{"$f":"-Z182+Y182","v":0},{"$f":"-AB182+AA182","v":0},null,0,null,0,{"$f":"CashFlow!J182","v":0},0,{"$f":"CashFlow!L182","v":0},{"$f":"CashFlow!M182","v":0},{"$f":"CashFlow!N182","v":0},{"$f":"CashFlow!O182","v":0},{"$f":"CashFlow!P182","v":0},{"$f":"CashFlow!Q182","v":0},{"$f":"CashFlow!R182","v":0},{"$f":"CashFlow!S182","v":0},{"$f":"CashFlow!T182","v":0},{"$f":"CashFlow!U182","v":0}]
[{"$f":"CashFlow!A183","v":1},{"$f":"CashFlow!B183","v":"CF520"},null,null,null,"Acquisition of software and other intangible assets",null,{"$f":"-R183+Q183","v":0},{"$f":"-T183+S183","v":0},{"$f":"-V183+U183","v":0},{"$f":"-X183+W183","v":0},{"$f":"-Z183+Y183","v":0},{"$f":"-AB183+AA183","v":0},null,0,null,0,{"$f":"CashFlow!J183","v":0},0,{"$f":"CashFlow!L183","v":0},{"$f":"CashFlow!M183","v":0},{"$f":"CashFlow!N183","v":0},{"$f":"CashFlow!O183","v":0},{"$f":"CashFlow!P183","v":0},{"$f":"CashFlow!Q183","v":0},{"$f":"CashFlow!R183","v":0},{"$f":"CashFlow!S183","v":0},{"$f":"CashFlow!T183","v":0},{"$f":"CashFlow!U183","v":0}]
[{"$f":"CashFlow!A195","v":1},{"$f":"CashFlow!B195","v":"CF6"},null,null,null,"Cash flow from financing activities",null,null,null,null,null,null,null,null,0]
[{"$f":"CashFlow!A196","v":1},{"$f":"CashFlow!B196","v":"CF61"},null,null,null,"Deferred Income",null,{"$f":"R185-Q185","v":0},{"$f":"T185-S185","v":0},{"$f":"V185-U185","v":0},{"$f":"X185-W185","v":0},{"$f":"Z185-Y185","v":0},{"$f":"AB185-AA185","v":0},null,0,null,{"$f":"SUM(Q186:Q187)","v":0},{"$f":"SUM(R186:R187)","v":0},0,0,0,0,0,0,0,0,0,0,0]
[{"$f":"CashFlow!A197","v":1},{"$f":"CashFlow!B197","v":"CF611"},null,null,null,"Departmental transfer",null,{"$f":"R186-Q186","v":0},{"$f":"T186-S186","v":0},{"$f":"V186-U186","v":0},{"$f":"X186-W186","v":0},{"$f":"Z186-Y186","v":0},{"$f":"AB186-AA186","v":0},null,0,null,0,{"$f":"CashFlow!J197","v":0},0,{"$f":"CashFlow!L197","v":0},{"$f":"CashFlow!M197","v":0},{"$f":"CashFlow!N197","v":0},{"$f":"CashFlow!O197","v":0},{"$f":"CashFlow!P197","v":0},{"$f":"CashFlow!Q197","v":0},{"$f":"CashFlow!R197","v":0},{"$f":"CashFlow!S197","v":0},{"$f":"CashFlow!T197","v":0},{"$f":"CashFlow!U197","v":0}]
[{"$f":"CashFlow!A198","v":1},{"$f":"CashFlow!B198","v":"CF612"},null,null,null,"Other Revenue",null,{"$f":"R187-Q187","v":0},{"$f":"T187-S187","v":0},{"$f":"V187-U187","v":0},{"$f":"X187-W187","v":0},{"$f":"Z187-Y187","v":0},{"$f":"AB187-AA187","v":0},null,0,null,0,{"$f":"CashFlow!J198","v":0},0,{"$f":"CashFlow!L198","v":0},{"$f":"CashFlow!M198","v":0},{"$f":"CashFlow!N198","v":0},{"$f":"CashFlow!O198","v":0},{"$f":"CashFlow!P198","v":0},{"$f":"CashFlow!Q198","v":0},{"$f":"CashFlow!R198","v":0},{"$f":"CashFlow!S198","v":0},{"$f":"CashFlow!T198","v":0},{"$f":"CashFlow!U198","v":0}]
[]
[null,null,null,null,null,"CFD Receipts"]
[null,null,null,null,null,"CFD Payment"]
[null,null,null,null,null,"CFD Advancing"]
[null,null,null,null,null,"CFD Aqusition"]
[null,null,null,null,null,"CFD Deferred "]

{"sheet":"FinancialPosition","index":23,"n_rows":101,"n_cols":23,"rows_kept":101,"cut":false,"hidden":false,"merged":[[8,18,8,19],[8,8,8,9],[8,10,8,11],[8,12,8,13],[8,16,8,17],[8,14,8,15]]}
[]
[]
[]
[]
[]
[null,null,null,null,null,"PE No",{"$f":"Settings!$O$2","v":"PE196"}]
[null,null,null,null,null,"Entity name",{"$f":"Settings!$D$2","v":"Transnet Limited"},null,null,null,null,null,null,null,null,null,null,null,null,null,{"$f":"IF(U94<T94/2,\"Complete outer year budget\",\"\")","v":""}]
[]
[null,null,null,null,null,"R Thousand",null,null,{"$f":"MyYearM3","v":"2019/20"},null,{"$f":"MyYearM2","v":"2020/21"},null,{"$f":"MyYearM1","v":"2021/22"},null,{"$f":"MyYear0","v":"2022/23"},null,{"$f":"MyYearP1","v":"2023/24"},null,{"$f":"MyYearP2","v":"2024/25"},null,{"$f":"MyYearP3","v":"2025/26"}]
["ItemCat","Item code",null,null,null,"Statement of Financial Position","Notes",null,{"$f":"Hist_year3Audited","v":"Budget"},{"$f":"Hist_year3RestatedAudited","v":"Audited\noutcome"},{"$f":"Hist_year2Audited","v":"Budget"},{"$f":"Hist_year2RestatedAudited","v":"Audited\noutcome"},{"$f":"Hist_year1Budget","v":"Budget"},{"$f":"Hist_year1Audited","v":"Audited\noutcome"},{"$f":"Cur_YearBudgEst","v":"Budget\nestimate"},{"$f":"Cur_YearApprovedBudg","v":"Approved budget"},{"$f":"MTEF1BudgEst","v":"Budget\nestimate"},{"$f":"MTEF1RevBudgEst","v":"Revised\nbudget\nestimate"},{"$f":"MTEF2BudgEst","v":"Budget\nestimate"},{"$f":"MTEF2RevBudgEst","v":"Revised\nbudget\nestimate"},{"$f":"MTEF3PlanBudgetEst","v":"Planning\nbudget \nestimate"}]
[1,"BS11",null,null,null,"ASSETS"]
[1,"BS111",null,null,null,"Current assets",null,null,{"$f":"SUM(I13:I26)","v":0},{"$f":"SUM(J13:J26)","v":0},0,0,0,0,0,0,0,0,0,0,0]
[1,"BS1111",null,null,null,"Current investments",101,null,0,0,0,0,0,0,0,0,0,0,0,0]
[1,"BS1112",null,null,null,"Inventory",102,null,0,0,0,0,0,0,0,0,0,0,0,0]
[1,"BS1113",null,null,null,"Short-term loans",103,null,0,0,0,0,0,0,0,0,0,0,0,0]
[1,"BS1114",null,null,null,"Accrued interest",104,null,0,0,0,0,0,0,0,0,0,0,0,0]
[1,"BS1115",null,null,null,"Trade and other receivables from exchange transactions",105,null,0,0,0,0,0,0,0,0,0,0,0,0]
[1,"BS1116",null,null,null,"Other receivables from non-exchange transactions, including taxes, fines and transfers",106,null,0,0,0,0,0,0,0,0,0,0,0,0]
[1,"BS1117",null,null,null,"Prepayments",107,null,0,0,0,0,0,0,0,0,0,0,0,0]
[1,"BS1118",null,null,null,"Cash and cash equivalents",108,null,0,0,0,0,0,0,0,0,0,0,0,0]
[1,"BS1119",null,null,null,"Non-current assets held for sale",109,null,0,0,0,0,0,0,0,0,0,0,0,0]
[1,"BS1220",null,null,null,"Other current financial assets",110,null,0,0,0,0,0,0,0,0,0,0,0,0]
[1,"BS1221",null,null,null,"VAT receivable",111,null,0,0,0,0,0,0,0,0,0,0,0,0]
[1,"BS1222",null,null,null,"Construction contracts and receivables",112,null,0,0,0,0,0,0,0,0,0,0,0,0]
[1,"BS1223",null,null,null,"Income tax receivable",113,null,0,0,0,0,0,0,0,0,0,0,0,0]
[1,"BS1224",null,null,null,"Derivatives financial instruments",114,null,0,0,0,0,0,0,0,0,0,0,0,0]
[1,"BS112",null,null,null,"Non-current assets",null,null,{"$f":"SUM(I28:I43)","v":0},{"$f":"SUM(J28:J43)","v":0},0,0,0,0,0,0,0,0,0,0,0]
[1,"BS1121",null,null,null,"Property, plant and equipment",115,null,0,0,0,0,0,0,0,0,0,0,0,0]
[1,"BS1122",null,null,null,"Intangible assets",116,null,0,0,0,0,0,0,0,0,0,0,0,0]
[1,"BS1123",null,null,null,"Biological assets",117,null,0,0,0,0,0,0,0,0,0,0,0,0]
[1,"BS1124",null,null,null,"Heritage assets",118,null,0,0,0,0,0,0,0,0,0,0,0,0]
[1,"BS1125",null,null,null,"Non-Current Investments",119,null,0,0,0,0,0,0,0,0,0,0,0,0]
[1,"BS1126",null,null,null,"Investments in Subsidiary / Municipal entity",120,null,0,0,0,0,0,0,0,0,0,0,0,0]
[1,"BS1127",null,null,null,"Investments in Joint Ventures",121,null,0,0,0,0,0,0,0,0,0,0,0,0]
[1,"BS1128",null,null,null,"Investments in Associates",122,null,0,0,0,0,0,0,0,0,0,0,0,0]
[1,"BS1129",null,null,null,"Investment property",123,null,0,0,0,0,0,0,0,0,0,0,0,0]
[1,"BS1130",null,null,null,"Long-term loan",124,null,0,0,0,0,0,0,0,0,0,0,0,0]
[1,"BS1131",null,null,null,"Non-current receivables from non-exchange transactions",125,null,0,0,0,0,0,0,0,0,0,0,0,0]
[1,"BS1132",null,null,null,"Non-current receivables from exchange transactions",126,null,0,0,0,0,0,0,0,0,0,0,0,0]
[1,"BS1133",null,null,null,"Defined benefit plan assets",127,null,0,0,0,0,0,0,0,0,0,0,0,0]
[1,"BS1134",null,null,null,"Other non-current financial assets",128,null,0,0,0,0,0,0,0,0,0,0,0,0]
[1,"BS1135",null,null,null,"Deferred Tax Assets",130,null,0,0,0,0,0,0,0,0,0,0,0,0]
[1,"BS1136",null,null,null,"Derivatives financial instruments",null,null,0,0,0,0,0,0,0,0,0,0,0,0]
[1,"BS1",null,null,null,"Total assets",null,null,{"$f":"SUM(I27,I12)","v":0},{"$f":"SUM(J27,J12)","v":0},0,0,0,0,0,0,0,0,0,0,0,null,{"$f":"IF(U44<T44/2,\"Complete outer year budget\",\"\")","v":""}]
[1,"BS000"]
[1,"BS21",null,null,null,"LIABILITIES"]
[1,"BS211",null,null,null,"Current liabilities",null,null,{"$f":"SUM(I48:I56,I61:I70)","v":0},{"$f":"SUM(J48:J56,J61:J70)","v":0},0,0,0,0,0,0,0,0,0,0,0]
[1,"BS2111",null,null,null,"Payments received in advance",131,null,0,0,0,0,0,0,0,0,0,0,0,0]
[1,"BS2112",null,null,null,"Trade and other payables from exchange transactions",132,null,0,0,0,0,0,0,0,0,0,0,0,0]
[1,"BS2228",null,null,null,"Other payable from non-exchange transactions, including taxes, fines and transfers",null,null,0,0,0,0,0,0,0,0,0,0,0,0]
[4,"BS2113",null,null,null,"Benefits payable (UIF only)",133,null,0,0,0,0,0,0,0,0,0,0,0,0]
[1,"BS2114",null,null,null,"Accrued interest",134,null,0,0,0,0,0,0,0,0,0,0,0,0]
[1,"BS2115",null,null,null,"VAT payable",135,null,0,0,0,0,0,0,0,0,0,0,0,0]
[1,"BS2116",null,null,null,"Income Tax Payable",136,null,0,0,0,0,0,0,0,0,0,0,0,0]
[1,"BS2117",null,null,null,"Taxes and transfers payable",137,null,0,0,0,0,0,0,0,0,0,0,0,0]
[1,"BS2118",null,null,null,"Current provisions",138,null,{"$f":"SUM(I57:I60)","v":0},{"$f":"SUM(J57:J60)","v":0},{"$f":"SUM(K57:K60)","v":0},0,0,0,0,0,0,0,0,0,0]
[1,"BS21181",null,null,null,"Leave",null,null,0,0,0,0,0,0,0,0,0,0,0,0]
[1,"BS21182",null,null,null,"Severence",null,null,0,0,0,0,0,0,0,0,0,0,0,0]
[1,"BS21183",null,null,null,"Provisions for operational liabilities",null,null,0,0,0,0,0,0,0,0,0,0,0,0]
[1,"BS21184",null,null,null,"Provisions for oustanding claims",null,null,0,0,0,0,0,0,0,0,0,0,0,0]
[1,"BS2119",null,null,null,"Bank overdraft",139,null,0,0,0,0,0,0,0,0,0,0,0,0]
[1,"BS2220",null,null,null,"Current portion of unspent conditional grants and receipts",140,null,0,0,0,0,0,0,0,0,0,0,0,0]
[1,"BS2221",null,null,null,"Short-term loans",141,null,0,0,0,0,0,0,0,0,0,0,0,0]
[1,"BS2222",null,null,null,"Deferred income",142,null,0,0,0,0,0,0,0,0,0,0,0,0]
[1,"BS2223",null,null,null,"Other current financial liabilities",143,null,0,0,0,0,0,0,0,0,0,0,0,0]
[1,"BS2224",null,null,null,"Consumer deposits",144,null,0,0,0,0,0,0,0,0,0,0,0,0]
[1,"BS2225",null,null,null,"Current portion of finance lease liability",145,null,0,0,0,0,0,0,0,0,0,0,0,0]
[1,"BS2229",null,null,null,"Current portion of operating lease liability",null,null,0,0,0,0,0,0,0,0,0,0,0,0]
[1,"BS2226",null,null,null,"Managed funds",146,null,0,0,0,0,0,0,0,0,0,0,0,0]
[1,"BS2227",null,null,null,"Derivatives financial instruments",147,null,0,0,0,0,0,0,0,0,0,0,0,0]
[1,"BS212",null,null,null,"Non-current liabilities",null,null,{"$f":"SUM(I72:I83)","v":0},{"$f":"SUM(J72:J83)","v":0},0,0,0,0,0,0,0,0,0,0,0]
[1,"BS2121",null,null,null,"Unspent conditional grants and receipts",148,null,0,0,0,0,0,0,0,0,0,0,0,0]
[4,"BS2122",null,null,null,"Benefits payable (UIF only)",149,null,0,0,0,0,0,0,0,0,0,0,0,0]
[1,"BS2123",null,null,null,"Long-term borrowings",150,null,0,0,0,0,0,0,0,0,0,0,0,0]
[1,"BS2124",null,null,null,"Finance lease liability",151,null,0,0,0,0,0,0,0,0,0,0,0,0]
[1,"BS2125",null,null,null,"Operating Lease Liability",152,null,0,0,0,0,0,0,0,0,0,0,0,0]
[1,"BS2126",null,null,null,"Other non-current financial liabilities",153,null,0,0,0,0,0,0,0,0,0,0,0,0]
[1,"BS2127",null,null,null,"Non-current provisions",154,null,0,0,0,0,0,0,0,0,0,0,0,0]
[1,"BS2128",null,null,null,"Defined benefit plan obligations",155,null,0,0,0,0,0,0,0,0,0,0,0,0]
[1,"BS2129",null,null,null,"Deferred income",156,null,0,0,0,0,0,0,0,0,0,0,0,0]
[1,"BS2130",null,null,null,"Deferred tax liabilities",157,null,0,0,0,0,0,0,0,0,0,0,0,0]
[1,"BS2131",null,null,null,"Managed funds",158,null,0,0,0,0,0,0,0,0,0,0,0,0]
[1,"BS2132",null,null,null,"Derivatives financial instruments",159,null,0,0,0,0,0,0,0,0,0,0,0,0]
[1,"BS2",null,null,null,"Total liabilities",null,null,{"$f":"SUM(I71,I47)","v":0},{"$f":"SUM(J71,J47)","v":0},0,0,0,0,0,0,0,0,0,0,0]
[1,"BS00"]
[1,"BS31",null,null,null,"NET ASSETS",null,null,{"$f":"SUM(I87:I88,I92:I93)","v":0},0,0,0,0,0,0,0,0,0,0,0,0]
[1,"BS311",null,null,null,"Accumulated surplus / (deficit)",160,null,0,0,0,0,0,0,0,0,0,0,0,0]
[1,"BS312",null,null,null,"Reserves",161,null,{"$f":"SUM(I89:I91)","v":0},{"$f":"SUM(J89:J91)","v":0},0,0,0,0,0,0,0,0,0,0,0]
[1,"BS3121",null,null,null,"Cash reserves",null,null,0,0,0,0,0,0,0,0,0,0,0,0]
[1,"BS3122",null,null,null,"Non_cash reserves",null,null,0,0,0,0,0,0,0,0,0,0,0,0]
[4,"BS3123",null,null,null,"Technical reserves (Social security funds only)",null,null,0,0,0,0,0,0,0,0,0,0,0,0]
[1,"BS313",null,null,null,"Capital fund/ Deferred government grant",162,null,0,0,0,0,0,0,0,0,0,0,0,0]
[4,"BS314",null,null,null,"Capitalised value of pensions (Comp Fund only)",163,null,0,0,0,0,0,0,0,0,0,0,0,0]
[1,"BS3",null,null,null,"Total net assets and liabilities",null,null,{"$f":"SUM(I84,I86)","v":0},{"$f":"SUM(J84,J86)","v":0},0,0,0,0,0,0,0,0,0,0,0,null,{"$f":"IF(U94<T94/2,\"Complete outer year budget\",\"\")","v":""}]
[1,"BS4",null,null,null,"Contingent liabilities",null,null,0,0,0,0,0,0,0,0,0,0,0,0]
[1,null,null,null,null,null,null,null,null,null,null,null,null,null,null,null,null,null,null,null,null,true]
[1,null,null,null,null,"Check"]
[1,null,null,null,null,"Total assets as per the Financial statements",null,null,null,0,null,0]
[1,null,null,null,null,"Differences",null,null,null,{"$f":"ROUND(IF(J94-J98>0,IF(J94-J98<1,0,J94-J98),J94-J98),0)","v":0},null,{"$f":"ROUND(IF(L94-L98>0,IF(L94-L98<1,0,L94-L98),L94-L98),0)","v":0},null,{"$f":"ROUND(IF(N94-N98>0,IF(N94-N98<1,0,N94-N98),N94-N98),0)","v":0}]
[1,null,null,null,null,"Total assets less Total net assets and liabilities",null,null,{"$f":"ROUND(IF(I94-I44>0,IF(I94-I44<1,0,I94-I44),I94-I44),0)","v":0},0,{"$f":"ROUND(IF(K94-K44>0,IF(K94-K44<1,0,K94-K44),K94-K44),0)","v":0},0,0,{"$f":"ROUND(IF(N94-N44>0,IF(N94-N44<1,0,N94-N44),N94-N44),0)","v":0},0,0,0,0,0,0,0,{"$f":"V44-V94","v":0}]
[1]

{"sheet":"RelatedPartyRevenue","index":24,"n_rows":363,"n_cols":31,"rows_kept":363,"cut":false,"hidden":false,"merged":[[7,17,7,18],[7,19,7,20],[6,8,6,14],[7,9,7,10],[7,11,7,12],[7,13,7,14],[7,15,7,16]]}
[]
[]
[]
[]
[]
[null,null,null,null,null,"PE No",{"$f":"Settings!$O$2","v":"PE196"}]
[null,null,null,null,null,"Entity name",{"$f":"Settings!$D$2","v":"Transnet Limited"},null,null,null,null,null,null,null,null,null,null,null,null,null,null,{"$f":"IF(V361<U361/2,\"Complete outer year budget\",\"\")","v":""},{"$f":"SUM(W11:W360)","v":0}]
[null,null,null,null,null,"Related Party Revenue (Collections)",null,null,null,{"$f":"MyYearM3","v":"2019/20"},null,{"$f":"MyYearM2","v":"2020/21"},null,{"$f":"MyYearM1","v":"2021/22"},null,{"$f":"MyYear0","v":"2022/23"},null,{"$f":"MyYearP1","v":"2023/24"},null,{"$f":"MyYearP2","v":"2024/25"},null,{"$f":"MyYearP3","v":"2025/26"},null,"EXPLANATIONS",null,{"$f":"MyYearM3","v":"2019/20"},{"$f":"MyYearM2","v":"2020/21"},{"$f":"MyYearM1","v":"2021/22"},{"$f":"MyYear0","v":"2022/23"},{"$f":"MyYearP1","v":"2023/24"},{"$f":"MyYearP2","v":"2024/25"}]
[null,null,null,null,null,"R Thousand ",null,null,null,"Audited\noutcome",{"$f":"Hist_year3RestatedAudited","v":"Audited\noutcome"},"Audited\noutcome",{"$f":"Hist_year2RestatedAudited","v":"Audited\noutcome"},{"$f":"Hist_year1Budget","v":"Budget"},{"$f":"Hist_year1Audited","v":"Audited\noutcome"},{"$f":"Cur_YearBudgEst","v":"Budget\nestimate"},{"$f":"Cur_YearApprovedBudg","v":"Approved budget"},{"$f":"MTEF1BudgEst","v":"Budget\nestimate"},{"$f":"MTEF1RevBudgEst","v":"Revised\nbudget\nestimate"},{"$f":"MTEF2BudgEst","v":"Budget\nestimate"},{"$f":"MTEF2RevBudgEst","v":"Revised\nbudget\nestimate"},{"$f":"MTEF3PlanBudgetEst","v":"Planning\nbudget \nestimate"},null,null,null,{"$f":"Hist_year3RestatedAudited","v":"Audited\noutcome"},{"$f":"Hist_year2RestatedAudited","v":"Audited\noutcome"},{"$f":"Hist_year1Audited","v":"Audited\noutcome"},{"$f":"Cur_YearApprovedBudg","v":"Approved budget"},{"$f":"MTEF1RevBudgEst","v":"Revised\nbudget\nestimate"},{"$f":"MTEF2RevBudgEst","v":"Revised\nbudget\nestimate"}]
["Hide/unhide","Item code","ItemCat",null,null,"Related Party category","Related Party Name","Related Party transaction"]
[{"$f":"IF(SUM(J11:V11)>0,1,0)","v":0},{"$f":"IF($G11=$G$7,1,0)","v":0},{"$f":"IFERROR(INDEX((Settings!$M$17:$M$231),MATCH(RelatedPartyRevenue!G11,Settings!$AC$18:$AC$163,0)),0)","v":0},null,null,0,0,0,null,0,0,0,0,0,0,0,0,0,0,0,0,null,null,0,null,{"$f":"K11-J11","v":0},{"$f":"M11-L11","v":0},{"$f":"O11-N11","v":0},{"$f":"Q11-P11","v":0},{"$f":"S11-R11","v":0},{"$f":"U11-T11","v":0}]
[{"$f":"IF(SUM(J12:V12)>0,1,0)","v":0},0,{"$f":"IFERROR(INDEX((Settings!$M$17:$M$231),MATCH(RelatedPartyRevenue!G12,Settings!$AC$18:$AC$163,0)),0)","v":0},null,null,0,0,0,null,0,0,0,0,0,0,0,0,0,0,0,0,null,null,0,null,{"$f":"K12-J12","v":0},{"$f":"M12-L12","v":0},{"$f":"O12-N12","v":0},{"$f":"Q12-P12","v":0},{"$f":"S12-R12","v":0},{"$f":"U12-T12","v":0}]
[0,0,{"$f":"IFERROR(INDEX((Settings!$M$17:$M$231),MATCH(RelatedPartyRevenue!G13,Settings!$AC$18:$AC$163,0)),0)","v":0},null,null,0,0,0,null,0,0,0,0,0,0,0,0,0,0,0,0,null,null,0,null,0,0,{"$f":"O13-N13","v":0},{"$f":"Q13-P13","v":0},{"$f":"S13-R13","v":0},{"$f":"U13-T13","v":0}]
[0,0,{"$f":"IFERROR(INDEX((Settings!$M$17:$M$231),MATCH(RelatedPartyRevenue!G14,Settings!$AC$18:$AC$163,0)),0)","v":0},null,null,0,0,0,null,0,0,0,0,0,0,0,0,0,0,0,0,null,null,0,null,0,0,0,0,0,0]
[0,0,{"$f":"IFERROR(INDEX((Settings!$M$17:$M$231),MATCH(RelatedPartyRevenue!G15,Settings!$AC$18:$AC$163,0)),0)","v":0},null,null,0,0,0,null,0,0,0,0,0,0,0,0,0,0,0,0,null,null,0,null,0,0,0,0,0,0]
[0,0,{"$f":"IFERROR(INDEX((Settings!$M$17:$M$231),MATCH(RelatedPartyRevenue!G16,Settings!$AC$18:$AC$163,0)),0)","v":0},null,null,0,0,0,null,0,0,0,0,0,0,0,0,0,0,0,0,null,null,0,null,0,0,0,0,0,0]
[0,0,{"$f":"IFERROR(INDEX((Settings!$M$17:$M$231),MATCH(RelatedPartyRevenue!G17,Settings!$AC$18:$AC$163,0)),0)","v":0},null,null,0,0,0,null,0,0,0,0,0,0,0,0,0,0,0,0,null,null,0,null,0,0,0,0,0,0]
[0,0,{"$f":"IFERROR(INDEX((Settings!$M$17:$M$231),MATCH(RelatedPartyRevenue!G18,Settings!$AC$18:$AC$163,0)),0)","v":0},null,null,0,0,0,null,0,0,0,0,0,0,0,0,0,0,0,0,null,null,0,null,0,0,0,0,0,0]
[0,0,{"$f":"IFERROR(INDEX((Settings!$M$17:$M$231),MATCH(RelatedPartyRevenue!G19,Settings!$AC$18:$AC$163,0)),0)","v":0},null,null,0,0,0,null,0,0,0,0,0,0,0,0,0,0,0,0,null,null,0,null,0,0,0,0,0,0]
[0,0,{"$f":"IFERROR(INDEX((Settings!$M$17:$M$231),MATCH(RelatedPartyRevenue!G20,Settings!$AC$18:$AC$163,0)),0)","v":0},null,null,0,0,0,null,0,0,0,0,0,0,0,0,0,0,0,0,null,null,0,null,0,0,0,0,0,0]
[0,0,{"$f":"IFERROR(INDEX((Settings!$M$17:$M$231),MATCH(RelatedPartyRevenue!G21,Settings!$AC$18:$AC$163,0)),0)","v":0},null,null,0,0,0,null,0,0,0,0,0,0,0,0,0,0,0,0,null,null,0,null,0,0,0,0,0,0]
[0,0,{"$f":"IFERROR(INDEX((Settings!$M$17:$M$231),MATCH(RelatedPartyRevenue!G22,Settings!$AC$18:$AC$163,0)),0)","v":0},null,null,0,0,0,null,0,0,0,0,0,0,0,0,0,0,0,0,null,null,0,null,0,0,0,0,0,0]
[0,0,{"$f":"IFERROR(INDEX((Settings!$M$17:$M$231),MATCH(RelatedPartyRevenue!G23,Settings!$AC$18:$AC$163,0)),0)","v":0},null,null,0,0,0,null,0,0,0,0,0,0,0,0,0,0,0,0,null,null,0,null,0,0,0,0,0,0]
[0,0,{"$f":"IFERROR(INDEX((Settings!$M$17:$M$231),MATCH(RelatedPartyRevenue!G24,Settings!$AC$18:$AC$163,0)),0)","v":0},null,null,0,0,0,null,0,0,0,0,0,0,0,0,0,0,0,0,null,null,0,null,0,0,0,0,0,0]
[0,0,{"$f":"IFERROR(INDEX((Settings!$M$17:$M$231),MATCH(RelatedPartyRevenue!G25,Settings!$AC$18:$AC$163,0)),0)","v":0},null,null,0,0,0,null,0,0,0,0,0,0,0,0,0,0,0,0,null,null,0,null,0,0,0,0,0,0]
[0,0,{"$f":"IFERROR(INDEX((Settings!$M$17:$M$231),MATCH(RelatedPartyRevenue!G26,Settings!$AC$18:$AC$163,0)),0)","v":0},null,null,0,0,0,null,0,0,0,0,0,0,0,0,0,0,0,0,null,null,0,null,0,0,0,0,0,0]
[0,0,{"$f":"IFERROR(INDEX((Settings!$M$17:$M$231),MATCH(RelatedPartyRevenue!G27,Settings!$AC$18:$AC$163,0)),0)","v":0},null,null,0,0,0,null,0,0,0,0,0,0,0,0,0,0,0,0,null,null,0,null,0,0,0,0,0,0]
[0,0,{"$f":"IFERROR(INDEX((Settings!$M$17:$M$231),MATCH(RelatedPartyRevenue!G28,Settings!$AC$18:$AC$163,0)),0)","v":0},null,null,0,0,0,null,0,0,0,0,0,0,0,0,0,0,0,0,null,null,0,null,0,0,0,0,0,0]
[0,0,{"$f":"IFERROR(INDEX((Settings!$M$17:$M$231),MATCH(RelatedPartyRevenue!G29,Settings!$AC$18:$AC$163,0)),0)","v":0},null,null,0,0,0,null,0,0,0,0,0,0,0,0,0,0,0,0,null,null,0,null,0,0,0,0,0,0]
[0,0,{"$f":"IFERROR(INDEX((Settings!$M$17:$M$231),MATCH(RelatedPartyRevenue!G30,Settings!$AC$18:$AC$163,0)),0)","v":0},null,null,0,0,0,null,0,0,0,0,0,0,0,0,0,0,0,0,null,null,0,null,0,0,0,0,0,0]
[0,0,{"$f":"IFERROR(INDEX((Settings!$M$17:$M$231),MATCH(RelatedPartyRevenue!G31,Settings!$AC$18:$AC$163,0)),0)","v":0},null,null,0,0,0,null,0,0,0,0,0,0,0,0,0,0,0,0,null,null,0,null,0,0,0,0,0,0]
[0,0,{"$f":"IFERROR(INDEX((Settings!$M$17:$M$231),MATCH(RelatedPartyRevenue!G32,Settings!$AC$18:$AC$163,0)),0)","v":0},null,null,0,0,0,null,0,0,0,0,0,0,0,0,0,0,0,0,null,null,0,null,0,0,0,0,0,0]
[0,0,{"$f":"IFERROR(INDEX((Settings!$M$17:$M$231),MATCH(RelatedPartyRevenue!G33,Settings!$AC$18:$AC$163,0)),0)","v":0},null,null,0,0,0,null,0,0,0,0,0,0,0,0,0,0,0,0,null,null,0,null,0,0,0,0,0,0]
[0,0,{"$f":"IFERROR(INDEX((Settings!$M$17:$M$231),MATCH(RelatedPartyRevenue!G34,Settings!$AC$18:$AC$163,0)),0)","v":0},null,null,0,0,0,null,0,0,0,0,0,0,0,0,0,0,0,0,null,null,0,null,0,0,0,0,0,0]
[0,0,{"$f":"IFERROR(INDEX((Settings!$M$17:$M$231),MATCH(RelatedPartyRevenue!G35,Settings!$AC$18:$AC$163,0)),0)","v":0},null,null,0,0,0,null,0,0,0,0,0,0,0,0,0,0,0,0,null,null,0,null,0,0,0,0,0,0]
[0,0,{"$f":"IFERROR(INDEX((Settings!$M$17:$M$231),MATCH(RelatedPartyRevenue!G36,Settings!$AC$18:$AC$163,0)),0)","v":0},null,null,0,0,0,null,0,0,0,0,0,0,0,0,0,0,0,0,null,null,0,null,0,0,0,0,0,0]
[0,0,{"$f":"IFERROR(INDEX((Settings!$M$17:$M$231),MATCH(RelatedPartyRevenue!G37,Settings!$AC$18:$AC$163,0)),0)","v":0},null,null,0,0,0,null,0,0,0,0,0,0,0,0,0,0,0,0,null,null,0,null,0,0,0,0,0,0]
[0,0,{"$f":"IFERROR(INDEX((Settings!$M$17:$M$231),MATCH(RelatedPartyRevenue!G38,Settings!$AC$18:$AC$163,0)),0)","v":0},null,null,0,0,0,null,0,0,0,0,0,0,0,0,0,0,0,0,null,null,0,null,0,0,0,0,0,0]
[0,0,{"$f":"IFERROR(INDEX((Settings!$M$17:$M$231),MATCH(RelatedPartyRevenue!G39,Settings!$AC$18:$AC$163,0)),0)","v":0},null,null,0,0,0,null,0,0,0,0,0,0,0,0,0,0,0,0,null,null,0,null,0,0,0,0,0,0]
[0,0,{"$f":"IFERROR(INDEX((Settings!$M$17:$M$231),MATCH(RelatedPartyRevenue!G40,Settings!$AC$18:$AC$163,0)),0)","v":0},null,null,0,0,0,null,0,0,0,0,0,0,0,0,0,0,0,0,null,null,0,null,0,0,0,0,0,0]
[0,0,{"$f":"IFERROR(INDEX((Settings!$M$17:$M$231),MATCH(RelatedPartyRevenue!G41,Settings!$AC$18:$AC$163,0)),0)","v":0},null,null,0,0,0,null,0,0,0,0,0,0,0,0,0,0,0,0,null,null,0,null,0,0,0,0,0,0]
[0,0,{"$f":"IFERROR(INDEX((Settings!$M$17:$M$231),MATCH(RelatedPartyRevenue!G42,Settings!$AC$18:$AC$163,0)),0)","v":0},null,null,0,0,0,null,0,0,0,0,0,0,0,0,0,0,0,0,null,null,0,null,0,0,0,0,0,0]
[0,0,{"$f":"IFERROR(INDEX((Settings!$M$17:$M$231),MATCH(RelatedPartyRevenue!G43,Settings!$AC$18:$AC$163,0)),0)","v":0},null,null,0,0,0,null,0,0,0,0,0,0,0,0,0,0,0,0,null,null,0,null,0,0,0,0,0,0]
[0,0,{"$f":"IFERROR(INDEX((Settings!$M$17:$M$231),MATCH(RelatedPartyRevenue!G44,Settings!$AC$18:$AC$163,0)),0)","v":0},null,null,0,0,0,null,0,0,0,0,0,0,0,0,0,0,0,0,null,null,0,null,0,0,0,0,0,0]
[0,0,{"$f":"IFERROR(INDEX((Settings!$M$17:$M$231),MATCH(RelatedPartyRevenue!G45,Settings!$AC$18:$AC$163,0)),0)","v":0},null,null,0,0,0,null,0,0,0,0,0,0,0,0,0,0,0,0,null,null,0,null,0,0,0,0,0,0]
[0,0,{"$f":"IFERROR(INDEX((Settings!$M$17:$M$231),MATCH(RelatedPartyRevenue!G46,Settings!$AC$18:$AC$163,0)),0)","v":0},null,null,0,0,0,null,0,0,0,0,0,0,0,0,0,0,0,0,null,null,0,null,0,0,0,0,0,0]
[0,0,{"$f":"IFERROR(INDEX((Settings!$M$17:$M$231),MATCH(RelatedPartyRevenue!G47,Settings!$AC$18:$AC$163,0)),0)","v":0},null,null,0,0,0,null,0,0,0,0,0,0,0,0,0,0,0,0,null,null,0,null,0,0,0,0,0,0]
[0,0,{"$f":"IFERROR(INDEX((Settings!$M$17:$M$231),MATCH(RelatedPartyRevenue!G48,Settings!$AC$18:$AC$163,0)),0)","v":0},null,null,0,0,0,null,0,0,0,0,0,0,0,0,0,0,0,0,null,null,0,null,0,0,0,0,0,0]
[0,0,{"$f":"IFERROR(INDEX((Settings!$M$17:$M$231),MATCH(RelatedPartyRevenue!G49,Settings!$AC$18:$AC$163,0)),0)","v":0},null,null,0,0,0,null,0,0,0,0,0,0,0,0,0,0,0,0,null,null,0,null,0,0,0,0,0,0]
[0,0,{"$f":"IFERROR(INDEX((Settings!$M$17:$M$231),MATCH(RelatedPartyRevenue!G50,Settings!$AC$18:$AC$163,0)),0)","v":0},null,null,0,0,0,null,0,0,0,0,0,0,0,0,0,0,0,0,null,null,0,null,0,0,0,0,0,0]
[0,0,{"$f":"IFERROR(INDEX((Settings!$M$17:$M$231),MATCH(RelatedPartyRevenue!G51,Settings!$AC$18:$AC$163,0)),0)","v":0},null,null,0,0,0,null,0,0,0,0,0,0,0,0,0,0,0,0,null,null,0,null,0,0,0,0,0,0]
[0,0,{"$f":"IFERROR(INDEX((Settings!$M$17:$M$231),MATCH(RelatedPartyRevenue!G52,Settings!$AC$18:$AC$163,0)),0)","v":0},null,null,0,0,0,null,0,0,0,0,0,0,0,0,0,0,0,0,null,null,0,null,0,0,0,0,0,0]
[0,0,{"$f":"IFERROR(INDEX((Settings!$M$17:$M$231),MATCH(RelatedPartyRevenue!G53,Settings!$AC$18:$AC$163,0)),0)","v":0},null,null,0,0,0,null,0,0,0,0,0,0,0,0,0,0,0,0,null,null,0,null,0,0,0,0,0,0]
[0,0,{"$f":"IFERROR(INDEX((Settings!$M$17:$M$231),MATCH(RelatedPartyRevenue!G54,Settings!$AC$18:$AC$163,0)),0)","v":0},null,null,0,0,0,null,0,0,0,0,0,0,0,0,0,0,0,0,null,null,0,null,0,0,0,0,0,0]
[0,0,{"$f":"IFERROR(INDEX((Settings!$M$17:$M$231),MATCH(RelatedPartyRevenue!G55,Settings!$AC$18:$AC$163,0)),0)","v":0},null,null,0,0,0,null,0,0,0,0,0,0,0,0,0,0,0,0,null,null,0,null,0,0,0,0,0,0]
[0,0,{"$f":"IFERROR(INDEX((Settings!$M$17:$M$231),MATCH(RelatedPartyRevenue!G56,Settings!$AC$18:$AC$163,0)),0)","v":0},null,null,0,0,0,null,0,0,0,0,0,0,0,0,0,0,0,0,null,null,0,null,0,0,0,0,0,0]
[0,0,{"$f":"IFERROR(INDEX((Settings!$M$17:$M$231),MATCH(RelatedPartyRevenue!G57,Settings!$AC$18:$AC$163,0)),0)","v":0},null,null,0,0,0,null,0,0,0,0,0,0,0,0,0,0,0,0,null,null,0,null,0,0,0,0,0,0]
[0,0,{"$f":"IFERROR(INDEX((Settings!$M$17:$M$231),MATCH(RelatedPartyRevenue!G58,Settings!$AC$18:$AC$163,0)),0)","v":0},null,null,0,0,0,null,0,0,0,0,0,0,0,0,0,0,0,0,null,null,0,null,0,0,0,0,0,0]
[0,0,{"$f":"IFERROR(INDEX((Settings!$M$17:$M$231),MATCH(RelatedPartyRevenue!G59,Settings!$AC$18:$AC$163,0)),0)","v":0},null,null,0,0,0,null,0,0,0,0,0,0,0,0,0,0,0,0,null,null,0,null,0,0,0,0,0,0]
[0,0,{"$f":"IFERROR(INDEX((Settings!$M$17:$M$231),MATCH(RelatedPartyRevenue!G60,Settings!$AC$18:$AC$163,0)),0)","v":0},null,null,0,0,0,null,0,0,0,0,0,0,0,0,0,0,0,0,null,null,0,null,0,0,0,0,0,0]
[0,0,{"$f":"IFERROR(INDEX((Settings!$M$17:$M$231),MATCH(RelatedPartyRevenue!G61,Settings!$AC$18:$AC$163,0)),0)","v":0},null,null,0,0,0,null,0,0,0,0,0,0,0,0,0,0,0,0,null,null,0,null,0,0,0,0,0,0]
[0,0,{"$f":"IFERROR(INDEX((Settings!$M$17:$M$231),MATCH(RelatedPartyRevenue!G62,Settings!$AC$18:$AC$163,0)),0)","v":0},null,null,0,0,0,null,0,0,0,0,0,0,0,0,0,0,0,0,null,null,0,null,0,0,0,0,0,0]
[0,0,{"$f":"IFERROR(INDEX((Settings!$M$17:$M$231),MATCH(RelatedPartyRevenue!G63,Settings!$AC$18:$AC$163,0)),0)","v":0},null,null,0,0,0,null,0,0,0,0,0,0,0,0,0,0,0,0,null,null,0,null,0,0,0,0,0,0]
[0,0,{"$f":"IFERROR(INDEX((Settings!$M$17:$M$231),MATCH(RelatedPartyRevenue!G64,Settings!$AC$18:$AC$163,0)),0)","v":0},null,null,0,0,0,null,0,0,0,0,0,0,0,0,0,0,0,0,null,null,0,null,0,0,0,0,0,0]
[0,0,{"$f":"IFERROR(INDEX((Settings!$M$17:$M$231),MATCH(RelatedPartyRevenue!G65,Settings!$AC$18:$AC$163,0)),0)","v":0},null,null,0,0,0,null,0,0,0,0,0,0,0,0,0,0,0,0,null,null,0,null,0,0,0,0,0,0]
[0,0,{"$f":"IFERROR(INDEX((Settings!$M$17:$M$231),MATCH(RelatedPartyRevenue!G66,Settings!$AC$18:$AC$163,0)),0)","v":0},null,null,0,0,0,null,0,0,0,0,0,0,0,0,0,0,0,0,null,null,0,null,0,0,0,0,0,0]
[0,0,{"$f":"IFERROR(INDEX((Settings!$M$17:$M$231),MATCH(RelatedPartyRevenue!G67,Settings!$AC$18:$AC$163,0)),0)","v":0},null,null,0,0,0,null,0,0,0,0,0,0,0,0,0,0,0,0,null,null,0,null,0,0,0,0,0,0]
[0,0,{"$f":"IFERROR(INDEX((Settings!$M$17:$M$231),MATCH(RelatedPartyRevenue!G68,Settings!$AC$18:$AC$163,0)),0)","v":0},null,null,0,0,0,null,0,0,0,0,0,0,0,0,0,0,0,0,null,null,0,null,0,0,0,0,0,0]
[0,0,{"$f":"IFERROR(INDEX((Settings!$M$17:$M$231),MATCH(RelatedPartyRevenue!G69,Settings!$AC$18:$AC$163,0)),0)","v":0},null,null,0,0,0,null,0,0,0,0,0,0,0,0,0,0,0,0,null,null,0,null,0,0,0,0,0,0]
[0,0,{"$f":"IFERROR(INDEX((Settings!$M$17:$M$231),MATCH(RelatedPartyRevenue!G70,Settings!$AC$18:$AC$163,0)),0)","v":0},null,null,0,0,0,null,0,0,0,0,0,0,0,0,0,0,0,0,null,null,0,null,0,0,0,0,0,0]
[0,0,{"$f":"IFERROR(INDEX((Settings!$M$17:$M$231),MATCH(RelatedPartyRevenue!G71,Settings!$AC$18:$AC$163,0)),0)","v":0},null,null,0,0,0,null,0,0,0,0,0,0,0,0,0,0,0,0,null,null,0,null,0,0,0,0,0,0]
[0,0,{"$f":"IFERROR(INDEX((Settings!$M$17:$M$231),MATCH(RelatedPartyRevenue!G72,Settings!$AC$18:$AC$163,0)),0)","v":0},null,null,0,0,0,null,0,0,0,0,0,0,0,0,0,0,0,0,null,null,0,null,0,0,0,0,0,0]
[0,0,{"$f":"IFERROR(INDEX((Settings!$M$17:$M$231),MATCH(RelatedPartyRevenue!G73,Settings!$AC$18:$AC$163,0)),0)","v":0},null,null,0,0,0,null,0,0,0,0,0,0,0,0,0,0,0,0,null,null,0,null,0,0,0,0,0,0]
[0,0,{"$f":"IFERROR(INDEX((Settings!$M$17:$M$231),MATCH(RelatedPartyRevenue!G74,Settings!$AC$18:$AC$163,0)),0)","v":0},null,null,0,0,0,null,0,0,0,0,0,0,0,0,0,0,0,0,null,null,0,null,0,0,0,0,0,0]
[0,{"$f":"IF($G75=$G$7,1,0)","v":0},{"$f":"IFERROR(INDEX((Settings!$M$17:$M$231),MATCH(RelatedPartyRevenue!G75,Settings!$AC$18:$AC$163,0)),0)","v":0},null,null,0,0,0,null,0,0,0,0,0,0,0,0,0,0,0,0,null,null,0,null,0,0,0,0,0,0]
[{"$f":"IF(SUM(J76:V76)>0,1,0)","v":0},0,{"$f":"IFERROR(INDEX((Settings!$M$17:$M$231),MATCH(RelatedPartyRevenue!G76,Settings!$AC$18:$AC$163,0)),0)","v":0},null,null,0,0,0,null,0,0,0,0,0,0,0,0,0,0,0,0,null,null,0,null,{"$f":"K76-J76","v":0},{"$f":"M76-L76","v":0},0,0,0,0]
[0,0,{"$f":"IFERROR(INDEX((Settings!$M$17:$M$231),MATCH(RelatedPartyRevenue!G77,Settings!$AC$18:$AC$163,0)),0)","v":0},null,null,0,0,0,null,0,0,0,0,0,0,0,0,0,0,0,0,null,null,0,null,0,0,{"$f":"O77-N77","v":0},{"$f":"Q77-P77","v":0},{"$f":"S77-R77","v":0},{"$f":"U77-T77","v":0}]
[0,0,{"$f":"IFERROR(INDEX((Settings!$M$17:$M$231),MATCH(RelatedPartyRevenue!G78,Settings!$AC$18:$AC$163,0)),0)","v":0},null,null,0,0,0,null,0,0,0,0,0,0,0,0,0,0,0,0,null,null,0,null,0,0,0,0,0,0]
[0,0,{"$f":"IFERROR(INDEX((Settings!$M$17:$M$231),MATCH(RelatedPartyRevenue!G79,Settings!$AC$18:$AC$163,0)),0)","v":0},null,null,0,0,0,null,0,0,0,0,0,0,0,0,0,0,0,0,null,null,0,null,0,0,0,0,0,0]
[0,0,{"$f":"IFERROR(INDEX((Settings!$M$17:$M$231),MATCH(RelatedPartyRevenue!G80,Settings!$AC$18:$AC$163,0)),0)","v":0},null,null,0,0,0,null,0,0,0,0,0,0,0,0,0,0,0,0,null,null,0,null,0,0,0,0,0,0]
[0,0,{"$f":"IFERROR(INDEX((Settings!$M$17:$M$231),MATCH(RelatedPartyRevenue!G81,Settings!$AC$18:$AC$163,0)),0)","v":0},null,null,0,0,0,null,0,0,0,0,0,0,0,0,0,0,0,0,null,null,0,null,0,0,0,0,0,0]
[0,0,{"$f":"IFERROR(INDEX((Settings!$M$17:$M$231),MATCH(RelatedPartyRevenue!G82,Settings!$AC$18:$AC$163,0)),0)","v":0},null,null,0,0,0,null,0,0,0,0,0,0,0,0,0,0,0,0,null,null,0,null,0,0,0,0,0,0]
[0,0,{"$f":"IFERROR(INDEX((Settings!$M$17:$M$231),MATCH(RelatedPartyRevenue!G83,Settings!$AC$18:$AC$163,0)),0)","v":0},null,null,0,0,0,null,0,0,0,0,0,0,0,0,0,0,0,0,null,null,0,null,0,0,0,0,0,0]
[0,0,{"$f":"IFERROR(INDEX((Settings!$M$17:$M$231),MATCH(RelatedPartyRevenue!G84,Settings!$AC$18:$AC$163,0)),0)","v":0},null,null,0,0,0,null,0,0,0,0,0,0,0,0,0,0,0,0,null,null,0,null,0,0,0,0,0,0]
[0,0,{"$f":"IFERROR(INDEX((Settings!$M$17:$M$231),MATCH(RelatedPartyRevenue!G85,Settings!$AC$18:$AC$163,0)),0)","v":0},null,null,0,0,0,null,0,0,0,0,0,0,0,0,0,0,0,0,null,null,0,null,0,0,0,0,0,0]
[0,0,{"$f":"IFERROR(INDEX((Settings!$M$17:$M$231),MATCH(RelatedPartyRevenue!G86,Settings!$AC$18:$AC$163,0)),0)","v":0},null,null,0,0,0,null,0,0,0,0,0,0,0,0,0,0,0,0,null,null,0,null,0,0,0,0,0,0]
[0,0,{"$f":"IFERROR(INDEX((Settings!$M$17:$M$231),MATCH(RelatedPartyRevenue!G87,Settings!$AC$18:$AC$163,0)),0)","v":0},null,null,0,0,0,null,0,0,0,0,0,0,0,0,0,0,0,0,null,null,0,null,0,0,0,0,0,0]
[0,0,{"$f":"IFERROR(INDEX((Settings!$M$17:$M$231),MATCH(RelatedPartyRevenue!G88,Settings!$AC$18:$AC$163,0)),0)","v":0},null,null,0,0,0,null,0,0,0,0,0,0,0,0,0,0,0,0,null,null,0,null,0,0,0,0,0,0]
[0,0,{"$f":"IFERROR(INDEX((Settings!$M$17:$M$231),MATCH(RelatedPartyRevenue!G89,Settings!$AC$18:$AC$163,0)),0)","v":0},null,null,0,0,0,null,0,0,0,0,0,0,0,0,0,0,0,0,null,null,0,null,0,0,0,0,0,0]
[0,0,{"$f":"IFERROR(INDEX((Settings!$M$17:$M$231),MATCH(RelatedPartyRevenue!G90,Settings!$AC$18:$AC$163,0)),0)","v":0},null,null,0,0,0,null,0,0,0,0,0,0,0,0,0,0,0,0,null,null,0,null,0,0,0,0,0,0]
[0,0,{"$f":"IFERROR(INDEX((Settings!$M$17:$M$231),MATCH(RelatedPartyRevenue!G91,Settings!$AC$18:$AC$163,0)),0)","v":0},null,null,0,0,0,null,0,0,0,0,0,0,0,0,0,0,0,0,null,null,0,null,0,0,0,0,0,0]
[0,0,{"$f":"IFERROR(INDEX((Settings!$M$17:$M$231),MATCH(RelatedPartyRevenue!G92,Settings!$AC$18:$AC$163,0)),0)","v":0},null,null,0,0,0,null,0,0,0,0,0,0,0,0,0,0,0,0,null,null,0,null,0,0,0,0,0,0]
[0,0,{"$f":"IFERROR(INDEX((Settings!$M$17:$M$231),MATCH(RelatedPartyRevenue!G93,Settings!$AC$18:$AC$163,0)),0)","v":0},null,null,0,0,0,null,0,0,0,0,0,0,0,0,0,0,0,0,null,null,0,null,0,0,0,0,0,0]
[0,0,{"$f":"IFERROR(INDEX((Settings!$M$17:$M$231),MATCH(RelatedPartyRevenue!G94,Settings!$AC$18:$AC$163,0)),0)","v":0},null,null,0,0,0,null,0,0,0,0,0,0,0,0,0,0,0,0,null,null,0,null,0,0,0,0,0,0]
[0,0,{"$f":"IFERROR(INDEX((Settings!$M$17:$M$231),MATCH(RelatedPartyRevenue!G95,Settings!$AC$18:$AC$163,0)),0)","v":0},null,null,0,0,0,null,0,0,0,0,0,0,0,0,0,0,0,0,null,null,0,null,0,0,0,0,0,0]
[0,0,{"$f":"IFERROR(INDEX((Settings!$M$17:$M$231),MATCH(RelatedPartyRevenue!G96,Settings!$AC$18:$AC$163,0)),0)","v":0},null,null,0,0,0,null,0,0,0,0,0,0,0,0,0,0,0,0,null,null,0,null,0,0,0,0,0,0]
[0,0,{"$f":"IFERROR(INDEX((Settings!$M$17:$M$231),MATCH(RelatedPartyRevenue!G97,Settings!$AC$18:$AC$163,0)),0)","v":0},null,null,0,0,0,null,0,0,0,0,0,0,0,0,0,0,0,0,null,null,0,null,0,0,0,0,0,0]
[0,0,{"$f":"IFERROR(INDEX((Settings!$M$17:$M$231),MATCH(RelatedPartyRevenue!G98,Settings!$AC$18:$AC$163,0)),0)","v":0},null,null,0,0,0,null,0,0,0,0,0,0,0,0,0,0,0,0,null,null,0,null,0,0,0,0,0,0]
[0,0,{"$f":"IFERROR(INDEX((Settings!$M$17:$M$231),MATCH(RelatedPartyRevenue!G99,Settings!$AC$18:$AC$163,0)),0)","v":0},null,null,0,0,0,null,0,0,0,0,0,0,0,0,0,0,0,0,null,null,0,null,0,0,0,0,0,0]
[0,0,{"$f":"IFERROR(INDEX((Settings!$M$17:$M$231),MATCH(RelatedPartyRevenue!G100,Settings!$AC$18:$AC$163,0)),0)","v":0},null,null,0,0,0,null,0,0,0,0,0,0,0,0,0,0,0,0,null,null,0,null,0,0,0,0,0,0]
[0,0,{"$f":"IFERROR(INDEX((Settings!$M$17:$M$231),MATCH(RelatedPartyRevenue!G101,Settings!$AC$18:$AC$163,0)),0)","v":0},null,null,0,0,0,null,0,0,0,0,0,0,0,0,0,0,0,0,null,null,0,null,0,0,0,0,0,0]
[0,0,{"$f":"IFERROR(INDEX((Settings!$M$17:$M$231),MATCH(RelatedPartyRevenue!G102,Settings!$AC$18:$AC$163,0)),0)","v":0},null,null,0,0,0,null,0,0,0,0,0,0,0,0,0,0,0,0,null,null,0,null,0,0,0,0,0,0]
[0,0,{"$f":"IFERROR(INDEX((Settings!$M$17:$M$231),MATCH(RelatedPartyRevenue!G103,Settings!$AC$18:$AC$163,0)),0)","v":0},null,null,0,0,0,null,0,0,0,0,0,0,0,0,0,0,0,0,null,null,0,null,0,0,0,0,0,0]
[0,0,{"$f":"IFERROR(INDEX((Settings!$M$17:$M$231),MATCH(RelatedPartyRevenue!G104,Settings!$AC$18:$AC$163,0)),0)","v":0},null,null,0,0,0,null,0,0,0,0,0,0,0,0,0,0,0,0,null,null,0,null,0,0,0,0,0,0]
[0,0,{"$f":"IFERROR(INDEX((Settings!$M$17:$M$231),MATCH(RelatedPartyRevenue!G105,Settings!$AC$18:$AC$163,0)),0)","v":0},null,null,0,0,0,null,0,0,0,0,0,0,0,0,0,0,0,0,null,null,0,null,0,0,0,0,0,0]
[0,0,{"$f":"IFERROR(INDEX((Settings!$M$17:$M$231),MATCH(RelatedPartyRevenue!G106,Settings!$AC$18:$AC$163,0)),0)","v":0},null,null,0,0,0,null,0,0,0,0,0,0,0,0,0,0,0,0,null,null,0,null,0,0,0,0,0,0]
[0,0,{"$f":"IFERROR(INDEX((Settings!$M$17:$M$231),MATCH(RelatedPartyRevenue!G107,Settings!$AC$18:$AC$163,0)),0)","v":0},null,null,0,0,0,null,0,0,0,0,0,0,0,0,0,0,0,0,null,null,0,null,0,0,0,0,0,0]
[0,0,{"$f":"IFERROR(INDEX((Settings!$M$17:$M$231),MATCH(RelatedPartyRevenue!G108,Settings!$AC$18:$AC$163,0)),0)","v":0},null,null,0,0,0,null,0,0,0,0,0,0,0,0,0,0,0,0,null,null,0,null,0,0,0,0,0,0]
[0,0,{"$f":"IFERROR(INDEX((Settings!$M$17:$M$231),MATCH(RelatedPartyRevenue!G109,Settings!$AC$18:$AC$163,0)),0)","v":0},null,null,0,0,0,null,0,0,0,0,0,0,0,0,0,0,0,0,null,null,0,null,0,0,0,0,0,0]
[0,0,{"$f":"IFERROR(INDEX((Settings!$M$17:$M$231),MATCH(RelatedPartyRevenue!G110,Settings!$AC$18:$AC$163,0)),0)","v":0},null,null,0,0,0,null,0,0,0,0,0,0,0,0,0,0,0,0,null,null,0,null,0,0,0,0,0,0]
[0,0,{"$f":"IFERROR(INDEX((Settings!$M$17:$M$231),MATCH(RelatedPartyRevenue!G111,Settings!$AC$18:$AC$163,0)),0)","v":0},null,null,0,0,0,null,0,0,0,0,0,0,0,0,0,0,0,0,null,null,0,null,0,0,0,0,0,0]
[0,0,{"$f":"IFERROR(INDEX((Settings!$M$17:$M$231),MATCH(RelatedPartyRevenue!G112,Settings!$AC$18:$AC$163,0)),0)","v":0},null,null,0,0,0,null,0,0,0,0,0,0,0,0,0,0,0,0,null,null,0,null,0,0,0,0,0,0]
[0,0,{"$f":"IFERROR(INDEX((Settings!$M$17:$M$231),MATCH(RelatedPartyRevenue!G113,Settings!$AC$18:$AC$163,0)),0)","v":0},null,null,0,0,0,null,0,0,0,0,0,0,0,0,0,0,0,0,null,null,0,null,0,0,0,0,0,0]
[0,0,{"$f":"IFERROR(INDEX((Settings!$M$17:$M$231),MATCH(RelatedPartyRevenue!G114,Settings!$AC$18:$AC$163,0)),0)","v":0},null,null,0,0,0,null,0,0,0,0,0,0,0,0,0,0,0,0,null,null,0,null,0,0,0,0,0,0]
[0,0,{"$f":"IFERROR(INDEX((Settings!$M$17:$M$231),MATCH(RelatedPartyRevenue!G115,Settings!$AC$18:$AC$163,0)),0)","v":0},null,null,0,0,0,null,0,0,0,0,0,0,0,0,0,0,0,0,null,null,0,null,0,0,0,0,0,0]
[0,0,{"$f":"IFERROR(INDEX((Settings!$M$17:$M$231),MATCH(RelatedPartyRevenue!G116,Settings!$AC$18:$AC$163,0)),0)","v":0},null,null,0,0,0,null,0,0,0,0,0,0,0,0,0,0,0,0,null,null,0,null,0,0,0,0,0,0]
[0,0,{"$f":"IFERROR(INDEX((Settings!$M$17:$M$231),MATCH(RelatedPartyRevenue!G117,Settings!$AC$18:$AC$163,0)),0)","v":0},null,null,0,0,0,null,0,0,0,0,0,0,0,0,0,0,0,0,null,null,0,null,0,0,0,0,0,0]
[0,0,{"$f":"IFERROR(INDEX((Settings!$M$17:$M$231),MATCH(RelatedPartyRevenue!G118,Settings!$AC$18:$AC$163,0)),0)","v":0},null,null,0,0,0,null,0,0,0,0,0,0,0,0,0,0,0,0,null,null,0,null,0,0,0,0,0,0]
[0,0,{"$f":"IFERROR(INDEX((Settings!$M$17:$M$231),MATCH(RelatedPartyRevenue!G119,Settings!$AC$18:$AC$163,0)),0)","v":0},null,null,0,0,0,null,0,0,0,0,0,0,0,0,0,0,0,0,null,null,0,null,0,0,0,0,0,0]
[0,0,{"$f":"IFERROR(INDEX((Settings!$M$17:$M$231),MATCH(RelatedPartyRevenue!G120,Settings!$AC$18:$AC$163,0)),0)","v":0},null,null,0,0,0,null,0,0,0,0,0,0,0,0,0,0,0,0,null,null,0,null,0,0,0,0,0,0]
[0,0,{"$f":"IFERROR(INDEX((Settings!$M$17:$M$231),MATCH(RelatedPartyRevenue!G121,Settings!$AC$18:$AC$163,0)),0)","v":0},null,null,0,0,0,null,0,0,0,0,0,0,0,0,0,0,0,0,null,null,0,null,0,0,0,0,0,0]
[0,0,{"$f":"IFERROR(INDEX((Settings!$M$17:$M$231),MATCH(RelatedPartyRevenue!G122,Settings!$AC$18:$AC$163,0)),0)","v":0},null,null,0,0,0,null,0,0,0,0,0,0,0,0,0,0,0,0,null,null,0,null,0,0,0,0,0,0]
[0,0,{"$f":"IFERROR(INDEX((Settings!$M$17:$M$231),MATCH(RelatedPartyRevenue!G123,Settings!$AC$18:$AC$163,0)),0)","v":0},null,null,0,0,0,null,0,0,0,0,0,0,0,0,0,0,0,0,null,null,0,null,0,0,0,0,0,0]
[0,0,{"$f":"IFERROR(INDEX((Settings!$M$17:$M$231),MATCH(RelatedPartyRevenue!G124,Settings!$AC$18:$AC$163,0)),0)","v":0},null,null,0,0,0,null,0,0,0,0,0,0,0,0,0,0,0,0,null,null,0,null,0,0,0,0,0,0]
[0,0,{"$f":"IFERROR(INDEX((Settings!$M$17:$M$231),MATCH(RelatedPartyRevenue!G125,Settings!$AC$18:$AC$163,0)),0)","v":0},null,null,0,0,0,null,0,0,0,0,0,0,0,0,0,0,0,0,null,null,0,null,0,0,0,0,0,0]
[0,0,{"$f":"IFERROR(INDEX((Settings!$M$17:$M$231),MATCH(RelatedPartyRevenue!G126,Settings!$AC$18:$AC$163,0)),0)","v":0},null,null,0,0,0,null,0,0,0,0,0,0,0,0,0,0,0,0,null,null,0,null,0,0,0,0,0,0]
[0,0,{"$f":"IFERROR(INDEX((Settings!$M$17:$M$231),MATCH(RelatedPartyRevenue!G127,Settings!$AC$18:$AC$163,0)),0)","v":0},null,null,0,0,0,null,0,0,0,0,0,0,0,0,0,0,0,0,null,null,0,null,0,0,0,0,0,0]
[0,0,{"$f":"IFERROR(INDEX((Settings!$M$17:$M$231),MATCH(RelatedPartyRevenue!G128,Settings!$AC$18:$AC$163,0)),0)","v":0},null,null,0,0,0,null,0,0,0,0,0,0,0,0,0,0,0,0,null,null,0,null,0,0,0,0,0,0]
[0,0,{"$f":"IFERROR(INDEX((Settings!$M$17:$M$231),MATCH(RelatedPartyRevenue!G129,Settings!$AC$18:$AC$163,0)),0)","v":0},null,null,0,0,0,null,0,0,0,0,0,0,0,0,0,0,0,0,null,null,0,null,0,0,0,0,0,0]
[0,0,{"$f":"IFERROR(INDEX((Settings!$M$17:$M$231),MATCH(RelatedPartyRevenue!G130,Settings!$AC$18:$AC$163,0)),0)","v":0},null,null,0,0,0,null,0,0,0,0,0,0,0,0,0,0,0,0,null,null,0,null,0,0,0,0,0,0]
[0,0,{"$f":"IFERROR(INDEX((Settings!$M$17:$M$231),MATCH(RelatedPartyRevenue!G131,Settings!$AC$18:$AC$163,0)),0)","v":0},null,null,0,0,0,null,0,0,0,0,0,0,0,0,0,0,0,0,null,null,0,null,0,0,0,0,0,0]
[0,0,{"$f":"IFERROR(INDEX((Settings!$M$17:$M$231),MATCH(RelatedPartyRevenue!G132,Settings!$AC$18:$AC$163,0)),0)","v":0},null,null,0,0,0,null,0,0,0,0,0,0,0,0,0,0,0,0,null,null,0,null,0,0,0,0,0,0]
[0,0,{"$f":"IFERROR(INDEX((Settings!$M$17:$M$231),MATCH(RelatedPartyRevenue!G133,Settings!$AC$18:$AC$163,0)),0)","v":0},null,null,0,0,0,null,0,0,0,0,0,0,0,0,0,0,0,0,null,null,0,null,0,0,0,0,0,0]
[0,0,{"$f":"IFERROR(INDEX((Settings!$M$17:$M$231),MATCH(RelatedPartyRevenue!G134,Settings!$AC$18:$AC$163,0)),0)","v":0},null,null,0,0,0,null,0,0,0,0,0,0,0,0,0,0,0,0,null,null,0,null,0,0,0,0,0,0]
[0,0,{"$f":"IFERROR(INDEX((Settings!$M$17:$M$231),MATCH(RelatedPartyRevenue!G135,Settings!$AC$18:$AC$163,0)),0)","v":0},null,null,0,0,0,null,0,0,0,0,0,0,0,0,0,0,0,0,null,null,0,null,0,0,0,0,0,0]
[0,0,{"$f":"IFERROR(INDEX((Settings!$M$17:$M$231),MATCH(RelatedPartyRevenue!G136,Settings!$AC$18:$AC$163,0)),0)","v":0},null,null,0,0,0,null,0,0,0,0,0,0,0,0,0,0,0,0,null,null,0,null,0,0,0,0,0,0]
[0,0,{"$f":"IFERROR(INDEX((Settings!$M$17:$M$231),MATCH(RelatedPartyRevenue!G137,Settings!$AC$18:$AC$163,0)),0)","v":0},null,null,0,0,0,null,0,0,0,0,0,0,0,0,0,0,0,0,null,null,0,null,0,0,0,0,0,0]
[0,0,{"$f":"IFERROR(INDEX((Settings!$M$17:$M$231),MATCH(RelatedPartyRevenue!G138,Settings!$AC$18:$AC$163,0)),0)","v":0},null,null,0,0,0,null,0,0,0,0,0,0,0,0,0,0,0,0,null,null,0,null,0,0,0,0,0,0]
[0,{"$f":"IF($G139=$G$7,1,0)","v":0},{"$f":"IFERROR(INDEX((Settings!$M$17:$M$231),MATCH(RelatedPartyRevenue!G139,Settings!$AC$18:$AC$163,0)),0)","v":0},null,null,0,0,0,null,0,0,0,0,0,0,0,0,0,0,0,0,null,null,0,null,0,0,0,0,0,0]
[{"$f":"IF(SUM(J140:V140)>0,1,0)","v":0},0,{"$f":"IFERROR(INDEX((Settings!$M$17:$M$231),MATCH(RelatedPartyRevenue!G140,Settings!$AC$18:$AC$163,0)),0)","v":0},null,null,0,0,0,null,0,0,0,0,0,0,0,0,0,0,0,0,null,null,0,null,{"$f":"K140-J140","v":0},{"$f":"M140-L140","v":0},0,0,0,0]
[0,0,{"$f":"IFERROR(INDEX((Settings!$M$17:$M$231),MATCH(RelatedPartyRevenue!G141,Settings!$AC$18:$AC$163,0)),0)","v":0},null,null,0,0,0,null,0,0,0,0,0,0,0,0,0,0,0,0,null,null,0,null,0,0,{"$f":"O141-N141","v":0},{"$f":"Q141-P141","v":0},{"$f":"S141-R141","v":0},{"$f":"U141-T141","v":0}]
[0,0,{"$f":"IFERROR(INDEX((Settings!$M$17:$M$231),MATCH(RelatedPartyRevenue!G142,Settings!$AC$18:$AC$163,0)),0)","v":0},null,null,0,0,0,null,0,0,0,0,0,0,0,0,0,0,0,0,null,null,0,null,0,0,0,0,0,0]
[0,0,{"$f":"IFERROR(INDEX((Settings!$M$17:$M$231),MATCH(RelatedPartyRevenue!G143,Settings!$AC$18:$AC$163,0)),0)","v":0},null,null,0,0,0,null,0,0,0,0,0,0,0,0,0,0,0,0,null,null,0,null,0,0,0,0,0,0]
[0,0,{"$f":"IFERROR(INDEX((Settings!$M$17:$M$231),MATCH(RelatedPartyRevenue!G144,Settings!$AC$18:$AC$163,0)),0)","v":0},null,null,0,0,0,null,0,0,0,0,0,0,0,0,0,0,0,0,null,null,0,null,0,0,0,0,0,0]
[0,0,{"$f":"IFERROR(INDEX((Settings!$M$17:$M$231),MATCH(RelatedPartyRevenue!G145,Settings!$AC$18:$AC$163,0)),0)","v":0},null,null,0,0,0,null,0,0,0,0,0,0,0,0,0,0,0,0,null,null,0,null,0,0,0,0,0,0]
[0,0,{"$f":"IFERROR(INDEX((Settings!$M$17:$M$231),MATCH(RelatedPartyRevenue!G146,Settings!$AC$18:$AC$163,0)),0)","v":0},null,null,0,0,0,null,0,0,0,0,0,0,0,0,0,0,0,0,null,null,0,null,0,0,0,0,0,0]
[0,0,{"$f":"IFERROR(INDEX((Settings!$M$17:$M$231),MATCH(RelatedPartyRevenue!G147,Settings!$AC$18:$AC$163,0)),0)","v":0},null,null,0,0,0,null,0,0,0,0,0,0,0,0,0,0,0,0,null,null,0,null,0,0,0,0,0,0]
[0,0,{"$f":"IFERROR(INDEX((Settings!$M$17:$M$231),MATCH(RelatedPartyRevenue!G148,Settings!$AC$18:$AC$163,0)),0)","v":0},null,null,0,0,0,null,0,0,0,0,0,0,0,0,0,0,0,0,null,null,0,null,0,0,0,0,0,0]
[0,0,{"$f":"IFERROR(INDEX((Settings!$M$17:$M$231),MATCH(RelatedPartyRevenue!G149,Settings!$AC$18:$AC$163,0)),0)","v":0},null,null,0,0,0,null,0,0,0,0,0,0,0,0,0,0,0,0,null,null,0,null,0,0,0,0,0,0]
[0,0,{"$f":"IFERROR(INDEX((Settings!$M$17:$M$231),MATCH(RelatedPartyRevenue!G150,Settings!$AC$18:$AC$163,0)),0)","v":0},null,null,0,0,0,null,0,0,0,0,0,0,0,0,0,0,0,0,null,null,0,null,0,0,0,0,0,0]
[0,0,{"$f":"IFERROR(INDEX((Settings!$M$17:$M$231),MATCH(RelatedPartyRevenue!G151,Settings!$AC$18:$AC$163,0)),0)","v":0},null,null,0,0,0,null,0,0,0,0,0,0,0,0,0,0,0,0,null,null,0,null,0,0,0,0,0,0]
[0,0,{"$f":"IFERROR(INDEX((Settings!$M$17:$M$231),MATCH(RelatedPartyRevenue!G152,Settings!$AC$18:$AC$163,0)),0)","v":0},null,null,0,0,0,null,0,0,0,0,0,0,0,0,0,0,0,0,null,null,0,null,0,0,0,0,0,0]
[0,0,{"$f":"IFERROR(INDEX((Settings!$M$17:$M$231),MATCH(RelatedPartyRevenue!G153,Settings!$AC$18:$AC$163,0)),0)","v":0},null,null,0,0,0,null,0,0,0,0,0,0,0,0,0,0,0,0,null,null,0,null,0,0,0,0,0,0]
[0,0,{"$f":"IFERROR(INDEX((Settings!$M$17:$M$231),MATCH(RelatedPartyRevenue!G154,Settings!$AC$18:$AC$163,0)),0)","v":0},null,null,0,0,0,null,0,0,0,0,0,0,0,0,0,0,0,0,null,null,0,null,0,0,0,0,0,0]
[0,0,{"$f":"IFERROR(INDEX((Settings!$M$17:$M$231),MATCH(RelatedPartyRevenue!G155,Settings!$AC$18:$AC$163,0)),0)","v":0},null,null,0,0,0,null,0,0,0,0,0,0,0,0,0,0,0,0,null,null,0,null,0,0,0,0,0,0]
[0,0,{"$f":"IFERROR(INDEX((Settings!$M$17:$M$231),MATCH(RelatedPartyRevenue!G156,Settings!$AC$18:$AC$163,0)),0)","v":0},null,null,0,0,0,null,0,0,0,0,0,0,0,0,0,0,0,0,null,null,0,null,0,0,0,0,0,0]
[0,0,{"$f":"IFERROR(INDEX((Settings!$M$17:$M$231),MATCH(RelatedPartyRevenue!G157,Settings!$AC$18:$AC$163,0)),0)","v":0},null,null,0,0,0,null,0,0,0,0,0,0,0,0,0,0,0,0,null,null,0,null,0,0,0,0,0,0]
[0,0,{"$f":"IFERROR(INDEX((Settings!$M$17:$M$231),MATCH(RelatedPartyRevenue!G158,Settings!$AC$18:$AC$163,0)),0)","v":0},null,null,0,0,0,null,0,0,0,0,0,0,0,0,0,0,0,0,null,null,0,null,0,0,0,0,0,0]
[0,0,{"$f":"IFERROR(INDEX((Settings!$M$17:$M$231),MATCH(RelatedPartyRevenue!G159,Settings!$AC$18:$AC$163,0)),0)","v":0},null,null,0,0,0,null,0,0,0,0,0,0,0,0,0,0,0,0,null,null,0,null,0,0,0,0,0,0]
[0,0,{"$f":"IFERROR(INDEX((Settings!$M$17:$M$231),MATCH(RelatedPartyRevenue!G160,Settings!$AC$18:$AC$163,0)),0)","v":0},null,null,0,0,0,null,0,0,0,0,0,0,0,0,0,0,0,0,null,null,0,null,0,0,0,0,0,0]
[0,0,{"$f":"IFERROR(INDEX((Settings!$M$17:$M$231),MATCH(RelatedPartyRevenue!G161,Settings!$AC$18:$AC$163,0)),0)","v":0},null,null,0,0,0,null,0,0,0,0,0,0,0,0,0,0,0,0,null,null,0,null,0,0,0,0,0,0]
[0,0,{"$f":"IFERROR(INDEX((Settings!$M$17:$M$231),MATCH(RelatedPartyRevenue!G162,Settings!$AC$18:$AC$163,0)),0)","v":0},null,null,0,0,0,null,0,0,0,0,0,0,0,0,0,0,0,0,null,null,0,null,0,0,0,0,0,0]
[0,0,{"$f":"IFERROR(INDEX((Settings!$M$17:$M$231),MATCH(RelatedPartyRevenue!G163,Settings!$AC$18:$AC$163,0)),0)","v":0},null,null,0,0,0,null,0,0,0,0,0,0,0,0,0,0,0,0,null,null,0,null,0,0,0,0,0,0]
[0,0,{"$f":"IFERROR(INDEX((Settings!$M$17:$M$231),MATCH(RelatedPartyRevenue!G164,Settings!$AC$18:$AC$163,0)),0)","v":0},null,null,0,0,0,null,0,0,0,0,0,0,0,0,0,0,0,0,null,null,0,null,0,0,0,0,0,0]
[0,0,{"$f":"IFERROR(INDEX((Settings!$M$17:$M$231),MATCH(RelatedPartyRevenue!G165,Settings!$AC$18:$AC$163,0)),0)","v":0},null,null,0,0,0,null,0,0,0,0,0,0,0,0,0,0,0,0,null,null,0,null,0,0,0,0,0,0]
[0,0,{"$f":"IFERROR(INDEX((Settings!$M$17:$M$231),MATCH(RelatedPartyRevenue!G166,Settings!$AC$18:$AC$163,0)),0)","v":0},null,null,0,0,0,null,0,0,0,0,0,0,0,0,0,0,0,0,null,null,0,null,0,0,0,0,0,0]
[0,0,{"$f":"IFERROR(INDEX((Settings!$M$17:$M$231),MATCH(RelatedPartyRevenue!G167,Settings!$AC$18:$AC$163,0)),0)","v":0},null,null,0,0,0,null,0,0,0,0,0,0,0,0,0,0,0,0,null,null,0,null,0,0,0,0,0,0]
[0,0,{"$f":"IFERROR(INDEX((Settings!$M$17:$M$231),MATCH(RelatedPartyRevenue!G168,Settings!$AC$18:$AC$163,0)),0)","v":0},null,null,0,0,0,null,0,0,0,0,0,0,0,0,0,0,0,0,null,null,0,null,0,0,0,0,0,0]
[0,0,{"$f":"IFERROR(INDEX((Settings!$M$17:$M$231),MATCH(RelatedPartyRevenue!G169,Settings!$AC$18:$AC$163,0)),0)","v":0},null,null,0,0,0,null,0,0,0,0,0,0,0,0,0,0,0,0,null,null,0,null,0,0,0,0,0,0]
[0,0,{"$f":"IFERROR(INDEX((Settings!$M$17:$M$231),MATCH(RelatedPartyRevenue!G170,Settings!$AC$18:$AC$163,0)),0)","v":0},null,null,0,0,0,null,0,0,0,0,0,0,0,0,0,0,0,0,null,null,0,null,0,0,0,0,0,0]
[0,0,{"$f":"IFERROR(INDEX((Settings!$M$17:$M$231),MATCH(RelatedPartyRevenue!G171,Settings!$AC$18:$AC$163,0)),0)","v":0},null,null,0,0,0,null,0,0,0,0,0,0,0,0,0,0,0,0,null,null,0,null,0,0,0,0,0,0]
[0,0,{"$f":"IFERROR(INDEX((Settings!$M$17:$M$231),MATCH(RelatedPartyRevenue!G172,Settings!$AC$18:$AC$163,0)),0)","v":0},null,null,0,0,0,null,0,0,0,0,0,0,0,0,0,0,0,0,null,null,0,null,0,0,0,0,0,0]
[0,0,{"$f":"IFERROR(INDEX((Settings!$M$17:$M$231),MATCH(RelatedPartyRevenue!G173,Settings!$AC$18:$AC$163,0)),0)","v":0},null,null,0,0,0,null,0,0,0,0,0,0,0,0,0,0,0,0,null,null,0,null,0,0,0,0,0,0]
[0,0,{"$f":"IFERROR(INDEX((Settings!$M$17:$M$231),MATCH(RelatedPartyRevenue!G174,Settings!$AC$18:$AC$163,0)),0)","v":0},null,null,0,0,0,null,0,0,0,0,0,0,0,0,0,0,0,0,null,null,0,null,0,0,0,0,0,0]
[0,0,{"$f":"IFERROR(INDEX((Settings!$M$17:$M$231),MATCH(RelatedPartyRevenue!G175,Settings!$AC$18:$AC$163,0)),0)","v":0},null,null,0,0,0,null,0,0,0,0,0,0,0,0,0,0,0,0,null,null,0,null,0,0,0,0,0,0]
[0,0,{"$f":"IFERROR(INDEX((Settings!$M$17:$M$231),MATCH(RelatedPartyRevenue!G176,Settings!$AC$18:$AC$163,0)),0)","v":0},null,null,0,0,0,null,0,0,0,0,0,0,0,0,0,0,0,0,null,null,0,null,0,0,0,0,0,0]
[0,0,{"$f":"IFERROR(INDEX((Settings!$M$17:$M$231),MATCH(RelatedPartyRevenue!G177,Settings!$AC$18:$AC$163,0)),0)","v":0},null,null,0,0,0,null,0,0,0,0,0,0,0,0,0,0,0,0,null,null,0,null,0,0,0,0,0,0]
[0,0,{"$f":"IFERROR(INDEX((Settings!$M$17:$M$231),MATCH(RelatedPartyRevenue!G178,Settings!$AC$18:$AC$163,0)),0)","v":0},null,null,0,0,0,null,0,0,0,0,0,0,0,0,0,0,0,0,null,null,0,null,0,0,0,0,0,0]
[0,0,{"$f":"IFERROR(INDEX((Settings!$M$17:$M$231),MATCH(RelatedPartyRevenue!G179,Settings!$AC$18:$AC$163,0)),0)","v":0},null,null,0,0,0,null,0,0,0,0,0,0,0,0,0,0,0,0,null,null,0,null,0,0,0,0,0,0]
[0,0,{"$f":"IFERROR(INDEX((Settings!$M$17:$M$231),MATCH(RelatedPartyRevenue!G180,Settings!$AC$18:$AC$163,0)),0)","v":0},null,null,0,0,0,null,0,0,0,0,0,0,0,0,0,0,0,0,null,null,0,null,0,0,0,0,0,0]
[0,0,{"$f":"IFERROR(INDEX((Settings!$M$17:$M$231),MATCH(RelatedPartyRevenue!G181,Settings!$AC$18:$AC$163,0)),0)","v":0},null,null,0,0,0,null,0,0,0,0,0,0,0,0,0,0,0,0,null,null,0,null,0,0,0,0,0,0]
[0,0,{"$f":"IFERROR(INDEX((Settings!$M$17:$M$231),MATCH(RelatedPartyRevenue!G182,Settings!$AC$18:$AC$163,0)),0)","v":0},null,null,0,0,0,null,0,0,0,0,0,0,0,0,0,0,0,0,null,null,0,null,0,0,0,0,0,0]
[0,0,{"$f":"IFERROR(INDEX((Settings!$M$17:$M$231),MATCH(RelatedPartyRevenue!G183,Settings!$AC$18:$AC$163,0)),0)","v":0},null,null,0,0,0,null,0,0,0,0,0,0,0,0,0,0,0,0,null,null,0,null,0,0,0,0,0,0]
[0,0,{"$f":"IFERROR(INDEX((Settings!$M$17:$M$231),MATCH(RelatedPartyRevenue!G184,Settings!$AC$18:$AC$163,0)),0)","v":0},null,null,0,0,0,null,0,0,0,0,0,0,0,0,0,0,0,0,null,null,0,null,0,0,0,0,0,0]
[0,0,{"$f":"IFERROR(INDEX((Settings!$M$17:$M$231),MATCH(RelatedPartyRevenue!G185,Settings!$AC$18:$AC$163,0)),0)","v":0},null,null,0,0,0,null,0,0,0,0,0,0,0,0,0,0,0,0,null,null,0,null,0,0,0,0,0,0]
[0,0,{"$f":"IFERROR(INDEX((Settings!$M$17:$M$231),MATCH(RelatedPartyRevenue!G186,Settings!$AC$18:$AC$163,0)),0)","v":0},null,null,0,0,0,null,0,0,0,0,0,0,0,0,0,0,0,0,null,null,0,null,0,0,0,0,0,0]
[0,0,{"$f":"IFERROR(INDEX((Settings!$M$17:$M$231),MATCH(RelatedPartyRevenue!G187,Settings!$AC$18:$AC$163,0)),0)","v":0},null,null,0,0,0,null,0,0,0,0,0,0,0,0,0,0,0,0,null,null,0,null,0,0,0,0,0,0]
[0,0,{"$f":"IFERROR(INDEX((Settings!$M$17:$M$231),MATCH(RelatedPartyRevenue!G188,Settings!$AC$18:$AC$163,0)),0)","v":0},null,null,0,0,0,null,0,0,0,0,0,0,0,0,0,0,0,0,null,null,0,null,0,0,0,0,0,0]
[0,0,{"$f":"IFERROR(INDEX((Settings!$M$17:$M$231),MATCH(RelatedPartyRevenue!G189,Settings!$AC$18:$AC$163,0)),0)","v":0},null,null,0,0,0,null,0,0,0,0,0,0,0,0,0,0,0,0,null,null,0,null,0,0,0,0,0,0]
[0,0,{"$f":"IFERROR(INDEX((Settings!$M$17:$M$231),MATCH(RelatedPartyRevenue!G190,Settings!$AC$18:$AC$163,0)),0)","v":0},null,null,0,0,0,null,0,0,0,0,0,0,0,0,0,0,0,0,null,null,0,null,0,0,0,0,0,0]
[0,0,{"$f":"IFERROR(INDEX((Settings!$M$17:$M$231),MATCH(RelatedPartyRevenue!G191,Settings!$AC$18:$AC$163,0)),0)","v":0},null,null,0,0,0,null,0,0,0,0,0,0,0,0,0,0,0,0,null,null,0,null,0,0,0,0,0,0]
[0,0,{"$f":"IFERROR(INDEX((Settings!$M$17:$M$231),MATCH(RelatedPartyRevenue!G192,Settings!$AC$18:$AC$163,0)),0)","v":0},null,null,0,0,0,null,0,0,0,0,0,0,0,0,0,0,0,0,null,null,0,null,0,0,0,0,0,0]
[0,0,{"$f":"IFERROR(INDEX((Settings!$M$17:$M$231),MATCH(RelatedPartyRevenue!G193,Settings!$AC$18:$AC$163,0)),0)","v":0},null,null,0,0,0,null,0,0,0,0,0,0,0,0,0,0,0,0,null,null,0,null,0,0,0,0,0,0]
[0,0,{"$f":"IFERROR(INDEX((Settings!$M$17:$M$231),MATCH(RelatedPartyRevenue!G194,Settings!$AC$18:$AC$163,0)),0)","v":0},null,null,0,0,0,null,0,0,0,0,0,0,0,0,0,0,0,0,null,null,0,null,0,0,0,0,0,0]
[0,0,{"$f":"IFERROR(INDEX((Settings!$M$17:$M$231),MATCH(RelatedPartyRevenue!G195,Settings!$AC$18:$AC$163,0)),0)","v":0},null,null,0,0,0,null,0,0,0,0,0,0,0,0,0,0,0,0,null,null,0,null,0,0,0,0,0,0]
[0,0,{"$f":"IFERROR(INDEX((Settings!$M$17:$M$231),MATCH(RelatedPartyRevenue!G196,Settings!$AC$18:$AC$163,0)),0)","v":0},null,null,0,0,0,null,0,0,0,0,0,0,0,0,0,0,0,0,null,null,0,null,0,0,0,0,0,0]
[0,0,{"$f":"IFERROR(INDEX((Settings!$M$17:$M$231),MATCH(RelatedPartyRevenue!G197,Settings!$AC$18:$AC$163,0)),0)","v":0},null,null,0,0,0,null,0,0,0,0,0,0,0,0,0,0,0,0,null,null,0,null,0,0,0,0,0,0]
[0,0,{"$f":"IFERROR(INDEX((Settings!$M$17:$M$231),MATCH(RelatedPartyRevenue!G198,Settings!$AC$18:$AC$163,0)),0)","v":0},null,null,0,0,0,null,0,0,0,0,0,0,0,0,0,0,0,0,null,null,0,null,0,0,0,0,0,0]
[0,0,{"$f":"IFERROR(INDEX((Settings!$M$17:$M$231),MATCH(RelatedPartyRevenue!G199,Settings!$AC$18:$AC$163,0)),0)","v":0},null,null,0,0,0,null,0,0,0,0,0,0,0,0,0,0,0,0,null,null,0,null,0,0,0,0,0,0]
[0,0,{"$f":"IFERROR(INDEX((Settings!$M$17:$M$231),MATCH(RelatedPartyRevenue!G200,Settings!$AC$18:$AC$163,0)),0)","v":0},null,null,0,0,0,null,0,0,0,0,0,0,0,0,0,0,0,0,null,null,0,null,0,0,0,0,0,0]
[0,0,{"$f":"IFERROR(INDEX((Settings!$M$17:$M$231),MATCH(RelatedPartyRevenue!G201,Settings!$AC$18:$AC$163,0)),0)","v":0},null,null,0,0,0,null,0,0,0,0,0,0,0,0,0,0,0,0,null,null,0,null,0,0,0,0,0,0]
[0,0,{"$f":"IFERROR(INDEX((Settings!$M$17:$M$231),MATCH(RelatedPartyRevenue!G202,Settings!$AC$18:$AC$163,0)),0)","v":0},null,null,0,0,0,null,0,0,0,0,0,0,0,0,0,0,0,0,null,null,0,null,0,0,0,0,0,0]
[0,{"$f":"IF($G203=$G$7,1,0)","v":0},{"$f":"IFERROR(INDEX((Settings!$M$17:$M$231),MATCH(RelatedPartyRevenue!G203,Settings!$AC$18:$AC$163,0)),0)","v":0},null,null,0,0,0,null,0,0,0,0,0,0,0,0,0,0,0,0,null,null,0,null,0,0,0,0,0,0]
[{"$f":"IF(SUM(J204:V204)>0,1,0)","v":0},0,{"$f":"IFERROR(INDEX((Settings!$M$17:$M$231),MATCH(RelatedPartyRevenue!G204,Settings!$AC$18:$AC$163,0)),0)","v":0},null,null,0,0,0,null,0,0,0,0,0,0,0,0,0,0,0,0,null,null,0,null,{"$f":"K204-J204","v":0},{"$f":"M204-L204","v":0},0,0,0,0]
[0,0,{"$f":"IFERROR(INDEX((Settings!$M$17:$M$231),MATCH(RelatedPartyRevenue!G205,Settings!$AC$18:$AC$163,0)),0)","v":0},null,null,0,0,0,null,0,0,0,0,0,0,0,0,0,0,0,0,null,null,0,null,0,0,{"$f":"O205-N205","v":0},{"$f":"Q205-P205","v":0},{"$f":"S205-R205","v":0},{"$f":"U205-T205","v":0}]
[0,0,{"$f":"IFERROR(INDEX((Settings!$M$17:$M$231),MATCH(RelatedPartyRevenue!G206,Settings!$AC$18:$AC$163,0)),0)","v":0},null,null,0,0,0,null,0,0,0,0,0,0,0,0,0,0,0,0,null,null,0,null,0,0,0,0,0,0]
[0,0,{"$f":"IFERROR(INDEX((Settings!$M$17:$M$231),MATCH(RelatedPartyRevenue!G207,Settings!$AC$18:$AC$163,0)),0)","v":0},null,null,0,0,0,null,0,0,0,0,0,0,0,0,0,0,0,0,null,null,0,null,0,0,0,0,0,0]
[0,0,{"$f":"IFERROR(INDEX((Settings!$M$17:$M$231),MATCH(RelatedPartyRevenue!G208,Settings!$AC$18:$AC$163,0)),0)","v":0},null,null,0,0,0,null,0,0,0,0,0,0,0,0,0,0,0,0,null,null,0,null,0,0,0,0,0,0]
[0,0,{"$f":"IFERROR(INDEX((Settings!$M$17:$M$231),MATCH(RelatedPartyRevenue!G209,Settings!$AC$18:$AC$163,0)),0)","v":0},null,null,0,0,0,null,0,0,0,0,0,0,0,0,0,0,0,0,null,null,0,null,0,0,0,0,0,0]
[0,0,{"$f":"IFERROR(INDEX((Settings!$M$17:$M$231),MATCH(RelatedPartyRevenue!G210,Settings!$AC$18:$AC$163,0)),0)","v":0},null,null,0,0,0,null,0,0,0,0,0,0,0,0,0,0,0,0,null,null,0,null,0,0,0,0,0,0]
[0,0,{"$f":"IFERROR(INDEX((Settings!$M$17:$M$231),MATCH(RelatedPartyRevenue!G211,Settings!$AC$18:$AC$163,0)),0)","v":0},null,null,0,0,0,null,0,0,0,0,0,0,0,0,0,0,0,0,null,null,0,null,0,0,0,0,0,0]
[0,0,{"$f":"IFERROR(INDEX((Settings!$M$17:$M$231),MATCH(RelatedPartyRevenue!G212,Settings!$AC$18:$AC$163,0)),0)","v":0},null,null,0,0,0,null,0,0,0,0,0,0,0,0,0,0,0,0,null,null,0,null,0,0,0,0,0,0]
[0,0,{"$f":"IFERROR(INDEX((Settings!$M$17:$M$231),MATCH(RelatedPartyRevenue!G213,Settings!$AC$18:$AC$163,0)),0)","v":0},null,null,0,0,0,null,0,0,0,0,0,0,0,0,0,0,0,0,null,null,0,null,0,0,0,0,0,0]
[0,0,{"$f":"IFERROR(INDEX((Settings!$M$17:$M$231),MATCH(RelatedPartyRevenue!G214,Settings!$AC$18:$AC$163,0)),0)","v":0},null,null,0,0,0,null,0,0,0,0,0,0,0,0,0,0,0,0,null,null,0,null,0,0,0,0,0,0]
[0,0,{"$f":"IFERROR(INDEX((Settings!$M$17:$M$231),MATCH(RelatedPartyRevenue!G215,Settings!$AC$18:$AC$163,0)),0)","v":0},null,null,0,0,0,null,0,0,0,0,0,0,0,0,0,0,0,0,null,null,0,null,0,0,0,0,0,0]
[0,0,{"$f":"IFERROR(INDEX((Settings!$M$17:$M$231),MATCH(RelatedPartyRevenue!G216,Settings!$AC$18:$AC$163,0)),0)","v":0},null,null,0,0,0,null,0,0,0,0,0,0,0,0,0,0,0,0,null,null,0,null,0,0,0,0,0,0]
[0,0,{"$f":"IFERROR(INDEX((Settings!$M$17:$M$231),MATCH(RelatedPartyRevenue!G217,Settings!$AC$18:$AC$163,0)),0)","v":0},null,null,0,0,0,null,0,0,0,0,0,0,0,0,0,0,0,0,null,null,0,null,0,0,0,0,0,0]
[0,0,{"$f":"IFERROR(INDEX((Settings!$M$17:$M$231),MATCH(RelatedPartyRevenue!G218,Settings!$AC$18:$AC$163,0)),0)","v":0},null,null,0,0,0,null,0,0,0,0,0,0,0,0,0,0,0,0,null,null,0,null,0,0,0,0,0,0]
[0,0,{"$f":"IFERROR(INDEX((Settings!$M$17:$M$231),MATCH(RelatedPartyRevenue!G219,Settings!$AC$18:$AC$163,0)),0)","v":0},null,null,0,0,0,null,0,0,0,0,0,0,0,0,0,0,0,0,null,null,0,null,0,0,0,0,0,0]
[0,0,{"$f":"IFERROR(INDEX((Settings!$M$17:$M$231),MATCH(RelatedPartyRevenue!G220,Settings!$AC$18:$AC$163,0)),0)","v":0},null,null,0,0,0,null,0,0,0,0,0,0,0,0,0,0,0,0,null,null,0,null,0,0,0,0,0,0]
[0,0,{"$f":"IFERROR(INDEX((Settings!$M$17:$M$231),MATCH(RelatedPartyRevenue!G221,Settings!$AC$18:$AC$163,0)),0)","v":0},null,null,0,0,0,null,0,0,0,0,0,0,0,0,0,0,0,0,null,null,0,null,0,0,0,0,0,0]
[0,0,{"$f":"IFERROR(INDEX((Settings!$M$17:$M$231),MATCH(RelatedPartyRevenue!G222,Settings!$AC$18:$AC$163,0)),0)","v":0},null,null,0,0,0,null,0,0,0,0,0,0,0,0,0,0,0,0,null,null,0,null,0,0,0,0,0,0]
[0,0,{"$f":"IFERROR(INDEX((Settings!$M$17:$M$231),MATCH(RelatedPartyRevenue!G223,Settings!$AC$18:$AC$163,0)),0)","v":0},null,null,0,0,0,null,0,0,0,0,0,0,0,0,0,0,0,0,null,null,0,null,0,0,0,0,0,0]
[0,0,{"$f":"IFERROR(INDEX((Settings!$M$17:$M$231),MATCH(RelatedPartyRevenue!G224,Settings!$AC$18:$AC$163,0)),0)","v":0},null,null,0,0,0,null,0,0,0,0,0,0,0,0,0,0,0,0,null,null,0,null,0,0,0,0,0,0]
[0,0,{"$f":"IFERROR(INDEX((Settings!$M$17:$M$231),MATCH(RelatedPartyRevenue!G225,Settings!$AC$18:$AC$163,0)),0)","v":0},null,null,0,0,0,null,0,0,0,0,0,0,0,0,0,0,0,0,null,null,0,null,0,0,0,0,0,0]
[0,0,{"$f":"IFERROR(INDEX((Settings!$M$17:$M$231),MATCH(RelatedPartyRevenue!G226,Settings!$AC$18:$AC$163,0)),0)","v":0},null,null,0,0,0,null,0,0,0,0,0,0,0,0,0,0,0,0,null,null,0,null,0,0,0,0,0,0]
[0,0,{"$f":"IFERROR(INDEX((Settings!$M$17:$M$231),MATCH(RelatedPartyRevenue!G227,Settings!$AC$18:$AC$163,0)),0)","v":0},null,null,0,0,0,null,0,0,0,0,0,0,0,0,0,0,0,0,null,null,0,null,0,0,0,0,0,0]
[0,0,{"$f":"IFERROR(INDEX((Settings!$M$17:$M$231),MATCH(RelatedPartyRevenue!G228,Settings!$AC$18:$AC$163,0)),0)","v":0},null,null,0,0,0,null,0,0,0,0,0,0,0,0,0,0,0,0,null,null,0,null,0,0,0,0,0,0]
[0,0,{"$f":"IFERROR(INDEX((Settings!$M$17:$M$231),MATCH(RelatedPartyRevenue!G229,Settings!$AC$18:$AC$163,0)),0)","v":0},null,null,0,0,0,null,0,0,0,0,0,0,0,0,0,0,0,0,null,null,0,null,0,0,0,0,0,0]
[0,0,{"$f":"IFERROR(INDEX((Settings!$M$17:$M$231),MATCH(RelatedPartyRevenue!G230,Settings!$AC$18:$AC$163,0)),0)","v":0},null,null,0,0,0,null,0,0,0,0,0,0,0,0,0,0,0,0,null,null,0,null,0,0,0,0,0,0]
[0,0,{"$f":"IFERROR(INDEX((Settings!$M$17:$M$231),MATCH(RelatedPartyRevenue!G231,Settings!$AC$18:$AC$163,0)),0)","v":0},null,null,0,0,0,null,0,0,0,0,0,0,0,0,0,0,0,0,null,null,0,null,0,0,0,0,0,0]
[0,0,{"$f":"IFERROR(INDEX((Settings!$M$17:$M$231),MATCH(RelatedPartyRevenue!G232,Settings!$AC$18:$AC$163,0)),0)","v":0},null,null,0,0,0,null,0,0,0,0,0,0,0,0,0,0,0,0,null,null,0,null,0,0,0,0,0,0]
[0,0,{"$f":"IFERROR(INDEX((Settings!$M$17:$M$231),MATCH(RelatedPartyRevenue!G233,Settings!$AC$18:$AC$163,0)),0)","v":0},null,null,0,0,0,null,0,0,0,0,0,0,0,0,0,0,0,0,null,null,0,null,0,0,0,0,0,0]
[0,0,{"$f":"IFERROR(INDEX((Settings!$M$17:$M$231),MATCH(RelatedPartyRevenue!G234,Settings!$AC$18:$AC$163,0)),0)","v":0},null,null,0,0,0,null,0,0,0,0,0,0,0,0,0,0,0,0,null,null,0,null,0,0,0,0,0,0]
[0,0,{"$f":"IFERROR(INDEX((Settings!$M$17:$M$231),MATCH(RelatedPartyRevenue!G235,Settings!$AC$18:$AC$163,0)),0)","v":0},null,null,0,0,0,null,0,0,0,0,0,0,0,0,0,0,0,0,null,null,0,null,0,0,0,0,0,0]
[0,0,{"$f":"IFERROR(INDEX((Settings!$M$17:$M$231),MATCH(RelatedPartyRevenue!G236,Settings!$AC$18:$AC$163,0)),0)","v":0},null,null,0,0,0,null,0,0,0,0,0,0,0,0,0,0,0,0,null,null,0,null,0,0,0,0,0,0]
[0,0,{"$f":"IFERROR(INDEX((Settings!$M$17:$M$231),MATCH(RelatedPartyRevenue!G237,Settings!$AC$18:$AC$163,0)),0)","v":0},null,null,0,0,0,null,0,0,0,0,0,0,0,0,0,0,0,0,null,null,0,null,0,0,0,0,0,0]
[0,0,{"$f":"IFERROR(INDEX((Settings!$M$17:$M$231),MATCH(RelatedPartyRevenue!G238,Settings!$AC$18:$AC$163,0)),0)","v":0},null,null,0,0,0,null,0,0,0,0,0,0,0,0,0,0,0,0,null,null,0,null,0,0,0,0,0,0]
[0,0,{"$f":"IFERROR(INDEX((Settings!$M$17:$M$231),MATCH(RelatedPartyRevenue!G239,Settings!$AC$18:$AC$163,0)),0)","v":0},null,null,0,0,0,null,0,0,0,0,0,0,0,0,0,0,0,0,null,null,0,null,0,0,0,0,0,0]
[0,0,{"$f":"IFERROR(INDEX((Settings!$M$17:$M$231),MATCH(RelatedPartyRevenue!G240,Settings!$AC$18:$AC$163,0)),0)","v":0},null,null,0,0,0,null,0,0,0,0,0,0,0,0,0,0,0,0,null,null,0,null,0,0,0,0,0,0]
[0,0,{"$f":"IFERROR(INDEX((Settings!$M$17:$M$231),MATCH(RelatedPartyRevenue!G241,Settings!$AC$18:$AC$163,0)),0)","v":0},null,null,0,0,0,null,0,0,0,0,0,0,0,0,0,0,0,0,null,null,0,null,0,0,0,0,0,0]
[0,0,{"$f":"IFERROR(INDEX((Settings!$M$17:$M$231),MATCH(RelatedPartyRevenue!G242,Settings!$AC$18:$AC$163,0)),0)","v":0},null,null,0,0,0,null,0,0,0,0,0,0,0,0,0,0,0,0,null,null,0,null,0,0,0,0,0,0]
[0,0,{"$f":"IFERROR(INDEX((Settings!$M$17:$M$231),MATCH(RelatedPartyRevenue!G243,Settings!$AC$18:$AC$163,0)),0)","v":0},null,null,0,0,0,null,0,0,0,0,0,0,0,0,0,0,0,0,null,null,0,null,0,0,0,0,0,0]
[0,0,{"$f":"IFERROR(INDEX((Settings!$M$17:$M$231),MATCH(RelatedPartyRevenue!G244,Settings!$AC$18:$AC$163,0)),0)","v":0},null,null,0,0,0,null,0,0,0,0,0,0,0,0,0,0,0,0,null,null,0,null,0,0,0,0,0,0]
[0,0,{"$f":"IFERROR(INDEX((Settings!$M$17:$M$231),MATCH(RelatedPartyRevenue!G245,Settings!$AC$18:$AC$163,0)),0)","v":0},null,null,0,0,0,null,0,0,0,0,0,0,0,0,0,0,0,0,null,null,0,null,0,0,0,0,0,0]
[0,0,{"$f":"IFERROR(INDEX((Settings!$M$17:$M$231),MATCH(RelatedPartyRevenue!G246,Settings!$AC$18:$AC$163,0)),0)","v":0},null,null,0,0,0,null,0,0,0,0,0,0,0,0,0,0,0,0,null,null,0,null,0,0,0,0,0,0]
[0,0,{"$f":"IFERROR(INDEX((Settings!$M$17:$M$231),MATCH(RelatedPartyRevenue!G247,Settings!$AC$18:$AC$163,0)),0)","v":0},null,null,0,0,0,null,0,0,0,0,0,0,0,0,0,0,0,0,null,null,0,null,0,0,0,0,0,0]
[0,0,{"$f":"IFERROR(INDEX((Settings!$M$17:$M$231),MATCH(RelatedPartyRevenue!G248,Settings!$AC$18:$AC$163,0)),0)","v":0},null,null,0,0,0,null,0,0,0,0,0,0,0,0,0,0,0,0,null,null,0,null,0,0,0,0,0,0]
[0,0,{"$f":"IFERROR(INDEX((Settings!$M$17:$M$231),MATCH(RelatedPartyRevenue!G249,Settings!$AC$18:$AC$163,0)),0)","v":0},null,null,0,0,0,null,0,0,0,0,0,0,0,0,0,0,0,0,null,null,0,null,0,0,0,0,0,0]
[0,0,{"$f":"IFERROR(INDEX((Settings!$M$17:$M$231),MATCH(RelatedPartyRevenue!G250,Settings!$AC$18:$AC$163,0)),0)","v":0},null,null,0,0,0,null,0,0,0,0,0,0,0,0,0,0,0,0,null,null,0,null,0,0,0,0,0,0]
[0,0,{"$f":"IFERROR(INDEX((Settings!$M$17:$M$231),MATCH(RelatedPartyRevenue!G251,Settings!$AC$18:$AC$163,0)),0)","v":0},null,null,0,0,0,null,0,0,0,0,0,0,0,0,0,0,0,0,null,null,0,null,0,0,0,0,0,0]
[0,0,{"$f":"IFERROR(INDEX((Settings!$M$17:$M$231),MATCH(RelatedPartyRevenue!G252,Settings!$AC$18:$AC$163,0)),0)","v":0},null,null,0,0,0,null,0,0,0,0,0,0,0,0,0,0,0,0,null,null,0,null,0,0,0,0,0,0]
[0,0,{"$f":"IFERROR(INDEX((Settings!$M$17:$M$231),MATCH(RelatedPartyRevenue!G253,Settings!$AC$18:$AC$163,0)),0)","v":0},null,null,0,0,0,null,0,0,0,0,0,0,0,0,0,0,0,0,null,null,0,null,0,0,0,0,0,0]
[0,0,{"$f":"IFERROR(INDEX((Settings!$M$17:$M$231),MATCH(RelatedPartyRevenue!G254,Settings!$AC$18:$AC$163,0)),0)","v":0},null,null,0,0,0,null,0,0,0,0,0,0,0,0,0,0,0,0,null,null,0,null,0,0,0,0,0,0]
[0,0,{"$f":"IFERROR(INDEX((Settings!$M$17:$M$231),MATCH(RelatedPartyRevenue!G255,Settings!$AC$18:$AC$163,0)),0)","v":0},null,null,0,0,0,null,0,0,0,0,0,0,0,0,0,0,0,0,null,null,0,null,0,0,0,0,0,0]
[0,0,{"$f":"IFERROR(INDEX((Settings!$M$17:$M$231),MATCH(RelatedPartyRevenue!G256,Settings!$AC$18:$AC$163,0)),0)","v":0},null,null,0,0,0,null,0,0,0,0,0,0,0,0,0,0,0,0,null,null,0,null,0,0,0,0,0,0]
[0,0,{"$f":"IFERROR(INDEX((Settings!$M$17:$M$231),MATCH(RelatedPartyRevenue!G257,Settings!$AC$18:$AC$163,0)),0)","v":0},null,null,0,0,0,null,0,0,0,0,0,0,0,0,0,0,0,0,null,null,0,null,0,0,0,0,0,0]
[0,0,{"$f":"IFERROR(INDEX((Settings!$M$17:$M$231),MATCH(RelatedPartyRevenue!G258,Settings!$AC$18:$AC$163,0)),0)","v":0},null,null,0,0,0,null,0,0,0,0,0,0,0,0,0,0,0,0,null,null,0,null,0,0,0,0,0,0]
[0,0,{"$f":"IFERROR(INDEX((Settings!$M$17:$M$231),MATCH(RelatedPartyRevenue!G259,Settings!$AC$18:$AC$163,0)),0)","v":0},null,null,0,0,0,null,0,0,0,0,0,0,0,0,0,0,0,0,null,null,0,null,0,0,0,0,0,0]
[0,0,{"$f":"IFERROR(INDEX((Settings!$M$17:$M$231),MATCH(RelatedPartyRevenue!G260,Settings!$AC$18:$AC$163,0)),0)","v":0},null,null,0,0,0,null,0,0,0,0,0,0,0,0,0,0,0,0,null,null,0,null,0,0,0,0,0,0]
[0,0,{"$f":"IFERROR(INDEX((Settings!$M$17:$M$231),MATCH(RelatedPartyRevenue!G261,Settings!$AC$18:$AC$163,0)),0)","v":0},null,null,0,0,0,null,0,0,0,0,0,0,0,0,0,0,0,0,null,null,0,null,0,0,0,0,0,0]
[0,0,{"$f":"IFERROR(INDEX((Settings!$M$17:$M$231),MATCH(RelatedPartyRevenue!G262,Settings!$AC$18:$AC$163,0)),0)","v":0},null,null,0,0,0,null,0,0,0,0,0,0,0,0,0,0,0,0,null,null,0,null,0,0,0,0,0,0]
[0,0,{"$f":"IFERROR(INDEX((Settings!$M$17:$M$231),MATCH(RelatedPartyRevenue!G263,Settings!$AC$18:$AC$163,0)),0)","v":0},null,null,0,0,0,null,0,0,0,0,0,0,0,0,0,0,0,0,null,null,0,null,0,0,0,0,0,0]
[0,0,{"$f":"IFERROR(INDEX((Settings!$M$17:$M$231),MATCH(RelatedPartyRevenue!G264,Settings!$AC$18:$AC$163,0)),0)","v":0},null,null,0,0,0,null,0,0,0,0,0,0,0,0,0,0,0,0,null,null,0,null,0,0,0,0,0,0]
[0,0,{"$f":"IFERROR(INDEX((Settings!$M$17:$M$231),MATCH(RelatedPartyRevenue!G265,Settings!$AC$18:$AC$163,0)),0)","v":0},null,null,0,0,0,null,0,0,0,0,0,0,0,0,0,0,0,0,null,null,0,null,0,0,0,0,0,0]
[0,0,{"$f":"IFERROR(INDEX((Settings!$M$17:$M$231),MATCH(RelatedPartyRevenue!G266,Settings!$AC$18:$AC$163,0)),0)","v":0},null,null,0,0,0,null,0,0,0,0,0,0,0,0,0,0,0,0,null,null,0,null,0,0,0,0,0,0]
[0,{"$f":"IF($G267=$G$7,1,0)","v":0},{"$f":"IFERROR(INDEX((Settings!$M$17:$M$231),MATCH(RelatedPartyRevenue!G267,Settings!$AC$18:$AC$163,0)),0)","v":0},null,null,0,0,0,null,0,0,0,0,0,0,0,0,0,0,0,0,null,null,0,null,0,0,0,0,0,0]
[{"$f":"IF(SUM(J268:V268)>0,1,0)","v":0},0,{"$f":"IFERROR(INDEX((Settings!$M$17:$M$231),MATCH(RelatedPartyRevenue!G268,Settings!$AC$18:$AC$163,0)),0)","v":0},null,null,0,0,0,null,0,0,0,0,0,0,0,0,0,0,0,0,null,null,0,null,{"$f":"K268-J268","v":0},{"$f":"M268-L268","v":0},0,0,0,0]
[0,0,{"$f":"IFERROR(INDEX((Settings!$M$17:$M$231),MATCH(RelatedPartyRevenue!G269,Settings!$AC$18:$AC$163,0)),0)","v":0},null,null,0,0,0,null,0,0,0,0,0,0,0,0,0,0,0,0,null,null,0,null,0,0,{"$f":"O269-N269","v":0},{"$f":"Q269-P269","v":0},{"$f":"S269-R269","v":0},{"$f":"U269-T269","v":0}]
[0,0,{"$f":"IFERROR(INDEX((Settings!$M$17:$M$231),MATCH(RelatedPartyRevenue!G270,Settings!$AC$18:$AC$163,0)),0)","v":0},null,null,0,0,0,null,0,0,0,0,0,0,0,0,0,0,0,0,null,null,0,null,0,0,0,0,0,0]
[0,0,{"$f":"IFERROR(INDEX((Settings!$M$17:$M$231),MATCH(RelatedPartyRevenue!G271,Settings!$AC$18:$AC$163,0)),0)","v":0},null,null,0,0,0,null,0,0,0,0,0,0,0,0,0,0,0,0,null,null,0,null,0,0,0,0,0,0]
[0,0,{"$f":"IFERROR(INDEX((Settings!$M$17:$M$231),MATCH(RelatedPartyRevenue!G272,Settings!$AC$18:$AC$163,0)),0)","v":0},null,null,0,0,0,null,0,0,0,0,0,0,0,0,0,0,0,0,null,null,0,null,0,0,0,0,0,0]
[0,0,{"$f":"IFERROR(INDEX((Settings!$M$17:$M$231),MATCH(RelatedPartyRevenue!G273,Settings!$AC$18:$AC$163,0)),0)","v":0},null,null,0,0,0,null,0,0,0,0,0,0,0,0,0,0,0,0,null,null,0,null,0,0,0,0,0,0]
[0,0,{"$f":"IFERROR(INDEX((Settings!$M$17:$M$231),MATCH(RelatedPartyRevenue!G274,Settings!$AC$18:$AC$163,0)),0)","v":0},null,null,0,0,0,null,0,0,0,0,0,0,0,0,0,0,0,0,null,null,0,null,0,0,0,0,0,0]
[0,0,{"$f":"IFERROR(INDEX((Settings!$M$17:$M$231),MATCH(RelatedPartyRevenue!G275,Settings!$AC$18:$AC$163,0)),0)","v":0},null,null,0,0,0,null,0,0,0,0,0,0,0,0,0,0,0,0,null,null,0,null,0,0,0,0,0,0]
[0,0,{"$f":"IFERROR(INDEX((Settings!$M$17:$M$231),MATCH(RelatedPartyRevenue!G276,Settings!$AC$18:$AC$163,0)),0)","v":0},null,null,0,0,0,null,0,0,0,0,0,0,0,0,0,0,0,0,null,null,0,null,0,0,0,0,0,0]
[0,0,{"$f":"IFERROR(INDEX((Settings!$M$17:$M$231),MATCH(RelatedPartyRevenue!G277,Settings!$AC$18:$AC$163,0)),0)","v":0},null,null,0,0,0,null,0,0,0,0,0,0,0,0,0,0,0,0,null,null,0,null,0,0,0,0,0,0]
[0,0,{"$f":"IFERROR(INDEX((Settings!$M$17:$M$231),MATCH(RelatedPartyRevenue!G278,Settings!$AC$18:$AC$163,0)),0)","v":0},null,null,0,0,0,null,0,0,0,0,0,0,0,0,0,0,0,0,null,null,0,null,0,0,0,0,0,0]
[0,0,{"$f":"IFERROR(INDEX((Settings!$M$17:$M$231),MATCH(RelatedPartyRevenue!G279,Settings!$AC$18:$AC$163,0)),0)","v":0},null,null,0,0,0,null,0,0,0,0,0,0,0,0,0,0,0,0,null,null,0,null,0,0,0,0,0,0]
[0,0,{"$f":"IFERROR(INDEX((Settings!$M$17:$M$231),MATCH(RelatedPartyRevenue!G280,Settings!$AC$18:$AC$163,0)),0)","v":0},null,null,0,0,0,null,0,0,0,0,0,0,0,0,0,0,0,0,null,null,0,null,0,0,0,0,0,0]
[0,0,{"$f":"IFERROR(INDEX((Settings!$M$17:$M$231),MATCH(RelatedPartyRevenue!G281,Settings!$AC$18:$AC$163,0)),0)","v":0},null,null,0,0,0,null,0,0,0,0,0,0,0,0,0,0,0,0,null,null,0,null,0,0,0,0,0,0]
[0,0,{"$f":"IFERROR(INDEX((Settings!$M$17:$M$231),MATCH(RelatedPartyRevenue!G282,Settings!$AC$18:$AC$163,0)),0)","v":0},null,null,0,0,0,null,0,0,0,0,0,0,0,0,0,0,0,0,null,null,0,null,0,0,0,0,0,0]
[0,0,{"$f":"IFERROR(INDEX((Settings!$M$17:$M$231),MATCH(RelatedPartyRevenue!G283,Settings!$AC$18:$AC$163,0)),0)","v":0},null,null,0,0,0,null,0,0,0,0,0,0,0,0,0,0,0,0,null,null,0,null,0,0,0,0,0,0]
[0,0,{"$f":"IFERROR(INDEX((Settings!$M$17:$M$231),MATCH(RelatedPartyRevenue!G284,Settings!$AC$18:$AC$163,0)),0)","v":0},null,null,0,0,0,null,0,0,0,0,0,0,0,0,0,0,0,0,null,null,0,null,0,0,0,0,0,0]
[0,0,{"$f":"IFERROR(INDEX((Settings!$M$17:$M$231),MATCH(RelatedPartyRevenue!G285,Settings!$AC$18:$AC$163,0)),0)","v":0},null,null,0,0,0,null,0,0,0,0,0,0,0,0,0,0,0,0,null,null,0,null,0,0,0,0,0,0]
[0,0,{"$f":"IFERROR(INDEX((Settings!$M$17:$M$231),MATCH(RelatedPartyRevenue!G286,Settings!$AC$18:$AC$163,0)),0)","v":0},null,null,0,0,0,null,0,0,0,0,0,0,0,0,0,0,0,0,null,null,0,null,0,0,0,0,0,0]
[0,0,{"$f":"IFERROR(INDEX((Settings!$M$17:$M$231),MATCH(RelatedPartyRevenue!G287,Settings!$AC$18:$AC$163,0)),0)","v":0},null,null,0,0,0,null,0,0,0,0,0,0,0,0,0,0,0,0,null,null,0,null,0,0,0,0,0,0]
[0,0,{"$f":"IFERROR(INDEX((Settings!$M$17:$M$231),MATCH(RelatedPartyRevenue!G288,Settings!$AC$18:$AC$163,0)),0)","v":0},null,null,0,0,0,null,0,0,0,0,0,0,0,0,0,0,0,0,null,null,0,null,0,0,0,0,0,0]
[0,0,{"$f":"IFERROR(INDEX((Settings!$M$17:$M$231),MATCH(RelatedPartyRevenue!G289,Settings!$AC$18:$AC$163,0)),0)","v":0},null,null,0,0,0,null,0,0,0,0,0,0,0,0,0,0,0,0,null,null,0,null,0,0,0,0,0,0]
[0,0,{"$f":"IFERROR(INDEX((Settings!$M$17:$M$231),MATCH(RelatedPartyRevenue!G290,Settings!$AC$18:$AC$163,0)),0)","v":0},null,null,0,0,0,null,0,0,0,0,0,0,0,0,0,0,0,0,null,null,0,null,0,0,0,0,0,0]
[0,0,{"$f":"IFERROR(INDEX((Settings!$M$17:$M$231),MATCH(RelatedPartyRevenue!G291,Settings!$AC$18:$AC$163,0)),0)","v":0},null,null,0,0,0,null,0,0,0,0,0,0,0,0,0,0,0,0,null,null,0,null,0,0,0,0,0,0]
[0,0,{"$f":"IFERROR(INDEX((Settings!$M$17:$M$231),MATCH(RelatedPartyRevenue!G292,Settings!$AC$18:$AC$163,0)),0)","v":0},null,null,0,0,0,null,0,0,0,0,0,0,0,0,0,0,0,0,null,null,0,null,0,0,0,0,0,0]
[0,0,{"$f":"IFERROR(INDEX((Settings!$M$17:$M$231),MATCH(RelatedPartyRevenue!G293,Settings!$AC$18:$AC$163,0)),0)","v":0},null,null,0,0,0,null,0,0,0,0,0,0,0,0,0,0,0,0,null,null,0,null,0,0,0,0,0,0]
[0,0,{"$f":"IFERROR(INDEX((Settings!$M$17:$M$231),MATCH(RelatedPartyRevenue!G294,Settings!$AC$18:$AC$163,0)),0)","v":0},null,null,0,0,0,null,0,0,0,0,0,0,0,0,0,0,0,0,null,null,0,null,0,0,0,0,0,0]
[0,0,{"$f":"IFERROR(INDEX((Settings!$M$17:$M$231),MATCH(RelatedPartyRevenue!G295,Settings!$AC$18:$AC$163,0)),0)","v":0},null,null,0,0,0,null,0,0,0,0,0,0,0,0,0,0,0,0,null,null,0,null,0,0,0,0,0,0]
[0,0,{"$f":"IFERROR(INDEX((Settings!$M$17:$M$231),MATCH(RelatedPartyRevenue!G296,Settings!$AC$18:$AC$163,0)),0)","v":0},null,null,0,0,0,null,0,0,0,0,0,0,0,0,0,0,0,0,null,null,0,null,0,0,0,0,0,0]
[0,0,{"$f":"IFERROR(INDEX((Settings!$M$17:$M$231),MATCH(RelatedPartyRevenue!G297,Settings!$AC$18:$AC$163,0)),0)","v":0},null,null,0,0,0,null,0,0,0,0,0,0,0,0,0,0,0,0,null,null,0,null,0,0,0,0,0,0]
[0,0,{"$f":"IFERROR(INDEX((Settings!$M$17:$M$231),MATCH(RelatedPartyRevenue!G298,Settings!$AC$18:$AC$163,0)),0)","v":0},null,null,0,0,0,null,0,0,0,0,0,0,0,0,0,0,0,0,null,null,0,null,0,0,0,0,0,0]
[0,0,{"$f":"IFERROR(INDEX((Settings!$M$17:$M$231),MATCH(RelatedPartyRevenue!G299,Settings!$AC$18:$AC$163,0)),0)","v":0},null,null,0,0,0,null,0,0,0,0,0,0,0,0,0,0,0,0,null,null,0,null,0,0,0,0,0,0]
[0,0,{"$f":"IFERROR(INDEX((Settings!$M$17:$M$231),MATCH(RelatedPartyRevenue!G300,Settings!$AC$18:$AC$163,0)),0)","v":0},null,null,0,0,0,null,0,0,0,0,0,0,0,0,0,0,0,0,null,null,0,null,0,0,0,0,0,0]
[0,0,{"$f":"IFERROR(INDEX((Settings!$M$17:$M$231),MATCH(RelatedPartyRevenue!G301,Settings!$AC$18:$AC$163,0)),0)","v":0},null,null,0,0,0,null,0,0,0,0,0,0,0,0,0,0,0,0,null,null,0,null,0,0,0,0,0,0]
[0,0,{"$f":"IFERROR(INDEX((Settings!$M$17:$M$231),MATCH(RelatedPartyRevenue!G302,Settings!$AC$18:$AC$163,0)),0)","v":0},null,null,0,0,0,null,0,0,0,0,0,0,0,0,0,0,0,0,null,null,0,null,0,0,0,0,0,0]
[0,0,{"$f":"IFERROR(INDEX((Settings!$M$17:$M$231),MATCH(RelatedPartyRevenue!G303,Settings!$AC$18:$AC$163,0)),0)","v":0},null,null,0,0,0,null,0,0,0,0,0,0,0,0,0,0,0,0,null,null,0,null,0,0,0,0,0,0]
[0,0,{"$f":"IFERROR(INDEX((Settings!$M$17:$M$231),MATCH(RelatedPartyRevenue!G304,Settings!$AC$18:$AC$163,0)),0)","v":0},null,null,0,0,0,null,0,0,0,0,0,0,0,0,0,0,0,0,null,null,0,null,0,0,0,0,0,0]
[0,0,{"$f":"IFERROR(INDEX((Settings!$M$17:$M$231),MATCH(RelatedPartyRevenue!G305,Settings!$AC$18:$AC$163,0)),0)","v":0},null,null,0,0,0,null,0,0,0,0,0,0,0,0,0,0,0,0,null,null,0,null,0,0,0,0,0,0]
[0,0,{"$f":"IFERROR(INDEX((Settings!$M$17:$M$231),MATCH(RelatedPartyRevenue!G306,Settings!$AC$18:$AC$163,0)),0)","v":0},null,null,0,0,0,null,0,0,0,0,0,0,0,0,0,0,0,0,null,null,0,null,0,0,0,0,0,0]
[0,0,{"$f":"IFERROR(INDEX((Settings!$M$17:$M$231),MATCH(RelatedPartyRevenue!G307,Settings!$AC$18:$AC$163,0)),0)","v":0},null,null,0,0,0,null,0,0,0,0,0,0,0,0,0,0,0,0,null,null,0,null,0,0,0,0,0,0]
[0,0,{"$f":"IFERROR(INDEX((Settings!$M$17:$M$231),MATCH(RelatedPartyRevenue!G308,Settings!$AC$18:$AC$163,0)),0)","v":0},null,null,0,0,0,null,0,0,0,0,0,0,0,0,0,0,0,0,null,null,0,null,0,0,0,0,0,0]
[0,0,{"$f":"IFERROR(INDEX((Settings!$M$17:$M$231),MATCH(RelatedPartyRevenue!G309,Settings!$AC$18:$AC$163,0)),0)","v":0},null,null,0,0,0,null,0,0,0,0,0,0,0,0,0,0,0,0,null,null,0,null,0,0,0,0,0,0]
[0,0,{"$f":"IFERROR(INDEX((Settings!$M$17:$M$231),MATCH(RelatedPartyRevenue!G310,Settings!$AC$18:$AC$163,0)),0)","v":0},null,null,0,0,0,null,0,0,0,0,0,0,0,0,0,0,0,0,null,null,0,null,0,0,0,0,0,0]
[0,0,{"$f":"IFERROR(INDEX((Settings!$M$17:$M$231),MATCH(RelatedPartyRevenue!G311,Settings!$AC$18:$AC$163,0)),0)","v":0},null,null,0,0,0,null,0,0,0,0,0,0,0,0,0,0,0,0,null,null,0,null,0,0,0,0,0,0]
[0,0,{"$f":"IFERROR(INDEX((Settings!$M$17:$M$231),MATCH(RelatedPartyRevenue!G312,Settings!$AC$18:$AC$163,0)),0)","v":0},null,null,0,0,0,null,0,0,0,0,0,0,0,0,0,0,0,0,null,null,0,null,0,0,0,0,0,0]
[0,0,{"$f":"IFERROR(INDEX((Settings!$M$17:$M$231),MATCH(RelatedPartyRevenue!G313,Settings!$AC$18:$AC$163,0)),0)","v":0},null,null,0,0,0,null,0,0,0,0,0,0,0,0,0,0,0,0,null,null,0,null,0,0,0,0,0,0]
[0,0,{"$f":"IFERROR(INDEX((Settings!$M$17:$M$231),MATCH(RelatedPartyRevenue!G314,Settings!$AC$18:$AC$163,0)),0)","v":0},null,null,0,0,0,null,0,0,0,0,0,0,0,0,0,0,0,0,null,null,0,null,0,0,0,0,0,0]
[0,0,{"$f":"IFERROR(INDEX((Settings!$M$17:$M$231),MATCH(RelatedPartyRevenue!G315,Settings!$AC$18:$AC$163,0)),0)","v":0},null,null,0,0,0,null,0,0,0,0,0,0,0,0,0,0,0,0,null,null,0,null,0,0,0,0,0,0]
[0,0,{"$f":"IFERROR(INDEX((Settings!$M$17:$M$231),MATCH(RelatedPartyRevenue!G316,Settings!$AC$18:$AC$163,0)),0)","v":0},null,null,0,0,0,null,0,0,0,0,0,0,0,0,0,0,0,0,null,null,0,null,0,0,0,0,0,0]
[0,0,{"$f":"IFERROR(INDEX((Settings!$M$17:$M$231),MATCH(RelatedPartyRevenue!G317,Settings!$AC$18:$AC$163,0)),0)","v":0},null,null,0,0,0,null,0,0,0,0,0,0,0,0,0,0,0,0,null,null,0,null,0,0,0,0,0,0]
[0,0,{"$f":"IFERROR(INDEX((Settings!$M$17:$M$231),MATCH(RelatedPartyRevenue!G318,Settings!$AC$18:$AC$163,0)),0)","v":0},null,null,0,0,0,null,0,0,0,0,0,0,0,0,0,0,0,0,null,null,0,null,0,0,0,0,0,0]
[0,0,{"$f":"IFERROR(INDEX((Settings!$M$17:$M$231),MATCH(RelatedPartyRevenue!G319,Settings!$AC$18:$AC$163,0)),0)","v":0},null,null,0,0,0,null,0,0,0,0,0,0,0,0,0,0,0,0,null,null,0,null,0,0,0,0,0,0]
[0,0,{"$f":"IFERROR(INDEX((Settings!$M$17:$M$231),MATCH(RelatedPartyRevenue!G320,Settings!$AC$18:$AC$163,0)),0)","v":0},null,null,0,0,0,null,0,0,0,0,0,0,0,0,0,0,0,0,null,null,0,null,0,0,0,0,0,0]
[0,0,{"$f":"IFERROR(INDEX((Settings!$M$17:$M$231),MATCH(RelatedPartyRevenue!G321,Settings!$AC$18:$AC$163,0)),0)","v":0},null,null,0,0,0,null,0,0,0,0,0,0,0,0,0,0,0,0,null,null,0,null,0,0,0,0,0,0]
[0,0,{"$f":"IFERROR(INDEX((Settings!$M$17:$M$231),MATCH(RelatedPartyRevenue!G322,Settings!$AC$18:$AC$163,0)),0)","v":0},null,null,0,0,0,null,0,0,0,0,0,0,0,0,0,0,0,0,null,null,0,null,0,0,0,0,0,0]
[0,0,{"$f":"IFERROR(INDEX((Settings!$M$17:$M$231),MATCH(RelatedPartyRevenue!G323,Settings!$AC$18:$AC$163,0)),0)","v":0},null,null,0,0,0,null,0,0,0,0,0,0,0,0,0,0,0,0,null,null,0,null,0,0,0,0,0,0]
[0,0,{"$f":"IFERROR(INDEX((Settings!$M$17:$M$231),MATCH(RelatedPartyRevenue!G324,Settings!$AC$18:$AC$163,0)),0)","v":0},null,null,0,0,0,null,0,0,0,0,0,0,0,0,0,0,0,0,null,null,0,null,0,0,0,0,0,0]
[0,0,{"$f":"IFERROR(INDEX((Settings!$M$17:$M$231),MATCH(RelatedPartyRevenue!G325,Settings!$AC$18:$AC$163,0)),0)","v":0},null,null,0,0,0,null,0,0,0,0,0,0,0,0,0,0,0,0,null,null,0,null,0,0,0,0,0,0]
[0,0,{"$f":"IFERROR(INDEX((Settings!$M$17:$M$231),MATCH(RelatedPartyRevenue!G326,Settings!$AC$18:$AC$163,0)),0)","v":0},null,null,0,0,0,null,0,0,0,0,0,0,0,0,0,0,0,0,null,null,0,null,0,0,0,0,0,0]
[0,0,{"$f":"IFERROR(INDEX((Settings!$M$17:$M$231),MATCH(RelatedPartyRevenue!G327,Settings!$AC$18:$AC$163,0)),0)","v":0},null,null,0,0,0,null,0,0,0,0,0,0,0,0,0,0,0,0,null,null,0,null,0,0,0,0,0,0]
[0,0,{"$f":"IFERROR(INDEX((Settings!$M$17:$M$231),MATCH(RelatedPartyRevenue!G328,Settings!$AC$18:$AC$163,0)),0)","v":0},null,null,0,0,0,null,0,0,0,0,0,0,0,0,0,0,0,0,null,null,0,null,0,0,0,0,0,0]
[0,0,{"$f":"IFERROR(INDEX((Settings!$M$17:$M$231),MATCH(RelatedPartyRevenue!G329,Settings!$AC$18:$AC$163,0)),0)","v":0},null,null,0,0,0,null,0,0,0,0,0,0,0,0,0,0,0,0,null,null,0,null,0,0,0,0,0,0]
[0,0,{"$f":"IFERROR(INDEX((Settings!$M$17:$M$231),MATCH(RelatedPartyRevenue!G330,Settings!$AC$18:$AC$163,0)),0)","v":0},null,null,0,0,0,null,0,0,0,0,0,0,0,0,0,0,0,0,null,null,0,null,0,0,0,0,0,0]
[0,{"$f":"IF($G331=$G$7,1,0)","v":0},{"$f":"IFERROR(INDEX((Settings!$M$17:$M$231),MATCH(RelatedPartyRevenue!G331,Settings!$AC$18:$AC$163,0)),0)","v":0},null,null,0,0,0,null,0,0,0,0,0,0,0,0,0,0,0,0,null,null,0,null,0,0,0,0,0,0]
[{"$f":"IF(SUM(J332:V332)>0,1,0)","v":0},0,{"$f":"IFERROR(INDEX((Settings!$M$17:$M$231),MATCH(RelatedPartyRevenue!G332,Settings!$AC$18:$AC$163,0)),0)","v":0},null,null,0,0,0,null,0,0,0,0,0,0,0,0,0,0,0,0,null,null,0,null,{"$f":"K332-J332","v":0},{"$f":"M332-L332","v":0},0,0,0,0]
[0,0,{"$f":"IFERROR(INDEX((Settings!$M$17:$M$231),MATCH(RelatedPartyRevenue!G333,Settings!$AC$18:$AC$163,0)),0)","v":0},null,null,0,0,0,null,0,0,0,0,0,0,0,0,0,0,0,0,null,null,0,null,0,0,{"$f":"O333-N333","v":0},{"$f":"Q333-P333","v":0},{"$f":"S333-R333","v":0},{"$f":"U333-T333","v":0}]
[0,0,{"$f":"IFERROR(INDEX((Settings!$M$17:$M$231),MATCH(RelatedPartyRevenue!G334,Settings!$AC$18:$AC$163,0)),0)","v":0},null,null,0,0,0,null,0,0,0,0,0,0,0,0,0,0,0,0,null,null,0,null,0,0,0,0,0,0]
[0,0,{"$f":"IFERROR(INDEX((Settings!$M$17:$M$231),MATCH(RelatedPartyRevenue!G335,Settings!$AC$18:$AC$163,0)),0)","v":0},null,null,0,0,0,null,0,0,0,0,0,0,0,0,0,0,0,0,null,null,0,null,0,0,0,0,0,0]
[0,0,{"$f":"IFERROR(INDEX((Settings!$M$17:$M$231),MATCH(RelatedPartyRevenue!G336,Settings!$AC$18:$AC$163,0)),0)","v":0},null,null,0,0,0,null,0,0,0,0,0,0,0,0,0,0,0,0,null,null,0,null,0,0,0,0,0,0]
[0,0,{"$f":"IFERROR(INDEX((Settings!$M$17:$M$231),MATCH(RelatedPartyRevenue!G337,Settings!$AC$18:$AC$163,0)),0)","v":0},null,null,0,0,0,null,0,0,0,0,0,0,0,0,0,0,0,0,null,null,0,null,0,0,0,0,0,0]
[0,0,{"$f":"IFERROR(INDEX((Settings!$M$17:$M$231),MATCH(RelatedPartyRevenue!G338,Settings!$AC$18:$AC$163,0)),0)","v":0},null,null,0,0,0,null,0,0,0,0,0,0,0,0,0,0,0,0,null,null,0,null,0,0,0,0,0,0]
[0,0,{"$f":"IFERROR(INDEX((Settings!$M$17:$M$231),MATCH(RelatedPartyRevenue!G339,Settings!$AC$18:$AC$163,0)),0)","v":0},null,null,0,0,0,null,0,0,0,0,0,0,0,0,0,0,0,0,null,null,0,null,0,0,0,0,0,0]
[0,0,{"$f":"IFERROR(INDEX((Settings!$M$17:$M$231),MATCH(RelatedPartyRevenue!G340,Settings!$AC$18:$AC$163,0)),0)","v":0},null,null,0,0,0,null,0,0,0,0,0,0,0,0,0,0,0,0,null,null,0,null,0,0,0,0,0,0]
[0,0,{"$f":"IFERROR(INDEX((Settings!$M$17:$M$231),MATCH(RelatedPartyRevenue!G341,Settings!$AC$18:$AC$163,0)),0)","v":0},null,null,0,0,0,null,0,0,0,0,0,0,0,0,0,0,0,0,null,null,0,null,0,0,0,0,0,0]
[0,0,{"$f":"IFERROR(INDEX((Settings!$M$17:$M$231),MATCH(RelatedPartyRevenue!G342,Settings!$AC$18:$AC$163,0)),0)","v":0},null,null,0,0,0,null,0,0,0,0,0,0,0,0,0,0,0,0,null,null,0,null,0,0,0,0,0,0]
[0,0,{"$f":"IFERROR(INDEX((Settings!$M$17:$M$231),MATCH(RelatedPartyRevenue!G343,Settings!$AC$18:$AC$163,0)),0)","v":0},null,null,0,0,0,null,0,0,0,0,0,0,0,0,0,0,0,0,null,null,0,null,0,0,0,0,0,0]
[0,0,{"$f":"IFERROR(INDEX((Settings!$M$17:$M$231),MATCH(RelatedPartyRevenue!G344,Settings!$AC$18:$AC$163,0)),0)","v":0},null,null,0,0,0,null,0,0,0,0,0,0,0,0,0,0,0,0,null,null,0,null,0,0,0,0,0,0]
[0,0,{"$f":"IFERROR(INDEX((Settings!$M$17:$M$231),MATCH(RelatedPartyRevenue!G345,Settings!$AC$18:$AC$163,0)),0)","v":0},null,null,0,0,0,null,0,0,0,0,0,0,0,0,0,0,0,0,null,null,0,null,0,0,0,0,0,0]
[0,0,{"$f":"IFERROR(INDEX((Settings!$M$17:$M$231),MATCH(RelatedPartyRevenue!G346,Settings!$AC$18:$AC$163,0)),0)","v":0},null,null,0,0,0,null,0,0,0,0,0,0,0,0,0,0,0,0,null,null,0,null,0,0,0,0,0,0]
[0,0,{"$f":"IFERROR(INDEX((Settings!$M$17:$M$231),MATCH(RelatedPartyRevenue!G347,Settings!$AC$18:$AC$163,0)),0)","v":0},null,null,0,0,0,null,0,0,0,0,0,0,0,0,0,0,0,0,null,null,0,null,0,0,0,0,0,0]
[0,0,{"$f":"IFERROR(INDEX((Settings!$M$17:$M$231),MATCH(RelatedPartyRevenue!G348,Settings!$AC$18:$AC$163,0)),0)","v":0},null,null,0,0,0,null,0,0,0,0,0,0,0,0,0,0,0,0,null,null,0,null,0,0,0,0,0,0]
[0,0,{"$f":"IFERROR(INDEX((Settings!$M$17:$M$231),MATCH(RelatedPartyRevenue!G349,Settings!$AC$18:$AC$163,0)),0)","v":0},null,null,0,0,0,null,0,0,0,0,0,0,0,0,0,0,0,0,null,null,0,null,0,0,0,0,0,0]
[0,0,{"$f":"IFERROR(INDEX((Settings!$M$17:$M$231),MATCH(RelatedPartyRevenue!G350,Settings!$AC$18:$AC$163,0)),0)","v":0},null,null,0,0,0,null,0,0,0,0,0,0,0,0,0,0,0,0,null,null,0,null,0,0,0,0,0,0]
[0,0,{"$f":"IFERROR(INDEX((Settings!$M$17:$M$231),MATCH(RelatedPartyRevenue!G351,Settings!$AC$18:$AC$163,0)),0)","v":0},null,null,0,0,0,null,0,0,0,0,0,0,0,0,0,0,0,0,null,null,0,null,0,0,0,0,0,0]
[0,0,{"$f":"IFERROR(INDEX((Settings!$M$17:$M$231),MATCH(RelatedPartyRevenue!G352,Settings!$AC$18:$AC$163,0)),0)","v":0},null,null,0,0,0,null,0,0,0,0,0,0,0,0,0,0,0,0,null,null,0,null,0,0,0,0,0,0]
[0,0,{"$f":"IFERROR(INDEX((Settings!$M$17:$M$231),MATCH(RelatedPartyRevenue!G353,Settings!$AC$18:$AC$163,0)),0)","v":0},null,null,0,0,0,null,0,0,0,0,0,0,0,0,0,0,0,0,null,null,0,null,0,0,0,0,0,0]
[0,0,{"$f":"IFERROR(INDEX((Settings!$M$17:$M$231),MATCH(RelatedPartyRevenue!G354,Settings!$AC$18:$AC$163,0)),0)","v":0},null,null,0,0,0,null,0,0,0,0,0,0,0,0,0,0,0,0,null,null,0,null,0,0,0,0,0,0]
[0,0,{"$f":"IFERROR(INDEX((Settings!$M$17:$M$231),MATCH(RelatedPartyRevenue!G355,Settings!$AC$18:$AC$163,0)),0)","v":0},null,null,0,0,0,null,0,0,0,0,0,0,0,0,0,0,0,0,null,null,0,null,0,0,0,0,0,0]
[0,0,{"$f":"IFERROR(INDEX((Settings!$M$17:$M$231),MATCH(RelatedPartyRevenue!G356,Settings!$AC$18:$AC$163,0)),0)","v":0},null,null,0,0,0,null,0,0,0,0,0,0,0,0,0,0,0,0,null,null,0,null,0,0,0,0,0,0]
[0,0,{"$f":"IFERROR(INDEX((Settings!$M$17:$M$231),MATCH(RelatedPartyRevenue!G357,Settings!$AC$18:$AC$163,0)),0)","v":0},null,null,0,0,0,null,0,0,0,0,0,0,0,0,0,0,0,0,null,null,0,null,0,0,0,0,0,0]
[0,0,{"$f":"IFERROR(INDEX((Settings!$M$17:$M$231),MATCH(RelatedPartyRevenue!G358,Settings!$AC$18:$AC$163,0)),0)","v":0},null,null,0,0,0,null,0,0,0,0,0,0,0,0,0,0,0,0,null,null,0,null,0,0,0,0,0,0]
[0,0,{"$f":"IFERROR(INDEX((Settings!$M$17:$M$231),MATCH(RelatedPartyRevenue!G359,Settings!$AC$18:$AC$163,0)),0)","v":0},null,null,0,0,0,null,0,0,0,0,0,0,0,0,0,0,0,0,null,null,0,null,0,0,0,0,0,0]
[0,0,{"$f":"IFERROR(INDEX((Settings!$M$17:$M$231),MATCH(RelatedPartyRevenue!G360,Settings!$AC$18:$AC$163,0)),0)","v":0},null,null,0,0,0,null,0,0,0,0,0,0,0,0,0,0,0,0,null,null,0,null,0,0,0,0,0,0]
[null,null,null,null,null,"Total",null,null,null,{"$f":"SUM(J11:J360)","v":0},{"$f":"SUM(K11:K360)","v":0},{"$f":"SUM(L11:L360)","v":0},{"$f":"SUM(M11:M360)","v":0},{"$f":"SUM(N11:N360)","v":0},{"$f":"SUM(O11:O360)","v":0},{"$f":"SUM(P11:P360)","v":0},0,0,{"$f":"SUM(S11:S360)","v":0},0,{"$f":"SUM(U11:U360)","v":0},0,null,{"$f":"IF(V361<U361/2,\"Complete outer year budget\",\"\")","v":""}]
[]
[null,null,null,null,null,"Check",null,null,null,null,{"$f":"IF(K361>CashFlow!$J$21,K361-CashFlow!$J$21,0)","v":0},null,{"$f":"IF(M361>CashFlow!$L$21,M361-CashFlow!$L$21,0)","v":0},null,{"$f":"IF(O361>CashFlow!$N$21,O361-CashFlow!$N$21,0)","v":0},null,{"$f":"IF(Q361>CashFlow!$P$21,Q361-CashFlow!$P$21,0)","v":0},{"$f":"IF(R361>CashFlow!$R$21,R361-CashFlow!$R$21,0)","v":0},null,{"$f":"IF(T361>CashFlow!$T$21,T361-CashFlow!$T$21,0)","v":0},null,{"$f":"IF(V361>CashFlow!$U$21,V361-CashFlow!$U$21,0)","v":0}]

{"sheet":"Personnel","index":25,"n_rows":1502,"n_cols":28,"rows_kept":1502,"cut":false,"hidden":false,"merged":[[7,18,7,26],[8,10,8,12],[8,18,8,20],[8,21,8,23],[8,24,8,26],[7,10,7,12],[7,13,7,14],[7,15,7,16],[8,13,8,14]]}
[]
[]
[null,null,null,null,null,null,null,null,null,null,null,null,null,null,null,null,null,null,null,"Legend"]
[null,null,null,null,null,null,null,null,null,null,null,null,null,null,null,null,null,null,null,"Red",null,"This colour signifies that the entity has pasted an item that is not included in the drop down list"]
[null,null,null,null,null,null,null,null,null,null,null,null,null,null,null,null,null,null,null,"Orange",null,"This colour signifies that the entity did not select a relevant component of remuneration"]
[null,null,null,null,null,"PE No",{"$f":"Settings!$O$2","v":"PE196"}]
[null,null,null,null,null,"Entity name",{"$f":"Settings!$D$2","v":"Transnet Limited"},null,null,null,null,null,null,null,null,null,null,null,null,null,null,null,null,null,null,null,{"$f":"IF(Z1500<W1500/2,\"Complete outer year budget\",\"\")","v":""}]
[null,null,null,null,null,null,null,null,null,null,"Preliminary outcomes",null,null,null,null,"Revised Estimate",null,null,"Projections over the MTEF"]
[null,null,null,null,null,"Category","Salary Level","Salary Bands","Occupation","Components of Remuneration",{"$f":"MyYearM1","v":"2021/22"},{"$f":"MyYearM1","v":"2021/22"},{"$f":"MyYearM1","v":"2021/22"},null,null,{"$f":"MyYear0","v":"2022/23"},null,null,{"$f":"MyYearP1","v":"2023/24"},{"$f":"MyYearP1","v":"2023/24"},{"$f":"MyYearP1","v":"2023/24"},{"$f":"MyYearP2","v":"2024/25"},{"$f":"MyYearP1","v":"2023/24"},{"$f":"MyYearP1","v":"2023/24"},{"$f":"MyYearP3","v":"2025/26"},{"$f":"MyYearP1","v":"2023/24"},{"$f":"MyYearP1","v":"2023/24"}]
["ID",null,null,null,null,"R Thousand",null,null,null,null,"Number of posts filled on funded establishment","Expenditure on posts filled on funded establishment     (R thousand)","Unit Cost","Number of posts on approved establishment","Number of funded posts (establishement)","Number of posts filled on funded establishment","Expenditure on posts filled on funded establishment     (R thousand)","Unit Cost","Number of posts filled on funded establishment","Expenditure on posts filled on funded establishment     (R thousand)","Unit Cost","Number of posts filled on funded establishment","Expenditure on posts filled on funded establishment     (R thousand)","Unit Cost","Number of posts filled on funded establishment","Expenditure on posts filled on funded establishment     (R thousand)","Unit Cost"]
[{"$f":"IF(SUM(K11:AA11)>0,1,0)","v":0},{"$f":"IFERROR(INDEX(Settings!$AO$17:$AO$38,MATCH(Personnel!$G11,Settings!$AP$17:$AP$38,0)),0)","v":0},null,null,null,null,null,null,null,"Performance bonus",0,0,{"$f":"ROUND(IF(ISERROR(L11/K11),0,(L11/K11)),0)","v":0},0,0,0,0,{"$f":"ROUND(IF(ISERROR(Q11/P11),0,(Q11/P11)),0)","v":0},0,0,{"$f":"ROUND(IF(ISERROR(T11/S11),0,(T11/S11)),0)","v":0},0,0,{"$f":"ROUND(IF(ISERROR(W11/V11),0,(W11/V11)),0)","v":0},null,null,{"$f":"ROUND(IF(ISERROR(Z11/Y11),0,(Z11/Y11)),0)","v":0}]
[{"$f":"IF(SUM(K12:AA12)>0,1,0)","v":0},{"$f":"IFERROR(INDEX(Settings!$AO$17:$AO$38,MATCH(Personnel!$G12,Settings!$AP$17:$AP$38,0)),0)","v":0},null,null,null,0,0,0,0,0,0,0,{"$f":"ROUND(IF(ISERROR(L12/K12),0,(L12/K12)),0)","v":0},0,0,0,0,{"$f":"ROUND(IF(ISERROR(Q12/P12),0,(Q12/P12)),0)","v":0},0,0,{"$f":"ROUND(IF(ISERROR(T12/S12),0,(T12/S12)),0)","v":0},0,0,{"$f":"ROUND(IF(ISERROR(W12/V12),0,(W12/V12)),0)","v":0},null,null,{"$f":"ROUND(IF(ISERROR(Z12/Y12),0,(Z12/Y12)),0)","v":0}]
[0,{"$f":"IFERROR(INDEX(Settings!$AO$17:$AO$38,MATCH(Personnel!$G13,Settings!$AP$17:$AP$38,0)),0)","v":0},null,null,null,0,0,0,0,0,0,0,{"$f":"ROUND(IF(ISERROR(L13/K13),0,(L13/K13)),0)","v":0},0,0,0,0,{"$f":"ROUND(IF(ISERROR(Q13/P13),0,(Q13/P13)),0)","v":0},0,0,{"$f":"ROUND(IF(ISERROR(T13/S13),0,(T13/S13)),0)","v":0},0,0,{"$f":"ROUND(IF(ISERROR(W13/V13),0,(W13/V13)),0)","v":0},null,null,{"$f":"ROUND(IF(ISERROR(Z13/Y13),0,(Z13/Y13)),0)","v":0}]
[0,{"$f":"IFERROR(INDEX(Settings!$AO$17:$AO$38,MATCH(Personnel!$G14,Settings!$AP$17:$AP$38,0)),0)","v":0},null,null,null,0,0,0,0,0,0,0,0,0,0,0,0,0,0,0,0,0,0,0,null,null,0]
[0,{"$f":"IFERROR(INDEX(Settings!$AO$17:$AO$38,MATCH(Personnel!$G15,Settings!$AP$17:$AP$38,0)),0)","v":0},null,null,null,0,0,0,0,0,0,0,0,0,0,0,0,0,0,0,0,0,0,0,null,null,0]
[0,{"$f":"IFERROR(INDEX(Settings!$AO$17:$AO$38,MATCH(Personnel!$G16,Settings!$AP$17:$AP$38,0)),0)","v":0},null,null,null,0,0,0,0,0,0,0,0,0,0,0,0,0,0,0,0,0,0,0,null,null,0]
[0,{"$f":"IFERROR(INDEX(Settings!$AO$17:$AO$38,MATCH(Personnel!$G17,Settings!$AP$17:$AP$38,0)),0)","v":0},null,null,null,0,0,0,0,0,0,0,0,0,0,0,0,0,0,0,0,0,0,0,null,null,0]
[0,{"$f":"IFERROR(INDEX(Settings!$AO$17:$AO$38,MATCH(Personnel!$G18,Settings!$AP$17:$AP$38,0)),0)","v":0},null,null,null,0,0,0,0,0,0,0,0,0,0,0,0,0,0,0,0,0,0,0,null,null,0]
[0,{"$f":"IFERROR(INDEX(Settings!$AO$17:$AO$38,MATCH(Personnel!$G19,Settings!$AP$17:$AP$38,0)),0)","v":0},null,null,null,0,0,0,0,0,0,0,0,0,0,0,0,0,0,0,0,0,0,0,null,null,0]
[0,{"$f":"IFERROR(INDEX(Settings!$AO$17:$AO$38,MATCH(Personnel!$G20,Settings!$AP$17:$AP$38,0)),0)","v":0},null,null,null,0,0,0,0,0,0,0,0,0,0,0,0,0,0,0,0,0,0,0,null,null,0]
[0,{"$f":"IFERROR(INDEX(Settings!$AO$17:$AO$38,MATCH(Personnel!$G21,Settings!$AP$17:$AP$38,0)),0)","v":0},null,null,null,0,0,0,0,0,0,0,0,0,0,0,0,0,0,0,0,0,0,0,null,null,0]
[0,{"$f":"IFERROR(INDEX(Settings!$AO$17:$AO$38,MATCH(Personnel!$G22,Settings!$AP$17:$AP$38,0)),0)","v":0},null,null,null,0,0,0,0,0,0,0,0,0,0,0,0,0,0,0,0,0,0,0,null,null,0]
[0,{"$f":"IFERROR(INDEX(Settings!$AO$17:$AO$38,MATCH(Personnel!$G23,Settings!$AP$17:$AP$38,0)),0)","v":0},null,null,null,0,0,0,0,0,0,0,0,0,0,0,0,0,0,0,0,0,0,0,null,null,0]
[0,{"$f":"IFERROR(INDEX(Settings!$AO$17:$AO$38,MATCH(Personnel!$G24,Settings!$AP$17:$AP$38,0)),0)","v":0},null,null,null,0,0,0,0,0,0,0,0,0,0,0,0,0,0,0,0,0,0,0,null,null,0]
[0,{"$f":"IFERROR(INDEX(Settings!$AO$17:$AO$38,MATCH(Personnel!$G25,Settings!$AP$17:$AP$38,0)),0)","v":0},null,null,null,0,0,0,0,0,0,0,0,0,0,0,0,0,0,0,0,0,0,0,null,null,0]
[0,{"$f":"IFERROR(INDEX(Settings!$AO$17:$AO$38,MATCH(Personnel!$G26,Settings!$AP$17:$AP$38,0)),0)","v":0},null,null,null,0,0,0,0,0,0,0,0,0,0,0,0,0,0,0,0,0,0,0,null,null,0]
[0,{"$f":"IFERROR(INDEX(Settings!$AO$17:$AO$38,MATCH(Personnel!$G27,Settings!$AP$17:$AP$38,0)),0)","v":0},null,null,null,0,0,0,0,0,0,0,0,0,0,0,0,0,0,0,0,0,0,0,null,null,0]
[0,{"$f":"IFERROR(INDEX(Settings!$AO$17:$AO$38,MATCH(Personnel!$G28,Settings!$AP$17:$AP$38,0)),0)","v":0},null,null,null,0,0,0,0,0,0,0,0,0,0,0,0,0,0,0,0,0,0,0,null,null,0]
[0,{"$f":"IFERROR(INDEX(Settings!$AO$17:$AO$38,MATCH(Personnel!$G29,Settings!$AP$17:$AP$38,0)),0)","v":0},null,null,null,0,0,0,0,0,0,0,0,0,0,0,0,0,0,0,0,0,0,0,null,null,0]
[0,{"$f":"IFERROR(INDEX(Settings!$AO$17:$AO$38,MATCH(Personnel!$G30,Settings!$AP$17:$AP$38,0)),0)","v":0},null,null,null,0,0,0,0,0,0,0,0,0,0,0,0,0,0,0,0,0,0,0,null,null,0]
[0,{"$f":"IFERROR(INDEX(Settings!$AO$17:$AO$38,MATCH(Personnel!$G31,Settings!$AP$17:$AP$38,0)),0)","v":0},null,null,null,0,0,0,0,0,0,0,0,0,0,0,0,0,0,0,0,0,0,0,null,null,0]
[0,{"$f":"IFERROR(INDEX(Settings!$AO$17:$AO$38,MATCH(Personnel!$G32,Settings!$AP$17:$AP$38,0)),0)","v":0},null,null,null,0,0,0,0,0,0,0,0,0,0,0,0,0,0,0,0,0,0,0,null,null,0]
[0,{"$f":"IFERROR(INDEX(Settings!$AO$17:$AO$38,MATCH(Personnel!$G33,Settings!$AP$17:$AP$38,0)),0)","v":0},null,null,null,0,0,0,0,0,0,0,0,0,0,0,0,0,0,0,0,0,0,0,null,null,0]
[0,{"$f":"IFERROR(INDEX(Settings!$AO$17:$AO$38,MATCH(Personnel!$G34,Settings!$AP$17:$AP$38,0)),0)","v":0},null,null,null,0,0,0,0,0,0,0,0,0,0,0,0,0,0,0,0,0,0,0,null,null,0]
[0,{"$f":"IFERROR(INDEX(Settings!$AO$17:$AO$38,MATCH(Personnel!$G35,Settings!$AP$17:$AP$38,0)),0)","v":0},null,null,null,0,0,0,0,0,0,0,0,0,0,0,0,0,0,0,0,0,0,0,null,null,0]
[0,{"$f":"IFERROR(INDEX(Settings!$AO$17:$AO$38,MATCH(Personnel!$G36,Settings!$AP$17:$AP$38,0)),0)","v":0},null,null,null,0,0,0,0,0,0,0,0,0,0,0,0,0,0,0,0,0,0,0,null,null,0]
[0,{"$f":"IFERROR(INDEX(Settings!$AO$17:$AO$38,MATCH(Personnel!$G37,Settings!$AP$17:$AP$38,0)),0)","v":0},null,null,null,0,0,0,0,0,0,0,0,0,0,0,0,0,0,0,0,0,0,0,null,null,0]
[0,{"$f":"IFERROR(INDEX(Settings!$AO$17:$AO$38,MATCH(Personnel!$G38,Settings!$AP$17:$AP$38,0)),0)","v":0},null,null,null,0,0,0,0,0,0,0,0,0,0,0,0,0,0,0,0,0,0,0,null,null,0]
[0,{"$f":"IFERROR(INDEX(Settings!$AO$17:$AO$38,MATCH(Personnel!$G39,Settings!$AP$17:$AP$38,0)),0)","v":0},null,null,null,0,0,0,0,0,0,0,0,0,0,0,0,0,0,0,0,0,0,0,null,null,0]
[0,{"$f":"IFERROR(INDEX(Settings!$AO$17:$AO$38,MATCH(Personnel!$G40,Settings!$AP$17:$AP$38,0)),0)","v":0},null,null,null,0,0,0,0,0,0,0,0,0,0,0,0,0,0,0,0,0,0,0,null,null,0]
[0,{"$f":"IFERROR(INDEX(Settings!$AO$17:$AO$38,MATCH(Personnel!$G41,Settings!$AP$17:$AP$38,0)),0)","v":0},null,null,null,0,0,0,0,0,0,0,0,0,0,0,0,0,0,0,0,0,0,0,null,null,0]
[0,{"$f":"IFERROR(INDEX(Settings!$AO$17:$AO$38,MATCH(Personnel!$G42,Settings!$AP$17:$AP$38,0)),0)","v":0},null,null,null,0,0,0,0,0,0,0,0,0,0,0,0,0,0,0,0,0,0,0,null,null,0]
[0,{"$f":"IFERROR(INDEX(Settings!$AO$17:$AO$38,MATCH(Personnel!$G43,Settings!$AP$17:$AP$38,0)),0)","v":0},null,null,null,0,0,0,0,0,0,0,0,0,0,0,0,0,0,0,0,0,0,0,null,null,0]
[0,{"$f":"IFERROR(INDEX(Settings!$AO$17:$AO$38,MATCH(Personnel!$G44,Settings!$AP$17:$AP$38,0)),0)","v":0},null,null,null,0,0,0,0,0,0,0,0,0,0,0,0,0,0,0,0,0,0,0,null,null,0]
[0,{"$f":"IFERROR(INDEX(Settings!$AO$17:$AO$38,MATCH(Personnel!$G45,Settings!$AP$17:$AP$38,0)),0)","v":0},null,null,null,0,0,0,0,0,0,0,0,0,0,0,0,0,0,0,0,0,0,0,null,null,0]
[0,{"$f":"IFERROR(INDEX(Settings!$AO$17:$AO$38,MATCH(Personnel!$G46,Settings!$AP$17:$AP$38,0)),0)","v":0},null,null,null,0,0,0,0,0,0,0,0,0,0,0,0,0,0,0,0,0,0,0,null,null,0]
[0,{"$f":"IFERROR(INDEX(Settings!$AO$17:$AO$38,MATCH(Personnel!$G47,Settings!$AP$17:$AP$38,0)),0)","v":0},null,null,null,0,0,0,0,0,0,0,0,0,0,0,0,0,0,0,0,0,0,0,null,null,0]
[0,{"$f":"IFERROR(INDEX(Settings!$AO$17:$AO$38,MATCH(Personnel!$G48,Settings!$AP$17:$AP$38,0)),0)","v":0},null,null,null,0,0,0,0,0,0,0,0,0,0,0,0,0,0,0,0,0,0,0,null,null,0]
[0,{"$f":"IFERROR(INDEX(Settings!$AO$17:$AO$38,MATCH(Personnel!$G49,Settings!$AP$17:$AP$38,0)),0)","v":0},null,null,null,0,0,0,0,0,0,0,0,0,0,0,0,0,0,0,0,0,0,0,null,null,0]
[0,{"$f":"IFERROR(INDEX(Settings!$AO$17:$AO$38,MATCH(Personnel!$G50,Settings!$AP$17:$AP$38,0)),0)","v":0},null,null,null,0,0,0,0,0,0,0,0,0,0,0,0,0,0,0,0,0,0,0,null,null,0]
[0,{"$f":"IFERROR(INDEX(Settings!$AO$17:$AO$38,MATCH(Personnel!$G51,Settings!$AP$17:$AP$38,0)),0)","v":0},null,null,null,0,0,0,0,0,0,0,0,0,0,0,0,0,0,0,0,0,0,0,null,null,0]
[0,{"$f":"IFERROR(INDEX(Settings!$AO$17:$AO$38,MATCH(Personnel!$G52,Settings!$AP$17:$AP$38,0)),0)","v":0},null,null,null,0,0,0,0,0,0,0,0,0,0,0,0,0,0,0,0,0,0,0,null,null,0]
[0,{"$f":"IFERROR(INDEX(Settings!$AO$17:$AO$38,MATCH(Personnel!$G53,Settings!$AP$17:$AP$38,0)),0)","v":0},null,null,null,0,0,0,0,0,0,0,0,0,0,0,0,0,0,0,0,0,0,0,null,null,0]
[0,{"$f":"IFERROR(INDEX(Settings!$AO$17:$AO$38,MATCH(Personnel!$G54,Settings!$AP$17:$AP$38,0)),0)","v":0},null,null,null,0,0,0,0,0,0,0,0,0,0,0,0,0,0,0,0,0,0,0,null,null,0]
[0,{"$f":"IFERROR(INDEX(Settings!$AO$17:$AO$38,MATCH(Personnel!$G55,Settings!$AP$17:$AP$38,0)),0)","v":0},null,null,null,0,0,0,0,0,0,0,0,0,0,0,0,0,0,0,0,0,0,0,null,null,0]
[0,{"$f":"IFERROR(INDEX(Settings!$AO$17:$AO$38,MATCH(Personnel!$G56,Settings!$AP$17:$AP$38,0)),0)","v":0},null,null,null,0,0,0,0,0,0,0,0,0,0,0,0,0,0,0,0,0,0,0,null,null,0]
[0,{"$f":"IFERROR(INDEX(Settings!$AO$17:$AO$38,MATCH(Personnel!$G57,Settings!$AP$17:$AP$38,0)),0)","v":0},null,null,null,0,0,0,0,0,0,0,0,0,0,0,0,0,0,0,0,0,0,0,null,null,0]
[0,{"$f":"IFERROR(INDEX(Settings!$AO$17:$AO$38,MATCH(Personnel!$G58,Settings!$AP$17:$AP$38,0)),0)","v":0},null,null,null,0,0,0,0,0,0,0,0,0,0,0,0,0,0,0,0,0,0,0,null,null,0]
[0,{"$f":"IFERROR(INDEX(Settings!$AO$17:$AO$38,MATCH(Personnel!$G59,Settings!$AP$17:$AP$38,0)),0)","v":0},null,null,null,0,0,0,0,0,0,0,0,0,0,0,0,0,0,0,0,0,0,0,null,null,0]
[0,{"$f":"IFERROR(INDEX(Settings!$AO$17:$AO$38,MATCH(Personnel!$G60,Settings!$AP$17:$AP$38,0)),0)","v":0},null,null,null,0,0,0,0,0,0,0,0,0,0,0,0,0,0,0,0,0,0,0,null,null,0]
[0,{"$f":"IFERROR(INDEX(Settings!$AO$17:$AO$38,MATCH(Personnel!$G61,Settings!$AP$17:$AP$38,0)),0)","v":0},null,null,null,0,0,0,0,0,0,0,0,0,0,0,0,0,0,0,0,0,0,0,null,null,0]
[0,{"$f":"IFERROR(INDEX(Settings!$AO$17:$AO$38,MATCH(Personnel!$G62,Settings!$AP$17:$AP$38,0)),0)","v":0},null,null,null,0,0,0,0,0,0,0,0,0,0,0,0,0,0,0,0,0,0,0,null,null,0]
[0,{"$f":"IFERROR(INDEX(Settings!$AO$17:$AO$38,MATCH(Personnel!$G63,Settings!$AP$17:$AP$38,0)),0)","v":0},null,null,null,0,0,0,0,0,0,0,0,0,0,0,0,0,0,0,0,0,0,0,null,null,0]
[0,{"$f":"IFERROR(INDEX(Settings!$AO$17:$AO$38,MATCH(Personnel!$G64,Settings!$AP$17:$AP$38,0)),0)","v":0},null,null,null,0,0,0,0,0,0,0,0,0,0,0,0,0,0,0,0,0,0,0,null,null,0]
[0,{"$f":"IFERROR(INDEX(Settings!$AO$17:$AO$38,MATCH(Personnel!$G65,Settings!$AP$17:$AP$38,0)),0)","v":0},null,null,null,0,0,0,0,0,0,0,0,0,0,0,0,0,0,0,0,0,0,0,null,null,0]
[0,{"$f":"IFERROR(INDEX(Settings!$AO$17:$AO$38,MATCH(Personnel!$G66,Settings!$AP$17:$AP$38,0)),0)","v":0},null,null,null,0,0,0,0,0,0,0,0,0,0,0,0,0,0,0,0,0,0,0,null,null,0]
[0,{"$f":"IFERROR(INDEX(Settings!$AO$17:$AO$38,MATCH(Personnel!$G67,Settings!$AP$17:$AP$38,0)),0)","v":0},null,null,null,0,0,0,0,0,0,0,0,0,0,0,0,0,0,0,0,0,0,0,null,null,0]
[0,{"$f":"IFERROR(INDEX(Settings!$AO$17:$AO$38,MATCH(Personnel!$G68,Settings!$AP$17:$AP$38,0)),0)","v":0},null,null,null,0,0,0,0,0,0,0,0,0,0,0,0,0,0,0,0,0,0,0,null,null,0]
[0,{"$f":"IFERROR(INDEX(Settings!$AO$17:$AO$38,MATCH(Personnel!$G69,Settings!$AP$17:$AP$38,0)),0)","v":0},null,null,null,0,0,0,0,0,0,0,0,0,0,0,0,0,0,0,0,0,0,0,null,null,0]
[0,{"$f":"IFERROR(INDEX(Settings!$AO$17:$AO$38,MATCH(Personnel!$G70,Settings!$AP$17:$AP$38,0)),0)","v":0},null,null,null,0,0,0,0,0,0,0,0,0,0,0,0,0,0,0,0,0,0,0,null,null,0]
[0,{"$f":"IFERROR(INDEX(Settings!$AO$17:$AO$38,MATCH(Personnel!$G71,Settings!$AP$17:$AP$38,0)),0)","v":0},null,null,null,0,0,0,0,0,0,0,0,0,0,0,0,0,0,0,0,0,0,0,null,null,0]
[0,{"$f":"IFERROR(INDEX(Settings!$AO$17:$AO$38,MATCH(Personnel!$G72,Settings!$AP$17:$AP$38,0)),0)","v":0},null,null,null,0,0,0,0,0,0,0,0,0,0,0,0,0,0,0,0,0,0,0,null,null,0]
[0,{"$f":"IFERROR(INDEX(Settings!$AO$17:$AO$38,MATCH(Personnel!$G73,Settings!$AP$17:$AP$38,0)),0)","v":0},null,null,null,0,0,0,0,0,0,0,0,0,0,0,0,0,0,0,0,0,0,0,null,null,0]
[0,{"$f":"IFERROR(INDEX(Settings!$AO$17:$AO$38,MATCH(Personnel!$G74,Settings!$AP$17:$AP$38,0)),0)","v":0},null,null,null,0,0,0,0,0,0,0,0,0,0,0,0,0,0,0,0,0,0,0,null,null,0]
[0,{"$f":"IFERROR(INDEX(Settings!$AO$17:$AO$38,MATCH(Personnel!$G75,Settings!$AP$17:$AP$38,0)),0)","v":0},null,null,null,0,0,0,0,0,0,0,0,0,0,0,0,0,0,0,0,0,0,0,null,null,0]
[{"$f":"IF(SUM(K76:AA76)>0,1,0)","v":0},{"$f":"IFERROR(INDEX(Settings!$AO$17:$AO$38,MATCH(Personnel!$G76,Settings!$AP$17:$AP$38,0)),0)","v":0},null,null,null,0,0,0,0,0,0,0,0,0,0,0,0,0,0,0,0,0,0,0,null,null,0]
[0,{"$f":"IFERROR(INDEX(Settings!$AO$17:$AO$38,MATCH(Personnel!$G77,Settings!$AP$17:$AP$38,0)),0)","v":0},null,null,null,0,0,0,0,0,0,0,{"$f":"ROUND(IF(ISERROR(L77/K77),0,(L77/K77)),0)","v":0},0,0,0,0,{"$f":"ROUND(IF(ISERROR(Q77/P77),0,(Q77/P77)),0)","v":0},0,0,{"$f":"ROUND(IF(ISERROR(T77/S77),0,(T77/S77)),0)","v":0},0,0,{"$f":"ROUND(IF(ISERROR(W77/V77),0,(W77/V77)),0)","v":0},null,null,{"$f":"ROUND(IF(ISERROR(Z77/Y77),0,(Z77/Y77)),0)","v":0}]
[0,{"$f":"IFERROR(INDEX(Settings!$AO$17:$AO$38,MATCH(Personnel!$G78,Settings!$AP$17:$AP$38,0)),0)","v":0},null,null,null,0,0,0,0,0,0,0,0,0,0,0,0,0,0,0,0,0,0,0,null,null,0]
[0,{"$f":"IFERROR(INDEX(Settings!$AO$17:$AO$38,MATCH(Personnel!$G79,Settings!$AP$17:$AP$38,0)),0)","v":0},null,null,null,0,0,0,0,0,0,0,0,0,0,0,0,0,0,0,0,0,0,0,null,null,0]
[0,{"$f":"IFERROR(INDEX(Settings!$AO$17:$AO$38,MATCH(Personnel!$G80,Settings!$AP$17:$AP$38,0)),0)","v":0},null,null,null,0,0,0,0,0,0,0,0,0,0,0,0,0,0,0,0,0,0,0,null,null,0]
[0,{"$f":"IFERROR(INDEX(Settings!$AO$17:$AO$38,MATCH(Personnel!$G81,Settings!$AP$17:$AP$38,0)),0)","v":0},null,null,null,0,0,0,0,0,0,0,0,0,0,0,0,0,0,0,0,0,0,0,null,null,0]
[0,{"$f":"IFERROR(INDEX(Settings!$AO$17:$AO$38,MATCH(Personnel!$G82,Settings!$AP$17:$AP$38,0)),0)","v":0},null,null,null,0,0,0,0,0,0,0,0,0,0,0,0,0,0,0,0,0,0,0,null,null,0]
[0,{"$f":"IFERROR(INDEX(Settings!$AO$17:$AO$38,MATCH(Personnel!$G83,Settings!$AP$17:$AP$38,0)),0)","v":0},null,null,null,0,0,0,0,0,0,0,0,0,0,0,0,0,0,0,0,0,0,0,null,null,0]
[0,{"$f":"IFERROR(INDEX(Settings!$AO$17:$AO$38,MATCH(Personnel!$G84,Settings!$AP$17:$AP$38,0)),0)","v":0},null,null,null,0,0,0,0,0,0,0,0,0,0,0,0,0,0,0,0,0,0,0,null,null,0]
[0,{"$f":"IFERROR(INDEX(Settings!$AO$17:$AO$38,MATCH(Personnel!$G85,Settings!$AP$17:$AP$38,0)),0)","v":0},null,null,null,0,0,0,0,0,0,0,0,0,0,0,0,0,0,0,0,0,0,0,null,null,0]
[0,{"$f":"IFERROR(INDEX(Settings!$AO$17:$AO$38,MATCH(Personnel!$G86,Settings!$AP$17:$AP$38,0)),0)","v":0},null,null,null,0,0,0,0,0,0,0,0,0,0,0,0,0,0,0,0,0,0,0,null,null,0]
[0,{"$f":"IFERROR(INDEX(Settings!$AO$17:$AO$38,MATCH(Personnel!$G87,Settings!$AP$17:$AP$38,0)),0)","v":0},null,null,null,0,0,0,0,0,0,0,0,0,0,0,0,0,0,0,0,0,0,0,null,null,0]
[0,{"$f":"IFERROR(INDEX(Settings!$AO$17:$AO$38,MATCH(Personnel!$G88,Settings!$AP$17:$AP$38,0)),0)","v":0},null,null,null,0,0,0,0,0,0,0,0,0,0,0,0,0,0,0,0,0,0,0,null,null,0]
[0,{"$f":"IFERROR(INDEX(Settings!$AO$17:$AO$38,MATCH(Personnel!$G89,Settings!$AP$17:$AP$38,0)),0)","v":0},null,null,null,0,0,0,0,0,0,0,0,0,0,0,0,0,0,0,0,0,0,0,null,null,0]
[0,{"$f":"IFERROR(INDEX(Settings!$AO$17:$AO$38,MATCH(Personnel!$G90,Settings!$AP$17:$AP$38,0)),0)","v":0},null,null,null,0,0,0,0,0,0,0,0,0,0,0,0,0,0,0,0,0,0,0,null,null,0]
[0,{"$f":"IFERROR(INDEX(Settings!$AO$17:$AO$38,MATCH(Personnel!$G91,Settings!$AP$17:$AP$38,0)),0)","v":0},null,null,null,0,0,0,0,0,0,0,0,0,0,0,0,0,0,0,0,0,0,0,null,null,0]
[0,{"$f":"IFERROR(INDEX(Settings!$AO$17:$AO$38,MATCH(Personnel!$G92,Settings!$AP$17:$AP$38,0)),0)","v":0},null,null,null,0,0,0,0,0,0,0,0,0,0,0,0,0,0,0,0,0,0,0,null,null,0]
[0,{"$f":"IFERROR(INDEX(Settings!$AO$17:$AO$38,MATCH(Personnel!$G93,Settings!$AP$17:$AP$38,0)),0)","v":0},null,null,null,0,0,0,0,0,0,0,0,0,0,0,0,0,0,0,0,0,0,0,null,null,0]
[0,{"$f":"IFERROR(INDEX(Settings!$AO$17:$AO$38,MATCH(Personnel!$G94,Settings!$AP$17:$AP$38,0)),0)","v":0},null,null,null,0,0,0,0,0,0,0,0,0,0,0,0,0,0,0,0,0,0,0,null,null,0]
[0,{"$f":"IFERROR(INDEX(Settings!$AO$17:$AO$38,MATCH(Personnel!$G95,Settings!$AP$17:$AP$38,0)),0)","v":0},null,null,null,0,0,0,0,0,0,0,0,0,0,0,0,0,0,0,0,0,0,0,null,null,0]
[0,{"$f":"IFERROR(INDEX(Settings!$AO$17:$AO$38,MATCH(Personnel!$G96,Settings!$AP$17:$AP$38,0)),0)","v":0},null,null,null,0,0,0,0,0,0,0,0,0,0,0,0,0,0,0,0,0,0,0,null,null,0]
[0,{"$f":"IFERROR(INDEX(Settings!$AO$17:$AO$38,MATCH(Personnel!$G97,Settings!$AP$17:$AP$38,0)),0)","v":0},null,null,null,0,0,0,0,0,0,0,0,0,0,0,0,0,0,0,0,0,0,0,null,null,0]
[0,{"$f":"IFERROR(INDEX(Settings!$AO$17:$AO$38,MATCH(Personnel!$G98,Settings!$AP$17:$AP$38,0)),0)","v":0},null,null,null,0,0,0,0,0,0,0,0,0,0,0,0,0,0,0,0,0,0,0,null,null,0]
[0,{"$f":"IFERROR(INDEX(Settings!$AO$17:$AO$38,MATCH(Personnel!$G99,Settings!$AP$17:$AP$38,0)),0)","v":0},null,null,null,0,0,0,0,0,0,0,0,0,0,0,0,0,0,0,0,0,0,0,null,null,0]
[0,{"$f":"IFERROR(INDEX(Settings!$AO$17:$AO$38,MATCH(Personnel!$G100,Settings!$AP$17:$AP$38,0)),0)","v":0},null,null,null,0,0,0,0,0,0,0,0,0,0,0,0,0,0,0,0,0,0,0,null,null,0]
[0,{"$f":"IFERROR(INDEX(Settings!$AO$17:$AO$38,MATCH(Personnel!$G101,Settings!$AP$17:$AP$38,0)),0)","v":0},null,null,null,0,0,0,0,0,0,0,0,0,0,0,0,0,0,0,0,0,0,0,null,null,0]
[0,{"$f":"IFERROR(INDEX(Settings!$AO$17:$AO$38,MATCH(Personnel!$G102,Settings!$AP$17:$AP$38,0)),0)","v":0},null,null,null,0,0,0,0,0,0,0,0,0,0,0,0,0,0,0,0,0,0,0,null,null,0]
[0,{"$f":"IFERROR(INDEX(Settings!$AO$17:$AO$38,MATCH(Personnel!$G103,Settings!$AP$17:$AP$38,0)),0)","v":0},null,null,null,0,0,0,0,0,0,0,0,0,0,0,0,0,0,0,0,0,0,0,null,null,0]
[0,{"$f":"IFERROR(INDEX(Settings!$AO$17:$AO$38,MATCH(Personnel!$G104,Settings!$AP$17:$AP$38,0)),0)","v":0},null,null,null,0,0,0,0,0,0,0,0,0,0,0,0,0,0,0,0,0,0,0,null,null,0]
[0,{"$f":"IFERROR(INDEX(Settings!$AO$17:$AO$38,MATCH(Personnel!$G105,Settings!$AP$17:$AP$38,0)),0)","v":0},null,null,null,0,0,0,0,0,0,0,0,0,0,0,0,0,0,0,0,0,0,0,null,null,0]
[0,{"$f":"IFERROR(INDEX(Settings!$AO$17:$AO$38,MATCH(Personnel!$G106,Settings!$AP$17:$AP$38,0)),0)","v":0},null,null,null,0,0,0,0,0,0,0,0,0,0,0,0,0,0,0,0,0,0,0,null,null,0]
[0,{"$f":"IFERROR(INDEX(Settings!$AO$17:$AO$38,MATCH(Personnel!$G107,Settings!$AP$17:$AP$38,0)),0)","v":0},null,null,null,0,0,0,0,0,0,0,0,0,0,0,0,0,0,0,0,0,0,0,null,null,0]
[0,{"$f":"IFERROR(INDEX(Settings!$AO$17:$AO$38,MATCH(Personnel!$G108,Settings!$AP$17:$AP$38,0)),0)","v":0},null,null,null,0,0,0,0,0,0,0,0,0,0,0,0,0,0,0,0,0,0,0,null,null,0]
[0,{"$f":"IFERROR(INDEX(Settings!$AO$17:$AO$38,MATCH(Personnel!$G109,Settings!$AP$17:$AP$38,0)),0)","v":0},null,null,null,0,0,0,0,0,0,0,0,0,0,0,0,0,0,0,0,0,0,0,null,null,0]
[0,{"$f":"IFERROR(INDEX(Settings!$AO$17:$AO$38,MATCH(Personnel!$G110,Settings!$AP$17:$AP$38,0)),0)","v":0},null,null,null,0,0,0,0,0,0,0,0,0,0,0,0,0,0,0,0,0,0,0,null,null,0]
[0,{"$f":"IFERROR(INDEX(Settings!$AO$17:$AO$38,MATCH(Personnel!$G111,Settings!$AP$17:$AP$38,0)),0)","v":0},null,null,null,0,0,0,0,0,0,0,0,0,0,0,0,0,0,0,0,0,0,0,null,null,0]
[0,{"$f":"IFERROR(INDEX(Settings!$AO$17:$AO$38,MATCH(Personnel!$G112,Settings!$AP$17:$AP$38,0)),0)","v":0},null,null,null,0,0,0,0,0,0,0,0,0,0,0,0,0,0,0,0,0,0,0,null,null,0]
[0,{"$f":"IFERROR(INDEX(Settings!$AO$17:$AO$38,MATCH(Personnel!$G113,Settings!$AP$17:$AP$38,0)),0)","v":0},null,null,null,0,0,0,0,0,0,0,0,0,0,0,0,0,0,0,0,0,0,0,null,null,0]
[0,{"$f":"IFERROR(INDEX(Settings!$AO$17:$AO$38,MATCH(Personnel!$G114,Settings!$AP$17:$AP$38,0)),0)","v":0},null,null,null,0,0,0,0,0,0,0,0,0,0,0,0,0,0,0,0,0,0,0,null,null,0]
[0,{"$f":"IFERROR(INDEX(Settings!$AO$17:$AO$38,MATCH(Personnel!$G115,Settings!$AP$17:$AP$38,0)),0)","v":0},null,null,null,0,0,0,0,0,0,0,0,0,0,0,0,0,0,0,0,0,0,0,null,null,0]
[0,{"$f":"IFERROR(INDEX(Settings!$AO$17:$AO$38,MATCH(Personnel!$G116,Settings!$AP$17:$AP$38,0)),0)","v":0},null,null,null,0,0,0,0,0,0,0,0,0,0,0,0,0,0,0,0,0,0,0,null,null,0]
[0,{"$f":"IFERROR(INDEX(Settings!$AO$17:$AO$38,MATCH(Personnel!$G117,Settings!$AP$17:$AP$38,0)),0)","v":0},null,null,null,0,0,0,0,0,0,0,0,0,0,0,0,0,0,0,0,0,0,0,null,null,0]
[0,{"$f":"IFERROR(INDEX(Settings!$AO$17:$AO$38,MATCH(Personnel!$G118,Settings!$AP$17:$AP$38,0)),0)","v":0},null,null,null,0,0,0,0,0,0,0,0,0,0,0,0,0,0,0,0,0,0,0,null,null,0]
[0,{"$f":"IFERROR(INDEX(Settings!$AO$17:$AO$38,MATCH(Personnel!$G119,Settings!$AP$17:$AP$38,0)),0)","v":0},null,null,null,0,0,0,0,0,0,0,0,0,0,0,0,0,0,0,0,0,0,0,null,null,0]
[0,{"$f":"IFERROR(INDEX(Settings!$AO$17:$AO$38,MATCH(Personnel!$G120,Settings!$AP$17:$AP$38,0)),0)","v":0},null,null,null,0,0,0,0,0,0,0,0,0,0,0,0,0,0,0,0,0,0,0,null,null,0]
[0,{"$f":"IFERROR(INDEX(Settings!$AO$17:$AO$38,MATCH(Personnel!$G121,Settings!$AP$17:$AP$38,0)),0)","v":0},null,null,null,0,0,0,0,0,0,0,0,0,0,0,0,0,0,0,0,0,0,0,null,null,0]
[0,{"$f":"IFERROR(INDEX(Settings!$AO$17:$AO$38,MATCH(Personnel!$G122,Settings!$AP$17:$AP$38,0)),0)","v":0},null,null,null,0,0,0,0,0,0,0,0,0,0,0,0,0,0,0,0,0,0,0,null,null,0]
[0,{"$f":"IFERROR(INDEX(Settings!$AO$17:$AO$38,MATCH(Personnel!$G123,Settings!$AP$17:$AP$38,0)),0)","v":0},null,null,null,0,0,0,0,0,0,0,0,0,0,0,0,0,0,0,0,0,0,0,null,null,0]
[0,{"$f":"IFERROR(INDEX(Settings!$AO$17:$AO$38,MATCH(Personnel!$G124,Settings!$AP$17:$AP$38,0)),0)","v":0},null,null,null,0,0,0,0,0,0,0,0,0,0,0,0,0,0,0,0,0,0,0,null,null,0]
[0,{"$f":"IFERROR(INDEX(Settings!$AO$17:$AO$38,MATCH(Personnel!$G125,Settings!$AP$17:$AP$38,0)),0)","v":0},null,null,null,0,0,0,0,0,0,0,0,0,0,0,0,0,0,0,0,0,0,0,null,null,0]
[0,{"$f":"IFERROR(INDEX(Settings!$AO$17:$AO$38,MATCH(Personnel!$G126,Settings!$AP$17:$AP$38,0)),0)","v":0},null,null,null,0,0,0,0,0,0,0,0,0,0,0,0,0,0,0,0,0,0,0,null,null,0]
[0,{"$f":"IFERROR(INDEX(Settings!$AO$17:$AO$38,MATCH(Personnel!$G127,Settings!$AP$17:$AP$38,0)),0)","v":0},null,null,null,0,0,0,0,0,0,0,0,0,0,0,0,0,0,0,0,0,0,0,null,null,0]
[0,{"$f":"IFERROR(INDEX(Settings!$AO$17:$AO$38,MATCH(Personnel!$G128,Settings!$AP$17:$AP$38,0)),0)","v":0},null,null,null,0,0,0,0,0,0,0,0,0,0,0,0,0,0,0,0,0,0,0,null,null,0]
[0,{"$f":"IFERROR(INDEX(Settings!$AO$17:$AO$38,MATCH(Personnel!$G129,Settings!$AP$17:$AP$38,0)),0)","v":0},null,null,null,0,0,0,0,0,0,0,0,0,0,0,0,0,0,0,0,0,0,0,null,null,0]
[0,{"$f":"IFERROR(INDEX(Settings!$AO$17:$AO$38,MATCH(Personnel!$G130,Settings!$AP$17:$AP$38,0)),0)","v":0},null,null,null,0,0,0,0,0,0,0,0,0,0,0,0,0,0,0,0,0,0,0,null,null,0]
[0,{"$f":"IFERROR(INDEX(Settings!$AO$17:$AO$38,MATCH(Personnel!$G131,Settings!$AP$17:$AP$38,0)),0)","v":0},null,null,null,0,0,0,0,0,0,0,0,0,0,0,0,0,0,0,0,0,0,0,null,null,0]
[0,{"$f":"IFERROR(INDEX(Settings!$AO$17:$AO$38,MATCH(Personnel!$G132,Settings!$AP$17:$AP$38,0)),0)","v":0},null,null,null,0,0,0,0,0,0,0,0,0,0,0,0,0,0,0,0,0,0,0,null,null,0]
[0,{"$f":"IFERROR(INDEX(Settings!$AO$17:$AO$38,MATCH(Personnel!$G133,Settings!$AP$17:$AP$38,0)),0)","v":0},null,null,null,0,0,0,0,0,0,0,0,0,0,0,0,0,0,0,0,0,0,0,null,null,0]
[0,{"$f":"IFERROR(INDEX(Settings!$AO$17:$AO$38,MATCH(Personnel!$G134,Settings!$AP$17:$AP$38,0)),0)","v":0},null,null,null,0,0,0,0,0,0,0,0,0,0,0,0,0,0,0,0,0,0,0,null,null,0]
[0,{"$f":"IFERROR(INDEX(Settings!$AO$17:$AO$38,MATCH(Personnel!$G135,Settings!$AP$17:$AP$38,0)),0)","v":0},null,null,null,0,0,0,0,0,0,0,0,0,0,0,0,0,0,0,0,0,0,0,null,null,0]
[0,{"$f":"IFERROR(INDEX(Settings!$AO$17:$AO$38,MATCH(Personnel!$G136,Settings!$AP$17:$AP$38,0)),0)","v":0},null,null,null,0,0,0,0,0,0,0,0,0,0,0,0,0,0,0,0,0,0,0,null,null,0]
[0,{"$f":"IFERROR(INDEX(Settings!$AO$17:$AO$38,MATCH(Personnel!$G137,Settings!$AP$17:$AP$38,0)),0)","v":0},null,null,null,0,0,0,0,0,0,0,0,0,0,0,0,0,0,0,0,0,0,0,null,null,0]
[0,{"$f":"IFERROR(INDEX(Settings!$AO$17:$AO$38,MATCH(Personnel!$G138,Settings!$AP$17:$AP$38,0)),0)","v":0},null,null,null,0,0,0,0,0,0,0,0,0,0,0,0,0,0,0,0,0,0,0,null,null,0]
[0,{"$f":"IFERROR(INDEX(Settings!$AO$17:$AO$38,MATCH(Personnel!$G139,Settings!$AP$17:$AP$38,0)),0)","v":0},null,null,null,0,0,0,0,0,0,0,0,0,0,0,0,0,0,0,0,0,0,0,null,null,0]
[{"$f":"IF(SUM(K140:AA140)>0,1,0)","v":0},{"$f":"IFERROR(INDEX(Settings!$AO$17:$AO$38,MATCH(Personnel!$G140,Settings!$AP$17:$AP$38,0)),0)","v":0},null,null,null,0,0,0,0,0,0,0,0,0,0,0,0,0,0,0,0,0,0,0,null,null,0]
[0,{"$f":"IFERROR(INDEX(Settings!$AO$17:$AO$38,MATCH(Personnel!$G141,Settings!$AP$17:$AP$38,0)),0)","v":0},null,null,null,0,0,0,0,0,0,0,{"$f":"ROUND(IF(ISERROR(L141/K141),0,(L141/K141)),0)","v":0},0,0,0,0,{"$f":"ROUND(IF(ISERROR(Q141/P141),0,(Q141/P141)),0)","v":0},0,0,{"$f":"ROUND(IF(ISERROR(T141/S141),0,(T141/S141)),0)","v":0},0,0,{"$f":"ROUND(IF(ISERROR(W141/V141),0,(W141/V141)),0)","v":0},null,null,{"$f":"ROUND(IF(ISERROR(Z141/Y141),0,(Z141/Y141)),0)","v":0}]
[0,{"$f":"IFERROR(INDEX(Settings!$AO$17:$AO$38,MATCH(Personnel!$G142,Settings!$AP$17:$AP$38,0)),0)","v":0},null,null,null,0,0,0,0,0,0,0,0,0,0,0,0,0,0,0,0,0,0,0,null,null,0]
[0,{"$f":"IFERROR(INDEX(Settings!$AO$17:$AO$38,MATCH(Personnel!$G143,Settings!$AP$17:$AP$38,0)),0)","v":0},null,null,null,0,0,0,0,0,0,0,0,0,0,0,0,0,0,0,0,0,0,0,null,null,0]
[0,{"$f":"IFERROR(INDEX(Settings!$AO$17:$AO$38,MATCH(Personnel!$G144,Settings!$AP$17:$AP$38,0)),0)","v":0},null,null,null,0,0,0,0,0,0,0,0,0,0,0,0,0,0,0,0,0,0,0,null,null,0]
[0,{"$f":"IFERROR(INDEX(Settings!$AO$17:$AO$38,MATCH(Personnel!$G145,Settings!$AP$17:$AP$38,0)),0)","v":0},null,null,null,0,0,0,0,0,0,0,0,0,0,0,0,0,0,0,0,0,0,0,null,null,0]
[0,{"$f":"IFERROR(INDEX(Settings!$AO$17:$AO$38,MATCH(Personnel!$G146,Settings!$AP$17:$AP$38,0)),0)","v":0},null,null,null,0,0,0,0,0,0,0,0,0,0,0,0,0,0,0,0,0,0,0,null,null,0]
[0,{"$f":"IFERROR(INDEX(Settings!$AO$17:$AO$38,MATCH(Personnel!$G147,Settings!$AP$17:$AP$38,0)),0)","v":0},null,null,null,0,0,0,0,0,0,0,0,0,0,0,0,0,0,0,0,0,0,0,null,null,0]
[0,{"$f":"IFERROR(INDEX(Settings!$AO$17:$AO$38,MATCH(Personnel!$G148,Settings!$AP$17:$AP$38,0)),0)","v":0},null,null,null,0,0,0,0,0,0,0,0,0,0,0,0,0,0,0,0,0,0,0,null,null,0]
[0,{"$f":"IFERROR(INDEX(Settings!$AO$17:$AO$38,MATCH(Personnel!$G149,Settings!$AP$17:$AP$38,0)),0)","v":0},null,null,null,0,0,0,0,0,0,0,0,0,0,0,0,0,0,0,0,0,0,0,null,null,0]
[0,{"$f":"IFERROR(INDEX(Settings!$AO$17:$AO$38,MATCH(Personnel!$G150,Settings!$AP$17:$AP$38,0)),0)","v":0},null,null,null,0,0,0,0,0,0,0,0,0,0,0,0,0,0,0,0,0,0,0,null,null,0]
[0,{"$f":"IFERROR(INDEX(Settings!$AO$17:$AO$38,MATCH(Personnel!$G151,Settings!$AP$17:$AP$38,0)),0)","v":0},null,null,null,0,0,0,0,0,0,0,0,0,0,0,0,0,0,0,0,0,0,0,null,null,0]
[0,{"$f":"IFERROR(INDEX(Settings!$AO$17:$AO$38,MATCH(Personnel!$G152,Settings!$AP$17:$AP$38,0)),0)","v":0},null,null,null,0,0,0,0,0,0,0,0,0,0,0,0,0,0,0,0,0,0,0,null,null,0]
[0,{"$f":"IFERROR(INDEX(Settings!$AO$17:$AO$38,MATCH(Personnel!$G153,Settings!$AP$17:$AP$38,0)),0)","v":0},null,null,null,0,0,0,0,0,0,0,0,0,0,0,0,0,0,0,0,0,0,0,null,null,0]
[0,{"$f":"IFERROR(INDEX(Settings!$AO$17:$AO$38,MATCH(Personnel!$G154,Settings!$AP$17:$AP$38,0)),0)","v":0},null,null,null,0,0,0,0,0,0,0,0,0,0,0,0,0,0,0,0,0,0,0,null,null,0]
[0,{"$f":"IFERROR(INDEX(Settings!$AO$17:$AO$38,MATCH(Personnel!$G155,Settings!$AP$17:$AP$38,0)),0)","v":0},null,null,null,0,0,0,0,0,0,0,0,0,0,0,0,0,0,0,0,0,0,0,null,null,0]
[0,{"$f":"IFERROR(INDEX(Settings!$AO$17:$AO$38,MATCH(Personnel!$G156,Settings!$AP$17:$AP$38,0)),0)","v":0},null,null,null,0,0,0,0,0,0,0,0,0,0,0,0,0,0,0,0,0,0,0,null,null,0]
[0,{"$f":"IFERROR(INDEX(Settings!$AO$17:$AO$38,MATCH(Personnel!$G157,Settings!$AP$17:$AP$38,0)),0)","v":0},null,null,null,0,0,0,0,0,0,0,0,0,0,0,0,0,0,0,0,0,0,0,null,null,0]
[0,{"$f":"IFERROR(INDEX(Settings!$AO$17:$AO$38,MATCH(Personnel!$G158,Settings!$AP$17:$AP$38,0)),0)","v":0},null,null,null,0,0,0,0,0,0,0,0,0,0,0,0,0,0,0,0,0,0,0,null,null,0]
[0,{"$f":"IFERROR(INDEX(Settings!$AO$17:$AO$38,MATCH(Personnel!$G159,Settings!$AP$17:$AP$38,0)),0)","v":0},null,null,null,0,0,0,0,0,0,0,0,0,0,0,0,0,0,0,0,0,0,0,null,null,0]
[0,{"$f":"IFERROR(INDEX(Settings!$AO$17:$AO$38,MATCH(Personnel!$G160,Settings!$AP$17:$AP$38,0)),0)","v":0},null,null,null,0,0,0,0,0,0,0,0,0,0,0,0,0,0,0,0,0,0,0,null,null,0]
[0,{"$f":"IFERROR(INDEX(Settings!$AO$17:$AO$38,MATCH(Personnel!$G161,Settings!$AP$17:$AP$38,0)),0)","v":0},null,null,null,0,0,0,0,0,0,0,0,0,0,0,0,0,0,0,0,0,0,0,null,null,0]
[0,{"$f":"IFERROR(INDEX(Settings!$AO$17:$AO$38,MATCH(Personnel!$G162,Settings!$AP$17:$AP$38,0)),0)","v":0},null,null,null,0,0,0,0,0,0,0,0,0,0,0,0,0,0,0,0,0,0,0,null,null,0]
[0,{"$f":"IFERROR(INDEX(Settings!$AO$17:$AO$38,MATCH(Personnel!$G163,Settings!$AP$17:$AP$38,0)),0)","v":0},null,null,null,0,0,0,0,0,0,0,0,0,0,0,0,0,0,0,0,0,0,0,null,null,0]
[0,{"$f":"IFERROR(INDEX(Settings!$AO$17:$AO$38,MATCH(Personnel!$G164,Settings!$AP$17:$AP$38,0)),0)","v":0},null,null,null,0,0,0,0,0,0,0,0,0,0,0,0,0,0,0,0,0,0,0,null,null,0]
[0,{"$f":"IFERROR(INDEX(Settings!$AO$17:$AO$38,MATCH(Personnel!$G165,Settings!$AP$17:$AP$38,0)),0)","v":0},null,null,null,0,0,0,0,0,0,0,0,0,0,0,0,0,0,0,0,0,0,0,null,null,0]
[0,{"$f":"IFERROR(INDEX(Settings!$AO$17:$AO$38,MATCH(Personnel!$G166,Settings!$AP$17:$AP$38,0)),0)","v":0},null,null,null,0,0,0,0,0,0,0,0,0,0,0,0,0,0,0,0,0,0,0,null,null,0]
[0,{"$f":"IFERROR(INDEX(Settings!$AO$17:$AO$38,MATCH(Personnel!$G167,Settings!$AP$17:$AP$38,0)),0)","v":0},null,null,null,0,0,0,0,0,0,0,0,0,0,0,0,0,0,0,0,0,0,0,null,null,0]
[0,{"$f":"IFERROR(INDEX(Settings!$AO$17:$AO$38,MATCH(Personnel!$G168,Settings!$AP$17:$AP$38,0)),0)","v":0},null,null,null,0,0,0,0,0,0,0,0,0,0,0,0,0,0,0,0,0,0,0,null,null,0]
[0,{"$f":"IFERROR(INDEX(Settings!$AO$17:$AO$38,MATCH(Personnel!$G169,Settings!$AP$17:$AP$38,0)),0)","v":0},null,null,null,0,0,0,0,0,0,0,0,0,0,0,0,0,0,0,0,0,0,0,null,null,0]
[0,{"$f":"IFERROR(INDEX(Settings!$AO$17:$AO$38,MATCH(Personnel!$G170,Settings!$AP$17:$AP$38,0)),0)","v":0},null,null,null,0,0,0,0,0,0,0,0,0,0,0,0,0,0,0,0,0,0,0,null,null,0]
[0,{"$f":"IFERROR(INDEX(Settings!$AO$17:$AO$38,MATCH(Personnel!$G171,Settings!$AP$17:$AP$38,0)),0)","v":0},null,null,null,0,0,0,0,0,0,0,0,0,0,0,0,0,0,0,0,0,0,0,null,null,0]
[0,{"$f":"IFERROR(INDEX(Settings!$AO$17:$AO$38,MATCH(Personnel!$G172,Settings!$AP$17:$AP$38,0)),0)","v":0},null,null,null,0,0,0,0,0,0,0,0,0,0,0,0,0,0,0,0,0,0,0,null,null,0]
[0,{"$f":"IFERROR(INDEX(Settings!$AO$17:$AO$38,MATCH(Personnel!$G173,Settings!$AP$17:$AP$38,0)),0)","v":0},null,null,null,0,0,0,0,0,0,0,0,0,0,0,0,0,0,0,0,0,0,0,null,null,0]
[0,{"$f":"IFERROR(INDEX(Settings!$AO$17:$AO$38,MATCH(Personnel!$G174,Settings!$AP$17:$AP$38,0)),0)","v":0},null,null,null,0,0,0,0,0,0,0,0,0,0,0,0,0,0,0,0,0,0,0,null,null,0]
[0,{"$f":"IFERROR(INDEX(Settings!$AO$17:$AO$38,MATCH(Personnel!$G175,Settings!$AP$17:$AP$38,0)),0)","v":0},null,null,null,0,0,0,0,0,0,0,0,0,0,0,0,0,0,0,0,0,0,0,null,null,0]
[0,{"$f":"IFERROR(INDEX(Settings!$AO$17:$AO$38,MATCH(Personnel!$G176,Settings!$AP$17:$AP$38,0)),0)","v":0},null,null,null,0,0,0,0,0,0,0,0,0,0,0,0,0,0,0,0,0,0,0,null,null,0]
[0,{"$f":"IFERROR(INDEX(Settings!$AO$17:$AO$38,MATCH(Personnel!$G177,Settings!$AP$17:$AP$38,0)),0)","v":0},null,null,null,0,0,0,0,0,0,0,0,0,0,0,0,0,0,0,0,0,0,0,null,null,0]
[0,{"$f":"IFERROR(INDEX(Settings!$AO$17:$AO$38,MATCH(Personnel!$G178,Settings!$AP$17:$AP$38,0)),0)","v":0},null,null,null,0,0,0,0,0,0,0,0,0,0,0,0,0,0,0,0,0,0,0,null,null,0]
[0,{"$f":"IFERROR(INDEX(Settings!$AO$17:$AO$38,MATCH(Personnel!$G179,Settings!$AP$17:$AP$38,0)),0)","v":0},null,null,null,0,0,0,0,0,0,0,0,0,0,0,0,0,0,0,0,0,0,0,null,null,0]
[0,{"$f":"IFERROR(INDEX(Settings!$AO$17:$AO$38,MATCH(Personnel!$G180,Settings!$AP$17:$AP$38,0)),0)","v":0},null,null,null,0,0,0,0,0,0,0,0,0,0,0,0,0,0,0,0,0,0,0,null,null,0]
[0,{"$f":"IFERROR(INDEX(Settings!$AO$17:$AO$38,MATCH(Personnel!$G181,Settings!$AP$17:$AP$38,0)),0)","v":0},null,null,null,0,0,0,0,0,0,0,0,0,0,0,0,0,0,0,0,0,0,0,null,null,0]
[0,{"$f":"IFERROR(INDEX(Settings!$AO$17:$AO$38,MATCH(Personnel!$G182,Settings!$AP$17:$AP$38,0)),0)","v":0},null,null,null,0,0,0,0,0,0,0,0,0,0,0,0,0,0,0,0,0,0,0,null,null,0]
[0,{"$f":"IFERROR(INDEX(Settings!$AO$17:$AO$38,MATCH(Personnel!$G183,Settings!$AP$17:$AP$38,0)),0)","v":0},null,null,null,0,0,0,0,0,0,0,0,0,0,0,0,0,0,0,0,0,0,0,null,null,0]
[0,{"$f":"IFERROR(INDEX(Settings!$AO$17:$AO$38,MATCH(Personnel!$G184,Settings!$AP$17:$AP$38,0)),0)","v":0},null,null,null,0,0,0,0,0,0,0,0,0,0,0,0,0,0,0,0,0,0,0,null,null,0]
[0,{"$f":"IFERROR(INDEX(Settings!$AO$17:$AO$38,MATCH(Personnel!$G185,Settings!$AP$17:$AP$38,0)),0)","v":0},null,null,null,0,0,0,0,0,0,0,0,0,0,0,0,0,0,0,0,0,0,0,null,null,0]
[0,{"$f":"IFERROR(INDEX(Settings!$AO$17:$AO$38,MATCH(Personnel!$G186,Settings!$AP$17:$AP$38,0)),0)","v":0},null,null,null,0,0,0,0,0,0,0,0,0,0,0,0,0,0,0,0,0,0,0,null,null,0]
[0,{"$f":"IFERROR(INDEX(Settings!$AO$17:$AO$38,MATCH(Personnel!$G187,Settings!$AP$17:$AP$38,0)),0)","v":0},null,null,null,0,0,0,0,0,0,0,0,0,0,0,0,0,0,0,0,0,0,0,null,null,0]
[0,{"$f":"IFERROR(INDEX(Settings!$AO$17:$AO$38,MATCH(Personnel!$G188,Settings!$AP$17:$AP$38,0)),0)","v":0},null,null,null,0,0,0,0,0,0,0,0,0,0,0,0,0,0,0,0,0,0,0,null,null,0]
[0,{"$f":"IFERROR(INDEX(Settings!$AO$17:$AO$38,MATCH(Personnel!$G189,Settings!$AP$17:$AP$38,0)),0)","v":0},null,null,null,0,0,0,0,0,0,0,0,0,0,0,0,0,0,0,0,0,0,0,null,null,0]
[0,{"$f":"IFERROR(INDEX(Settings!$AO$17:$AO$38,MATCH(Personnel!$G190,Settings!$AP$17:$AP$38,0)),0)","v":0},null,null,null,0,0,0,0,0,0,0,0,0,0,0,0,0,0,0,0,0,0,0,null,null,0]
[0,{"$f":"IFERROR(INDEX(Settings!$AO$17:$AO$38,MATCH(Personnel!$G191,Settings!$AP$17:$AP$38,0)),0)","v":0},null,null,null,0,0,0,0,0,0,0,0,0,0,0,0,0,0,0,0,0,0,0,null,null,0]
[0,{"$f":"IFERROR(INDEX(Settings!$AO$17:$AO$38,MATCH(Personnel!$G192,Settings!$AP$17:$AP$38,0)),0)","v":0},null,null,null,0,0,0,0,0,0,0,0,0,0,0,0,0,0,0,0,0,0,0,null,null,0]
[0,{"$f":"IFERROR(INDEX(Settings!$AO$17:$AO$38,MATCH(Personnel!$G193,Settings!$AP$17:$AP$38,0)),0)","v":0},null,null,null,0,0,0,0,0,0,0,0,0,0,0,0,0,0,0,0,0,0,0,null,null,0]
[0,{"$f":"IFERROR(INDEX(Settings!$AO$17:$AO$38,MATCH(Personnel!$G194,Settings!$AP$17:$AP$38,0)),0)","v":0},null,null,null,0,0,0,0,0,0,0,0,0,0,0,0,0,0,0,0,0,0,0,null,null,0]
[0,{"$f":"IFERROR(INDEX(Settings!$AO$17:$AO$38,MATCH(Personnel!$G195,Settings!$AP$17:$AP$38,0)),0)","v":0},null,null,null,0,0,0,0,0,0,0,0,0,0,0,0,0,0,0,0,0,0,0,null,null,0]
[0,{"$f":"IFERROR(INDEX(Settings!$AO$17:$AO$38,MATCH(Personnel!$G196,Settings!$AP$17:$AP$38,0)),0)","v":0},null,null,null,0,0,0,0,0,0,0,0,0,0,0,0,0,0,0,0,0,0,0,null,null,0]
[0,{"$f":"IFERROR(INDEX(Settings!$AO$17:$AO$38,MATCH(Personnel!$G197,Settings!$AP$17:$AP$38,0)),0)","v":0},null,null,null,0,0,0,0,0,0,0,0,0,0,0,0,0,0,0,0,0,0,0,null,null,0]
[0,{"$f":"IFERROR(INDEX(Settings!$AO$17:$AO$38,MATCH(Personnel!$G198,Settings!$AP$17:$AP$38,0)),0)","v":0},null,null,null,0,0,0,0,0,0,0,0,0,0,0,0,0,0,0,0,0,0,0,null,null,0]
[0,{"$f":"IFERROR(INDEX(Settings!$AO$17:$AO$38,MATCH(Personnel!$G199,Settings!$AP$17:$AP$38,0)),0)","v":0},null,null,null,0,0,0,0,0,0,0,0,0,0,0,0,0,0,0,0,0,0,0,null,null,0]
[0,{"$f":"IFERROR(INDEX(Settings!$AO$17:$AO$38,MATCH(Personnel!$G200,Settings!$AP$17:$AP$38,0)),0)","v":0},null,null,null,0,0,0,0,0,0,0,0,0,0,0,0,0,0,0,0,0,0,0,null,null,0]
[0,{"$f":"IFERROR(INDEX(Settings!$AO$17:$AO$38,MATCH(Personnel!$G201,Settings!$AP$17:$AP$38,0)),0)","v":0},null,null,null,0,0,0,0,0,0,0,0,0,0,0,0,0,0,0,0,0,0,0,null,null,0]
[0,{"$f":"IFERROR(INDEX(Settings!$AO$17:$AO$38,MATCH(Personnel!$G202,Settings!$AP$17:$AP$38,0)),0)","v":0},null,null,null,0,0,0,0,0,0,0,0,0,0,0,0,0,0,0,0,0,0,0,null,null,0]
[0,{"$f":"IFERROR(INDEX(Settings!$AO$17:$AO$38,MATCH(Personnel!$G203,Settings!$AP$17:$AP$38,0)),0)","v":0},null,null,null,0,0,0,0,0,0,0,0,0,0,0,0,0,0,0,0,0,0,0,null,null,0]
[{"$f":"IF(SUM(K204:AA204)>0,1,0)","v":0},{"$f":"IFERROR(INDEX(Settings!$AO$17:$AO$38,MATCH(Personnel!$G204,Settings!$AP$17:$AP$38,0)),0)","v":0},null,null,null,0,0,0,0,0,0,0,0,0,0,0,0,0,0,0,0,0,0,0,null,null,0]
[0,{"$f":"IFERROR(INDEX(Settings!$AO$17:$AO$38,MATCH(Personnel!$G205,Settings!$AP$17:$AP$38,0)),0)","v":0},null,null,null,0,0,0,0,0,0,0,{"$f":"ROUND(IF(ISERROR(L205/K205),0,(L205/K205)),0)","v":0},0,0,0,0,{"$f":"ROUND(IF(ISERROR(Q205/P205),0,(Q205/P205)),0)","v":0},0,0,{"$f":"ROUND(IF(ISERROR(T205/S205),0,(T205/S205)),0)","v":0},0,0,{"$f":"ROUND(IF(ISERROR(W205/V205),0,(W205/V205)),0)","v":0},null,null,{"$f":"ROUND(IF(ISERROR(Z205/Y205),0,(Z205/Y205)),0)","v":0}]
[0,{"$f":"IFERROR(INDEX(Settings!$AO$17:$AO$38,MATCH(Personnel!$G206,Settings!$AP$17:$AP$38,0)),0)","v":0},null,null,null,0,0,0,0,0,0,0,0,0,0,0,0,0,0,0,0,0,0,0,null,null,0]
[0,{"$f":"IFERROR(INDEX(Settings!$AO$17:$AO$38,MATCH(Personnel!$G207,Settings!$AP$17:$AP$38,0)),0)","v":0},null,null,null,0,0,0,0,0,0,0,0,0,0,0,0,0,0,0,0,0,0,0,null,null,0]
[0,{"$f":"IFERROR(INDEX(Settings!$AO$17:$AO$38,MATCH(Personnel!$G208,Settings!$AP$17:$AP$38,0)),0)","v":0},null,null,null,0,0,0,0,0,0,0,0,0,0,0,0,0,0,0,0,0,0,0,null,null,0]
[0,{"$f":"IFERROR(INDEX(Settings!$AO$17:$AO$38,MATCH(Personnel!$G209,Settings!$AP$17:$AP$38,0)),0)","v":0},null,null,null,0,0,0,0,0,0,0,0,0,0,0,0,0,0,0,0,0,0,0,null,null,0]
[0,{"$f":"IFERROR(INDEX(Settings!$AO$17:$AO$38,MATCH(Personnel!$G210,Settings!$AP$17:$AP$38,0)),0)","v":0},null,null,null,0,0,0,0,0,0,0,0,0,0,0,0,0,0,0,0,0,0,0,null,null,0]
[0,{"$f":"IFERROR(INDEX(Settings!$AO$17:$AO$38,MATCH(Personnel!$G211,Settings!$AP$17:$AP$38,0)),0)","v":0},null,null,null,0,0,0,0,0,0,0,0,0,0,0,0,0,0,0,0,0,0,0,null,null,0]
[0,{"$f":"IFERROR(INDEX(Settings!$AO$17:$AO$38,MATCH(Personnel!$G212,Settings!$AP$17:$AP$38,0)),0)","v":0},null,null,null,0,0,0,0,0,0,0,0,0,0,0,0,0,0,0,0,0,0,0,null,null,0]
[0,{"$f":"IFERROR(INDEX(Settings!$AO$17:$AO$38,MATCH(Personnel!$G213,Settings!$AP$17:$AP$38,0)),0)","v":0},null,null,null,0,0,0,0,0,0,0,0,0,0,0,0,0,0,0,0,0,0,0,null,null,0]
[0,{"$f":"IFERROR(INDEX(Settings!$AO$17:$AO$38,MATCH(Personnel!$G214,Settings!$AP$17:$AP$38,0)),0)","v":0},null,null,null,0,0,0,0,0,0,0,0,0,0,0,0,0,0,0,0,0,0,0,null,null,0]
[0,{"$f":"IFERROR(INDEX(Settings!$AO$17:$AO$38,MATCH(Personnel!$G215,Settings!$AP$17:$AP$38,0)),0)","v":0},null,null,null,0,0,0,0,0,0,0,0,0,0,0,0,0,0,0,0,0,0,0,null,null,0]
[0,{"$f":"IFERROR(INDEX(Settings!$AO$17:$AO$38,MATCH(Personnel!$G216,Settings!$AP$17:$AP$38,0)),0)","v":0},null,null,null,0,0,0,0,0,0,0,0,0,0,0,0,0,0,0,0,0,0,0,null,null,0]
[0,{"$f":"IFERROR(INDEX(Settings!$AO$17:$AO$38,MATCH(Personnel!$G217,Settings!$AP$17:$AP$38,0)),0)","v":0},null,null,null,0,0,0,0,0,0,0,0,0,0,0,0,0,0,0,0,0,0,0,null,null,0]
[0,{"$f":"IFERROR(INDEX(Settings!$AO$17:$AO$38,MATCH(Personnel!$G218,Settings!$AP$17:$AP$38,0)),0)","v":0},null,null,null,0,0,0,0,0,0,0,0,0,0,0,0,0,0,0,0,0,0,0,null,null,0]
[0,{"$f":"IFERROR(INDEX(Settings!$AO$17:$AO$38,MATCH(Personnel!$G219,Settings!$AP$17:$AP$38,0)),0)","v":0},null,null,null,0,0,0,0,0,0,0,0,0,0,0,0,0,0,0,0,0,0,0,null,null,0]
[0,{"$f":"IFERROR(INDEX(Settings!$AO$17:$AO$38,MATCH(Personnel!$G220,Settings!$AP$17:$AP$38,0)),0)","v":0},null,null,null,0,0,0,0,0,0,0,0,0,0,0,0,0,0,0,0,0,0,0,null,null,0]
[0,{"$f":"IFERROR(INDEX(Settings!$AO$17:$AO$38,MATCH(Personnel!$G221,Settings!$AP$17:$AP$38,0)),0)","v":0},null,null,null,0,0,0,0,0,0,0,0,0,0,0,0,0,0,0,0,0,0,0,null,null,0]
[0,{"$f":"IFERROR(INDEX(Settings!$AO$17:$AO$38,MATCH(Personnel!$G222,Settings!$AP$17:$AP$38,0)),0)","v":0},null,null,null,0,0,0,0,0,0,0,0,0,0,0,0,0,0,0,0,0,0,0,null,null,0]
[0,{"$f":"IFERROR(INDEX(Settings!$AO$17:$AO$38,MATCH(Personnel!$G223,Settings!$AP$17:$AP$38,0)),0)","v":0},null,null,null,0,0,0,0,0,0,0,0,0,0,0,0,0,0,0,0,0,0,0,null,null,0]
[0,{"$f":"IFERROR(INDEX(Settings!$AO$17:$AO$38,MATCH(Personnel!$G224,Settings!$AP$17:$AP$38,0)),0)","v":0},null,null,null,0,0,0,0,0,0,0,0,0,0,0,0,0,0,0,0,0,0,0,null,null,0]
[0,{"$f":"IFERROR(INDEX(Settings!$AO$17:$AO$38,MATCH(Personnel!$G225,Settings!$AP$17:$AP$38,0)),0)","v":0},null,null,null,0,0,0,0,0,0,0,0,0,0,0,0,0,0,0,0,0,0,0,null,null,0]
[0,{"$f":"IFERROR(INDEX(Settings!$AO$17:$AO$38,MATCH(Personnel!$G226,Settings!$AP$17:$AP$38,0)),0)","v":0},null,null,null,0,0,0,0,0,0,0,0,0,0,0,0,0,0,0,0,0,0,0,null,null,0]
[0,{"$f":"IFERROR(INDEX(Settings!$AO$17:$AO$38,MATCH(Personnel!$G227,Settings!$AP$17:$AP$38,0)),0)","v":0},null,null,null,0,0,0,0,0,0,0,0,0,0,0,0,0,0,0,0,0,0,0,null,null,0]
[0,{"$f":"IFERROR(INDEX(Settings!$AO$17:$AO$38,MATCH(Personnel!$G228,Settings!$AP$17:$AP$38,0)),0)","v":0},null,null,null,0,0,0,0,0,0,0,0,0,0,0,0,0,0,0,0,0,0,0,null,null,0]
[0,{"$f":"IFERROR(INDEX(Settings!$AO$17:$AO$38,MATCH(Personnel!$G229,Settings!$AP$17:$AP$38,0)),0)","v":0},null,null,null,0,0,0,0,0,0,0,0,0,0,0,0,0,0,0,0,0,0,0,null,null,0]
[0,{"$f":"IFERROR(INDEX(Settings!$AO$17:$AO$38,MATCH(Personnel!$G230,Settings!$AP$17:$AP$38,0)),0)","v":0},null,null,null,0,0,0,0,0,0,0,0,0,0,0,0,0,0,0,0,0,0,0,null,null,0]
[0,{"$f":"IFERROR(INDEX(Settings!$AO$17:$AO$38,MATCH(Personnel!$G231,Settings!$AP$17:$AP$38,0)),0)","v":0},null,null,null,0,0,0,0,0,0,0,0,0,0,0,0,0,0,0,0,0,0,0,null,null,0]
[0,{"$f":"IFERROR(INDEX(Settings!$AO$17:$AO$38,MATCH(Personnel!$G232,Settings!$AP$17:$AP$38,0)),0)","v":0},null,null,null,0,0,0,0,0,0,0,0,0,0,0,0,0,0,0,0,0,0,0,null,null,0]
[0,{"$f":"IFERROR(INDEX(Settings!$AO$17:$AO$38,MATCH(Personnel!$G233,Settings!$AP$17:$AP$38,0)),0)","v":0},null,null,null,0,0,0,0,0,0,0,0,0,0,0,0,0,0,0,0,0,0,0,null,null,0]
[0,{"$f":"IFERROR(INDEX(Settings!$AO$17:$AO$38,MATCH(Personnel!$G234,Settings!$AP$17:$AP$38,0)),0)","v":0},null,null,null,0,0,0,0,0,0,0,0,0,0,0,0,0,0,0,0,0,0,0,null,null,0]
[0,{"$f":"IFERROR(INDEX(Settings!$AO$17:$AO$38,MATCH(Personnel!$G235,Settings!$AP$17:$AP$38,0)),0)","v":0},null,null,null,0,0,0,0,0,0,0,0,0,0,0,0,0,0,0,0,0,0,0,null,null,0]
[0,{"$f":"IFERROR(INDEX(Settings!$AO$17:$AO$38,MATCH(Personnel!$G236,Settings!$AP$17:$AP$38,0)),0)","v":0},null,null,null,0,0,0,0,0,0,0,0,0,0,0,0,0,0,0,0,0,0,0,null,null,0]
[0,{"$f":"IFERROR(INDEX(Settings!$AO$17:$AO$38,MATCH(Personnel!$G237,Settings!$AP$17:$AP$38,0)),0)","v":0},null,null,null,0,0,0,0,0,0,0,0,0,0,0,0,0,0,0,0,0,0,0,null,null,0]
[0,{"$f":"IFERROR(INDEX(Settings!$AO$17:$AO$38,MATCH(Personnel!$G238,Settings!$AP$17:$AP$38,0)),0)","v":0},null,null,null,0,0,0,0,0,0,0,0,0,0,0,0,0,0,0,0,0,0,0,null,null,0]
[0,{"$f":"IFERROR(INDEX(Settings!$AO$17:$AO$38,MATCH(Personnel!$G239,Settings!$AP$17:$AP$38,0)),0)","v":0},null,null,null,0,0,0,0,0,0,0,0,0,0,0,0,0,0,0,0,0,0,0,null,null,0]
[0,{"$f":"IFERROR(INDEX(Settings!$AO$17:$AO$38,MATCH(Personnel!$G240,Settings!$AP$17:$AP$38,0)),0)","v":0},null,null,null,0,0,0,0,0,0,0,0,0,0,0,0,0,0,0,0,0,0,0,null,null,0]
[0,{"$f":"IFERROR(INDEX(Settings!$AO$17:$AO$38,MATCH(Personnel!$G241,Settings!$AP$17:$AP$38,0)),0)","v":0},null,null,null,0,0,0,0,0,0,0,0,0,0,0,0,0,0,0,0,0,0,0,null,null,0]
[0,{"$f":"IFERROR(INDEX(Settings!$AO$17:$AO$38,MATCH(Personnel!$G242,Settings!$AP$17:$AP$38,0)),0)","v":0},null,null,null,0,0,0,0,0,0,0,0,0,0,0,0,0,0,0,0,0,0,0,null,null,0]
[0,{"$f":"IFERROR(INDEX(Settings!$AO$17:$AO$38,MATCH(Personnel!$G243,Settings!$AP$17:$AP$38,0)),0)","v":0},null,null,null,0,0,0,0,0,0,0,0,0,0,0,0,0,0,0,0,0,0,0,null,null,0]
[0,{"$f":"IFERROR(INDEX(Settings!$AO$17:$AO$38,MATCH(Personnel!$G244,Settings!$AP$17:$AP$38,0)),0)","v":0},null,null,null,0,0,0,0,0,0,0,0,0,0,0,0,0,0,0,0,0,0,0,null,null,0]
[0,{"$f":"IFERROR(INDEX(Settings!$AO$17:$AO$38,MATCH(Personnel!$G245,Settings!$AP$17:$AP$38,0)),0)","v":0},null,null,null,0,0,0,0,0,0,0,0,0,0,0,0,0,0,0,0,0,0,0,null,null,0]
[0,{"$f":"IFERROR(INDEX(Settings!$AO$17:$AO$38,MATCH(Personnel!$G246,Settings!$AP$17:$AP$38,0)),0)","v":0},null,null,null,0,0,0,0,0,0,0,0,0,0,0,0,0,0,0,0,0,0,0,null,null,0]
[0,{"$f":"IFERROR(INDEX(Settings!$AO$17:$AO$38,MATCH(Personnel!$G247,Settings!$AP$17:$AP$38,0)),0)","v":0},null,null,null,0,0,0,0,0,0,0,0,0,0,0,0,0,0,0,0,0,0,0,null,null,0]
[0,{"$f":"IFERROR(INDEX(Settings!$AO$17:$AO$38,MATCH(Personnel!$G248,Settings!$AP$17:$AP$38,0)),0)","v":0},null,null,null,0,0,0,0,0,0,0,0,0,0,0,0,0,0,0,0,0,0,0,null,null,0]
[0,{"$f":"IFERROR(INDEX(Settings!$AO$17:$AO$38,MATCH(Personnel!$G249,Settings!$AP$17:$AP$38,0)),0)","v":0},null,null,null,0,0,0,0,0,0,0,0,0,0,0,0,0,0,0,0,0,0,0,null,null,0]
[0,{"$f":"IFERROR(INDEX(Settings!$AO$17:$AO$38,MATCH(Personnel!$G250,Settings!$AP$17:$AP$38,0)),0)","v":0},null,null,null,0,0,0,0,0,0,0,0,0,0,0,0,0,0,0,0,0,0,0,null,null,0]
[0,{"$f":"IFERROR(INDEX(Settings!$AO$17:$AO$38,MATCH(Personnel!$G251,Settings!$AP$17:$AP$38,0)),0)","v":0},null,null,null,0,0,0,0,0,0,0,0,0,0,0,0,0,0,0,0,0,0,0,null,null,0]
[0,{"$f":"IFERROR(INDEX(Settings!$AO$17:$AO$38,MATCH(Personnel!$G252,Settings!$AP$17:$AP$38,0)),0)","v":0},null,null,null,0,0,0,0,0,0,0,0,0,0,0,0,0,0,0,0,0,0,0,null,null,0]
[0,{"$f":"IFERROR(INDEX(Settings!$AO$17:$AO$38,MATCH(Personnel!$G253,Settings!$AP$17:$AP$38,0)),0)","v":0},null,null,null,0,0,0,0,0,0,0,0,0,0,0,0,0,0,0,0,0,0,0,null,null,0]
[0,{"$f":"IFERROR(INDEX(Settings!$AO$17:$AO$38,MATCH(Personnel!$G254,Settings!$AP$17:$AP$38,0)),0)","v":0},null,null,null,0,0,0,0,0,0,0,0,0,0,0,0,0,0,0,0,0,0,0,null,null,0]
[0,{"$f":"IFERROR(INDEX(Settings!$AO$17:$AO$38,MATCH(Personnel!$G255,Settings!$AP$17:$AP$38,0)),0)","v":0},null,null,null,0,0,0,0,0,0,0,0,0,0,0,0,0,0,0,0,0,0,0,null,null,0]
[0,{"$f":"IFERROR(INDEX(Settings!$AO$17:$AO$38,MATCH(Personnel!$G256,Settings!$AP$17:$AP$38,0)),0)","v":0},null,null,null,0,0,0,0,0,0,0,0,0,0,0,0,0,0,0,0,0,0,0,null,null,0]
[0,{"$f":"IFERROR(INDEX(Settings!$AO$17:$AO$38,MATCH(Personnel!$G257,Settings!$AP$17:$AP$38,0)),0)","v":0},null,null,null,0,0,0,0,0,0,0,0,0,0,0,0,0,0,0,0,0,0,0,null,null,0]
[0,{"$f":"IFERROR(INDEX(Settings!$AO$17:$AO$38,MATCH(Personnel!$G258,Settings!$AP$17:$AP$38,0)),0)","v":0},null,null,null,0,0,0,0,0,0,0,0,0,0,0,0,0,0,0,0,0,0,0,null,null,0]
[0,{"$f":"IFERROR(INDEX(Settings!$AO$17:$AO$38,MATCH(Personnel!$G259,Settings!$AP$17:$AP$38,0)),0)","v":0},null,null,null,0,0,0,0,0,0,0,0,0,0,0,0,0,0,0,0,0,0,0,null,null,0]
[0,{"$f":"IFERROR(INDEX(Settings!$AO$17:$AO$38,MATCH(Personnel!$G260,Settings!$AP$17:$AP$38,0)),0)","v":0},null,null,null,0,0,0,0,0,0,0,0,0,0,0,0,0,0,0,0,0,0,0,null,null,0]
[0,{"$f":"IFERROR(INDEX(Settings!$AO$17:$AO$38,MATCH(Personnel!$G261,Settings!$AP$17:$AP$38,0)),0)","v":0},null,null,null,0,0,0,0,0,0,0,0,0,0,0,0,0,0,0,0,0,0,0,null,null,0]
[0,{"$f":"IFERROR(INDEX(Settings!$AO$17:$AO$38,MATCH(Personnel!$G262,Settings!$AP$17:$AP$38,0)),0)","v":0},null,null,null,0,0,0,0,0,0,0,0,0,0,0,0,0,0,0,0,0,0,0,null,null,0]
[0,{"$f":"IFERROR(INDEX(Settings!$AO$17:$AO$38,MATCH(Personnel!$G263,Settings!$AP$17:$AP$38,0)),0)","v":0},null,null,null,0,0,0,0,0,0,0,0,0,0,0,0,0,0,0,0,0,0,0,null,null,0]
[0,{"$f":"IFERROR(INDEX(Settings!$AO$17:$AO$38,MATCH(Personnel!$G264,Settings!$AP$17:$AP$38,0)),0)","v":0},null,null,null,0,0,0,0,0,0,0,0,0,0,0,0,0,0,0,0,0,0,0,null,null,0]
[0,{"$f":"IFERROR(INDEX(Settings!$AO$17:$AO$38,MATCH(Personnel!$G265,Settings!$AP$17:$AP$38,0)),0)","v":0},null,null,null,0,0,0,0,0,0,0,0,0,0,0,0,0,0,0,0,0,0,0,null,null,0]
[0,{"$f":"IFERROR(INDEX(Settings!$AO$17:$AO$38,MATCH(Personnel!$G266,Settings!$AP$17:$AP$38,0)),0)","v":0},null,null,null,0,0,0,0,0,0,0,0,0,0,0,0,0,0,0,0,0,0,0,null,null,0]
[0,{"$f":"IFERROR(INDEX(Settings!$AO$17:$AO$38,MATCH(Personnel!$G267,Settings!$AP$17:$AP$38,0)),0)","v":0},null,null,null,0,0,0,0,0,0,0,0,0,0,0,0,0,0,0,0,0,0,0,null,null,0]
[{"$f":"IF(SUM(K268:AA268)>0,1,0)","v":0},{"$f":"IFERROR(INDEX(Settings!$AO$17:$AO$38,MATCH(Personnel!$G268,Settings!$AP$17:$AP$38,0)),0)","v":0},null,null,null,0,0,0,0,0,0,0,0,0,0,0,0,0,0,0,0,0,0,0,null,null,0]
[0,{"$f":"IFERROR(INDEX(Settings!$AO$17:$AO$38,MATCH(Personnel!$G269,Settings!$AP$17:$AP$38,0)),0)","v":0},null,null,null,0,0,0,0,0,0,0,{"$f":"ROUND(IF(ISERROR(L269/K269),0,(L269/K269)),0)","v":0},0,0,0,0,{"$f":"ROUND(IF(ISERROR(Q269/P269),0,(Q269/P269)),0)","v":0},0,0,{"$f":"ROUND(IF(ISERROR(T269/S269),0,(T269/S269)),0)","v":0},0,0,{"$f":"ROUND(IF(ISERROR(W269/V269),0,(W269/V269)),0)","v":0},null,null,{"$f":"ROUND(IF(ISERROR(Z269/Y269),0,(Z269/Y269)),0)","v":0}]
[0,{"$f":"IFERROR(INDEX(Settings!$AO$17:$AO$38,MATCH(Personnel!$G270,Settings!$AP$17:$AP$38,0)),0)","v":0},null,null,null,0,0,0,0,0,0,0,0,0,0,0,0,0,0,0,0,0,0,0,null,null,0]
[0,{"$f":"IFERROR(INDEX(Settings!$AO$17:$AO$38,MATCH(Personnel!$G271,Settings!$AP$17:$AP$38,0)),0)","v":0},null,null,null,0,0,0,0,0,0,0,0,0,0,0,0,0,0,0,0,0,0,0,null,null,0]
[0,{"$f":"IFERROR(INDEX(Settings!$AO$17:$AO$38,MATCH(Personnel!$G272,Settings!$AP$17:$AP$38,0)),0)","v":0},null,null,null,0,0,0,0,0,0,0,0,0,0,0,0,0,0,0,0,0,0,0,null,null,0]
[0,{"$f":"IFERROR(INDEX(Settings!$AO$17:$AO$38,MATCH(Personnel!$G273,Settings!$AP$17:$AP$38,0)),0)","v":0},null,null,null,0,0,0,0,0,0,0,0,0,0,0,0,0,0,0,0,0,0,0,null,null,0]
[0,{"$f":"IFERROR(INDEX(Settings!$AO$17:$AO$38,MATCH(Personnel!$G274,Settings!$AP$17:$AP$38,0)),0)","v":0},null,null,null,0,0,0,0,0,0,0,0,0,0,0,0,0,0,0,0,0,0,0,null,null,0]
[0,{"$f":"IFERROR(INDEX(Settings!$AO$17:$AO$38,MATCH(Personnel!$G275,Settings!$AP$17:$AP$38,0)),0)","v":0},null,null,null,0,0,0,0,0,0,0,0,0,0,0,0,0,0,0,0,0,0,0,null,null,0]
[0,{"$f":"IFERROR(INDEX(Settings!$AO$17:$AO$38,MATCH(Personnel!$G276,Settings!$AP$17:$AP$38,0)),0)","v":0},null,null,null,0,0,0,0,0,0,0,0,0,0,0,0,0,0,0,0,0,0,0,null,null,0]
[0,{"$f":"IFERROR(INDEX(Settings!$AO$17:$AO$38,MATCH(Personnel!$G277,Settings!$AP$17:$AP$38,0)),0)","v":0},null,null,null,0,0,0,0,0,0,0,0,0,0,0,0,0,0,0,0,0,0,0,null,null,0]
[0,{"$f":"IFERROR(INDEX(Settings!$AO$17:$AO$38,MATCH(Personnel!$G278,Settings!$AP$17:$AP$38,0)),0)","v":0},null,null,null,0,0,0,0,0,0,0,0,0,0,0,0,0,0,0,0,0,0,0,null,null,0]
[0,{"$f":"IFERROR(INDEX(Settings!$AO$17:$AO$38,MATCH(Personnel!$G279,Settings!$AP$17:$AP$38,0)),0)","v":0},null,null,null,0,0,0,0,0,0,0,0,0,0,0,0,0,0,0,0,0,0,0,null,null,0]
[0,{"$f":"IFERROR(INDEX(Settings!$AO$17:$AO$38,MATCH(Personnel!$G280,Settings!$AP$17:$AP$38,0)),0)","v":0},null,null,null,0,0,0,0,0,0,0,0,0,0,0,0,0,0,0,0,0,0,0,null,null,0]
[0,{"$f":"IFERROR(INDEX(Settings!$AO$17:$AO$38,MATCH(Personnel!$G281,Settings!$AP$17:$AP$38,0)),0)","v":0},null,null,null,0,0,0,0,0,0,0,0,0,0,0,0,0,0,0,0,0,0,0,null,null,0]
[0,{"$f":"IFERROR(INDEX(Settings!$AO$17:$AO$38,MATCH(Personnel!$G282,Settings!$AP$17:$AP$38,0)),0)","v":0},null,null,null,0,0,0,0,0,0,0,0,0,0,0,0,0,0,0,0,0,0,0,null,null,0]
[0,{"$f":"IFERROR(INDEX(Settings!$AO$17:$AO$38,MATCH(Personnel!$G283,Settings!$AP$17:$AP$38,0)),0)","v":0},null,null,null,0,0,0,0,0,0,0,0,0,0,0,0,0,0,0,0,0,0,0,null,null,0]
[0,{"$f":"IFERROR(INDEX(Settings!$AO$17:$AO$38,MATCH(Personnel!$G284,Settings!$AP$17:$AP$38,0)),0)","v":0},null,null,null,0,0,0,0,0,0,0,0,0,0,0,0,0,0,0,0,0,0,0,null,null,0]
[0,{"$f":"IFERROR(INDEX(Settings!$AO$17:$AO$38,MATCH(Personnel!$G285,Settings!$AP$17:$AP$38,0)),0)","v":0},null,null,null,0,0,0,0,0,0,0,0,0,0,0,0,0,0,0,0,0,0,0,null,null,0]
[0,{"$f":"IFERROR(INDEX(Settings!$AO$17:$AO$38,MATCH(Personnel!$G286,Settings!$AP$17:$AP$38,0)),0)","v":0},null,null,null,0,0,0,0,0,0,0,0,0,0,0,0,0,0,0,0,0,0,0,null,null,0]
[0,{"$f":"IFERROR(INDEX(Settings!$AO$17:$AO$38,MATCH(Personnel!$G287,Settings!$AP$17:$AP$38,0)),0)","v":0},null,null,null,0,0,0,0,0,0,0,0,0,0,0,0,0,0,0,0,0,0,0,null,null,0]
[0,{"$f":"IFERROR(INDEX(Settings!$AO$17:$AO$38,MATCH(Personnel!$G288,Settings!$AP$17:$AP$38,0)),0)","v":0},null,null,null,0,0,0,0,0,0,0,0,0,0,0,0,0,0,0,0,0,0,0,null,null,0]
[0,{"$f":"IFERROR(INDEX(Settings!$AO$17:$AO$38,MATCH(Personnel!$G289,Settings!$AP$17:$AP$38,0)),0)","v":0},null,null,null,0,0,0,0,0,0,0,0,0,0,0,0,0,0,0,0,0,0,0,null,null,0]
[0,{"$f":"IFERROR(INDEX(Settings!$AO$17:$AO$38,MATCH(Personnel!$G290,Settings!$AP$17:$AP$38,0)),0)","v":0},null,null,null,0,0,0,0,0,0,0,0,0,0,0,0,0,0,0,0,0,0,0,null,null,0]
[0,{"$f":"IFERROR(INDEX(Settings!$AO$17:$AO$38,MATCH(Personnel!$G291,Settings!$AP$17:$AP$38,0)),0)","v":0},null,null,null,0,0,0,0,0,0,0,0,0,0,0,0,0,0,0,0,0,0,0,null,null,0]
[0,{"$f":"IFERROR(INDEX(Settings!$AO$17:$AO$38,MATCH(Personnel!$G292,Settings!$AP$17:$AP$38,0)),0)","v":0},null,null,null,0,0,0,0,0,0,0,0,0,0,0,0,0,0,0,0,0,0,0,null,null,0]
[0,{"$f":"IFERROR(INDEX(Settings!$AO$17:$AO$38,MATCH(Personnel!$G293,Settings!$AP$17:$AP$38,0)),0)","v":0},null,null,null,0,0,0,0,0,0,0,0,0,0,0,0,0,0,0,0,0,0,0,null,null,0]
[0,{"$f":"IFERROR(INDEX(Settings!$AO$17:$AO$38,MATCH(Personnel!$G294,Settings!$AP$17:$AP$38,0)),0)","v":0},null,null,null,0,0,0,0,0,0,0,0,0,0,0,0,0,0,0,0,0,0,0,null,null,0]
[0,{"$f":"IFERROR(INDEX(Settings!$AO$17:$AO$38,MATCH(Personnel!$G295,Settings!$AP$17:$AP$38,0)),0)","v":0},null,null,null,0,0,0,0,0,0,0,0,0,0,0,0,0,0,0,0,0,0,0,null,null,0]
[0,{"$f":"IFERROR(INDEX(Settings!$AO$17:$AO$38,MATCH(Personnel!$G296,Settings!$AP$17:$AP$38,0)),0)","v":0},null,null,null,0,0,0,0,0,0,0,0,0,0,0,0,0,0,0,0,0,0,0,null,null,0]
[0,{"$f":"IFERROR(INDEX(Settings!$AO$17:$AO$38,MATCH(Personnel!$G297,Settings!$AP$17:$AP$38,0)),0)","v":0},null,null,null,0,0,0,0,0,0,0,0,0,0,0,0,0,0,0,0,0,0,0,null,null,0]
[0,{"$f":"IFERROR(INDEX(Settings!$AO$17:$AO$38,MATCH(Personnel!$G298,Settings!$AP$17:$AP$38,0)),0)","v":0},null,null,null,0,0,0,0,0,0,0,0,0,0,0,0,0,0,0,0,0,0,0,null,null,0]
[0,{"$f":"IFERROR(INDEX(Settings!$AO$17:$AO$38,MATCH(Personnel!$G299,Settings!$AP$17:$AP$38,0)),0)","v":0},null,null,null,0,0,0,0,0,0,0,0,0,0,0,0,0,0,0,0,0,0,0,null,null,0]
[0,{"$f":"IFERROR(INDEX(Settings!$AO$17:$AO$38,MATCH(Personnel!$G300,Settings!$AP$17:$AP$38,0)),0)","v":0},null,null,null,0,0,0,0,0,0,0,0,0,0,0,0,0,0,0,0,0,0,0,null,null,0]
[0,{"$f":"IFERROR(INDEX(Settings!$AO$17:$AO$38,MATCH(Personnel!$G301,Settings!$AP$17:$AP$38,0)),0)","v":0},null,null,null,0,0,0,0,0,0,0,0,0,0,0,0,0,0,0,0,0,0,0,null,null,0]
[0,{"$f":"IFERROR(INDEX(Settings!$AO$17:$AO$38,MATCH(Personnel!$G302,Settings!$AP$17:$AP$38,0)),0)","v":0},null,null,null,0,0,0,0,0,0,0,0,0,0,0,0,0,0,0,0,0,0,0,null,null,0]
[0,{"$f":"IFERROR(INDEX(Settings!$AO$17:$AO$38,MATCH(Personnel!$G303,Settings!$AP$17:$AP$38,0)),0)","v":0},null,null,null,0,0,0,0,0,0,0,0,0,0,0,0,0,0,0,0,0,0,0,null,null,0]
[0,{"$f":"IFERROR(INDEX(Settings!$AO$17:$AO$38,MATCH(Personnel!$G304,Settings!$AP$17:$AP$38,0)),0)","v":0},null,null,null,0,0,0,0,0,0,0,0,0,0,0,0,0,0,0,0,0,0,0,null,null,0]
[0,{"$f":"IFERROR(INDEX(Settings!$AO$17:$AO$38,MATCH(Personnel!$G305,Settings!$AP$17:$AP$38,0)),0)","v":0},null,null,null,0,0,0,0,0,0,0,0,0,0,0,0,0,0,0,0,0,0,0,null,null,0]
[0,{"$f":"IFERROR(INDEX(Settings!$AO$17:$AO$38,MATCH(Personnel!$G306,Settings!$AP$17:$AP$38,0)),0)","v":0},null,null,null,0,0,0,0,0,0,0,0,0,0,0,0,0,0,0,0,0,0,0,null,null,0]
[0,{"$f":"IFERROR(INDEX(Settings!$AO$17:$AO$38,MATCH(Personnel!$G307,Settings!$AP$17:$AP$38,0)),0)","v":0},null,null,null,0,0,0,0,0,0,0,0,0,0,0,0,0,0,0,0,0,0,0,null,null,0]
[0,{"$f":"IFERROR(INDEX(Settings!$AO$17:$AO$38,MATCH(Personnel!$G308,Settings!$AP$17:$AP$38,0)),0)","v":0},null,null,null,0,0,0,0,0,0,0,0,0,0,0,0,0,0,0,0,0,0,0,null,null,0]
[0,{"$f":"IFERROR(INDEX(Settings!$AO$17:$AO$38,MATCH(Personnel!$G309,Settings!$AP$17:$AP$38,0)),0)","v":0},null,null,null,0,0,0,0,0,0,0,0,0,0,0,0,0,0,0,0,0,0,0,null,null,0]
[0,{"$f":"IFERROR(INDEX(Settings!$AO$17:$AO$38,MATCH(Personnel!$G310,Settings!$AP$17:$AP$38,0)),0)","v":0},null,null,null,0,0,0,0,0,0,0,0,0,0,0,0,0,0,0,0,0,0,0,null,null,0]
[0,{"$f":"IFERROR(INDEX(Settings!$AO$17:$AO$38,MATCH(Personnel!$G311,Settings!$AP$17:$AP$38,0)),0)","v":0},null,null,null,0,0,0,0,0,0,0,0,0,0,0,0,0,0,0,0,0,0,0,null,null,0]
[0,{"$f":"IFERROR(INDEX(Settings!$AO$17:$AO$38,MATCH(Personnel!$G312,Settings!$AP$17:$AP$38,0)),0)","v":0},null,null,null,0,0,0,0,0,0,0,0,0,0,0,0,0,0,0,0,0,0,0,null,null,0]
[0,{"$f":"IFERROR(INDEX(Settings!$AO$17:$AO$38,MATCH(Personnel!$G313,Settings!$AP$17:$AP$38,0)),0)","v":0},null,null,null,0,0,0,0,0,0,0,0,0,0,0,0,0,0,0,0,0,0,0,null,null,0]
[0,{"$f":"IFERROR(INDEX(Settings!$AO$17:$AO$38,MATCH(Personnel!$G314,Settings!$AP$17:$AP$38,0)),0)","v":0},null,null,null,0,0,0,0,0,0,0,0,0,0,0,0,0,0,0,0,0,0,0,null,null,0]
[0,{"$f":"IFERROR(INDEX(Settings!$AO$17:$AO$38,MATCH(Personnel!$G315,Settings!$AP$17:$AP$38,0)),0)","v":0},null,null,null,0,0,0,0,0,0,0,0,0,0,0,0,0,0,0,0,0,0,0,null,null,0]
[0,{"$f":"IFERROR(INDEX(Settings!$AO$17:$AO$38,MATCH(Personnel!$G316,Settings!$AP$17:$AP$38,0)),0)","v":0},null,null,null,0,0,0,0,0,0,0,0,0,0,0,0,0,0,0,0,0,0,0,null,null,0]
[0,{"$f":"IFERROR(INDEX(Settings!$AO$17:$AO$38,MATCH(Personnel!$G317,Settings!$AP$17:$AP$38,0)),0)","v":0},null,null,null,0,0,0,0,0,0,0,0,0,0,0,0,0,0,0,0,0,0,0,null,null,0]
[0,{"$f":"IFERROR(INDEX(Settings!$AO$17:$AO$38,MATCH(Personnel!$G318,Settings!$AP$17:$AP$38,0)),0)","v":0},null,null,null,0,0,0,0,0,0,0,0,0,0,0,0,0,0,0,0,0,0,0,null,null,0]
[0,{"$f":"IFERROR(INDEX(Settings!$AO$17:$AO$38,MATCH(Personnel!$G319,Settings!$AP$17:$AP$38,0)),0)","v":0},null,null,null,0,0,0,0,0,0,0,0,0,0,0,0,0,0,0,0,0,0,0,null,null,0]
[0,{"$f":"IFERROR(INDEX(Settings!$AO$17:$AO$38,MATCH(Personnel!$G320,Settings!$AP$17:$AP$38,0)),0)","v":0},null,null,null,0,0,0,0,0,0,0,0,0,0,0,0,0,0,0,0,0,0,0,null,null,0]
[0,{"$f":"IFERROR(INDEX(Settings!$AO$17:$AO$38,MATCH(Personnel!$G321,Settings!$AP$17:$AP$38,0)),0)","v":0},null,null,null,0,0,0,0,0,0,0,0,0,0,0,0,0,0,0,0,0,0,0,null,null,0]
[0,{"$f":"IFERROR(INDEX(Settings!$AO$17:$AO$38,MATCH(Personnel!$G322,Settings!$AP$17:$AP$38,0)),0)","v":0},null,null,null,0,0,0,0,0,0,0,0,0,0,0,0,0,0,0,0,0,0,0,null,null,0]
[0,{"$f":"IFERROR(INDEX(Settings!$AO$17:$AO$38,MATCH(Personnel!$G323,Settings!$AP$17:$AP$38,0)),0)","v":0},null,null,null,0,0,0,0,0,0,0,0,0,0,0,0,0,0,0,0,0,0,0,null,null,0]
[0,{"$f":"IFERROR(INDEX(Settings!$AO$17:$AO$38,MATCH(Personnel!$G324,Settings!$AP$17:$AP$38,0)),0)","v":0},null,null,null,0,0,0,0,0,0,0,0,0,0,0,0,0,0,0,0,0,0,0,null,null,0]
[0,{"$f":"IFERROR(INDEX(Settings!$AO$17:$AO$38,MATCH(Personnel!$G325,Settings!$AP$17:$AP$38,0)),0)","v":0},null,null,null,0,0,0,0,0,0,0,0,0,0,0,0,0,0,0,0,0,0,0,null,null,0]
[0,{"$f":"IFERROR(INDEX(Settings!$AO$17:$AO$38,MATCH(Personnel!$G326,Settings!$AP$17:$AP$38,0)),0)","v":0},null,null,null,0,0,0,0,0,0,0,0,0,0,0,0,0,0,0,0,0,0,0,null,null,0]
[0,{"$f":"IFERROR(INDEX(Settings!$AO$17:$AO$38,MATCH(Personnel!$G327,Settings!$AP$17:$AP$38,0)),0)","v":0},null,null,null,0,0,0,0,0,0,0,0,0,0,0,0,0,0,0,0,0,0,0,null,null,0]
[0,{"$f":"IFERROR(INDEX(Settings!$AO$17:$AO$38,MATCH(Personnel!$G328,Settings!$AP$17:$AP$38,0)),0)","v":0},null,null,null,0,0,0,0,0,0,0,0,0,0,0,0,0,0,0,0,0,0,0,null,null,0]
[0,{"$f":"IFERROR(INDEX(Settings!$AO$17:$AO$38,MATCH(Personnel!$G329,Settings!$AP$17:$AP$38,0)),0)","v":0},null,null,null,0,0,0,0,0,0,0,0,0,0,0,0,0,0,0,0,0,0,0,null,null,0]
[0,{"$f":"IFERROR(INDEX(Settings!$AO$17:$AO$38,MATCH(Personnel!$G330,Settings!$AP$17:$AP$38,0)),0)","v":0},null,null,null,0,0,0,0,0,0,0,0,0,0,0,0,0,0,0,0,0,0,0,null,null,0]
[0,{"$f":"IFERROR(INDEX(Settings!$AO$17:$AO$38,MATCH(Personnel!$G331,Settings!$AP$17:$AP$38,0)),0)","v":0},null,null,null,0,0,0,0,0,0,0,0,0,0,0,0,0,0,0,0,0,0,0,null,null,0]
[{"$f":"IF(SUM(K332:AA332)>0,1,0)","v":0},{"$f":"IFERROR(INDEX(Settings!$AO$17:$AO$38,MATCH(Personnel!$G332,Settings!$AP$17:$AP$38,0)),0)","v":0},null,null,null,0,0,0,0,0,0,0,0,0,0,0,0,0,0,0,0,0,0,0,null,null,0]
[0,{"$f":"IFERROR(INDEX(Settings!$AO$17:$AO$38,MATCH(Personnel!$G333,Settings!$AP$17:$AP$38,0)),0)","v":0},null,null,null,0,0,0,0,0,0,0,{"$f":"ROUND(IF(ISERROR(L333/K333),0,(L333/K333)),0)","v":0},0,0,0,0,{"$f":"ROUND(IF(ISERROR(Q333/P333),0,(Q333/P333)),0)","v":0},0,0,{"$f":"ROUND(IF(ISERROR(T333/S333),0,(T333/S333)),0)","v":0},0,0,{"$f":"ROUND(IF(ISERROR(W333/V333),0,(W333/V333)),0)","v":0},null,null,{"$f":"ROUND(IF(ISERROR(Z333/Y333),0,(Z333/Y333)),0)","v":0}]
[0,{"$f":"IFERROR(INDEX(Settings!$AO$17:$AO$38,MATCH(Personnel!$G334,Settings!$AP$17:$AP$38,0)),0)","v":0},null,null,null,0,0,0,0,0,0,0,0,0,0,0,0,0,0,0,0,0,0,0,null,null,0]
[0,{"$f":"IFERROR(INDEX(Settings!$AO$17:$AO$38,MATCH(Personnel!$G335,Settings!$AP$17:$AP$38,0)),0)","v":0},null,null,null,0,0,0,0,0,0,0,0,0,0,0,0,0,0,0,0,0,0,0,null,null,0]
[0,{"$f":"IFERROR(INDEX(Settings!$AO$17:$AO$38,MATCH(Personnel!$G336,Settings!$AP$17:$AP$38,0)),0)","v":0},null,null,null,0,0,0,0,0,0,0,0,0,0,0,0,0,0,0,0,0,0,0,null,null,0]
[0,{"$f":"IFERROR(INDEX(Settings!$AO$17:$AO$38,MATCH(Personnel!$G337,Settings!$AP$17:$AP$38,0)),0)","v":0},null,null,null,0,0,0,0,0,0,0,0,0,0,0,0,0,0,0,0,0,0,0,null,null,0]
[0,{"$f":"IFERROR(INDEX(Settings!$AO$17:$AO$38,MATCH(Personnel!$G338,Settings!$AP$17:$AP$38,0)),0)","v":0},null,null,null,0,0,0,0,0,0,0,0,0,0,0,0,0,0,0,0,0,0,0,null,null,0]
[0,{"$f":"IFERROR(INDEX(Settings!$AO$17:$AO$38,MATCH(Personnel!$G339,Settings!$AP$17:$AP$38,0)),0)","v":0},null,null,null,0,0,0,0,0,0,0,0,0,0,0,0,0,0,0,0,0,0,0,null,null,0]
[0,{"$f":"IFERROR(INDEX(Settings!$AO$17:$AO$38,MATCH(Personnel!$G340,Settings!$AP$17:$AP$38,0)),0)","v":0},null,null,null,0,0,0,0,0,0,0,0,0,0,0,0,0,0,0,0,0,0,0,null,null,0]
[0,{"$f":"IFERROR(INDEX(Settings!$AO$17:$AO$38,MATCH(Personnel!$G341,Settings!$AP$17:$AP$38,0)),0)","v":0},null,null,null,0,0,0,0,0,0,0,0,0,0,0,0,0,0,0,0,0,0,0,null,null,0]
[0,{"$f":"IFERROR(INDEX(Settings!$AO$17:$AO$38,MATCH(Personnel!$G342,Settings!$AP$17:$AP$38,0)),0)","v":0},null,null,null,0,0,0,0,0,0,0,0,0,0,0,0,0,0,0,0,0,0,0,null,null,0]
[0,{"$f":"IFERROR(INDEX(Settings!$AO$17:$AO$38,MATCH(Personnel!$G343,Settings!$AP$17:$AP$38,0)),0)","v":0},null,null,null,0,0,0,0,0,0,0,0,0,0,0,0,0,0,0,0,0,0,0,null,null,0]
[0,{"$f":"IFERROR(INDEX(Settings!$AO$17:$AO$38,MATCH(Personnel!$G344,Settings!$AP$17:$AP$38,0)),0)","v":0},null,null,null,0,0,0,0,0,0,0,0,0,0,0,0,0,0,0,0,0,0,0,null,null,0]
[0,{"$f":"IFERROR(INDEX(Settings!$AO$17:$AO$38,MATCH(Personnel!$G345,Settings!$AP$17:$AP$38,0)),0)","v":0},null,null,null,0,0,0,0,0,0,0,0,0,0,0,0,0,0,0,0,0,0,0,null,null,0]
[0,{"$f":"IFERROR(INDEX(Settings!$AO$17:$AO$38,MATCH(Personnel!$G346,Settings!$AP$17:$AP$38,0)),0)","v":0},null,null,null,0,0,0,0,0,0,0,0,0,0,0,0,0,0,0,0,0,0,0,null,null,0]
[0,{"$f":"IFERROR(INDEX(Settings!$AO$17:$AO$38,MATCH(Personnel!$G347,Settings!$AP$17:$AP$38,0)),0)","v":0},null,null,null,0,0,0,0,0,0,0,0,0,0,0,0,0,0,0,0,0,0,0,null,null,0]
[0,{"$f":"IFERROR(INDEX(Settings!$AO$17:$AO$38,MATCH(Personnel!$G348,Settings!$AP$17:$AP$38,0)),0)","v":0},null,null,null,0,0,0,0,0,0,0,0,0,0,0,0,0,0,0,0,0,0,0,null,null,0]
[0,{"$f":"IFERROR(INDEX(Settings!$AO$17:$AO$38,MATCH(Personnel!$G349,Settings!$AP$17:$AP$38,0)),0)","v":0},null,null,null,0,0,0,0,0,0,0,0,0,0,0,0,0,0,0,0,0,0,0,null,null,0]
[0,{"$f":"IFERROR(INDEX(Settings!$AO$17:$AO$38,MATCH(Personnel!$G350,Settings!$AP$17:$AP$38,0)),0)","v":0},null,null,null,0,0,0,0,0,0,0,0,0,0,0,0,0,0,0,0,0,0,0,null,null,0]
[0,{"$f":"IFERROR(INDEX(Settings!$AO$17:$AO$38,MATCH(Personnel!$G351,Settings!$AP$17:$AP$38,0)),0)","v":0},null,null,null,0,0,0,0,0,0,0,0,0,0,0,0,0,0,0,0,0,0,0,null,null,0]
[0,{"$f":"IFERROR(INDEX(Settings!$AO$17:$AO$38,MATCH(Personnel!$G352,Settings!$AP$17:$AP$38,0)),0)","v":0},null,null,null,0,0,0,0,0,0,0,0,0,0,0,0,0,0,0,0,0,0,0,null,null,0]
[0,{"$f":"IFERROR(INDEX(Settings!$AO$17:$AO$38,MATCH(Personnel!$G353,Settings!$AP$17:$AP$38,0)),0)","v":0},null,null,null,0,0,0,0,0,0,0,0,0,0,0,0,0,0,0,0,0,0,0,null,null,0]
[0,{"$f":"IFERROR(INDEX(Settings!$AO$17:$AO$38,MATCH(Personnel!$G354,Settings!$AP$17:$AP$38,0)),0)","v":0},null,null,null,0,0,0,0,0,0,0,0,0,0,0,0,0,0,0,0,0,0,0,null,null,0]
[0,{"$f":"IFERROR(INDEX(Settings!$AO$17:$AO$38,MATCH(Personnel!$G355,Settings!$AP$17:$AP$38,0)),0)","v":0},null,null,null,0,0,0,0,0,0,0,0,0,0,0,0,0,0,0,0,0,0,0,null,null,0]
[0,{"$f":"IFERROR(INDEX(Settings!$AO$17:$AO$38,MATCH(Personnel!$G356,Settings!$AP$17:$AP$38,0)),0)","v":0},null,null,null,0,0,0,0,0,0,0,0,0,0,0,0,0,0,0,0,0,0,0,null,null,0]
[0,{"$f":"IFERROR(INDEX(Settings!$AO$17:$AO$38,MATCH(Personnel!$G357,Settings!$AP$17:$AP$38,0)),0)","v":0},null,null,null,0,0,0,0,0,0,0,0,0,0,0,0,0,0,0,0,0,0,0,null,null,0]
[0,{"$f":"IFERROR(INDEX(Settings!$AO$17:$AO$38,MATCH(Personnel!$G358,Settings!$AP$17:$AP$38,0)),0)","v":0},null,null,null,0,0,0,0,0,0,0,0,0,0,0,0,0,0,0,0,0,0,0,null,null,0]
[0,{"$f":"IFERROR(INDEX(Settings!$AO$17:$AO$38,MATCH(Personnel!$G359,Settings!$AP$17:$AP$38,0)),0)","v":0},null,null,null,0,0,0,0,0,0,0,0,0,0,0,0,0,0,0,0,0,0,0,null,null,0]
[0,{"$f":"IFERROR(INDEX(Settings!$AO$17:$AO$38,MATCH(Personnel!$G360,Settings!$AP$17:$AP$38,0)),0)","v":0},null,null,null,0,0,0,0,0,0,0,0,0,0,0,0,0,0,0,0,0,0,0,null,null,0]
[0,{"$f":"IFERROR(INDEX(Settings!$AO$17:$AO$38,MATCH(Personnel!$G361,Settings!$AP$17:$AP$38,0)),0)","v":0},null,null,null,0,0,0,0,0,0,0,0,0,0,0,0,0,0,0,0,0,0,0,null,null,0]
[0,{"$f":"IFERROR(INDEX(Settings!$AO$17:$AO$38,MATCH(Personnel!$G362,Settings!$AP$17:$AP$38,0)),0)","v":0},null,null,null,0,0,0,0,0,0,0,0,0,0,0,0,0,0,0,0,0,0,0,null,null,0]
[0,{"$f":"IFERROR(INDEX(Settings!$AO$17:$AO$38,MATCH(Personnel!$G363,Settings!$AP$17:$AP$38,0)),0)","v":0},null,null,null,0,0,0,0,0,0,0,0,0,0,0,0,0,0,0,0,0,0,0,null,null,0]
[0,{"$f":"IFERROR(INDEX(Settings!$AO$17:$AO$38,MATCH(Personnel!$G364,Settings!$AP$17:$AP$38,0)),0)","v":0},null,null,null,0,0,0,0,0,0,0,0,0,0,0,0,0,0,0,0,0,0,0,null,null,0]
[0,{"$f":"IFERROR(INDEX(Settings!$AO$17:$AO$38,MATCH(Personnel!$G365,Settings!$AP$17:$AP$38,0)),0)","v":0},null,null,null,0,0,0,0,0,0,0,0,0,0,0,0,0,0,0,0,0,0,0,null,null,0]
[0,{"$f":"IFERROR(INDEX(Settings!$AO$17:$AO$38,MATCH(Personnel!$G366,Settings!$AP$17:$AP$38,0)),0)","v":0},null,null,null,0,0,0,0,0,0,0,0,0,0,0,0,0,0,0,0,0,0,0,null,null,0]
[0,{"$f":"IFERROR(INDEX(Settings!$AO$17:$AO$38,MATCH(Personnel!$G367,Settings!$AP$17:$AP$38,0)),0)","v":0},null,null,null,0,0,0,0,0,0,0,0,0,0,0,0,0,0,0,0,0,0,0,null,null,0]
[0,{"$f":"IFERROR(INDEX(Settings!$AO$17:$AO$38,MATCH(Personnel!$G368,Settings!$AP$17:$AP$38,0)),0)","v":0},null,null,null,0,0,0,0,0,0,0,0,0,0,0,0,0,0,0,0,0,0,0,null,null,0]
[0,{"$f":"IFERROR(INDEX(Settings!$AO$17:$AO$38,MATCH(Personnel!$G369,Settings!$AP$17:$AP$38,0)),0)","v":0},null,null,null,0,0,0,0,0,0,0,0,0,0,0,0,0,0,0,0,0,0,0,null,null,0]
[0,{"$f":"IFERROR(INDEX(Settings!$AO$17:$AO$38,MATCH(Personnel!$G370,Settings!$AP$17:$AP$38,0)),0)","v":0},null,null,null,0,0,0,0,0,0,0,0,0,0,0,0,0,0,0,0,0,0,0,null,null,0]
[0,{"$f":"IFERROR(INDEX(Settings!$AO$17:$AO$38,MATCH(Personnel!$G371,Settings!$AP$17:$AP$38,0)),0)","v":0},null,null,null,0,0,0,0,0,0,0,0,0,0,0,0,0,0,0,0,0,0,0,null,null,0]
[0,{"$f":"IFERROR(INDEX(Settings!$AO$17:$AO$38,MATCH(Personnel!$G372,Settings!$AP$17:$AP$38,0)),0)","v":0},null,null,null,0,0,0,0,0,0,0,0,0,0,0,0,0,0,0,0,0,0,0,null,null,0]
[0,{"$f":"IFERROR(INDEX(Settings!$AO$17:$AO$38,MATCH(Personnel!$G373,Settings!$AP$17:$AP$38,0)),0)","v":0},null,null,null,0,0,0,0,0,0,0,0,0,0,0,0,0,0,0,0,0,0,0,null,null,0]
[0,{"$f":"IFERROR(INDEX(Settings!$AO$17:$AO$38,MATCH(Personnel!$G374,Settings!$AP$17:$AP$38,0)),0)","v":0},null,null,null,0,0,0,0,0,0,0,0,0,0,0,0,0,0,0,0,0,0,0,null,null,0]
[0,{"$f":"IFERROR(INDEX(Settings!$AO$17:$AO$38,MATCH(Personnel!$G375,Settings!$AP$17:$AP$38,0)),0)","v":0},null,null,null,0,0,0,0,0,0,0,0,0,0,0,0,0,0,0,0,0,0,0,null,null,0]
[0,{"$f":"IFERROR(INDEX(Settings!$AO$17:$AO$38,MATCH(Personnel!$G376,Settings!$AP$17:$AP$38,0)),0)","v":0},null,null,null,0,0,0,0,0,0,0,0,0,0,0,0,0,0,0,0,0,0,0,null,null,0]
[0,{"$f":"IFERROR(INDEX(Settings!$AO$17:$AO$38,MATCH(Personnel!$G377,Settings!$AP$17:$AP$38,0)),0)","v":0},null,null,null,0,0,0,0,0,0,0,0,0,0,0,0,0,0,0,0,0,0,0,null,null,0]
[0,{"$f":"IFERROR(INDEX(Settings!$AO$17:$AO$38,MATCH(Personnel!$G378,Settings!$AP$17:$AP$38,0)),0)","v":0},null,null,null,0,0,0,0,0,0,0,0,0,0,0,0,0,0,0,0,0,0,0,null,null,0]
[0,{"$f":"IFERROR(INDEX(Settings!$AO$17:$AO$38,MATCH(Personnel!$G379,Settings!$AP$17:$AP$38,0)),0)","v":0},null,null,null,0,0,0,0,0,0,0,0,0,0,0,0,0,0,0,0,0,0,0,null,null,0]
[0,{"$f":"IFERROR(INDEX(Settings!$AO$17:$AO$38,MATCH(Personnel!$G380,Settings!$AP$17:$AP$38,0)),0)","v":0},null,null,null,0,0,0,0,0,0,0,0,0,0,0,0,0,0,0,0,0,0,0,null,null,0]
[0,{"$f":"IFERROR(INDEX(Settings!$AO$17:$AO$38,MATCH(Personnel!$G381,Settings!$AP$17:$AP$38,0)),0)","v":0},null,null,null,0,0,0,0,0,0,0,0,0,0,0,0,0,0,0,0,0,0,0,null,null,0]
[0,{"$f":"IFERROR(INDEX(Settings!$AO$17:$AO$38,MATCH(Personnel!$G382,Settings!$AP$17:$AP$38,0)),0)","v":0},null,null,null,0,0,0,0,0,0,0,0,0,0,0,0,0,0,0,0,0,0,0,null,null,0]
[0,{"$f":"IFERROR(INDEX(Settings!$AO$17:$AO$38,MATCH(Personnel!$G383,Settings!$AP$17:$AP$38,0)),0)","v":0},null,null,null,0,0,0,0,0,0,0,0,0,0,0,0,0,0,0,0,0,0,0,null,null,0]
[0,{"$f":"IFERROR(INDEX(Settings!$AO$17:$AO$38,MATCH(Personnel!$G384,Settings!$AP$17:$AP$38,0)),0)","v":0},null,null,null,0,0,0,0,0,0,0,0,0,0,0,0,0,0,0,0,0,0,0,null,null,0]
[0,{"$f":"IFERROR(INDEX(Settings!$AO$17:$AO$38,MATCH(Personnel!$G385,Settings!$AP$17:$AP$38,0)),0)","v":0},null,null,null,0,0,0,0,0,0,0,0,0,0,0,0,0,0,0,0,0,0,0,null,null,0]
[0,{"$f":"IFERROR(INDEX(Settings!$AO$17:$AO$38,MATCH(Personnel!$G386,Settings!$AP$17:$AP$38,0)),0)","v":0},null,null,null,0,0,0,0,0,0,0,0,0,0,0,0,0,0,0,0,0,0,0,null,null,0]
[0,{"$f":"IFERROR(INDEX(Settings!$AO$17:$AO$38,MATCH(Personnel!$G387,Settings!$AP$17:$AP$38,0)),0)","v":0},null,null,null,0,0,0,0,0,0,0,0,0,0,0,0,0,0,0,0,0,0,0,null,null,0]
[0,{"$f":"IFERROR(INDEX(Settings!$AO$17:$AO$38,MATCH(Personnel!$G388,Settings!$AP$17:$AP$38,0)),0)","v":0},null,null,null,0,0,0,0,0,0,0,0,0,0,0,0,0,0,0,0,0,0,0,null,null,0]
[0,{"$f":"IFERROR(INDEX(Settings!$AO$17:$AO$38,MATCH(Personnel!$G389,Settings!$AP$17:$AP$38,0)),0)","v":0},null,null,null,0,0,0,0,0,0,0,0,0,0,0,0,0,0,0,0,0,0,0,null,null,0]
[0,{"$f":"IFERROR(INDEX(Settings!$AO$17:$AO$38,MATCH(Personnel!$G390,Settings!$AP$17:$AP$38,0)),0)","v":0},null,null,null,0,0,0,0,0,0,0,0,0,0,0,0,0,0,0,0,0,0,0,null,null,0]
[0,{"$f":"IFERROR(INDEX(Settings!$AO$17:$AO$38,MATCH(Personnel!$G391,Settings!$AP$17:$AP$38,0)),0)","v":0},null,null,null,0,0,0,0,0,0,0,0,0,0,0,0,0,0,0,0,0,0,0,null,null,0]
[0,{"$f":"IFERROR(INDEX(Settings!$AO$17:$AO$38,MATCH(Personnel!$G392,Settings!$AP$17:$AP$38,0)),0)","v":0},null,null,null,0,0,0,0,0,0,0,0,0,0,0,0,0,0,0,0,0,0,0,null,null,0]
[0,{"$f":"IFERROR(INDEX(Settings!$AO$17:$AO$38,MATCH(Personnel!$G393,Settings!$AP$17:$AP$38,0)),0)","v":0},null,null,null,0,0,0,0,0,0,0,0,0,0,0,0,0,0,0,0,0,0,0,null,null,0]
[0,{"$f":"IFERROR(INDEX(Settings!$AO$17:$AO$38,MATCH(Personnel!$G394,Settings!$AP$17:$AP$38,0)),0)","v":0},null,null,null,0,0,0,0,0,0,0,0,0,0,0,0,0,0,0,0,0,0,0,null,null,0]
[0,{"$f":"IFERROR(INDEX(Settings!$AO$17:$AO$38,MATCH(Personnel!$G395,Settings!$AP$17:$AP$38,0)),0)","v":0},null,null,null,0,0,0,0,0,0,0,0,0,0,0,0,0,0,0,0,0,0,0,null,null,0]
[{"$f":"IF(SUM(K396:AA396)>0,1,0)","v":0},{"$f":"IFERROR(INDEX(Settings!$AO$17:$AO$38,MATCH(Personnel!$G396,Settings!$AP$17:$AP$38,0)),0)","v":0},null,null,null,0,0,0,0,0,0,0,0,0,0,0,0,0,0,0,0,0,0,0,null,null,0]
[0,{"$f":"IFERROR(INDEX(Settings!$AO$17:$AO$38,MATCH(Personnel!$G397,Settings!$AP$17:$AP$38,0)),0)","v":0},null,null,null,0,0,0,0,0,0,0,{"$f":"ROUND(IF(ISERROR(L397/K397),0,(L397/K397)),0)","v":0},0,0,0,0,{"$f":"ROUND(IF(ISERROR(Q397/P397),0,(Q397/P397)),0)","v":0},0,0,{"$f":"ROUND(IF(ISERROR(T397/S397),0,(T397/S397)),0)","v":0},0,0,{"$f":"ROUND(IF(ISERROR(W397/V397),0,(W397/V397)),0)","v":0},null,null,{"$f":"ROUND(IF(ISERROR(Z397/Y397),0,(Z397/Y397)),0)","v":0}]
[0,{"$f":"IFERROR(INDEX(Settings!$AO$17:$AO$38,MATCH(Personnel!$G398,Settings!$AP$17:$AP$38,0)),0)","v":0},null,null,null,0,0,0,0,0,0,0,0,0,0,0,0,0,0,0,0,0,0,0,null,null,0]
[0,{"$f":"IFERROR(INDEX(Settings!$AO$17:$AO$38,MATCH(Personnel!$G399,Settings!$AP$17:$AP$38,0)),0)","v":0},null,null,null,0,0,0,0,0,0,0,0,0,0,0,0,0,0,0,0,0,0,0,null,null,0]
[0,{"$f":"IFERROR(INDEX(Settings!$AO$17:$AO$38,MATCH(Personnel!$G400,Settings!$AP$17:$AP$38,0)),0)","v":0},null,null,null,0,0,0,0,0,0,0,0,0,0,0,0,0,0,0,0,0,0,0,null,null,0]
[0,{"$f":"IFERROR(INDEX(Settings!$AO$17:$AO$38,MATCH(Personnel!$G401,Settings!$AP$17:$AP$38,0)),0)","v":0},null,null,null,0,0,0,0,0,0,0,0,0,0,0,0,0,0,0,0,0,0,0,null,null,0]
[0,{"$f":"IFERROR(INDEX(Settings!$AO$17:$AO$38,MATCH(Personnel!$G402,Settings!$AP$17:$AP$38,0)),0)","v":0},null,null,null,0,0,0,0,0,0,0,0,0,0,0,0,0,0,0,0,0,0,0,null,null,0]
[0,{"$f":"IFERROR(INDEX(Settings!$AO$17:$AO$38,MATCH(Personnel!$G403,Settings!$AP$17:$AP$38,0)),0)","v":0},null,null,null,0,0,0,0,0,0,0,0,0,0,0,0,0,0,0,0,0,0,0,null,null,0]
[0,{"$f":"IFERROR(INDEX(Settings!$AO$17:$AO$38,MATCH(Personnel!$G404,Settings!$AP$17:$AP$38,0)),0)","v":0},null,null,null,0,0,0,0,0,0,0,0,0,0,0,0,0,0,0,0,0,0,0,null,null,0]
[0,{"$f":"IFERROR(INDEX(Settings!$AO$17:$AO$38,MATCH(Personnel!$G405,Settings!$AP$17:$AP$38,0)),0)","v":0},null,null,null,0,0,0,0,0,0,0,0,0,0,0,0,0,0,0,0,0,0,0,null,null,0]
[0,{"$f":"IFERROR(INDEX(Settings!$AO$17:$AO$38,MATCH(Personnel!$G406,Settings!$AP$17:$AP$38,0)),0)","v":0},null,null,null,0,0,0,0,0,0,0,0,0,0,0,0,0,0,0,0,0,0,0,null,null,0]
[0,{"$f":"IFERROR(INDEX(Settings!$AO$17:$AO$38,MATCH(Personnel!$G407,Settings!$AP$17:$AP$38,0)),0)","v":0},null,null,null,0,0,0,0,0,0,0,0,0,0,0,0,0,0,0,0,0,0,0,null,null,0]
[0,{"$f":"IFERROR(INDEX(Settings!$AO$17:$AO$38,MATCH(Personnel!$G408,Settings!$AP$17:$AP$38,0)),0)","v":0},null,null,null,0,0,0,0,0,0,0,0,0,0,0,0,0,0,0,0,0,0,0,null,null,0]
[0,{"$f":"IFERROR(INDEX(Settings!$AO$17:$AO$38,MATCH(Personnel!$G409,Settings!$AP$17:$AP$38,0)),0)","v":0},null,null,null,0,0,0,0,0,0,0,0,0,0,0,0,0,0,0,0,0,0,0,null,null,0]
[0,{"$f":"IFERROR(INDEX(Settings!$AO$17:$AO$38,MATCH(Personnel!$G410,Settings!$AP$17:$AP$38,0)),0)","v":0},null,null,null,0,0,0,0,0,0,0,0,0,0,0,0,0,0,0,0,0,0,0,null,null,0]
[0,{"$f":"IFERROR(INDEX(Settings!$AO$17:$AO$38,MATCH(Personnel!$G411,Settings!$AP$17:$AP$38,0)),0)","v":0},null,null,null,0,0,0,0,0,0,0,0,0,0,0,0,0,0,0,0,0,0,0,null,null,0]
[0,{"$f":"IFERROR(INDEX(Settings!$AO$17:$AO$38,MATCH(Personnel!$G412,Settings!$AP$17:$AP$38,0)),0)","v":0},null,null,null,0,0,0,0,0,0,0,0,0,0,0,0,0,0,0,0,0,0,0,null,null,0]
[0,{"$f":"IFERROR(INDEX(Settings!$AO$17:$AO$38,MATCH(Personnel!$G413,Settings!$AP$17:$AP$38,0)),0)","v":0},null,null,null,0,0,0,0,0,0,0,0,0,0,0,0,0,0,0,0,0,0,0,null,null,0]
[0,{"$f":"IFERROR(INDEX(Settings!$AO$17:$AO$38,MATCH(Personnel!$G414,Settings!$AP$17:$AP$38,0)),0)","v":0},null,null,null,0,0,0,0,0,0,0,0,0,0,0,0,0,0,0,0,0,0,0,null,null,0]
[0,{"$f":"IFERROR(INDEX(Settings!$AO$17:$AO$38,MATCH(Personnel!$G415,Settings!$AP$17:$AP$38,0)),0)","v":0},null,null,null,0,0,0,0,0,0,0,0,0,0,0,0,0,0,0,0,0,0,0,null,null,0]
[0,{"$f":"IFERROR(INDEX(Settings!$AO$17:$AO$38,MATCH(Personnel!$G416,Settings!$AP$17:$AP$38,0)),0)","v":0},null,null,null,0,0,0,0,0,0,0,0,0,0,0,0,0,0,0,0,0,0,0,null,null,0]
[0,{"$f":"IFERROR(INDEX(Settings!$AO$17:$AO$38,MATCH(Personnel!$G417,Settings!$AP$17:$AP$38,0)),0)","v":0},null,null,null,0,0,0,0,0,0,0,0,0,0,0,0,0,0,0,0,0,0,0,null,null,0]
[0,{"$f":"IFERROR(INDEX(Settings!$AO$17:$AO$38,MATCH(Personnel!$G418,Settings!$AP$17:$AP$38,0)),0)","v":0},null,null,null,0,0,0,0,0,0,0,0,0,0,0,0,0,0,0,0,0,0,0,null,null,0]
[0,{"$f":"IFERROR(INDEX(Settings!$AO$17:$AO$38,MATCH(Personnel!$G419,Settings!$AP$17:$AP$38,0)),0)","v":0},null,null,null,0,0,0,0,0,0,0,0,0,0,0,0,0,0,0,0,0,0,0,null,null,0]
[0,{"$f":"IFERROR(INDEX(Settings!$AO$17:$AO$38,MATCH(Personnel!$G420,Settings!$AP$17:$AP$38,0)),0)","v":0},null,null,null,0,0,0,0,0,0,0,0,0,0,0,0,0,0,0,0,0,0,0,null,null,0]
[0,{"$f":"IFERROR(INDEX(Settings!$AO$17:$AO$38,MATCH(Personnel!$G421,Settings!$AP$17:$AP$38,0)),0)","v":0},null,null,null,0,0,0,0,0,0,0,0,0,0,0,0,0,0,0,0,0,0,0,null,null,0]
[0,{"$f":"IFERROR(INDEX(Settings!$AO$17:$AO$38,MATCH(Personnel!$G422,Settings!$AP$17:$AP$38,0)),0)","v":0},null,null,null,0,0,0,0,0,0,0,0,0,0,0,0,0,0,0,0,0,0,0,null,null,0]
[0,{"$f":"IFERROR(INDEX(Settings!$AO$17:$AO$38,MATCH(Personnel!$G423,Settings!$AP$17:$AP$38,0)),0)","v":0},null,null,null,0,0,0,0,0,0,0,0,0,0,0,0,0,0,0,0,0,0,0,null,null,0]
[0,{"$f":"IFERROR(INDEX(Settings!$AO$17:$AO$38,MATCH(Personnel!$G424,Settings!$AP$17:$AP$38,0)),0)","v":0},null,null,null,0,0,0,0,0,0,0,0,0,0,0,0,0,0,0,0,0,0,0,null,null,0]
[0,{"$f":"IFERROR(INDEX(Settings!$AO$17:$AO$38,MATCH(Personnel!$G425,Settings!$AP$17:$AP$38,0)),0)","v":0},null,null,null,0,0,0,0,0,0,0,0,0,0,0,0,0,0,0,0,0,0,0,null,null,0]
[0,{"$f":"IFERROR(INDEX(Settings!$AO$17:$AO$38,MATCH(Personnel!$G426,Settings!$AP$17:$AP$38,0)),0)","v":0},null,null,null,0,0,0,0,0,0,0,0,0,0,0,0,0,0,0,0,0,0,0,null,null,0]
[0,{"$f":"IFERROR(INDEX(Settings!$AO$17:$AO$38,MATCH(Personnel!$G427,Settings!$AP$17:$AP$38,0)),0)","v":0},null,null,null,0,0,0,0,0,0,0,0,0,0,0,0,0,0,0,0,0,0,0,null,null,0]
[0,{"$f":"IFERROR(INDEX(Settings!$AO$17:$AO$38,MATCH(Personnel!$G428,Settings!$AP$17:$AP$38,0)),0)","v":0},null,null,null,0,0,0,0,0,0,0,0,0,0,0,0,0,0,0,0,0,0,0,null,null,0]
[0,{"$f":"IFERROR(INDEX(Settings!$AO$17:$AO$38,MATCH(Personnel!$G429,Settings!$AP$17:$AP$38,0)),0)","v":0},null,null,null,0,0,0,0,0,0,0,0,0,0,0,0,0,0,0,0,0,0,0,null,null,0]
[0,{"$f":"IFERROR(INDEX(Settings!$AO$17:$AO$38,MATCH(Personnel!$G430,Settings!$AP$17:$AP$38,0)),0)","v":0},null,null,null,0,0,0,0,0,0,0,0,0,0,0,0,0,0,0,0,0,0,0,null,null,0]
[0,{"$f":"IFERROR(INDEX(Settings!$AO$17:$AO$38,MATCH(Personnel!$G431,Settings!$AP$17:$AP$38,0)),0)","v":0},null,null,null,0,0,0,0,0,0,0,0,0,0,0,0,0,0,0,0,0,0,0,null,null,0]
[0,{"$f":"IFERROR(INDEX(Settings!$AO$17:$AO$38,MATCH(Personnel!$G432,Settings!$AP$17:$AP$38,0)),0)","v":0},null,null,null,0,0,0,0,0,0,0,0,0,0,0,0,0,0,0,0,0,0,0,null,null,0]
[0,{"$f":"IFERROR(INDEX(Settings!$AO$17:$AO$38,MATCH(Personnel!$G433,Settings!$AP$17:$AP$38,0)),0)","v":0},null,null,null,0,0,0,0,0,0,0,0,0,0,0,0,0,0,0,0,0,0,0,null,null,0]
[0,{"$f":"IFERROR(INDEX(Settings!$AO$17:$AO$38,MATCH(Personnel!$G434,Settings!$AP$17:$AP$38,0)),0)","v":0},null,null,null,0,0,0,0,0,0,0,0,0,0,0,0,0,0,0,0,0,0,0,null,null,0]
[0,{"$f":"IFERROR(INDEX(Settings!$AO$17:$AO$38,MATCH(Personnel!$G435,Settings!$AP$17:$AP$38,0)),0)","v":0},null,null,null,0,0,0,0,0,0,0,0,0,0,0,0,0,0,0,0,0,0,0,null,null,0]
[0,{"$f":"IFERROR(INDEX(Settings!$AO$17:$AO$38,MATCH(Personnel!$G436,Settings!$AP$17:$AP$38,0)),0)","v":0},null,null,null,0,0,0,0,0,0,0,0,0,0,0,0,0,0,0,0,0,0,0,null,null,0]
[0,{"$f":"IFERROR(INDEX(Settings!$AO$17:$AO$38,MATCH(Personnel!$G437,Settings!$AP$17:$AP$38,0)),0)","v":0},null,null,null,0,0,0,0,0,0,0,0,0,0,0,0,0,0,0,0,0,0,0,null,null,0]
[0,{"$f":"IFERROR(INDEX(Settings!$AO$17:$AO$38,MATCH(Personnel!$G438,Settings!$AP$17:$AP$38,0)),0)","v":0},null,null,null,0,0,0,0,0,0,0,0,0,0,0,0,0,0,0,0,0,0,0,null,null,0]
[0,{"$f":"IFERROR(INDEX(Settings!$AO$17:$AO$38,MATCH(Personnel!$G439,Settings!$AP$17:$AP$38,0)),0)","v":0},null,null,null,0,0,0,0,0,0,0,0,0,0,0,0,0,0,0,0,0,0,0,null,null,0]
[0,{"$f":"IFERROR(INDEX(Settings!$AO$17:$AO$38,MATCH(Personnel!$G440,Settings!$AP$17:$AP$38,0)),0)","v":0},null,null,null,0,0,0,0,0,0,0,0,0,0,0,0,0,0,0,0,0,0,0,null,null,0]
[0,{"$f":"IFERROR(INDEX(Settings!$AO$17:$AO$38,MATCH(Personnel!$G441,Settings!$AP$17:$AP$38,0)),0)","v":0},null,null,null,0,0,0,0,0,0,0,0,0,0,0,0,0,0,0,0,0,0,0,null,null,0]
[0,{"$f":"IFERROR(INDEX(Settings!$AO$17:$AO$38,MATCH(Personnel!$G442,Settings!$AP$17:$AP$38,0)),0)","v":0},null,null,null,0,0,0,0,0,0,0,0,0,0,0,0,0,0,0,0,0,0,0,null,null,0]
[0,{"$f":"IFERROR(INDEX(Settings!$AO$17:$AO$38,MATCH(Personnel!$G443,Settings!$AP$17:$AP$38,0)),0)","v":0},null,null,null,0,0,0,0,0,0,0,0,0,0,0,0,0,0,0,0,0,0,0,null,null,0]
[0,{"$f":"IFERROR(INDEX(Settings!$AO$17:$AO$38,MATCH(Personnel!$G444,Settings!$AP$17:$AP$38,0)),0)","v":0},null,null,null,0,0,0,0,0,0,0,0,0,0,0,0,0,0,0,0,0,0,0,null,null,0]
[0,{"$f":"IFERROR(INDEX(Settings!$AO$17:$AO$38,MATCH(Personnel!$G445,Settings!$AP$17:$AP$38,0)),0)","v":0},null,null,null,0,0,0,0,0,0,0,0,0,0,0,0,0,0,0,0,0,0,0,null,null,0]
[0,{"$f":"IFERROR(INDEX(Settings!$AO$17:$AO$38,MATCH(Personnel!$G446,Settings!$AP$17:$AP$38,0)),0)","v":0},null,null,null,0,0,0,0,0,0,0,0,0,0,0,0,0,0,0,0,0,0,0,null,null,0]
[0,{"$f":"IFERROR(INDEX(Settings!$AO$17:$AO$38,MATCH(Personnel!$G447,Settings!$AP$17:$AP$38,0)),0)","v":0},null,null,null,0,0,0,0,0,0,0,0,0,0,0,0,0,0,0,0,0,0,0,null,null,0]
[0,{"$f":"IFERROR(INDEX(Settings!$AO$17:$AO$38,MATCH(Personnel!$G448,Settings!$AP$17:$AP$38,0)),0)","v":0},null,null,null,0,0,0,0,0,0,0,0,0,0,0,0,0,0,0,0,0,0,0,null,null,0]
[0,{"$f":"IFERROR(INDEX(Settings!$AO$17:$AO$38,MATCH(Personnel!$G449,Settings!$AP$17:$AP$38,0)),0)","v":0},null,null,null,0,0,0,0,0,0,0,0,0,0,0,0,0,0,0,0,0,0,0,null,null,0]
[0,{"$f":"IFERROR(INDEX(Settings!$AO$17:$AO$38,MATCH(Personnel!$G450,Settings!$AP$17:$AP$38,0)),0)","v":0},null,null,null,0,0,0,0,0,0,0,0,0,0,0,0,0,0,0,0,0,0,0,null,null,0]
[0,{"$f":"IFERROR(INDEX(Settings!$AO$17:$AO$38,MATCH(Personnel!$G451,Settings!$AP$17:$AP$38,0)),0)","v":0},null,null,null,0,0,0,0,0,0,0,0,0,0,0,0,0,0,0,0,0,0,0,null,null,0]
[0,{"$f":"IFERROR(INDEX(Settings!$AO$17:$AO$38,MATCH(Personnel!$G452,Settings!$AP$17:$AP$38,0)),0)","v":0},null,null,null,0,0,0,0,0,0,0,0,0,0,0,0,0,0,0,0,0,0,0,null,null,0]
[0,{"$f":"IFERROR(INDEX(Settings!$AO$17:$AO$38,MATCH(Personnel!$G453,Settings!$AP$17:$AP$38,0)),0)","v":0},null,null,null,0,0,0,0,0,0,0,0,0,0,0,0,0,0,0,0,0,0,0,null,null,0]
[0,{"$f":"IFERROR(INDEX(Settings!$AO$17:$AO$38,MATCH(Personnel!$G454,Settings!$AP$17:$AP$38,0)),0)","v":0},null,null,null,0,0,0,0,0,0,0,0,0,0,0,0,0,0,0,0,0,0,0,null,null,0]
[0,{"$f":"IFERROR(INDEX(Settings!$AO$17:$AO$38,MATCH(Personnel!$G455,Settings!$AP$17:$AP$38,0)),0)","v":0},null,null,null,0,0,0,0,0,0,0,0,0,0,0,0,0,0,0,0,0,0,0,null,null,0]
[0,{"$f":"IFERROR(INDEX(Settings!$AO$17:$AO$38,MATCH(Personnel!$G456,Settings!$AP$17:$AP$38,0)),0)","v":0},null,null,null,0,0,0,0,0,0,0,0,0,0,0,0,0,0,0,0,0,0,0,null,null,0]
[0,{"$f":"IFERROR(INDEX(Settings!$AO$17:$AO$38,MATCH(Personnel!$G457,Settings!$AP$17:$AP$38,0)),0)","v":0},null,null,null,0,0,0,0,0,0,0,0,0,0,0,0,0,0,0,0,0,0,0,null,null,0]
[0,{"$f":"IFERROR(INDEX(Settings!$AO$17:$AO$38,MATCH(Personnel!$G458,Settings!$AP$17:$AP$38,0)),0)","v":0},null,null,null,0,0,0,0,0,0,0,0,0,0,0,0,0,0,0,0,0,0,0,null,null,0]
[0,{"$f":"IFERROR(INDEX(Settings!$AO$17:$AO$38,MATCH(Personnel!$G459,Settings!$AP$17:$AP$38,0)),0)","v":0},null,null,null,0,0,0,0,0,0,0,0,0,0,0,0,0,0,0,0,0,0,0,null,null,0]
[{"$f":"IF(SUM(K460:AA460)>0,1,0)","v":0},{"$f":"IFERROR(INDEX(Settings!$AO$17:$AO$38,MATCH(Personnel!$G460,Settings!$AP$17:$AP$38,0)),0)","v":0},null,null,null,0,0,0,0,0,0,0,0,0,0,0,0,0,0,0,0,0,0,0,null,null,0]
[0,{"$f":"IFERROR(INDEX(Settings!$AO$17:$AO$38,MATCH(Personnel!$G461,Settings!$AP$17:$AP$38,0)),0)","v":0},null,null,null,0,0,0,0,0,0,0,{"$f":"ROUND(IF(ISERROR(L461/K461),0,(L461/K461)),0)","v":0},0,0,0,0,{"$f":"ROUND(IF(ISERROR(Q461/P461),0,(Q461/P461)),0)","v":0},0,0,{"$f":"ROUND(IF(ISERROR(T461/S461),0,(T461/S461)),0)","v":0},0,0,{"$f":"ROUND(IF(ISERROR(W461/V461),0,(W461/V461)),0)","v":0},null,null,{"$f":"ROUND(IF(ISERROR(Z461/Y461),0,(Z461/Y461)),0)","v":0}]
[0,{"$f":"IFERROR(INDEX(Settings!$AO$17:$AO$38,MATCH(Personnel!$G462,Settings!$AP$17:$AP$38,0)),0)","v":0},null,null,null,0,0,0,0,0,0,0,0,0,0,0,0,0,0,0,0,0,0,0,null,null,0]
[0,{"$f":"IFERROR(INDEX(Settings!$AO$17:$AO$38,MATCH(Personnel!$G463,Settings!$AP$17:$AP$38,0)),0)","v":0},null,null,null,0,0,0,0,0,0,0,0,0,0,0,0,0,0,0,0,0,0,0,null,null,0]
[0,{"$f":"IFERROR(INDEX(Settings!$AO$17:$AO$38,MATCH(Personnel!$G464,Settings!$AP$17:$AP$38,0)),0)","v":0},null,null,null,0,0,0,0,0,0,0,0,0,0,0,0,0,0,0,0,0,0,0,null,null,0]
[0,{"$f":"IFERROR(INDEX(Settings!$AO$17:$AO$38,MATCH(Personnel!$G465,Settings!$AP$17:$AP$38,0)),0)","v":0},null,null,null,0,0,0,0,0,0,0,0,0,0,0,0,0,0,0,0,0,0,0,null,null,0]
[0,{"$f":"IFERROR(INDEX(Settings!$AO$17:$AO$38,MATCH(Personnel!$G466,Settings!$AP$17:$AP$38,0)),0)","v":0},null,null,null,0,0,0,0,0,0,0,0,0,0,0,0,0,0,0,0,0,0,0,null,null,0]
[0,{"$f":"IFERROR(INDEX(Settings!$AO$17:$AO$38,MATCH(Personnel!$G467,Settings!$AP$17:$AP$38,0)),0)","v":0},null,null,null,0,0,0,0,0,0,0,0,0,0,0,0,0,0,0,0,0,0,0,null,null,0]
[0,{"$f":"IFERROR(INDEX(Settings!$AO$17:$AO$38,MATCH(Personnel!$G468,Settings!$AP$17:$AP$38,0)),0)","v":0},null,null,null,0,0,0,0,0,0,0,0,0,0,0,0,0,0,0,0,0,0,0,null,null,0]
[0,{"$f":"IFERROR(INDEX(Settings!$AO$17:$AO$38,MATCH(Personnel!$G469,Settings!$AP$17:$AP$38,0)),0)","v":0},null,null,null,0,0,0,0,0,0,0,0,0,0,0,0,0,0,0,0,0,0,0,null,null,0]
[0,{"$f":"IFERROR(INDEX(Settings!$AO$17:$AO$38,MATCH(Personnel!$G470,Settings!$AP$17:$AP$38,0)),0)","v":0},null,null,null,0,0,0,0,0,0,0,0,0,0,0,0,0,0,0,0,0,0,0,null,null,0]
[0,{"$f":"IFERROR(INDEX(Settings!$AO$17:$AO$38,MATCH(Personnel!$G471,Settings!$AP$17:$AP$38,0)),0)","v":0},null,null,null,0,0,0,0,0,0,0,0,0,0,0,0,0,0,0,0,0,0,0,null,null,0]
[0,{"$f":"IFERROR(INDEX(Settings!$AO$17:$AO$38,MATCH(Personnel!$G472,Settings!$AP$17:$AP$38,0)),0)","v":0},null,null,null,0,0,0,0,0,0,0,0,0,0,0,0,0,0,0,0,0,0,0,null,null,0]
[0,{"$f":"IFERROR(INDEX(Settings!$AO$17:$AO$38,MATCH(Personnel!$G473,Settings!$AP$17:$AP$38,0)),0)","v":0},null,null,null,0,0,0,0,0,0,0,0,0,0,0,0,0,0,0,0,0,0,0,null,null,0]
[0,{"$f":"IFERROR(INDEX(Settings!$AO$17:$AO$38,MATCH(Personnel!$G474,Settings!$AP$17:$AP$38,0)),0)","v":0},null,null,null,0,0,0,0,0,0,0,0,0,0,0,0,0,0,0,0,0,0,0,null,null,0]
[0,{"$f":"IFERROR(INDEX(Settings!$AO$17:$AO$38,MATCH(Personnel!$G475,Settings!$AP$17:$AP$38,0)),0)","v":0},null,null,null,0,0,0,0,0,0,0,0,0,0,0,0,0,0,0,0,0,0,0,null,null,0]
[0,{"$f":"IFERROR(INDEX(Settings!$AO$17:$AO$38,MATCH(Personnel!$G476,Settings!$AP$17:$AP$38,0)),0)","v":0},null,null,null,0,0,0,0,0,0,0,0,0,0,0,0,0,0,0,0,0,0,0,null,null,0]
[0,{"$f":"IFERROR(INDEX(Settings!$AO$17:$AO$38,MATCH(Personnel!$G477,Settings!$AP$17:$AP$38,0)),0)","v":0},null,null,null,0,0,0,0,0,0,0,0,0,0,0,0,0,0,0,0,0,0,0,null,null,0]
[0,{"$f":"IFERROR(INDEX(Settings!$AO$17:$AO$38,MATCH(Personnel!$G478,Settings!$AP$17:$AP$38,0)),0)","v":0},null,null,null,0,0,0,0,0,0,0,0,0,0,0,0,0,0,0,0,0,0,0,null,null,0]
[0,{"$f":"IFERROR(INDEX(Settings!$AO$17:$AO$38,MATCH(Personnel!$G479,Settings!$AP$17:$AP$38,0)),0)","v":0},null,null,null,0,0,0,0,0,0,0,0,0,0,0,0,0,0,0,0,0,0,0,null,null,0]
[0,{"$f":"IFERROR(INDEX(Settings!$AO$17:$AO$38,MATCH(Personnel!$G480,Settings!$AP$17:$AP$38,0)),0)","v":0},null,null,null,0,0,0,0,0,0,0,0,0,0,0,0,0,0,0,0,0,0,0,null,null,0]
[0,{"$f":"IFERROR(INDEX(Settings!$AO$17:$AO$38,MATCH(Personnel!$G481,Settings!$AP$17:$AP$38,0)),0)","v":0},null,null,null,0,0,0,0,0,0,0,0,0,0,0,0,0,0,0,0,0,0,0,null,null,0]
[0,{"$f":"IFERROR(INDEX(Settings!$AO$17:$AO$38,MATCH(Personnel!$G482,Settings!$AP$17:$AP$38,0)),0)","v":0},null,null,null,0,0,0,0,0,0,0,0,0,0,0,0,0,0,0,0,0,0,0,null,null,0]
[0,{"$f":"IFERROR(INDEX(Settings!$AO$17:$AO$38,MATCH(Personnel!$G483,Settings!$AP$17:$AP$38,0)),0)","v":0},null,null,null,0,0,0,0,0,0,0,0,0,0,0,0,0,0,0,0,0,0,0,null,null,0]
[0,{"$f":"IFERROR(INDEX(Settings!$AO$17:$AO$38,MATCH(Personnel!$G484,Settings!$AP$17:$AP$38,0)),0)","v":0},null,null,null,0,0,0,0,0,0,0,0,0,0,0,0,0,0,0,0,0,0,0,null,null,0]
[0,{"$f":"IFERROR(INDEX(Settings!$AO$17:$AO$38,MATCH(Personnel!$G485,Settings!$AP$17:$AP$38,0)),0)","v":0},null,null,null,0,0,0,0,0,0,0,0,0,0,0,0,0,0,0,0,0,0,0,null,null,0]
[0,{"$f":"IFERROR(INDEX(Settings!$AO$17:$AO$38,MATCH(Personnel!$G486,Settings!$AP$17:$AP$38,0)),0)","v":0},null,null,null,0,0,0,0,0,0,0,0,0,0,0,0,0,0,0,0,0,0,0,null,null,0]
[0,{"$f":"IFERROR(INDEX(Settings!$AO$17:$AO$38,MATCH(Personnel!$G487,Settings!$AP$17:$AP$38,0)),0)","v":0},null,null,null,0,0,0,0,0,0,0,0,0,0,0,0,0,0,0,0,0,0,0,null,null,0]
[0,{"$f":"IFERROR(INDEX(Settings!$AO$17:$AO$38,MATCH(Personnel!$G488,Settings!$AP$17:$AP$38,0)),0)","v":0},null,null,null,0,0,0,0,0,0,0,0,0,0,0,0,0,0,0,0,0,0,0,null,null,0]
[0,{"$f":"IFERROR(INDEX(Settings!$AO$17:$AO$38,MATCH(Personnel!$G489,Settings!$AP$17:$AP$38,0)),0)","v":0},null,null,null,0,0,0,0,0,0,0,0,0,0,0,0,0,0,0,0,0,0,0,null,null,0]
[0,{"$f":"IFERROR(INDEX(Settings!$AO$17:$AO$38,MATCH(Personnel!$G490,Settings!$AP$17:$AP$38,0)),0)","v":0},null,null,null,0,0,0,0,0,0,0,0,0,0,0,0,0,0,0,0,0,0,0,null,null,0]
[0,{"$f":"IFERROR(INDEX(Settings!$AO$17:$AO$38,MATCH(Personnel!$G491,Settings!$AP$17:$AP$38,0)),0)","v":0},null,null,null,0,0,0,0,0,0,0,0,0,0,0,0,0,0,0,0,0,0,0,null,null,0]
[0,{"$f":"IFERROR(INDEX(Settings!$AO$17:$AO$38,MATCH(Personnel!$G492,Settings!$AP$17:$AP$38,0)),0)","v":0},null,null,null,0,0,0,0,0,0,0,0,0,0,0,0,0,0,0,0,0,0,0,null,null,0]
[0,{"$f":"IFERROR(INDEX(Settings!$AO$17:$AO$38,MATCH(Personnel!$G493,Settings!$AP$17:$AP$38,0)),0)","v":0},null,null,null,0,0,0,0,0,0,0,0,0,0,0,0,0,0,0,0,0,0,0,null,null,0]
[0,{"$f":"IFERROR(INDEX(Settings!$AO$17:$AO$38,MATCH(Personnel!$G494,Settings!$AP$17:$AP$38,0)),0)","v":0},null,null,null,0,0,0,0,0,0,0,0,0,0,0,0,0,0,0,0,0,0,0,null,null,0]
[0,{"$f":"IFERROR(INDEX(Settings!$AO$17:$AO$38,MATCH(Personnel!$G495,Settings!$AP$17:$AP$38,0)),0)","v":0},null,null,null,0,0,0,0,0,0,0,0,0,0,0,0,0,0,0,0,0,0,0,null,null,0]
[0,{"$f":"IFERROR(INDEX(Settings!$AO$17:$AO$38,MATCH(Personnel!$G496,Settings!$AP$17:$AP$38,0)),0)","v":0},null,null,null,0,0,0,0,0,0,0,0,0,0,0,0,0,0,0,0,0,0,0,null,null,0]
[0,{"$f":"IFERROR(INDEX(Settings!$AO$17:$AO$38,MATCH(Personnel!$G497,Settings!$AP$17:$AP$38,0)),0)","v":0},null,null,null,0,0,0,0,0,0,0,0,0,0,0,0,0,0,0,0,0,0,0,null,null,0]
[0,{"$f":"IFERROR(INDEX(Settings!$AO$17:$AO$38,MATCH(Personnel!$G498,Settings!$AP$17:$AP$38,0)),0)","v":0},null,null,null,0,0,0,0,0,0,0,0,0,0,0,0,0,0,0,0,0,0,0,null,null,0]
[0,{"$f":"IFERROR(INDEX(Settings!$AO$17:$AO$38,MATCH(Personnel!$G499,Settings!$AP$17:$AP$38,0)),0)","v":0},null,null,null,0,0,0,0,0,0,0,0,0,0,0,0,0,0,0,0,0,0,0,null,null,0]
[0,{"$f":"IFERROR(INDEX(Settings!$AO$17:$AO$38,MATCH(Personnel!$G500,Settings!$AP$17:$AP$38,0)),0)","v":0},null,null,null,0,0,0,0,0,0,0,0,0,0,0,0,0,0,0,0,0,0,0,null,null,0]
[0,{"$f":"IFERROR(INDEX(Settings!$AO$17:$AO$38,MATCH(Personnel!$G501,Settings!$AP$17:$AP$38,0)),0)","v":0},null,null,null,0,0,0,0,0,0,0,0,0,0,0,0,0,0,0,0,0,0,0,null,null,0]
[0,{"$f":"IFERROR(INDEX(Settings!$AO$17:$AO$38,MATCH(Personnel!$G502,Settings!$AP$17:$AP$38,0)),0)","v":0},null,null,null,0,0,0,0,0,0,0,0,0,0,0,0,0,0,0,0,0,0,0,null,null,0]
[0,{"$f":"IFERROR(INDEX(Settings!$AO$17:$AO$38,MATCH(Personnel!$G503,Settings!$AP$17:$AP$38,0)),0)","v":0},null,null,null,0,0,0,0,0,0,0,0,0,0,0,0,0,0,0,0,0,0,0,null,null,0]
[0,{"$f":"IFERROR(INDEX(Settings!$AO$17:$AO$38,MATCH(Personnel!$G504,Settings!$AP$17:$AP$38,0)),0)","v":0},null,null,null,0,0,0,0,0,0,0,0,0,0,0,0,0,0,0,0,0,0,0,null,null,0]
[0,{"$f":"IFERROR(INDEX(Settings!$AO$17:$AO$38,MATCH(Personnel!$G505,Settings!$AP$17:$AP$38,0)),0)","v":0},null,null,null,0,0,0,0,0,0,0,0,0,0,0,0,0,0,0,0,0,0,0,null,null,0]
[0,{"$f":"IFERROR(INDEX(Settings!$AO$17:$AO$38,MATCH(Personnel!$G506,Settings!$AP$17:$AP$38,0)),0)","v":0},null,null,null,0,0,0,0,0,0,0,0,0,0,0,0,0,0,0,0,0,0,0,null,null,0]
[0,{"$f":"IFERROR(INDEX(Settings!$AO$17:$AO$38,MATCH(Personnel!$G507,Settings!$AP$17:$AP$38,0)),0)","v":0},null,null,null,0,0,0,0,0,0,0,0,0,0,0,0,0,0,0,0,0,0,0,null,null,0]
[0,{"$f":"IFERROR(INDEX(Settings!$AO$17:$AO$38,MATCH(Personnel!$G508,Settings!$AP$17:$AP$38,0)),0)","v":0},null,null,null,0,0,0,0,0,0,0,0,0,0,0,0,0,0,0,0,0,0,0,null,null,0]
[0,{"$f":"IFERROR(INDEX(Settings!$AO$17:$AO$38,MATCH(Personnel!$G509,Settings!$AP$17:$AP$38,0)),0)","v":0},null,null,null,0,0,0,0,0,0,0,0,0,0,0,0,0,0,0,0,0,0,0,null,null,0]
[0,{"$f":"IFERROR(INDEX(Settings!$AO$17:$AO$38,MATCH(Personnel!$G510,Settings!$AP$17:$AP$38,0)),0)","v":0},null,null,null,0,0,0,0,0,0,0,0,0,0,0,0,0,0,0,0,0,0,0,null,null,0]
[0,{"$f":"IFERROR(INDEX(Settings!$AO$17:$AO$38,MATCH(Personnel!$G511,Settings!$AP$17:$AP$38,0)),0)","v":0},null,null,null,0,0,0,0,0,0,0,0,0,0,0,0,0,0,0,0,0,0,0,null,null,0]
[0,{"$f":"IFERROR(INDEX(Settings!$AO$17:$AO$38,MATCH(Personnel!$G512,Settings!$AP$17:$AP$38,0)),0)","v":0},null,null,null,0,0,0,0,0,0,0,0,0,0,0,0,0,0,0,0,0,0,0,null,null,0]
[0,{"$f":"IFERROR(INDEX(Settings!$AO$17:$AO$38,MATCH(Personnel!$G513,Settings!$AP$17:$AP$38,0)),0)","v":0},null,null,null,0,0,0,0,0,0,0,0,0,0,0,0,0,0,0,0,0,0,0,null,null,0]
[0,{"$f":"IFERROR(INDEX(Settings!$AO$17:$AO$38,MATCH(Personnel!$G514,Settings!$AP$17:$AP$38,0)),0)","v":0},null,null,null,0,0,0,0,0,0,0,0,0,0,0,0,0,0,0,0,0,0,0,null,null,0]
[0,{"$f":"IFERROR(INDEX(Settings!$AO$17:$AO$38,MATCH(Personnel!$G515,Settings!$AP$17:$AP$38,0)),0)","v":0},null,null,null,0,0,0,0,0,0,0,0,0,0,0,0,0,0,0,0,0,0,0,null,null,0]
[0,{"$f":"IFERROR(INDEX(Settings!$AO$17:$AO$38,MATCH(Personnel!$G516,Settings!$AP$17:$AP$38,0)),0)","v":0},null,null,null,0,0,0,0,0,0,0,0,0,0,0,0,0,0,0,0,0,0,0,null,null,0]
[0,{"$f":"IFERROR(INDEX(Settings!$AO$17:$AO$38,MATCH(Personnel!$G517,Settings!$AP$17:$AP$38,0)),0)","v":0},null,null,null,0,0,0,0,0,0,0,0,0,0,0,0,0,0,0,0,0,0,0,null,null,0]
[0,{"$f":"IFERROR(INDEX(Settings!$AO$17:$AO$38,MATCH(Personnel!$G518,Settings!$AP$17:$AP$38,0)),0)","v":0},null,null,null,0,0,0,0,0,0,0,0,0,0,0,0,0,0,0,0,0,0,0,null,null,0]
[0,{"$f":"IFERROR(INDEX(Settings!$AO$17:$AO$38,MATCH(Personnel!$G519,Settings!$AP$17:$AP$38,0)),0)","v":0},null,null,null,0,0,0,0,0,0,0,0,0,0,0,0,0,0,0,0,0,0,0,null,null,0]
[0,{"$f":"IFERROR(INDEX(Settings!$AO$17:$AO$38,MATCH(Personnel!$G520,Settings!$AP$17:$AP$38,0)),0)","v":0},null,null,null,0,0,0,0,0,0,0,0,0,0,0,0,0,0,0,0,0,0,0,null,null,0]
[0,{"$f":"IFERROR(INDEX(Settings!$AO$17:$AO$38,MATCH(Personnel!$G521,Settings!$AP$17:$AP$38,0)),0)","v":0},null,null,null,0,0,0,0,0,0,0,0,0,0,0,0,0,0,0,0,0,0,0,null,null,0]
[0,{"$f":"IFERROR(INDEX(Settings!$AO$17:$AO$38,MATCH(Personnel!$G522,Settings!$AP$17:$AP$38,0)),0)","v":0},null,null,null,0,0,0,0,0,0,0,0,0,0,0,0,0,0,0,0,0,0,0,null,null,0]
[0,{"$f":"IFERROR(INDEX(Settings!$AO$17:$AO$38,MATCH(Personnel!$G523,Settings!$AP$17:$AP$38,0)),0)","v":0},null,null,null,0,0,0,0,0,0,0,0,0,0,0,0,0,0,0,0,0,0,0,null,null,0]
[{"$f":"IF(SUM(K524:AA524)>0,1,0)","v":0},{"$f":"IFERROR(INDEX(Settings!$AO$17:$AO$38,MATCH(Personnel!$G524,Settings!$AP$17:$AP$38,0)),0)","v":0},null,null,null,0,0,0,0,0,0,0,0,0,0,0,0,0,0,0,0,0,0,0,null,null,0]
[0,{"$f":"IFERROR(INDEX(Settings!$AO$17:$AO$38,MATCH(Personnel!$G525,Settings!$AP$17:$AP$38,0)),0)","v":0},null,null,null,0,0,0,0,0,0,0,{"$f":"ROUND(IF(ISERROR(L525/K525),0,(L525/K525)),0)","v":0},0,0,0,0,{"$f":"ROUND(IF(ISERROR(Q525/P525),0,(Q525/P525)),0)","v":0},0,0,{"$f":"ROUND(IF(ISERROR(T525/S525),0,(T525/S525)),0)","v":0},0,0,{"$f":"ROUND(IF(ISERROR(W525/V525),0,(W525/V525)),0)","v":0},null,null,{"$f":"ROUND(IF(ISERROR(Z525/Y525),0,(Z525/Y525)),0)","v":0}]
[0,{"$f":"IFERROR(INDEX(Settings!$AO$17:$AO$38,MATCH(Personnel!$G526,Settings!$AP$17:$AP$38,0)),0)","v":0},null,null,null,0,0,0,0,0,0,0,0,0,0,0,0,0,0,0,0,0,0,0,null,null,0]
[0,{"$f":"IFERROR(INDEX(Settings!$AO$17:$AO$38,MATCH(Personnel!$G527,Settings!$AP$17:$AP$38,0)),0)","v":0},null,null,null,0,0,0,0,0,0,0,0,0,0,0,0,0,0,0,0,0,0,0,null,null,0]
[0,{"$f":"IFERROR(INDEX(Settings!$AO$17:$AO$38,MATCH(Personnel!$G528,Settings!$AP$17:$AP$38,0)),0)","v":0},null,null,null,0,0,0,0,0,0,0,0,0,0,0,0,0,0,0,0,0,0,0,null,null,0]
[0,{"$f":"IFERROR(INDEX(Settings!$AO$17:$AO$38,MATCH(Personnel!$G529,Settings!$AP$17:$AP$38,0)),0)","v":0},null,null,null,0,0,0,0,0,0,0,0,0,0,0,0,0,0,0,0,0,0,0,null,null,0]
[0,{"$f":"IFERROR(INDEX(Settings!$AO$17:$AO$38,MATCH(Personnel!$G530,Settings!$AP$17:$AP$38,0)),0)","v":0},null,null,null,0,0,0,0,0,0,0,0,0,0,0,0,0,0,0,0,0,0,0,null,null,0]
[0,{"$f":"IFERROR(INDEX(Settings!$AO$17:$AO$38,MATCH(Personnel!$G531,Settings!$AP$17:$AP$38,0)),0)","v":0},null,null,null,0,0,0,0,0,0,0,0,0,0,0,0,0,0,0,0,0,0,0,null,null,0]
[0,{"$f":"IFERROR(INDEX(Settings!$AO$17:$AO$38,MATCH(Personnel!$G532,Settings!$AP$17:$AP$38,0)),0)","v":0},null,null,null,0,0,0,0,0,0,0,0,0,0,0,0,0,0,0,0,0,0,0,null,null,0]
[0,{"$f":"IFERROR(INDEX(Settings!$AO$17:$AO$38,MATCH(Personnel!$G533,Settings!$AP$17:$AP$38,0)),0)","v":0},null,null,null,0,0,0,0,0,0,0,0,0,0,0,0,0,0,0,0,0,0,0,null,null,0]
[0,{"$f":"IFERROR(INDEX(Settings!$AO$17:$AO$38,MATCH(Personnel!$G534,Settings!$AP$17:$AP$38,0)),0)","v":0},null,null,null,0,0,0,0,0,0,0,0,0,0,0,0,0,0,0,0,0,0,0,null,null,0]
[0,{"$f":"IFERROR(INDEX(Settings!$AO$17:$AO$38,MATCH(Personnel!$G535,Settings!$AP$17:$AP$38,0)),0)","v":0},null,null,null,0,0,0,0,0,0,0,0,0,0,0,0,0,0,0,0,0,0,0,null,null,0]
[0,{"$f":"IFERROR(INDEX(Settings!$AO$17:$AO$38,MATCH(Personnel!$G536,Settings!$AP$17:$AP$38,0)),0)","v":0},null,null,null,0,0,0,0,0,0,0,0,0,0,0,0,0,0,0,0,0,0,0,null,null,0]
[0,{"$f":"IFERROR(INDEX(Settings!$AO$17:$AO$38,MATCH(Personnel!$G537,Settings!$AP$17:$AP$38,0)),0)","v":0},null,null,null,0,0,0,0,0,0,0,0,0,0,0,0,0,0,0,0,0,0,0,null,null,0]
[0,{"$f":"IFERROR(INDEX(Settings!$AO$17:$AO$38,MATCH(Personnel!$G538,Settings!$AP$17:$AP$38,0)),0)","v":0},null,null,null,0,0,0,0,0,0,0,0,0,0,0,0,0,0,0,0,0,0,0,null,null,0]
[0,{"$f":"IFERROR(INDEX(Settings!$AO$17:$AO$38,MATCH(Personnel!$G539,Settings!$AP$17:$AP$38,0)),0)","v":0},null,null,null,0,0,0,0,0,0,0,0,0,0,0,0,0,0,0,0,0,0,0,null,null,0]
[0,{"$f":"IFERROR(INDEX(Settings!$AO$17:$AO$38,MATCH(Personnel!$G540,Settings!$AP$17:$AP$38,0)),0)","v":0},null,null,null,0,0,0,0,0,0,0,0,0,0,0,0,0,0,0,0,0,0,0,null,null,0]
[0,{"$f":"IFERROR(INDEX(Settings!$AO$17:$AO$38,MATCH(Personnel!$G541,Settings!$AP$17:$AP$38,0)),0)","v":0},null,null,null,0,0,0,0,0,0,0,0,0,0,0,0,0,0,0,0,0,0,0,null,null,0]
[0,{"$f":"IFERROR(INDEX(Settings!$AO$17:$AO$38,MATCH(Personnel!$G542,Settings!$AP$17:$AP$38,0)),0)","v":0},null,null,null,0,0,0,0,0,0,0,0,0,0,0,0,0,0,0,0,0,0,0,null,null,0]
[0,{"$f":"IFERROR(INDEX(Settings!$AO$17:$AO$38,MATCH(Personnel!$G543,Settings!$AP$17:$AP$38,0)),0)","v":0},null,null,null,0,0,0,0,0,0,0,0,0,0,0,0,0,0,0,0,0,0,0,null,null,0]
[0,{"$f":"IFERROR(INDEX(Settings!$AO$17:$AO$38,MATCH(Personnel!$G544,Settings!$AP$17:$AP$38,0)),0)","v":0},null,null,null,0,0,0,0,0,0,0,0,0,0,0,0,0,0,0,0,0,0,0,null,null,0]
[0,{"$f":"IFERROR(INDEX(Settings!$AO$17:$AO$38,MATCH(Personnel!$G545,Settings!$AP$17:$AP$38,0)),0)","v":0},null,null,null,0,0,0,0,0,0,0,0,0,0,0,0,0,0,0,0,0,0,0,null,null,0]
[0,{"$f":"IFERROR(INDEX(Settings!$AO$17:$AO$38,MATCH(Personnel!$G546,Settings!$AP$17:$AP$38,0)),0)","v":0},null,null,null,0,0,0,0,0,0,0,0,0,0,0,0,0,0,0,0,0,0,0,null,null,0]
[0,{"$f":"IFERROR(INDEX(Settings!$AO$17:$AO$38,MATCH(Personnel!$G547,Settings!$AP$17:$AP$38,0)),0)","v":0},null,null,null,0,0,0,0,0,0,0,0,0,0,0,0,0,0,0,0,0,0,0,null,null,0]
[0,{"$f":"IFERROR(INDEX(Settings!$AO$17:$AO$38,MATCH(Personnel!$G548,Settings!$AP$17:$AP$38,0)),0)","v":0},null,null,null,0,0,0,0,0,0,0,0,0,0,0,0,0,0,0,0,0,0,0,null,null,0]
[0,{"$f":"IFERROR(INDEX(Settings!$AO$17:$AO$38,MATCH(Personnel!$G549,Settings!$AP$17:$AP$38,0)),0)","v":0},null,null,null,0,0,0,0,0,0,0,0,0,0,0,0,0,0,0,0,0,0,0,null,null,0]
[0,{"$f":"IFERROR(INDEX(Settings!$AO$17:$AO$38,MATCH(Personnel!$G550,Settings!$AP$17:$AP$38,0)),0)","v":0},null,null,null,0,0,0,0,0,0,0,0,0,0,0,0,0,0,0,0,0,0,0,null,null,0]
[0,{"$f":"IFERROR(INDEX(Settings!$AO$17:$AO$38,MATCH(Personnel!$G551,Settings!$AP$17:$AP$38,0)),0)","v":0},null,null,null,0,0,0,0,0,0,0,0,0,0,0,0,0,0,0,0,0,0,0,null,null,0]
[0,{"$f":"IFERROR(INDEX(Settings!$AO$17:$AO$38,MATCH(Personnel!$G552,Settings!$AP$17:$AP$38,0)),0)","v":0},null,null,null,0,0,0,0,0,0,0,0,0,0,0,0,0,0,0,0,0,0,0,null,null,0]
[0,{"$f":"IFERROR(INDEX(Settings!$AO$17:$AO$38,MATCH(Personnel!$G553,Settings!$AP$17:$AP$38,0)),0)","v":0},null,null,null,0,0,0,0,0,0,0,0,0,0,0,0,0,0,0,0,0,0,0,null,null,0]
[0,{"$f":"IFERROR(INDEX(Settings!$AO$17:$AO$38,MATCH(Personnel!$G554,Settings!$AP$17:$AP$38,0)),0)","v":0},null,null,null,0,0,0,0,0,0,0,0,0,0,0,0,0,0,0,0,0,0,0,null,null,0]
[0,{"$f":"IFERROR(INDEX(Settings!$AO$17:$AO$38,MATCH(Personnel!$G555,Settings!$AP$17:$AP$38,0)),0)","v":0},null,null,null,0,0,0,0,0,0,0,0,0,0,0,0,0,0,0,0,0,0,0,null,null,0]
[0,{"$f":"IFERROR(INDEX(Settings!$AO$17:$AO$38,MATCH(Personnel!$G556,Settings!$AP$17:$AP$38,0)),0)","v":0},null,null,null,0,0,0,0,0,0,0,0,0,0,0,0,0,0,0,0,0,0,0,null,null,0]
[0,{"$f":"IFERROR(INDEX(Settings!$AO$17:$AO$38,MATCH(Personnel!$G557,Settings!$AP$17:$AP$38,0)),0)","v":0},null,null,null,0,0,0,0,0,0,0,0,0,0,0,0,0,0,0,0,0,0,0,null,null,0]
[0,{"$f":"IFERROR(INDEX(Settings!$AO$17:$AO$38,MATCH(Personnel!$G558,Settings!$AP$17:$AP$38,0)),0)","v":0},null,null,null,0,0,0,0,0,0,0,0,0,0,0,0,0,0,0,0,0,0,0,null,null,0]
[0,{"$f":"IFERROR(INDEX(Settings!$AO$17:$AO$38,MATCH(Personnel!$G559,Settings!$AP$17:$AP$38,0)),0)","v":0},null,null,null,0,0,0,0,0,0,0,0,0,0,0,0,0,0,0,0,0,0,0,null,null,0]
[0,{"$f":"IFERROR(INDEX(Settings!$AO$17:$AO$38,MATCH(Personnel!$G560,Settings!$AP$17:$AP$38,0)),0)","v":0},null,null,null,0,0,0,0,0,0,0,0,0,0,0,0,0,0,0,0,0,0,0,null,null,0]
[0,{"$f":"IFERROR(INDEX(Settings!$AO$17:$AO$38,MATCH(Personnel!$G561,Settings!$AP$17:$AP$38,0)),0)","v":0},null,null,null,0,0,0,0,0,0,0,0,0,0,0,0,0,0,0,0,0,0,0,null,null,0]
[0,{"$f":"IFERROR(INDEX(Settings!$AO$17:$AO$38,MATCH(Personnel!$G562,Settings!$AP$17:$AP$38,0)),0)","v":0},null,null,null,0,0,0,0,0,0,0,0,0,0,0,0,0,0,0,0,0,0,0,null,null,0]
[0,{"$f":"IFERROR(INDEX(Settings!$AO$17:$AO$38,MATCH(Personnel!$G563,Settings!$AP$17:$AP$38,0)),0)","v":0},null,null,null,0,0,0,0,0,0,0,0,0,0,0,0,0,0,0,0,0,0,0,null,null,0]
[0,{"$f":"IFERROR(INDEX(Settings!$AO$17:$AO$38,MATCH(Personnel!$G564,Settings!$AP$17:$AP$38,0)),0)","v":0},null,null,null,0,0,0,0,0,0,0,0,0,0,0,0,0,0,0,0,0,0,0,null,null,0]
[0,{"$f":"IFERROR(INDEX(Settings!$AO$17:$AO$38,MATCH(Personnel!$G565,Settings!$AP$17:$AP$38,0)),0)","v":0},null,null,null,0,0,0,0,0,0,0,0,0,0,0,0,0,0,0,0,0,0,0,null,null,0]
[0,{"$f":"IFERROR(INDEX(Settings!$AO$17:$AO$38,MATCH(Personnel!$G566,Settings!$AP$17:$AP$38,0)),0)","v":0},null,null,null,0,0,0,0,0,0,0,0,0,0,0,0,0,0,0,0,0,0,0,null,null,0]
[0,{"$f":"IFERROR(INDEX(Settings!$AO$17:$AO$38,MATCH(Personnel!$G567,Settings!$AP$17:$AP$38,0)),0)","v":0},null,null,null,0,0,0,0,0,0,0,0,0,0,0,0,0,0,0,0,0,0,0,null,null,0]
[0,{"$f":"IFERROR(INDEX(Settings!$AO$17:$AO$38,MATCH(Personnel!$G568,Settings!$AP$17:$AP$38,0)),0)","v":0},null,null,null,0,0,0,0,0,0,0,0,0,0,0,0,0,0,0,0,0,0,0,null,null,0]
[0,{"$f":"IFERROR(INDEX(Settings!$AO$17:$AO$38,MATCH(Personnel!$G569,Settings!$AP$17:$AP$38,0)),0)","v":0},null,null,null,0,0,0,0,0,0,0,0,0,0,0,0,0,0,0,0,0,0,0,null,null,0]
[0,{"$f":"IFERROR(INDEX(Settings!$AO$17:$AO$38,MATCH(Personnel!$G570,Settings!$AP$17:$AP$38,0)),0)","v":0},null,null,null,0,0,0,0,0,0,0,0,0,0,0,0,0,0,0,0,0,0,0,null,null,0]
[0,{"$f":"IFERROR(INDEX(Settings!$AO$17:$AO$38,MATCH(Personnel!$G571,Settings!$AP$17:$AP$38,0)),0)","v":0},null,null,null,0,0,0,0,0,0,0,0,0,0,0,0,0,0,0,0,0,0,0,null,null,0]
[0,{"$f":"IFERROR(INDEX(Settings!$AO$17:$AO$38,MATCH(Personnel!$G572,Settings!$AP$17:$AP$38,0)),0)","v":0},null,null,null,0,0,0,0,0,0,0,0,0,0,0,0,0,0,0,0,0,0,0,null,null,0]
[0,{"$f":"IFERROR(INDEX(Settings!$AO$17:$AO$38,MATCH(Personnel!$G573,Settings!$AP$17:$AP$38,0)),0)","v":0},null,null,null,0,0,0,0,0,0,0,0,0,0,0,0,0,0,0,0,0,0,0,null,null,0]
[0,{"$f":"IFERROR(INDEX(Settings!$AO$17:$AO$38,MATCH(Personnel!$G574,Settings!$AP$17:$AP$38,0)),0)","v":0},null,null,null,0,0,0,0,0,0,0,0,0,0,0,0,0,0,0,0,0,0,0,null,null,0]
[0,{"$f":"IFERROR(INDEX(Settings!$AO$17:$AO$38,MATCH(Personnel!$G575,Settings!$AP$17:$AP$38,0)),0)","v":0},null,null,null,0,0,0,0,0,0,0,0,0,0,0,0,0,0,0,0,0,0,0,null,null,0]
[0,{"$f":"IFERROR(INDEX(Settings!$AO$17:$AO$38,MATCH(Personnel!$G576,Settings!$AP$17:$AP$38,0)),0)","v":0},null,null,null,0,0,0,0,0,0,0,0,0,0,0,0,0,0,0,0,0,0,0,null,null,0]
[0,{"$f":"IFERROR(INDEX(Settings!$AO$17:$AO$38,MATCH(Personnel!$G577,Settings!$AP$17:$AP$38,0)),0)","v":0},null,null,null,0,0,0,0,0,0,0,0,0,0,0,0,0,0,0,0,0,0,0,null,null,0]
[0,{"$f":"IFERROR(INDEX(Settings!$AO$17:$AO$38,MATCH(Personnel!$G578,Settings!$AP$17:$AP$38,0)),0)","v":0},null,null,null,0,0,0,0,0,0,0,0,0,0,0,0,0,0,0,0,0,0,0,null,null,0]
[0,{"$f":"IFERROR(INDEX(Settings!$AO$17:$AO$38,MATCH(Personnel!$G579,Settings!$AP$17:$AP$38,0)),0)","v":0},null,null,null,0,0,0,0,0,0,0,0,0,0,0,0,0,0,0,0,0,0,0,null,null,0]
[0,{"$f":"IFERROR(INDEX(Settings!$AO$17:$AO$38,MATCH(Personnel!$G580,Settings!$AP$17:$AP$38,0)),0)","v":0},null,null,null,0,0,0,0,0,0,0,0,0,0,0,0,0,0,0,0,0,0,0,null,null,0]
[0,{"$f":"IFERROR(INDEX(Settings!$AO$17:$AO$38,MATCH(Personnel!$G581,Settings!$AP$17:$AP$38,0)),0)","v":0},null,null,null,0,0,0,0,0,0,0,0,0,0,0,0,0,0,0,0,0,0,0,null,null,0]
[0,{"$f":"IFERROR(INDEX(Settings!$AO$17:$AO$38,MATCH(Personnel!$G582,Settings!$AP$17:$AP$38,0)),0)","v":0},null,null,null,0,0,0,0,0,0,0,0,0,0,0,0,0,0,0,0,0,0,0,null,null,0]
[0,{"$f":"IFERROR(INDEX(Settings!$AO$17:$AO$38,MATCH(Personnel!$G583,Settings!$AP$17:$AP$38,0)),0)","v":0},null,null,null,0,0,0,0,0,0,0,0,0,0,0,0,0,0,0,0,0,0,0,null,null,0]
[0,{"$f":"IFERROR(INDEX(Settings!$AO$17:$AO$38,MATCH(Personnel!$G584,Settings!$AP$17:$AP$38,0)),0)","v":0},null,null,null,0,0,0,0,0,0,0,0,0,0,0,0,0,0,0,0,0,0,0,null,null,0]
[0,{"$f":"IFERROR(INDEX(Settings!$AO$17:$AO$38,MATCH(Personnel!$G585,Settings!$AP$17:$AP$38,0)),0)","v":0},null,null,null,0,0,0,0,0,0,0,0,0,0,0,0,0,0,0,0,0,0,0,null,null,0]
[0,{"$f":"IFERROR(INDEX(Settings!$AO$17:$AO$38,MATCH(Personnel!$G586,Settings!$AP$17:$AP$38,0)),0)","v":0},null,null,null,0,0,0,0,0,0,0,0,0,0,0,0,0,0,0,0,0,0,0,null,null,0]
[0,{"$f":"IFERROR(INDEX(Settings!$AO$17:$AO$38,MATCH(Personnel!$G587,Settings!$AP$17:$AP$38,0)),0)","v":0},null,null,null,0,0,0,0,0,0,0,0,0,0,0,0,0,0,0,0,0,0,0,null,null,0]
[{"$f":"IF(SUM(K588:AA588)>0,1,0)","v":0},{"$f":"IFERROR(INDEX(Settings!$AO$17:$AO$38,MATCH(Personnel!$G588,Settings!$AP$17:$AP$38,0)),0)","v":0},null,null,null,0,0,0,0,0,0,0,0,0,0,0,0,0,0,0,0,0,0,0,null,null,0]
[0,{"$f":"IFERROR(INDEX(Settings!$AO$17:$AO$38,MATCH(Personnel!$G589,Settings!$AP$17:$AP$38,0)),0)","v":0},null,null,null,0,0,0,0,0,0,0,{"$f":"ROUND(IF(ISERROR(L589/K589),0,(L589/K589)),0)","v":0},0,0,0,0,{"$f":"ROUND(IF(ISERROR(Q589/P589),0,(Q589/P589)),0)","v":0},0,0,{"$f":"ROUND(IF(ISERROR(T589/S589),0,(T589/S589)),0)","v":0},0,0,{"$f":"ROUND(IF(ISERROR(W589/V589),0,(W589/V589)),0)","v":0},null,null,{"$f":"ROUND(IF(ISERROR(Z589/Y589),0,(Z589/Y589)),0)","v":0}]
[0,{"$f":"IFERROR(INDEX(Settings!$AO$17:$AO$38,MATCH(Personnel!$G590,Settings!$AP$17:$AP$38,0)),0)","v":0},null,null,null,0,0,0,0,0,0,0,0,0,0,0,0,0,0,0,0,0,0,0,null,null,0]
[0,{"$f":"IFERROR(INDEX(Settings!$AO$17:$AO$38,MATCH(Personnel!$G591,Settings!$AP$17:$AP$38,0)),0)","v":0},null,null,null,0,0,0,0,0,0,0,0,0,0,0,0,0,0,0,0,0,0,0,null,null,0]
[0,{"$f":"IFERROR(INDEX(Settings!$AO$17:$AO$38,MATCH(Personnel!$G592,Settings!$AP$17:$AP$38,0)),0)","v":0},null,null,null,0,0,0,0,0,0,0,0,0,0,0,0,0,0,0,0,0,0,0,null,null,0]
[0,{"$f":"IFERROR(INDEX(Settings!$AO$17:$AO$38,MATCH(Personnel!$G593,Settings!$AP$17:$AP$38,0)),0)","v":0},null,null,null,0,0,0,0,0,0,0,0,0,0,0,0,0,0,0,0,0,0,0,null,null,0]
[0,{"$f":"IFERROR(INDEX(Settings!$AO$17:$AO$38,MATCH(Personnel!$G594,Settings!$AP$17:$AP$38,0)),0)","v":0},null,null,null,0,0,0,0,0,0,0,0,0,0,0,0,0,0,0,0,0,0,0,null,null,0]
[0,{"$f":"IFERROR(INDEX(Settings!$AO$17:$AO$38,MATCH(Personnel!$G595,Settings!$AP$17:$AP$38,0)),0)","v":0},null,null,null,0,0,0,0,0,0,0,0,0,0,0,0,0,0,0,0,0,0,0,null,null,0]
[0,{"$f":"IFERROR(INDEX(Settings!$AO$17:$AO$38,MATCH(Personnel!$G596,Settings!$AP$17:$AP$38,0)),0)","v":0},null,null,null,0,0,0,0,0,0,0,0,0,0,0,0,0,0,0,0,0,0,0,null,null,0]
[0,{"$f":"IFERROR(INDEX(Settings!$AO$17:$AO$38,MATCH(Personnel!$G597,Settings!$AP$17:$AP$38,0)),0)","v":0},null,null,null,0,0,0,0,0,0,0,0,0,0,0,0,0,0,0,0,0,0,0,null,null,0]
[0,{"$f":"IFERROR(INDEX(Settings!$AO$17:$AO$38,MATCH(Personnel!$G598,Settings!$AP$17:$AP$38,0)),0)","v":0},null,null,null,0,0,0,0,0,0,0,0,0,0,0,0,0,0,0,0,0,0,0,null,null,0]
[0,{"$f":"IFERROR(INDEX(Settings!$AO$17:$AO$38,MATCH(Personnel!$G599,Settings!$AP$17:$AP$38,0)),0)","v":0},null,null,null,0,0,0,0,0,0,0,0,0,0,0,0,0,0,0,0,0,0,0,null,null,0]
[0,{"$f":"IFERROR(INDEX(Settings!$AO$17:$AO$38,MATCH(Personnel!$G600,Settings!$AP$17:$AP$38,0)),0)","v":0},null,null,null,0,0,0,0,0,0,0,0,0,0,0,0,0,0,0,0,0,0,0,null,null,0]
[0,{"$f":"IFERROR(INDEX(Settings!$AO$17:$AO$38,MATCH(Personnel!$G601,Settings!$AP$17:$AP$38,0)),0)","v":0},null,null,null,0,0,0,0,0,0,0,0,0,0,0,0,0,0,0,0,0,0,0,null,null,0]
[0,{"$f":"IFERROR(INDEX(Settings!$AO$17:$AO$38,MATCH(Personnel!$G602,Settings!$AP$17:$AP$38,0)),0)","v":0},null,null,null,0,0,0,0,0,0,0,0,0,0,0,0,0,0,0,0,0,0,0,null,null,0]
[0,{"$f":"IFERROR(INDEX(Settings!$AO$17:$AO$38,MATCH(Personnel!$G603,Settings!$AP$17:$AP$38,0)),0)","v":0},null,null,null,0,0,0,0,0,0,0,0,0,0,0,0,0,0,0,0,0,0,0,null,null,0]
[0,{"$f":"IFERROR(INDEX(Settings!$AO$17:$AO$38,MATCH(Personnel!$G604,Settings!$AP$17:$AP$38,0)),0)","v":0},null,null,null,0,0,0,0,0,0,0,0,0,0,0,0,0,0,0,0,0,0,0,null,null,0]
[0,{"$f":"IFERROR(INDEX(Settings!$AO$17:$AO$38,MATCH(Personnel!$G605,Settings!$AP$17:$AP$38,0)),0)","v":0},null,null,null,0,0,0,0,0,0,0,0,0,0,0,0,0,0,0,0,0,0,0,null,null,0]
[0,{"$f":"IFERROR(INDEX(Settings!$AO$17:$AO$38,MATCH(Personnel!$G606,Settings!$AP$17:$AP$38,0)),0)","v":0},null,null,null,0,0,0,0,0,0,0,0,0,0,0,0,0,0,0,0,0,0,0,null,null,0]
[0,{"$f":"IFERROR(INDEX(Settings!$AO$17:$AO$38,MATCH(Personnel!$G607,Settings!$AP$17:$AP$38,0)),0)","v":0},null,null,null,0,0,0,0,0,0,0,0,0,0,0,0,0,0,0,0,0,0,0,null,null,0]
[0,{"$f":"IFERROR(INDEX(Settings!$AO$17:$AO$38,MATCH(Personnel!$G608,Settings!$AP$17:$AP$38,0)),0)","v":0},null,null,null,0,0,0,0,0,0,0,0,0,0,0,0,0,0,0,0,0,0,0,null,null,0]
[0,{"$f":"IFERROR(INDEX(Settings!$AO$17:$AO$38,MATCH(Personnel!$G609,Settings!$AP$17:$AP$38,0)),0)","v":0},null,null,null,0,0,0,0,0,0,0,0,0,0,0,0,0,0,0,0,0,0,0,null,null,0]
[0,{"$f":"IFERROR(INDEX(Settings!$AO$17:$AO$38,MATCH(Personnel!$G610,Settings!$AP$17:$AP$38,0)),0)","v":0},null,null,null,0,0,0,0,0,0,0,0,0,0,0,0,0,0,0,0,0,0,0,null,null,0]
[0,{"$f":"IFERROR(INDEX(Settings!$AO$17:$AO$38,MATCH(Personnel!$G611,Settings!$AP$17:$AP$38,0)),0)","v":0},null,null,null,0,0,0,0,0,0,0,0,0,0,0,0,0,0,0,0,0,0,0,null,null,0]
[0,{"$f":"IFERROR(INDEX(Settings!$AO$17:$AO$38,MATCH(Personnel!$G612,Settings!$AP$17:$AP$38,0)),0)","v":0},null,null,null,0,0,0,0,0,0,0,0,0,0,0,0,0,0,0,0,0,0,0,null,null,0]
[0,{"$f":"IFERROR(INDEX(Settings!$AO$17:$AO$38,MATCH(Personnel!$G613,Settings!$AP$17:$AP$38,0)),0)","v":0},null,null,null,0,0,0,0,0,0,0,0,0,0,0,0,0,0,0,0,0,0,0,null,null,0]
[0,{"$f":"IFERROR(INDEX(Settings!$AO$17:$AO$38,MATCH(Personnel!$G614,Settings!$AP$17:$AP$38,0)),0)","v":0},null,null,null,0,0,0,0,0,0,0,0,0,0,0,0,0,0,0,0,0,0,0,null,null,0]
[0,{"$f":"IFERROR(INDEX(Settings!$AO$17:$AO$38,MATCH(Personnel!$G615,Settings!$AP$17:$AP$38,0)),0)","v":0},null,null,null,0,0,0,0,0,0,0,0,0,0,0,0,0,0,0,0,0,0,0,null,null,0]
[0,{"$f":"IFERROR(INDEX(Settings!$AO$17:$AO$38,MATCH(Personnel!$G616,Settings!$AP$17:$AP$38,0)),0)","v":0},null,null,null,0,0,0,0,0,0,0,0,0,0,0,0,0,0,0,0,0,0,0,null,null,0]
[0,{"$f":"IFERROR(INDEX(Settings!$AO$17:$AO$38,MATCH(Personnel!$G617,Settings!$AP$17:$AP$38,0)),0)","v":0},null,null,null,0,0,0,0,0,0,0,0,0,0,0,0,0,0,0,0,0,0,0,null,null,0]
[0,{"$f":"IFERROR(INDEX(Settings!$AO$17:$AO$38,MATCH(Personnel!$G618,Settings!$AP$17:$AP$38,0)),0)","v":0},null,null,null,0,0,0,0,0,0,0,0,0,0,0,0,0,0,0,0,0,0,0,null,null,0]
[0,{"$f":"IFERROR(INDEX(Settings!$AO$17:$AO$38,MATCH(Personnel!$G619,Settings!$AP$17:$AP$38,0)),0)","v":0},null,null,null,0,0,0,0,0,0,0,0,0,0,0,0,0,0,0,0,0,0,0,null,null,0]
[0,{"$f":"IFERROR(INDEX(Settings!$AO$17:$AO$38,MATCH(Personnel!$G620,Settings!$AP$17:$AP$38,0)),0)","v":0},null,null,null,0,0,0,0,0,0,0,0,0,0,0,0,0,0,0,0,0,0,0,null,null,0]
[0,{"$f":"IFERROR(INDEX(Settings!$AO$17:$AO$38,MATCH(Personnel!$G621,Settings!$AP$17:$AP$38,0)),0)","v":0},null,null,null,0,0,0,0,0,0,0,0,0,0,0,0,0,0,0,0,0,0,0,null,null,0]
[0,{"$f":"IFERROR(INDEX(Settings!$AO$17:$AO$38,MATCH(Personnel!$G622,Settings!$AP$17:$AP$38,0)),0)","v":0},null,null,null,0,0,0,0,0,0,0,0,0,0,0,0,0,0,0,0,0,0,0,null,null,0]
[0,{"$f":"IFERROR(INDEX(Settings!$AO$17:$AO$38,MATCH(Personnel!$G623,Settings!$AP$17:$AP$38,0)),0)","v":0},null,null,null,0,0,0,0,0,0,0,0,0,0,0,0,0,0,0,0,0,0,0,null,null,0]
[0,{"$f":"IFERROR(INDEX(Settings!$AO$17:$AO$38,MATCH(Personnel!$G624,Settings!$AP$17:$AP$38,0)),0)","v":0},null,null,null,0,0,0,0,0,0,0,0,0,0,0,0,0,0,0,0,0,0,0,null,null,0]
[0,{"$f":"IFERROR(INDEX(Settings!$AO$17:$AO$38,MATCH(Personnel!$G625,Settings!$AP$17:$AP$38,0)),0)","v":0},null,null,null,0,0,0,0,0,0,0,0,0,0,0,0,0,0,0,0,0,0,0,null,null,0]
[0,{"$f":"IFERROR(INDEX(Settings!$AO$17:$AO$38,MATCH(Personnel!$G626,Settings!$AP$17:$AP$38,0)),0)","v":0},null,null,null,0,0,0,0,0,0,0,0,0,0,0,0,0,0,0,0,0,0,0,null,null,0]
[0,{"$f":"IFERROR(INDEX(Settings!$AO$17:$AO$38,MATCH(Personnel!$G627,Settings!$AP$17:$AP$38,0)),0)","v":0},null,null,null,0,0,0,0,0,0,0,0,0,0,0,0,0,0,0,0,0,0,0,null,null,0]
[0,{"$f":"IFERROR(INDEX(Settings!$AO$17:$AO$38,MATCH(Personnel!$G628,Settings!$AP$17:$AP$38,0)),0)","v":0},null,null,null,0,0,0,0,0,0,0,0,0,0,0,0,0,0,0,0,0,0,0,null,null,0]
[0,{"$f":"IFERROR(INDEX(Settings!$AO$17:$AO$38,MATCH(Personnel!$G629,Settings!$AP$17:$AP$38,0)),0)","v":0},null,null,null,0,0,0,0,0,0,0,0,0,0,0,0,0,0,0,0,0,0,0,null,null,0]
[0,{"$f":"IFERROR(INDEX(Settings!$AO$17:$AO$38,MATCH(Personnel!$G630,Settings!$AP$17:$AP$38,0)),0)","v":0},null,null,null,0,0,0,0,0,0,0,0,0,0,0,0,0,0,0,0,0,0,0,null,null,0]
[0,{"$f":"IFERROR(INDEX(Settings!$AO$17:$AO$38,MATCH(Personnel!$G631,Settings!$AP$17:$AP$38,0)),0)","v":0},null,null,null,0,0,0,0,0,0,0,0,0,0,0,0,0,0,0,0,0,0,0,null,null,0]
[0,{"$f":"IFERROR(INDEX(Settings!$AO$17:$AO$38,MATCH(Personnel!$G632,Settings!$AP$17:$AP$38,0)),0)","v":0},null,null,null,0,0,0,0,0,0,0,0,0,0,0,0,0,0,0,0,0,0,0,null,null,0]
[0,{"$f":"IFERROR(INDEX(Settings!$AO$17:$AO$38,MATCH(Personnel!$G633,Settings!$AP$17:$AP$38,0)),0)","v":0},null,null,null,0,0,0,0,0,0,0,0,0,0,0,0,0,0,0,0,0,0,0,null,null,0]
[0,{"$f":"IFERROR(INDEX(Settings!$AO$17:$AO$38,MATCH(Personnel!$G634,Settings!$AP$17:$AP$38,0)),0)","v":0},null,null,null,0,0,0,0,0,0,0,0,0,0,0,0,0,0,0,0,0,0,0,null,null,0]
[0,{"$f":"IFERROR(INDEX(Settings!$AO$17:$AO$38,MATCH(Personnel!$G635,Settings!$AP$17:$AP$38,0)),0)","v":0},null,null,null,0,0,0,0,0,0,0,0,0,0,0,0,0,0,0,0,0,0,0,null,null,0]
[0,{"$f":"IFERROR(INDEX(Settings!$AO$17:$AO$38,MATCH(Personnel!$G636,Settings!$AP$17:$AP$38,0)),0)","v":0},null,null,null,0,0,0,0,0,0,0,0,0,0,0,0,0,0,0,0,0,0,0,null,null,0]
[0,{"$f":"IFERROR(INDEX(Settings!$AO$17:$AO$38,MATCH(Personnel!$G637,Settings!$AP$17:$AP$38,0)),0)","v":0},null,null,null,0,0,0,0,0,0,0,0,0,0,0,0,0,0,0,0,0,0,0,null,null,0]
[0,{"$f":"IFERROR(INDEX(Settings!$AO$17:$AO$38,MATCH(Personnel!$G638,Settings!$AP$17:$AP$38,0)),0)","v":0},null,null,null,0,0,0,0,0,0,0,0,0,0,0,0,0,0,0,0,0,0,0,null,null,0]
[0,{"$f":"IFERROR(INDEX(Settings!$AO$17:$AO$38,MATCH(Personnel!$G639,Settings!$AP$17:$AP$38,0)),0)","v":0},null,null,null,0,0,0,0,0,0,0,0,0,0,0,0,0,0,0,0,0,0,0,null,null,0]
[0,{"$f":"IFERROR(INDEX(Settings!$AO$17:$AO$38,MATCH(Personnel!$G640,Settings!$AP$17:$AP$38,0)),0)","v":0},null,null,null,0,0,0,0,0,0,0,0,0,0,0,0,0,0,0,0,0,0,0,null,null,0]
[0,{"$f":"IFERROR(INDEX(Settings!$AO$17:$AO$38,MATCH(Personnel!$G641,Settings!$AP$17:$AP$38,0)),0)","v":0},null,null,null,0,0,0,0,0,0,0,0,0,0,0,0,0,0,0,0,0,0,0,null,null,0]
[0,{"$f":"IFERROR(INDEX(Settings!$AO$17:$AO$38,MATCH(Personnel!$G642,Settings!$AP$17:$AP$38,0)),0)","v":0},null,null,null,0,0,0,0,0,0,0,0,0,0,0,0,0,0,0,0,0,0,0,null,null,0]
[0,{"$f":"IFERROR(INDEX(Settings!$AO$17:$AO$38,MATCH(Personnel!$G643,Settings!$AP$17:$AP$38,0)),0)","v":0},null,null,null,0,0,0,0,0,0,0,0,0,0,0,0,0,0,0,0,0,0,0,null,null,0]
[0,{"$f":"IFERROR(INDEX(Settings!$AO$17:$AO$38,MATCH(Personnel!$G644,Settings!$AP$17:$AP$38,0)),0)","v":0},null,null,null,0,0,0,0,0,0,0,0,0,0,0,0,0,0,0,0,0,0,0,null,null,0]
[0,{"$f":"IFERROR(INDEX(Settings!$AO$17:$AO$38,MATCH(Personnel!$G645,Settings!$AP$17:$AP$38,0)),0)","v":0},null,null,null,0,0,0,0,0,0,0,0,0,0,0,0,0,0,0,0,0,0,0,null,null,0]
[0,{"$f":"IFERROR(INDEX(Settings!$AO$17:$AO$38,MATCH(Personnel!$G646,Settings!$AP$17:$AP$38,0)),0)","v":0},null,null,null,0,0,0,0,0,0,0,0,0,0,0,0,0,0,0,0,0,0,0,null,null,0]
[0,{"$f":"IFERROR(INDEX(Settings!$AO$17:$AO$38,MATCH(Personnel!$G647,Settings!$AP$17:$AP$38,0)),0)","v":0},null,null,null,0,0,0,0,0,0,0,0,0,0,0,0,0,0,0,0,0,0,0,null,null,0]
[0,{"$f":"IFERROR(INDEX(Settings!$AO$17:$AO$38,MATCH(Personnel!$G648,Settings!$AP$17:$AP$38,0)),0)","v":0},null,null,null,0,0,0,0,0,0,0,0,0,0,0,0,0,0,0,0,0,0,0,null,null,0]
[0,{"$f":"IFERROR(INDEX(Settings!$AO$17:$AO$38,MATCH(Personnel!$G649,Settings!$AP$17:$AP$38,0)),0)","v":0},null,null,null,0,0,0,0,0,0,0,0,0,0,0,0,0,0,0,0,0,0,0,null,null,0]
[0,{"$f":"IFERROR(INDEX(Settings!$AO$17:$AO$38,MATCH(Personnel!$G650,Settings!$AP$17:$AP$38,0)),0)","v":0},null,null,null,0,0,0,0,0,0,0,0,0,0,0,0,0,0,0,0,0,0,0,null,null,0]
[0,{"$f":"IFERROR(INDEX(Settings!$AO$17:$AO$38,MATCH(Personnel!$G651,Settings!$AP$17:$AP$38,0)),0)","v":0},null,null,null,0,0,0,0,0,0,0,0,0,0,0,0,0,0,0,0,0,0,0,null,null,0]
[{"$f":"IF(SUM(K652:AA652)>0,1,0)","v":0},{"$f":"IFERROR(INDEX(Settings!$AO$17:$AO$38,MATCH(Personnel!$G652,Settings!$AP$17:$AP$38,0)),0)","v":0},null,null,null,0,0,0,0,0,0,0,0,0,0,0,0,0,0,0,0,0,0,0,null,null,0]
[0,{"$f":"IFERROR(INDEX(Settings!$AO$17:$AO$38,MATCH(Personnel!$G653,Settings!$AP$17:$AP$38,0)),0)","v":0},null,null,null,0,0,0,0,0,0,0,{"$f":"ROUND(IF(ISERROR(L653/K653),0,(L653/K653)),0)","v":0},0,0,0,0,{"$f":"ROUND(IF(ISERROR(Q653/P653),0,(Q653/P653)),0)","v":0},0,0,{"$f":"ROUND(IF(ISERROR(T653/S653),0,(T653/S653)),0)","v":0},0,0,{"$f":"ROUND(IF(ISERROR(W653/V653),0,(W653/V653)),0)","v":0},null,null,{"$f":"ROUND(IF(ISERROR(Z653/Y653),0,(Z653/Y653)),0)","v":0}]
[0,{"$f":"IFERROR(INDEX(Settings!$AO$17:$AO$38,MATCH(Personnel!$G654,Settings!$AP$17:$AP$38,0)),0)","v":0},null,null,null,0,0,0,0,0,0,0,0,0,0,0,0,0,0,0,0,0,0,0,null,null,0]
[0,{"$f":"IFERROR(INDEX(Settings!$AO$17:$AO$38,MATCH(Personnel!$G655,Settings!$AP$17:$AP$38,0)),0)","v":0},null,null,null,0,0,0,0,0,0,0,0,0,0,0,0,0,0,0,0,0,0,0,null,null,0]
[0,{"$f":"IFERROR(INDEX(Settings!$AO$17:$AO$38,MATCH(Personnel!$G656,Settings!$AP$17:$AP$38,0)),0)","v":0},null,null,null,0,0,0,0,0,0,0,0,0,0,0,0,0,0,0,0,0,0,0,null,null,0]
[0,{"$f":"IFERROR(INDEX(Settings!$AO$17:$AO$38,MATCH(Personnel!$G657,Settings!$AP$17:$AP$38,0)),0)","v":0},null,null,null,0,0,0,0,0,0,0,0,0,0,0,0,0,0,0,0,0,0,0,null,null,0]
[0,{"$f":"IFERROR(INDEX(Settings!$AO$17:$AO$38,MATCH(Personnel!$G658,Settings!$AP$17:$AP$38,0)),0)","v":0},null,null,null,0,0,0,0,0,0,0,0,0,0,0,0,0,0,0,0,0,0,0,null,null,0]
[0,{"$f":"IFERROR(INDEX(Settings!$AO$17:$AO$38,MATCH(Personnel!$G659,Settings!$AP$17:$AP$38,0)),0)","v":0},null,null,null,0,0,0,0,0,0,0,0,0,0,0,0,0,0,0,0,0,0,0,null,null,0]
[0,{"$f":"IFERROR(INDEX(Settings!$AO$17:$AO$38,MATCH(Personnel!$G660,Settings!$AP$17:$AP$38,0)),0)","v":0},null,null,null,0,0,0,0,0,0,0,0,0,0,0,0,0,0,0,0,0,0,0,null,null,0]
[0,{"$f":"IFERROR(INDEX(Settings!$AO$17:$AO$38,MATCH(Personnel!$G661,Settings!$AP$17:$AP$38,0)),0)","v":0},null,null,null,0,0,0,0,0,0,0,0,0,0,0,0,0,0,0,0,0,0,0,null,null,0]
[0,{"$f":"IFERROR(INDEX(Settings!$AO$17:$AO$38,MATCH(Personnel!$G662,Settings!$AP$17:$AP$38,0)),0)","v":0},null,null,null,0,0,0,0,0,0,0,0,0,0,0,0,0,0,0,0,0,0,0,null,null,0]
[0,{"$f":"IFERROR(INDEX(Settings!$AO$17:$AO$38,MATCH(Personnel!$G663,Settings!$AP$17:$AP$38,0)),0)","v":0},null,null,null,0,0,0,0,0,0,0,0,0,0,0,0,0,0,0,0,0,0,0,null,null,0]
[0,{"$f":"IFERROR(INDEX(Settings!$AO$17:$AO$38,MATCH(Personnel!$G664,Settings!$AP$17:$AP$38,0)),0)","v":0},null,null,null,0,0,0,0,0,0,0,0,0,0,0,0,0,0,0,0,0,0,0,null,null,0]
[0,{"$f":"IFERROR(INDEX(Settings!$AO$17:$AO$38,MATCH(Personnel!$G665,Settings!$AP$17:$AP$38,0)),0)","v":0},null,null,null,0,0,0,0,0,0,0,0,0,0,0,0,0,0,0,0,0,0,0,null,null,0]
[0,{"$f":"IFERROR(INDEX(Settings!$AO$17:$AO$38,MATCH(Personnel!$G666,Settings!$AP$17:$AP$38,0)),0)","v":0},null,null,null,0,0,0,0,0,0,0,0,0,0,0,0,0,0,0,0,0,0,0,null,null,0]
[0,{"$f":"IFERROR(INDEX(Settings!$AO$17:$AO$38,MATCH(Personnel!$G667,Settings!$AP$17:$AP$38,0)),0)","v":0},null,null,null,0,0,0,0,0,0,0,0,0,0,0,0,0,0,0,0,0,0,0,null,null,0]
[0,{"$f":"IFERROR(INDEX(Settings!$AO$17:$AO$38,MATCH(Personnel!$G668,Settings!$AP$17:$AP$38,0)),0)","v":0},null,null,null,0,0,0,0,0,0,0,0,0,0,0,0,0,0,0,0,0,0,0,null,null,0]
[0,{"$f":"IFERROR(INDEX(Settings!$AO$17:$AO$38,MATCH(Personnel!$G669,Settings!$AP$17:$AP$38,0)),0)","v":0},null,null,null,0,0,0,0,0,0,0,0,0,0,0,0,0,0,0,0,0,0,0,null,null,0]
[0,{"$f":"IFERROR(INDEX(Settings!$AO$17:$AO$38,MATCH(Personnel!$G670,Settings!$AP$17:$AP$38,0)),0)","v":0},null,null,null,0,0,0,0,0,0,0,0,0,0,0,0,0,0,0,0,0,0,0,null,null,0]
[0,{"$f":"IFERROR(INDEX(Settings!$AO$17:$AO$38,MATCH(Personnel!$G671,Settings!$AP$17:$AP$38,0)),0)","v":0},null,null,null,0,0,0,0,0,0,0,0,0,0,0,0,0,0,0,0,0,0,0,null,null,0]
[0,{"$f":"IFERROR(INDEX(Settings!$AO$17:$AO$38,MATCH(Personnel!$G672,Settings!$AP$17:$AP$38,0)),0)","v":0},null,null,null,0,0,0,0,0,0,0,0,0,0,0,0,0,0,0,0,0,0,0,null,null,0]
[0,{"$f":"IFERROR(INDEX(Settings!$AO$17:$AO$38,MATCH(Personnel!$G673,Settings!$AP$17:$AP$38,0)),0)","v":0},null,null,null,0,0,0,0,0,0,0,0,0,0,0,0,0,0,0,0,0,0,0,null,null,0]
[0,{"$f":"IFERROR(INDEX(Settings!$AO$17:$AO$38,MATCH(Personnel!$G674,Settings!$AP$17:$AP$38,0)),0)","v":0},null,null,null,0,0,0,0,0,0,0,0,0,0,0,0,0,0,0,0,0,0,0,null,null,0]
[0,{"$f":"IFERROR(INDEX(Settings!$AO$17:$AO$38,MATCH(Personnel!$G675,Settings!$AP$17:$AP$38,0)),0)","v":0},null,null,null,0,0,0,0,0,0,0,0,0,0,0,0,0,0,0,0,0,0,0,null,null,0]
[0,{"$f":"IFERROR(INDEX(Settings!$AO$17:$AO$38,MATCH(Personnel!$G676,Settings!$AP$17:$AP$38,0)),0)","v":0},null,null,null,0,0,0,0,0,0,0,0,0,0,0,0,0,0,0,0,0,0,0,null,null,0]
[0,{"$f":"IFERROR(INDEX(Settings!$AO$17:$AO$38,MATCH(Personnel!$G677,Settings!$AP$17:$AP$38,0)),0)","v":0},null,null,null,0,0,0,0,0,0,0,0,0,0,0,0,0,0,0,0,0,0,0,null,null,0]
[0,{"$f":"IFERROR(INDEX(Settings!$AO$17:$AO$38,MATCH(Personnel!$G678,Settings!$AP$17:$AP$38,0)),0)","v":0},null,null,null,0,0,0,0,0,0,0,0,0,0,0,0,0,0,0,0,0,0,0,null,null,0]
[0,{"$f":"IFERROR(INDEX(Settings!$AO$17:$AO$38,MATCH(Personnel!$G679,Settings!$AP$17:$AP$38,0)),0)","v":0},null,null,null,0,0,0,0,0,0,0,0,0,0,0,0,0,0,0,0,0,0,0,null,null,0]
[0,{"$f":"IFERROR(INDEX(Settings!$AO$17:$AO$38,MATCH(Personnel!$G680,Settings!$AP$17:$AP$38,0)),0)","v":0},null,null,null,0,0,0,0,0,0,0,0,0,0,0,0,0,0,0,0,0,0,0,null,null,0]
[0,{"$f":"IFERROR(INDEX(Settings!$AO$17:$AO$38,MATCH(Personnel!$G681,Settings!$AP$17:$AP$38,0)),0)","v":0},null,null,null,0,0,0,0,0,0,0,0,0,0,0,0,0,0,0,0,0,0,0,null,null,0]
[0,{"$f":"IFERROR(INDEX(Settings!$AO$17:$AO$38,MATCH(Personnel!$G682,Settings!$AP$17:$AP$38,0)),0)","v":0},null,null,null,0,0,0,0,0,0,0,0,0,0,0,0,0,0,0,0,0,0,0,null,null,0]
[0,{"$f":"IFERROR(INDEX(Settings!$AO$17:$AO$38,MATCH(Personnel!$G683,Settings!$AP$17:$AP$38,0)),0)","v":0},null,null,null,0,0,0,0,0,0,0,0,0,0,0,0,0,0,0,0,0,0,0,null,null,0]
[0,{"$f":"IFERROR(INDEX(Settings!$AO$17:$AO$38,MATCH(Personnel!$G684,Settings!$AP$17:$AP$38,0)),0)","v":0},null,null,null,0,0,0,0,0,0,0,0,0,0,0,0,0,0,0,0,0,0,0,null,null,0]
[0,{"$f":"IFERROR(INDEX(Settings!$AO$17:$AO$38,MATCH(Personnel!$G685,Settings!$AP$17:$AP$38,0)),0)","v":0},null,null,null,0,0,0,0,0,0,0,0,0,0,0,0,0,0,0,0,0,0,0,null,null,0]
[0,{"$f":"IFERROR(INDEX(Settings!$AO$17:$AO$38,MATCH(Personnel!$G686,Settings!$AP$17:$AP$38,0)),0)","v":0},null,null,null,0,0,0,0,0,0,0,0,0,0,0,0,0,0,0,0,0,0,0,null,null,0]
[0,{"$f":"IFERROR(INDEX(Settings!$AO$17:$AO$38,MATCH(Personnel!$G687,Settings!$AP$17:$AP$38,0)),0)","v":0},null,null,null,0,0,0,0,0,0,0,0,0,0,0,0,0,0,0,0,0,0,0,null,null,0]
[0,{"$f":"IFERROR(INDEX(Settings!$AO$17:$AO$38,MATCH(Personnel!$G688,Settings!$AP$17:$AP$38,0)),0)","v":0},null,null,null,0,0,0,0,0,0,0,0,0,0,0,0,0,0,0,0,0,0,0,null,null,0]
[0,{"$f":"IFERROR(INDEX(Settings!$AO$17:$AO$38,MATCH(Personnel!$G689,Settings!$AP$17:$AP$38,0)),0)","v":0},null,null,null,0,0,0,0,0,0,0,0,0,0,0,0,0,0,0,0,0,0,0,null,null,0]
[0,{"$f":"IFERROR(INDEX(Settings!$AO$17:$AO$38,MATCH(Personnel!$G690,Settings!$AP$17:$AP$38,0)),0)","v":0},null,null,null,0,0,0,0,0,0,0,0,0,0,0,0,0,0,0,0,0,0,0,null,null,0]
[0,{"$f":"IFERROR(INDEX(Settings!$AO$17:$AO$38,MATCH(Personnel!$G691,Settings!$AP$17:$AP$38,0)),0)","v":0},null,null,null,0,0,0,0,0,0,0,0,0,0,0,0,0,0,0,0,0,0,0,null,null,0]
[0,{"$f":"IFERROR(INDEX(Settings!$AO$17:$AO$38,MATCH(Personnel!$G692,Settings!$AP$17:$AP$38,0)),0)","v":0},null,null,null,0,0,0,0,0,0,0,0,0,0,0,0,0,0,0,0,0,0,0,null,null,0]
[0,{"$f":"IFERROR(INDEX(Settings!$AO$17:$AO$38,MATCH(Personnel!$G693,Settings!$AP$17:$AP$38,0)),0)","v":0},null,null,null,0,0,0,0,0,0,0,0,0,0,0,0,0,0,0,0,0,0,0,null,null,0]
[0,{"$f":"IFERROR(INDEX(Settings!$AO$17:$AO$38,MATCH(Personnel!$G694,Settings!$AP$17:$AP$38,0)),0)","v":0},null,null,null,0,0,0,0,0,0,0,0,0,0,0,0,0,0,0,0,0,0,0,null,null,0]
[0,{"$f":"IFERROR(INDEX(Settings!$AO$17:$AO$38,MATCH(Personnel!$G695,Settings!$AP$17:$AP$38,0)),0)","v":0},null,null,null,0,0,0,0,0,0,0,0,0,0,0,0,0,0,0,0,0,0,0,null,null,0]
[0,{"$f":"IFERROR(INDEX(Settings!$AO$17:$AO$38,MATCH(Personnel!$G696,Settings!$AP$17:$AP$38,0)),0)","v":0},null,null,null,0,0,0,0,0,0,0,0,0,0,0,0,0,0,0,0,0,0,0,null,null,0]
[0,{"$f":"IFERROR(INDEX(Settings!$AO$17:$AO$38,MATCH(Personnel!$G697,Settings!$AP$17:$AP$38,0)),0)","v":0},null,null,null,0,0,0,0,0,0,0,0,0,0,0,0,0,0,0,0,0,0,0,null,null,0]
[0,{"$f":"IFERROR(INDEX(Settings!$AO$17:$AO$38,MATCH(Personnel!$G698,Settings!$AP$17:$AP$38,0)),0)","v":0},null,null,null,0,0,0,0,0,0,0,0,0,0,0,0,0,0,0,0,0,0,0,null,null,0]
[0,{"$f":"IFERROR(INDEX(Settings!$AO$17:$AO$38,MATCH(Personnel!$G699,Settings!$AP$17:$AP$38,0)),0)","v":0},null,null,null,0,0,0,0,0,0,0,0,0,0,0,0,0,0,0,0,0,0,0,null,null,0]
[0,{"$f":"IFERROR(INDEX(Settings!$AO$17:$AO$38,MATCH(Personnel!$G700,Settings!$AP$17:$AP$38,0)),0)","v":0},null,null,null,0,0,0,0,0,0,0,0,0,0,0,0,0,0,0,0,0,0,0,null,null,0]
[0,{"$f":"IFERROR(INDEX(Settings!$AO$17:$AO$38,MATCH(Personnel!$G701,Settings!$AP$17:$AP$38,0)),0)","v":0},null,null,null,0,0,0,0,0,0,0,0,0,0,0,0,0,0,0,0,0,0,0,null,null,0]
[0,{"$f":"IFERROR(INDEX(Settings!$AO$17:$AO$38,MATCH(Personnel!$G702,Settings!$AP$17:$AP$38,0)),0)","v":0},null,null,null,0,0,0,0,0,0,0,0,0,0,0,0,0,0,0,0,0,0,0,null,null,0]
[0,{"$f":"IFERROR(INDEX(Settings!$AO$17:$AO$38,MATCH(Personnel!$G703,Settings!$AP$17:$AP$38,0)),0)","v":0},null,null,null,0,0,0,0,0,0,0,0,0,0,0,0,0,0,0,0,0,0,0,null,null,0]
[0,{"$f":"IFERROR(INDEX(Settings!$AO$17:$AO$38,MATCH(Personnel!$G704,Settings!$AP$17:$AP$38,0)),0)","v":0},null,null,null,0,0,0,0,0,0,0,0,0,0,0,0,0,0,0,0,0,0,0,null,null,0]
[0,{"$f":"IFERROR(INDEX(Settings!$AO$17:$AO$38,MATCH(Personnel!$G705,Settings!$AP$17:$AP$38,0)),0)","v":0},null,null,null,0,0,0,0,0,0,0,0,0,0,0,0,0,0,0,0,0,0,0,null,null,0]
[0,{"$f":"IFERROR(INDEX(Settings!$AO$17:$AO$38,MATCH(Personnel!$G706,Settings!$AP$17:$AP$38,0)),0)","v":0},null,null,null,0,0,0,0,0,0,0,0,0,0,0,0,0,0,0,0,0,0,0,null,null,0]
[0,{"$f":"IFERROR(INDEX(Settings!$AO$17:$AO$38,MATCH(Personnel!$G707,Settings!$AP$17:$AP$38,0)),0)","v":0},null,null,null,0,0,0,0,0,0,0,0,0,0,0,0,0,0,0,0,0,0,0,null,null,0]
[0,{"$f":"IFERROR(INDEX(Settings!$AO$17:$AO$38,MATCH(Personnel!$G708,Settings!$AP$17:$AP$38,0)),0)","v":0},null,null,null,0,0,0,0,0,0,0,0,0,0,0,0,0,0,0,0,0,0,0,null,null,0]
[0,{"$f":"IFERROR(INDEX(Settings!$AO$17:$AO$38,MATCH(Personnel!$G709,Settings!$AP$17:$AP$38,0)),0)","v":0},null,null,null,0,0,0,0,0,0,0,0,0,0,0,0,0,0,0,0,0,0,0,null,null,0]
[0,{"$f":"IFERROR(INDEX(Settings!$AO$17:$AO$38,MATCH(Personnel!$G710,Settings!$AP$17:$AP$38,0)),0)","v":0},null,null,null,0,0,0,0,0,0,0,0,0,0,0,0,0,0,0,0,0,0,0,null,null,0]
[0,{"$f":"IFERROR(INDEX(Settings!$AO$17:$AO$38,MATCH(Personnel!$G711,Settings!$AP$17:$AP$38,0)),0)","v":0},null,null,null,0,0,0,0,0,0,0,0,0,0,0,0,0,0,0,0,0,0,0,null,null,0]
[0,{"$f":"IFERROR(INDEX(Settings!$AO$17:$AO$38,MATCH(Personnel!$G712,Settings!$AP$17:$AP$38,0)),0)","v":0},null,null,null,0,0,0,0,0,0,0,0,0,0,0,0,0,0,0,0,0,0,0,null,null,0]
[0,{"$f":"IFERROR(INDEX(Settings!$AO$17:$AO$38,MATCH(Personnel!$G713,Settings!$AP$17:$AP$38,0)),0)","v":0},null,null,null,0,0,0,0,0,0,0,0,0,0,0,0,0,0,0,0,0,0,0,null,null,0]
[0,{"$f":"IFERROR(INDEX(Settings!$AO$17:$AO$38,MATCH(Personnel!$G714,Settings!$AP$17:$AP$38,0)),0)","v":0},null,null,null,0,0,0,0,0,0,0,0,0,0,0,0,0,0,0,0,0,0,0,null,null,0]
[0,{"$f":"IFERROR(INDEX(Settings!$AO$17:$AO$38,MATCH(Personnel!$G715,Settings!$AP$17:$AP$38,0)),0)","v":0},null,null,null,0,0,0,0,0,0,0,0,0,0,0,0,0,0,0,0,0,0,0,null,null,0]
[{"$f":"IF(SUM(K716:AA716)>0,1,0)","v":0},{"$f":"IFERROR(INDEX(Settings!$AO$17:$AO$38,MATCH(Personnel!$G716,Settings!$AP$17:$AP$38,0)),0)","v":0},null,null,null,0,0,0,0,0,0,0,0,0,0,0,0,0,0,0,0,0,0,0,null,null,0]
[0,{"$f":"IFERROR(INDEX(Settings!$AO$17:$AO$38,MATCH(Personnel!$G717,Settings!$AP$17:$AP$38,0)),0)","v":0},null,null,null,0,0,0,0,0,0,0,{"$f":"ROUND(IF(ISERROR(L717/K717),0,(L717/K717)),0)","v":0},0,0,0,0,{"$f":"ROUND(IF(ISERROR(Q717/P717),0,(Q717/P717)),0)","v":0},0,0,{"$f":"ROUND(IF(ISERROR(T717/S717),0,(T717/S717)),0)","v":0},0,0,{"$f":"ROUND(IF(ISERROR(W717/V717),0,(W717/V717)),0)","v":0},null,null,{"$f":"ROUND(IF(ISERROR(Z717/Y717),0,(Z717/Y717)),0)","v":0}]
[0,{"$f":"IFERROR(INDEX(Settings!$AO$17:$AO$38,MATCH(Personnel!$G718,Settings!$AP$17:$AP$38,0)),0)","v":0},null,null,null,0,0,0,0,0,0,0,0,0,0,0,0,0,0,0,0,0,0,0,null,null,0]
[0,{"$f":"IFERROR(INDEX(Settings!$AO$17:$AO$38,MATCH(Personnel!$G719,Settings!$AP$17:$AP$38,0)),0)","v":0},null,null,null,0,0,0,0,0,0,0,0,0,0,0,0,0,0,0,0,0,0,0,null,null,0]
[0,{"$f":"IFERROR(INDEX(Settings!$AO$17:$AO$38,MATCH(Personnel!$G720,Settings!$AP$17:$AP$38,0)),0)","v":0},null,null,null,0,0,0,0,0,0,0,0,0,0,0,0,0,0,0,0,0,0,0,null,null,0]
[0,{"$f":"IFERROR(INDEX(Settings!$AO$17:$AO$38,MATCH(Personnel!$G721,Settings!$AP$17:$AP$38,0)),0)","v":0},null,null,null,0,0,0,0,0,0,0,0,0,0,0,0,0,0,0,0,0,0,0,null,null,0]
[0,{"$f":"IFERROR(INDEX(Settings!$AO$17:$AO$38,MATCH(Personnel!$G722,Settings!$AP$17:$AP$38,0)),0)","v":0},null,null,null,0,0,0,0,0,0,0,0,0,0,0,0,0,0,0,0,0,0,0,null,null,0]
[0,{"$f":"IFERROR(INDEX(Settings!$AO$17:$AO$38,MATCH(Personnel!$G723,Settings!$AP$17:$AP$38,0)),0)","v":0},null,null,null,0,0,0,0,0,0,0,0,0,0,0,0,0,0,0,0,0,0,0,null,null,0]
[0,{"$f":"IFERROR(INDEX(Settings!$AO$17:$AO$38,MATCH(Personnel!$G724,Settings!$AP$17:$AP$38,0)),0)","v":0},null,null,null,0,0,0,0,0,0,0,0,0,0,0,0,0,0,0,0,0,0,0,null,null,0]
[0,{"$f":"IFERROR(INDEX(Settings!$AO$17:$AO$38,MATCH(Personnel!$G725,Settings!$AP$17:$AP$38,0)),0)","v":0},null,null,null,0,0,0,0,0,0,0,0,0,0,0,0,0,0,0,0,0,0,0,null,null,0]
[0,{"$f":"IFERROR(INDEX(Settings!$AO$17:$AO$38,MATCH(Personnel!$G726,Settings!$AP$17:$AP$38,0)),0)","v":0},null,null,null,0,0,0,0,0,0,0,0,0,0,0,0,0,0,0,0,0,0,0,null,null,0]
[0,{"$f":"IFERROR(INDEX(Settings!$AO$17:$AO$38,MATCH(Personnel!$G727,Settings!$AP$17:$AP$38,0)),0)","v":0},null,null,null,0,0,0,0,0,0,0,0,0,0,0,0,0,0,0,0,0,0,0,null,null,0]
[0,{"$f":"IFERROR(INDEX(Settings!$AO$17:$AO$38,MATCH(Personnel!$G728,Settings!$AP$17:$AP$38,0)),0)","v":0},null,null,null,0,0,0,0,0,0,0,0,0,0,0,0,0,0,0,0,0,0,0,null,null,0]
[0,{"$f":"IFERROR(INDEX(Settings!$AO$17:$AO$38,MATCH(Personnel!$G729,Settings!$AP$17:$AP$38,0)),0)","v":0},null,null,null,0,0,0,0,0,0,0,0,0,0,0,0,0,0,0,0,0,0,0,null,null,0]
[0,{"$f":"IFERROR(INDEX(Settings!$AO$17:$AO$38,MATCH(Personnel!$G730,Settings!$AP$17:$AP$38,0)),0)","v":0},null,null,null,0,0,0,0,0,0,0,0,0,0,0,0,0,0,0,0,0,0,0,null,null,0]
[0,{"$f":"IFERROR(INDEX(Settings!$AO$17:$AO$38,MATCH(Personnel!$G731,Settings!$AP$17:$AP$38,0)),0)","v":0},null,null,null,0,0,0,0,0,0,0,0,0,0,0,0,0,0,0,0,0,0,0,null,null,0]
[0,{"$f":"IFERROR(INDEX(Settings!$AO$17:$AO$38,MATCH(Personnel!$G732,Settings!$AP$17:$AP$38,0)),0)","v":0},null,null,null,0,0,0,0,0,0,0,0,0,0,0,0,0,0,0,0,0,0,0,null,null,0]
[0,{"$f":"IFERROR(INDEX(Settings!$AO$17:$AO$38,MATCH(Personnel!$G733,Settings!$AP$17:$AP$38,0)),0)","v":0},null,null,null,0,0,0,0,0,0,0,0,0,0,0,0,0,0,0,0,0,0,0,null,null,0]
[0,{"$f":"IFERROR(INDEX(Settings!$AO$17:$AO$38,MATCH(Personnel!$G734,Settings!$AP$17:$AP$38,0)),0)","v":0},null,null,null,0,0,0,0,0,0,0,0,0,0,0,0,0,0,0,0,0,0,0,null,null,0]
[0,{"$f":"IFERROR(INDEX(Settings!$AO$17:$AO$38,MATCH(Personnel!$G735,Settings!$AP$17:$AP$38,0)),0)","v":0},null,null,null,0,0,0,0,0,0,0,0,0,0,0,0,0,0,0,0,0,0,0,null,null,0]
[0,{"$f":"IFERROR(INDEX(Settings!$AO$17:$AO$38,MATCH(Personnel!$G736,Settings!$AP$17:$AP$38,0)),0)","v":0},null,null,null,0,0,0,0,0,0,0,0,0,0,0,0,0,0,0,0,0,0,0,null,null,0]
[0,{"$f":"IFERROR(INDEX(Settings!$AO$17:$AO$38,MATCH(Personnel!$G737,Settings!$AP$17:$AP$38,0)),0)","v":0},null,null,null,0,0,0,0,0,0,0,0,0,0,0,0,0,0,0,0,0,0,0,null,null,0]
[0,{"$f":"IFERROR(INDEX(Settings!$AO$17:$AO$38,MATCH(Personnel!$G738,Settings!$AP$17:$AP$38,0)),0)","v":0},null,null,null,0,0,0,0,0,0,0,0,0,0,0,0,0,0,0,0,0,0,0,null,null,0]
[0,{"$f":"IFERROR(INDEX(Settings!$AO$17:$AO$38,MATCH(Personnel!$G739,Settings!$AP$17:$AP$38,0)),0)","v":0},null,null,null,0,0,0,0,0,0,0,0,0,0,0,0,0,0,0,0,0,0,0,null,null,0]
[0,{"$f":"IFERROR(INDEX(Settings!$AO$17:$AO$38,MATCH(Personnel!$G740,Settings!$AP$17:$AP$38,0)),0)","v":0},null,null,null,0,0,0,0,0,0,0,0,0,0,0,0,0,0,0,0,0,0,0,null,null,0]
[0,{"$f":"IFERROR(INDEX(Settings!$AO$17:$AO$38,MATCH(Personnel!$G741,Settings!$AP$17:$AP$38,0)),0)","v":0},null,null,null,0,0,0,0,0,0,0,0,0,0,0,0,0,0,0,0,0,0,0,null,null,0]
[0,{"$f":"IFERROR(INDEX(Settings!$AO$17:$AO$38,MATCH(Personnel!$G742,Settings!$AP$17:$AP$38,0)),0)","v":0},null,null,null,0,0,0,0,0,0,0,0,0,0,0,0,0,0,0,0,0,0,0,null,null,0]
[0,{"$f":"IFERROR(INDEX(Settings!$AO$17:$AO$38,MATCH(Personnel!$G743,Settings!$AP$17:$AP$38,0)),0)","v":0},null,null,null,0,0,0,0,0,0,0,0,0,0,0,0,0,0,0,0,0,0,0,null,null,0]
[0,{"$f":"IFERROR(INDEX(Settings!$AO$17:$AO$38,MATCH(Personnel!$G744,Settings!$AP$17:$AP$38,0)),0)","v":0},null,null,null,0,0,0,0,0,0,0,0,0,0,0,0,0,0,0,0,0,0,0,null,null,0]
[0,{"$f":"IFERROR(INDEX(Settings!$AO$17:$AO$38,MATCH(Personnel!$G745,Settings!$AP$17:$AP$38,0)),0)","v":0},null,null,null,0,0,0,0,0,0,0,0,0,0,0,0,0,0,0,0,0,0,0,null,null,0]
[0,{"$f":"IFERROR(INDEX(Settings!$AO$17:$AO$38,MATCH(Personnel!$G746,Settings!$AP$17:$AP$38,0)),0)","v":0},null,null,null,0,0,0,0,0,0,0,0,0,0,0,0,0,0,0,0,0,0,0,null,null,0]
[0,{"$f":"IFERROR(INDEX(Settings!$AO$17:$AO$38,MATCH(Personnel!$G747,Settings!$AP$17:$AP$38,0)),0)","v":0},null,null,null,0,0,0,0,0,0,0,0,0,0,0,0,0,0,0,0,0,0,0,null,null,0]
[0,{"$f":"IFERROR(INDEX(Settings!$AO$17:$AO$38,MATCH(Personnel!$G748,Settings!$AP$17:$AP$38,0)),0)","v":0},null,null,null,0,0,0,0,0,0,0,0,0,0,0,0,0,0,0,0,0,0,0,null,null,0]
[0,{"$f":"IFERROR(INDEX(Settings!$AO$17:$AO$38,MATCH(Personnel!$G749,Settings!$AP$17:$AP$38,0)),0)","v":0},null,null,null,0,0,0,0,0,0,0,0,0,0,0,0,0,0,0,0,0,0,0,null,null,0]
[0,{"$f":"IFERROR(INDEX(Settings!$AO$17:$AO$38,MATCH(Personnel!$G750,Settings!$AP$17:$AP$38,0)),0)","v":0},null,null,null,0,0,0,0,0,0,0,0,0,0,0,0,0,0,0,0,0,0,0,null,null,0]
[0,{"$f":"IFERROR(INDEX(Settings!$AO$17:$AO$38,MATCH(Personnel!$G751,Settings!$AP$17:$AP$38,0)),0)","v":0},null,null,null,0,0,0,0,0,0,0,0,0,0,0,0,0,0,0,0,0,0,0,null,null,0]
[0,{"$f":"IFERROR(INDEX(Settings!$AO$17:$AO$38,MATCH(Personnel!$G752,Settings!$AP$17:$AP$38,0)),0)","v":0},null,null,null,0,0,0,0,0,0,0,0,0,0,0,0,0,0,0,0,0,0,0,null,null,0]
[0,{"$f":"IFERROR(INDEX(Settings!$AO$17:$AO$38,MATCH(Personnel!$G753,Settings!$AP$17:$AP$38,0)),0)","v":0},null,null,null,0,0,0,0,0,0,0,0,0,0,0,0,0,0,0,0,0,0,0,null,null,0]
[0,{"$f":"IFERROR(INDEX(Settings!$AO$17:$AO$38,MATCH(Personnel!$G754,Settings!$AP$17:$AP$38,0)),0)","v":0},null,null,null,0,0,0,0,0,0,0,0,0,0,0,0,0,0,0,0,0,0,0,null,null,0]
[0,{"$f":"IFERROR(INDEX(Settings!$AO$17:$AO$38,MATCH(Personnel!$G755,Settings!$AP$17:$AP$38,0)),0)","v":0},null,null,null,0,0,0,0,0,0,0,0,0,0,0,0,0,0,0,0,0,0,0,null,null,0]
[0,{"$f":"IFERROR(INDEX(Settings!$AO$17:$AO$38,MATCH(Personnel!$G756,Settings!$AP$17:$AP$38,0)),0)","v":0},null,null,null,0,0,0,0,0,0,0,0,0,0,0,0,0,0,0,0,0,0,0,null,null,0]
[0,{"$f":"IFERROR(INDEX(Settings!$AO$17:$AO$38,MATCH(Personnel!$G757,Settings!$AP$17:$AP$38,0)),0)","v":0},null,null,null,0,0,0,0,0,0,0,0,0,0,0,0,0,0,0,0,0,0,0,null,null,0]
[0,{"$f":"IFERROR(INDEX(Settings!$AO$17:$AO$38,MATCH(Personnel!$G758,Settings!$AP$17:$AP$38,0)),0)","v":0},null,null,null,0,0,0,0,0,0,0,0,0,0,0,0,0,0,0,0,0,0,0,null,null,0]
[0,{"$f":"IFERROR(INDEX(Settings!$AO$17:$AO$38,MATCH(Personnel!$G759,Settings!$AP$17:$AP$38,0)),0)","v":0},null,null,null,0,0,0,0,0,0,0,0,0,0,0,0,0,0,0,0,0,0,0,null,null,0]
[0,{"$f":"IFERROR(INDEX(Settings!$AO$17:$AO$38,MATCH(Personnel!$G760,Settings!$AP$17:$AP$38,0)),0)","v":0},null,null,null,0,0,0,0,0,0,0,0,0,0,0,0,0,0,0,0,0,0,0,null,null,0]
[0,{"$f":"IFERROR(INDEX(Settings!$AO$17:$AO$38,MATCH(Personnel!$G761,Settings!$AP$17:$AP$38,0)),0)","v":0},null,null,null,0,0,0,0,0,0,0,0,0,0,0,0,0,0,0,0,0,0,0,null,null,0]
[0,{"$f":"IFERROR(INDEX(Settings!$AO$17:$AO$38,MATCH(Personnel!$G762,Settings!$AP$17:$AP$38,0)),0)","v":0},null,null,null,0,0,0,0,0,0,0,0,0,0,0,0,0,0,0,0,0,0,0,null,null,0]
[0,{"$f":"IFERROR(INDEX(Settings!$AO$17:$AO$38,MATCH(Personnel!$G763,Settings!$AP$17:$AP$38,0)),0)","v":0},null,null,null,0,0,0,0,0,0,0,0,0,0,0,0,0,0,0,0,0,0,0,null,null,0]
[0,{"$f":"IFERROR(INDEX(Settings!$AO$17:$AO$38,MATCH(Personnel!$G764,Settings!$AP$17:$AP$38,0)),0)","v":0},null,null,null,0,0,0,0,0,0,0,0,0,0,0,0,0,0,0,0,0,0,0,null,null,0]
[0,{"$f":"IFERROR(INDEX(Settings!$AO$17:$AO$38,MATCH(Personnel!$G765,Settings!$AP$17:$AP$38,0)),0)","v":0},null,null,null,0,0,0,0,0,0,0,0,0,0,0,0,0,0,0,0,0,0,0,null,null,0]
[0,{"$f":"IFERROR(INDEX(Settings!$AO$17:$AO$38,MATCH(Personnel!$G766,Settings!$AP$17:$AP$38,0)),0)","v":0},null,null,null,0,0,0,0,0,0,0,0,0,0,0,0,0,0,0,0,0,0,0,null,null,0]
[0,{"$f":"IFERROR(INDEX(Settings!$AO$17:$AO$38,MATCH(Personnel!$G767,Settings!$AP$17:$AP$38,0)),0)","v":0},null,null,null,0,0,0,0,0,0,0,0,0,0,0,0,0,0,0,0,0,0,0,null,null,0]
[0,{"$f":"IFERROR(INDEX(Settings!$AO$17:$AO$38,MATCH(Personnel!$G768,Settings!$AP$17:$AP$38,0)),0)","v":0},null,null,null,0,0,0,0,0,0,0,0,0,0,0,0,0,0,0,0,0,0,0,null,null,0]
[0,{"$f":"IFERROR(INDEX(Settings!$AO$17:$AO$38,MATCH(Personnel!$G769,Settings!$AP$17:$AP$38,0)),0)","v":0},null,null,null,0,0,0,0,0,0,0,0,0,0,0,0,0,0,0,0,0,0,0,null,null,0]
[0,{"$f":"IFERROR(INDEX(Settings!$AO$17:$AO$38,MATCH(Personnel!$G770,Settings!$AP$17:$AP$38,0)),0)","v":0},null,null,null,0,0,0,0,0,0,0,0,0,0,0,0,0,0,0,0,0,0,0,null,null,0]
[0,{"$f":"IFERROR(INDEX(Settings!$AO$17:$AO$38,MATCH(Personnel!$G771,Settings!$AP$17:$AP$38,0)),0)","v":0},null,null,null,0,0,0,0,0,0,0,0,0,0,0,0,0,0,0,0,0,0,0,null,null,0]
[0,{"$f":"IFERROR(INDEX(Settings!$AO$17:$AO$38,MATCH(Personnel!$G772,Settings!$AP$17:$AP$38,0)),0)","v":0},null,null,null,0,0,0,0,0,0,0,0,0,0,0,0,0,0,0,0,0,0,0,null,null,0]
[0,{"$f":"IFERROR(INDEX(Settings!$AO$17:$AO$38,MATCH(Personnel!$G773,Settings!$AP$17:$AP$38,0)),0)","v":0},null,null,null,0,0,0,0,0,0,0,0,0,0,0,0,0,0,0,0,0,0,0,null,null,0]
[0,{"$f":"IFERROR(INDEX(Settings!$AO$17:$AO$38,MATCH(Personnel!$G774,Settings!$AP$17:$AP$38,0)),0)","v":0},null,null,null,0,0,0,0,0,0,0,0,0,0,0,0,0,0,0,0,0,0,0,null,null,0]
[0,{"$f":"IFERROR(INDEX(Settings!$AO$17:$AO$38,MATCH(Personnel!$G775,Settings!$AP$17:$AP$38,0)),0)","v":0},null,null,null,0,0,0,0,0,0,0,0,0,0,0,0,0,0,0,0,0,0,0,null,null,0]
[0,{"$f":"IFERROR(INDEX(Settings!$AO$17:$AO$38,MATCH(Personnel!$G776,Settings!$AP$17:$AP$38,0)),0)","v":0},null,null,null,0,0,0,0,0,0,0,0,0,0,0,0,0,0,0,0,0,0,0,null,null,0]
[0,{"$f":"IFERROR(INDEX(Settings!$AO$17:$AO$38,MATCH(Personnel!$G777,Settings!$AP$17:$AP$38,0)),0)","v":0},null,null,null,0,0,0,0,0,0,0,0,0,0,0,0,0,0,0,0,0,0,0,null,null,0]
[0,{"$f":"IFERROR(INDEX(Settings!$AO$17:$AO$38,MATCH(Personnel!$G778,Settings!$AP$17:$AP$38,0)),0)","v":0},null,null,null,0,0,0,0,0,0,0,0,0,0,0,0,0,0,0,0,0,0,0,null,null,0]
[0,{"$f":"IFERROR(INDEX(Settings!$AO$17:$AO$38,MATCH(Personnel!$G779,Settings!$AP$17:$AP$38,0)),0)","v":0},null,null,null,0,0,0,0,0,0,0,0,0,0,0,0,0,0,0,0,0,0,0,null,null,0]
[{"$f":"IF(SUM(K780:AA780)>0,1,0)","v":0},{"$f":"IFERROR(INDEX(Settings!$AO$17:$AO$38,MATCH(Personnel!$G780,Settings!$AP$17:$AP$38,0)),0)","v":0},null,null,null,0,0,0,0,0,0,0,0,0,0,0,0,0,0,0,0,0,0,0,null,null,0]
[0,{"$f":"IFERROR(INDEX(Settings!$AO$17:$AO$38,MATCH(Personnel!$G781,Settings!$AP$17:$AP$38,0)),0)","v":0},null,null,null,0,0,0,0,0,0,0,{"$f":"ROUND(IF(ISERROR(L781/K781),0,(L781/K781)),0)","v":0},0,0,0,0,{"$f":"ROUND(IF(ISERROR(Q781/P781),0,(Q781/P781)),0)","v":0},0,0,{"$f":"ROUND(IF(ISERROR(T781/S781),0,(T781/S781)),0)","v":0},0,0,{"$f":"ROUND(IF(ISERROR(W781/V781),0,(W781/V781)),0)","v":0},null,null,{"$f":"ROUND(IF(ISERROR(Z781/Y781),0,(Z781/Y781)),0)","v":0}]
[0,{"$f":"IFERROR(INDEX(Settings!$AO$17:$AO$38,MATCH(Personnel!$G782,Settings!$AP$17:$AP$38,0)),0)","v":0},null,null,null,0,0,0,0,0,0,0,0,0,0,0,0,0,0,0,0,0,0,0,null,null,0]
[0,{"$f":"IFERROR(INDEX(Settings!$AO$17:$AO$38,MATCH(Personnel!$G783,Settings!$AP$17:$AP$38,0)),0)","v":0},null,null,null,0,0,0,0,0,0,0,0,0,0,0,0,0,0,0,0,0,0,0,null,null,0]
[0,{"$f":"IFERROR(INDEX(Settings!$AO$17:$AO$38,MATCH(Personnel!$G784,Settings!$AP$17:$AP$38,0)),0)","v":0},null,null,null,0,0,0,0,0,0,0,0,0,0,0,0,0,0,0,0,0,0,0,null,null,0]
[0,{"$f":"IFERROR(INDEX(Settings!$AO$17:$AO$38,MATCH(Personnel!$G785,Settings!$AP$17:$AP$38,0)),0)","v":0},null,null,null,0,0,0,0,0,0,0,0,0,0,0,0,0,0,0,0,0,0,0,null,null,0]
[0,{"$f":"IFERROR(INDEX(Settings!$AO$17:$AO$38,MATCH(Personnel!$G786,Settings!$AP$17:$AP$38,0)),0)","v":0},null,null,null,0,0,0,0,0,0,0,0,0,0,0,0,0,0,0,0,0,0,0,null,null,0]
[0,{"$f":"IFERROR(INDEX(Settings!$AO$17:$AO$38,MATCH(Personnel!$G787,Settings!$AP$17:$AP$38,0)),0)","v":0},null,null,null,0,0,0,0,0,0,0,0,0,0,0,0,0,0,0,0,0,0,0,null,null,0]
[0,{"$f":"IFERROR(INDEX(Settings!$AO$17:$AO$38,MATCH(Personnel!$G788,Settings!$AP$17:$AP$38,0)),0)","v":0},null,null,null,0,0,0,0,0,0,0,0,0,0,0,0,0,0,0,0,0,0,0,null,null,0]
[0,{"$f":"IFERROR(INDEX(Settings!$AO$17:$AO$38,MATCH(Personnel!$G789,Settings!$AP$17:$AP$38,0)),0)","v":0},null,null,null,0,0,0,0,0,0,0,0,0,0,0,0,0,0,0,0,0,0,0,null,null,0]
[0,{"$f":"IFERROR(INDEX(Settings!$AO$17:$AO$38,MATCH(Personnel!$G790,Settings!$AP$17:$AP$38,0)),0)","v":0},null,null,null,0,0,0,0,0,0,0,0,0,0,0,0,0,0,0,0,0,0,0,null,null,0]
[0,{"$f":"IFERROR(INDEX(Settings!$AO$17:$AO$38,MATCH(Personnel!$G791,Settings!$AP$17:$AP$38,0)),0)","v":0},null,null,null,0,0,0,0,0,0,0,0,0,0,0,0,0,0,0,0,0,0,0,null,null,0]
[0,{"$f":"IFERROR(INDEX(Settings!$AO$17:$AO$38,MATCH(Personnel!$G792,Settings!$AP$17:$AP$38,0)),0)","v":0},null,null,null,0,0,0,0,0,0,0,0,0,0,0,0,0,0,0,0,0,0,0,null,null,0]
[0,{"$f":"IFERROR(INDEX(Settings!$AO$17:$AO$38,MATCH(Personnel!$G793,Settings!$AP$17:$AP$38,0)),0)","v":0},null,null,null,0,0,0,0,0,0,0,0,0,0,0,0,0,0,0,0,0,0,0,null,null,0]
[0,{"$f":"IFERROR(INDEX(Settings!$AO$17:$AO$38,MATCH(Personnel!$G794,Settings!$AP$17:$AP$38,0)),0)","v":0},null,null,null,0,0,0,0,0,0,0,0,0,0,0,0,0,0,0,0,0,0,0,null,null,0]
[0,{"$f":"IFERROR(INDEX(Settings!$AO$17:$AO$38,MATCH(Personnel!$G795,Settings!$AP$17:$AP$38,0)),0)","v":0},null,null,null,0,0,0,0,0,0,0,0,0,0,0,0,0,0,0,0,0,0,0,null,null,0]
[0,{"$f":"IFERROR(INDEX(Settings!$AO$17:$AO$38,MATCH(Personnel!$G796,Settings!$AP$17:$AP$38,0)),0)","v":0},null,null,null,0,0,0,0,0,0,0,0,0,0,0,0,0,0,0,0,0,0,0,null,null,0]
[0,{"$f":"IFERROR(INDEX(Settings!$AO$17:$AO$38,MATCH(Personnel!$G797,Settings!$AP$17:$AP$38,0)),0)","v":0},null,null,null,0,0,0,0,0,0,0,0,0,0,0,0,0,0,0,0,0,0,0,null,null,0]
[0,{"$f":"IFERROR(INDEX(Settings!$AO$17:$AO$38,MATCH(Personnel!$G798,Settings!$AP$17:$AP$38,0)),0)","v":0},null,null,null,0,0,0,0,0,0,0,0,0,0,0,0,0,0,0,0,0,0,0,null,null,0]
[0,{"$f":"IFERROR(INDEX(Settings!$AO$17:$AO$38,MATCH(Personnel!$G799,Settings!$AP$17:$AP$38,0)),0)","v":0},null,null,null,0,0,0,0,0,0,0,0,0,0,0,0,0,0,0,0,0,0,0,null,null,0]
[0,{"$f":"IFERROR(INDEX(Settings!$AO$17:$AO$38,MATCH(Personnel!$G800,Settings!$AP$17:$AP$38,0)),0)","v":0},null,null,null,0,0,0,0,0,0,0,0,0,0,0,0,0,0,0,0,0,0,0,null,null,0]
[0,{"$f":"IFERROR(INDEX(Settings!$AO$17:$AO$38,MATCH(Personnel!$G801,Settings!$AP$17:$AP$38,0)),0)","v":0},null,null,null,0,0,0,0,0,0,0,0,0,0,0,0,0,0,0,0,0,0,0,null,null,0]
[0,{"$f":"IFERROR(INDEX(Settings!$AO$17:$AO$38,MATCH(Personnel!$G802,Settings!$AP$17:$AP$38,0)),0)","v":0},null,null,null,0,0,0,0,0,0,0,0,0,0,0,0,0,0,0,0,0,0,0,null,null,0]
[0,{"$f":"IFERROR(INDEX(Settings!$AO$17:$AO$38,MATCH(Personnel!$G803,Settings!$AP$17:$AP$38,0)),0)","v":0},null,null,null,0,0,0,0,0,0,0,0,0,0,0,0,0,0,0,0,0,0,0,null,null,0]
[0,{"$f":"IFERROR(INDEX(Settings!$AO$17:$AO$38,MATCH(Personnel!$G804,Settings!$AP$17:$AP$38,0)),0)","v":0},null,null,null,0,0,0,0,0,0,0,0,0,0,0,0,0,0,0,0,0,0,0,null,null,0]
[0,{"$f":"IFERROR(INDEX(Settings!$AO$17:$AO$38,MATCH(Personnel!$G805,Settings!$AP$17:$AP$38,0)),0)","v":0},null,null,null,0,0,0,0,0,0,0,0,0,0,0,0,0,0,0,0,0,0,0,null,null,0]
[0,{"$f":"IFERROR(INDEX(Settings!$AO$17:$AO$38,MATCH(Personnel!$G806,Settings!$AP$17:$AP$38,0)),0)","v":0},null,null,null,0,0,0,0,0,0,0,0,0,0,0,0,0,0,0,0,0,0,0,null,null,0]
[0,{"$f":"IFERROR(INDEX(Settings!$AO$17:$AO$38,MATCH(Personnel!$G807,Settings!$AP$17:$AP$38,0)),0)","v":0},null,null,null,0,0,0,0,0,0,0,0,0,0,0,0,0,0,0,0,0,0,0,null,null,0]
[0,{"$f":"IFERROR(INDEX(Settings!$AO$17:$AO$38,MATCH(Personnel!$G808,Settings!$AP$17:$AP$38,0)),0)","v":0},null,null,null,0,0,0,0,0,0,0,0,0,0,0,0,0,0,0,0,0,0,0,null,null,0]
[0,{"$f":"IFERROR(INDEX(Settings!$AO$17:$AO$38,MATCH(Personnel!$G809,Settings!$AP$17:$AP$38,0)),0)","v":0},null,null,null,0,0,0,0,0,0,0,0,0,0,0,0,0,0,0,0,0,0,0,null,null,0]
[0,{"$f":"IFERROR(INDEX(Settings!$AO$17:$AO$38,MATCH(Personnel!$G810,Settings!$AP$17:$AP$38,0)),0)","v":0},null,null,null,0,0,0,0,0,0,0,0,0,0,0,0,0,0,0,0,0,0,0,null,null,0]
[0,{"$f":"IFERROR(INDEX(Settings!$AO$17:$AO$38,MATCH(Personnel!$G811,Settings!$AP$17:$AP$38,0)),0)","v":0},null,null,null,0,0,0,0,0,0,0,0,0,0,0,0,0,0,0,0,0,0,0,null,null,0]
[0,{"$f":"IFERROR(INDEX(Settings!$AO$17:$AO$38,MATCH(Personnel!$G812,Settings!$AP$17:$AP$38,0)),0)","v":0},null,null,null,0,0,0,0,0,0,0,0,0,0,0,0,0,0,0,0,0,0,0,null,null,0]
[0,{"$f":"IFERROR(INDEX(Settings!$AO$17:$AO$38,MATCH(Personnel!$G813,Settings!$AP$17:$AP$38,0)),0)","v":0},null,null,null,0,0,0,0,0,0,0,0,0,0,0,0,0,0,0,0,0,0,0,null,null,0]
[0,{"$f":"IFERROR(INDEX(Settings!$AO$17:$AO$38,MATCH(Personnel!$G814,Settings!$AP$17:$AP$38,0)),0)","v":0},null,null,null,0,0,0,0,0,0,0,0,0,0,0,0,0,0,0,0,0,0,0,null,null,0]
[0,{"$f":"IFERROR(INDEX(Settings!$AO$17:$AO$38,MATCH(Personnel!$G815,Settings!$AP$17:$AP$38,0)),0)","v":0},null,null,null,0,0,0,0,0,0,0,0,0,0,0,0,0,0,0,0,0,0,0,null,null,0]
[0,{"$f":"IFERROR(INDEX(Settings!$AO$17:$AO$38,MATCH(Personnel!$G816,Settings!$AP$17:$AP$38,0)),0)","v":0},null,null,null,0,0,0,0,0,0,0,0,0,0,0,0,0,0,0,0,0,0,0,null,null,0]
[0,{"$f":"IFERROR(INDEX(Settings!$AO$17:$AO$38,MATCH(Personnel!$G817,Settings!$AP$17:$AP$38,0)),0)","v":0},null,null,null,0,0,0,0,0,0,0,0,0,0,0,0,0,0,0,0,0,0,0,null,null,0]
[0,{"$f":"IFERROR(INDEX(Settings!$AO$17:$AO$38,MATCH(Personnel!$G818,Settings!$AP$17:$AP$38,0)),0)","v":0},null,null,null,0,0,0,0,0,0,0,0,0,0,0,0,0,0,0,0,0,0,0,null,null,0]
[0,{"$f":"IFERROR(INDEX(Settings!$AO$17:$AO$38,MATCH(Personnel!$G819,Settings!$AP$17:$AP$38,0)),0)","v":0},null,null,null,0,0,0,0,0,0,0,0,0,0,0,0,0,0,0,0,0,0,0,null,null,0]
[0,{"$f":"IFERROR(INDEX(Settings!$AO$17:$AO$38,MATCH(Personnel!$G820,Settings!$AP$17:$AP$38,0)),0)","v":0},null,null,null,0,0,0,0,0,0,0,0,0,0,0,0,0,0,0,0,0,0,0,null,null,0]
[0,{"$f":"IFERROR(INDEX(Settings!$AO$17:$AO$38,MATCH(Personnel!$G821,Settings!$AP$17:$AP$38,0)),0)","v":0},null,null,null,0,0,0,0,0,0,0,0,0,0,0,0,0,0,0,0,0,0,0,null,null,0]
[0,{"$f":"IFERROR(INDEX(Settings!$AO$17:$AO$38,MATCH(Personnel!$G822,Settings!$AP$17:$AP$38,0)),0)","v":0},null,null,null,0,0,0,0,0,0,0,0,0,0,0,0,0,0,0,0,0,0,0,null,null,0]
[0,{"$f":"IFERROR(INDEX(Settings!$AO$17:$AO$38,MATCH(Personnel!$G823,Settings!$AP$17:$AP$38,0)),0)","v":0},null,null,null,0,0,0,0,0,0,0,0,0,0,0,0,0,0,0,0,0,0,0,null,null,0]
[0,{"$f":"IFERROR(INDEX(Settings!$AO$17:$AO$38,MATCH(Personnel!$G824,Settings!$AP$17:$AP$38,0)),0)","v":0},null,null,null,0,0,0,0,0,0,0,0,0,0,0,0,0,0,0,0,0,0,0,null,null,0]
[0,{"$f":"IFERROR(INDEX(Settings!$AO$17:$AO$38,MATCH(Personnel!$G825,Settings!$AP$17:$AP$38,0)),0)","v":0},null,null,null,0,0,0,0,0,0,0,0,0,0,0,0,0,0,0,0,0,0,0,null,null,0]
[0,{"$f":"IFERROR(INDEX(Settings!$AO$17:$AO$38,MATCH(Personnel!$G826,Settings!$AP$17:$AP$38,0)),0)","v":0},null,null,null,0,0,0,0,0,0,0,0,0,0,0,0,0,0,0,0,0,0,0,null,null,0]
[0,{"$f":"IFERROR(INDEX(Settings!$AO$17:$AO$38,MATCH(Personnel!$G827,Settings!$AP$17:$AP$38,0)),0)","v":0},null,null,null,0,0,0,0,0,0,0,0,0,0,0,0,0,0,0,0,0,0,0,null,null,0]
[0,{"$f":"IFERROR(INDEX(Settings!$AO$17:$AO$38,MATCH(Personnel!$G828,Settings!$AP$17:$AP$38,0)),0)","v":0},null,null,null,0,0,0,0,0,0,0,0,0,0,0,0,0,0,0,0,0,0,0,null,null,0]
[0,{"$f":"IFERROR(INDEX(Settings!$AO$17:$AO$38,MATCH(Personnel!$G829,Settings!$AP$17:$AP$38,0)),0)","v":0},null,null,null,0,0,0,0,0,0,0,0,0,0,0,0,0,0,0,0,0,0,0,null,null,0]
[0,{"$f":"IFERROR(INDEX(Settings!$AO$17:$AO$38,MATCH(Personnel!$G830,Settings!$AP$17:$AP$38,0)),0)","v":0},null,null,null,0,0,0,0,0,0,0,0,0,0,0,0,0,0,0,0,0,0,0,null,null,0]
[0,{"$f":"IFERROR(INDEX(Settings!$AO$17:$AO$38,MATCH(Personnel!$G831,Settings!$AP$17:$AP$38,0)),0)","v":0},null,null,null,0,0,0,0,0,0,0,0,0,0,0,0,0,0,0,0,0,0,0,null,null,0]
[0,{"$f":"IFERROR(INDEX(Settings!$AO$17:$AO$38,MATCH(Personnel!$G832,Settings!$AP$17:$AP$38,0)),0)","v":0},null,null,null,0,0,0,0,0,0,0,0,0,0,0,0,0,0,0,0,0,0,0,null,null,0]
[0,{"$f":"IFERROR(INDEX(Settings!$AO$17:$AO$38,MATCH(Personnel!$G833,Settings!$AP$17:$AP$38,0)),0)","v":0},null,null,null,0,0,0,0,0,0,0,0,0,0,0,0,0,0,0,0,0,0,0,null,null,0]
[0,{"$f":"IFERROR(INDEX(Settings!$AO$17:$AO$38,MATCH(Personnel!$G834,Settings!$AP$17:$AP$38,0)),0)","v":0},null,null,null,0,0,0,0,0,0,0,0,0,0,0,0,0,0,0,0,0,0,0,null,null,0]
[0,{"$f":"IFERROR(INDEX(Settings!$AO$17:$AO$38,MATCH(Personnel!$G835,Settings!$AP$17:$AP$38,0)),0)","v":0},null,null,null,0,0,0,0,0,0,0,0,0,0,0,0,0,0,0,0,0,0,0,null,null,0]
[0,{"$f":"IFERROR(INDEX(Settings!$AO$17:$AO$38,MATCH(Personnel!$G836,Settings!$AP$17:$AP$38,0)),0)","v":0},null,null,null,0,0,0,0,0,0,0,0,0,0,0,0,0,0,0,0,0,0,0,null,null,0]
[0,{"$f":"IFERROR(INDEX(Settings!$AO$17:$AO$38,MATCH(Personnel!$G837,Settings!$AP$17:$AP$38,0)),0)","v":0},null,null,null,0,0,0,0,0,0,0,0,0,0,0,0,0,0,0,0,0,0,0,null,null,0]
[0,{"$f":"IFERROR(INDEX(Settings!$AO$17:$AO$38,MATCH(Personnel!$G838,Settings!$AP$17:$AP$38,0)),0)","v":0},null,null,null,0,0,0,0,0,0,0,0,0,0,0,0,0,0,0,0,0,0,0,null,null,0]
[0,{"$f":"IFERROR(INDEX(Settings!$AO$17:$AO$38,MATCH(Personnel!$G839,Settings!$AP$17:$AP$38,0)),0)","v":0},null,null,null,0,0,0,0,0,0,0,0,0,0,0,0,0,0,0,0,0,0,0,null,null,0]
[0,{"$f":"IFERROR(INDEX(Settings!$AO$17:$AO$38,MATCH(Personnel!$G840,Settings!$AP$17:$AP$38,0)),0)","v":0},null,null,null,0,0,0,0,0,0,0,0,0,0,0,0,0,0,0,0,0,0,0,null,null,0]
[0,{"$f":"IFERROR(INDEX(Settings!$AO$17:$AO$38,MATCH(Personnel!$G841,Settings!$AP$17:$AP$38,0)),0)","v":0},null,null,null,0,0,0,0,0,0,0,0,0,0,0,0,0,0,0,0,0,0,0,null,null,0]
[0,{"$f":"IFERROR(INDEX(Settings!$AO$17:$AO$38,MATCH(Personnel!$G842,Settings!$AP$17:$AP$38,0)),0)","v":0},null,null,null,0,0,0,0,0,0,0,0,0,0,0,0,0,0,0,0,0,0,0,null,null,0]
[0,{"$f":"IFERROR(INDEX(Settings!$AO$17:$AO$38,MATCH(Personnel!$G843,Settings!$AP$17:$AP$38,0)),0)","v":0},null,null,null,0,0,0,0,0,0,0,0,0,0,0,0,0,0,0,0,0,0,0,null,null,0]
[{"$f":"IF(SUM(K844:AA844)>0,1,0)","v":0},{"$f":"IFERROR(INDEX(Settings!$AO$17:$AO$38,MATCH(Personnel!$G844,Settings!$AP$17:$AP$38,0)),0)","v":0},null,null,null,0,0,0,0,0,0,0,0,0,0,0,0,0,0,0,0,0,0,0,null,null,0]
[0,{"$f":"IFERROR(INDEX(Settings!$AO$17:$AO$38,MATCH(Personnel!$G845,Settings!$AP$17:$AP$38,0)),0)","v":0},null,null,null,0,0,0,0,0,0,0,{"$f":"ROUND(IF(ISERROR(L845/K845),0,(L845/K845)),0)","v":0},0,0,0,0,{"$f":"ROUND(IF(ISERROR(Q845/P845),0,(Q845/P845)),0)","v":0},0,0,{"$f":"ROUND(IF(ISERROR(T845/S845),0,(T845/S845)),0)","v":0},0,0,{"$f":"ROUND(IF(ISERROR(W845/V845),0,(W845/V845)),0)","v":0},null,null,{"$f":"ROUND(IF(ISERROR(Z845/Y845),0,(Z845/Y845)),0)","v":0}]
[0,{"$f":"IFERROR(INDEX(Settings!$AO$17:$AO$38,MATCH(Personnel!$G846,Settings!$AP$17:$AP$38,0)),0)","v":0},null,null,null,0,0,0,0,0,0,0,0,0,0,0,0,0,0,0,0,0,0,0,null,null,0]
[0,{"$f":"IFERROR(INDEX(Settings!$AO$17:$AO$38,MATCH(Personnel!$G847,Settings!$AP$17:$AP$38,0)),0)","v":0},null,null,null,0,0,0,0,0,0,0,0,0,0,0,0,0,0,0,0,0,0,0,null,null,0]
[0,{"$f":"IFERROR(INDEX(Settings!$AO$17:$AO$38,MATCH(Personnel!$G848,Settings!$AP$17:$AP$38,0)),0)","v":0},null,null,null,0,0,0,0,0,0,0,0,0,0,0,0,0,0,0,0,0,0,0,null,null,0]
[0,{"$f":"IFERROR(INDEX(Settings!$AO$17:$AO$38,MATCH(Personnel!$G849,Settings!$AP$17:$AP$38,0)),0)","v":0},null,null,null,0,0,0,0,0,0,0,0,0,0,0,0,0,0,0,0,0,0,0,null,null,0]
[0,{"$f":"IFERROR(INDEX(Settings!$AO$17:$AO$38,MATCH(Personnel!$G850,Settings!$AP$17:$AP$38,0)),0)","v":0},null,null,null,0,0,0,0,0,0,0,0,0,0,0,0,0,0,0,0,0,0,0,null,null,0]
[0,{"$f":"IFERROR(INDEX(Settings!$AO$17:$AO$38,MATCH(Personnel!$G851,Settings!$AP$17:$AP$38,0)),0)","v":0},null,null,null,0,0,0,0,0,0,0,0,0,0,0,0,0,0,0,0,0,0,0,null,null,0]
[0,{"$f":"IFERROR(INDEX(Settings!$AO$17:$AO$38,MATCH(Personnel!$G852,Settings!$AP$17:$AP$38,0)),0)","v":0},null,null,null,0,0,0,0,0,0,0,0,0,0,0,0,0,0,0,0,0,0,0,null,null,0]
[0,{"$f":"IFERROR(INDEX(Settings!$AO$17:$AO$38,MATCH(Personnel!$G853,Settings!$AP$17:$AP$38,0)),0)","v":0},null,null,null,0,0,0,0,0,0,0,0,0,0,0,0,0,0,0,0,0,0,0,null,null,0]
[0,{"$f":"IFERROR(INDEX(Settings!$AO$17:$AO$38,MATCH(Personnel!$G854,Settings!$AP$17:$AP$38,0)),0)","v":0},null,null,null,0,0,0,0,0,0,0,0,0,0,0,0,0,0,0,0,0,0,0,null,null,0]
[0,{"$f":"IFERROR(INDEX(Settings!$AO$17:$AO$38,MATCH(Personnel!$G855,Settings!$AP$17:$AP$38,0)),0)","v":0},null,null,null,0,0,0,0,0,0,0,0,0,0,0,0,0,0,0,0,0,0,0,null,null,0]
[0,{"$f":"IFERROR(INDEX(Settings!$AO$17:$AO$38,MATCH(Personnel!$G856,Settings!$AP$17:$AP$38,0)),0)","v":0},null,null,null,0,0,0,0,0,0,0,0,0,0,0,0,0,0,0,0,0,0,0,null,null,0]
[0,{"$f":"IFERROR(INDEX(Settings!$AO$17:$AO$38,MATCH(Personnel!$G857,Settings!$AP$17:$AP$38,0)),0)","v":0},null,null,null,0,0,0,0,0,0,0,0,0,0,0,0,0,0,0,0,0,0,0,null,null,0]
[0,{"$f":"IFERROR(INDEX(Settings!$AO$17:$AO$38,MATCH(Personnel!$G858,Settings!$AP$17:$AP$38,0)),0)","v":0},null,null,null,0,0,0,0,0,0,0,0,0,0,0,0,0,0,0,0,0,0,0,null,null,0]
[0,{"$f":"IFERROR(INDEX(Settings!$AO$17:$AO$38,MATCH(Personnel!$G859,Settings!$AP$17:$AP$38,0)),0)","v":0},null,null,null,0,0,0,0,0,0,0,0,0,0,0,0,0,0,0,0,0,0,0,null,null,0]
[0,{"$f":"IFERROR(INDEX(Settings!$AO$17:$AO$38,MATCH(Personnel!$G860,Settings!$AP$17:$AP$38,0)),0)","v":0},null,null,null,0,0,0,0,0,0,0,0,0,0,0,0,0,0,0,0,0,0,0,null,null,0]
[0,{"$f":"IFERROR(INDEX(Settings!$AO$17:$AO$38,MATCH(Personnel!$G861,Settings!$AP$17:$AP$38,0)),0)","v":0},null,null,null,0,0,0,0,0,0,0,0,0,0,0,0,0,0,0,0,0,0,0,null,null,0]
[0,{"$f":"IFERROR(INDEX(Settings!$AO$17:$AO$38,MATCH(Personnel!$G862,Settings!$AP$17:$AP$38,0)),0)","v":0},null,null,null,0,0,0,0,0,0,0,0,0,0,0,0,0,0,0,0,0,0,0,null,null,0]
[0,{"$f":"IFERROR(INDEX(Settings!$AO$17:$AO$38,MATCH(Personnel!$G863,Settings!$AP$17:$AP$38,0)),0)","v":0},null,null,null,0,0,0,0,0,0,0,0,0,0,0,0,0,0,0,0,0,0,0,null,null,0]
[0,{"$f":"IFERROR(INDEX(Settings!$AO$17:$AO$38,MATCH(Personnel!$G864,Settings!$AP$17:$AP$38,0)),0)","v":0},null,null,null,0,0,0,0,0,0,0,0,0,0,0,0,0,0,0,0,0,0,0,null,null,0]
[0,{"$f":"IFERROR(INDEX(Settings!$AO$17:$AO$38,MATCH(Personnel!$G865,Settings!$AP$17:$AP$38,0)),0)","v":0},null,null,null,0,0,0,0,0,0,0,0,0,0,0,0,0,0,0,0,0,0,0,null,null,0]
[0,{"$f":"IFERROR(INDEX(Settings!$AO$17:$AO$38,MATCH(Personnel!$G866,Settings!$AP$17:$AP$38,0)),0)","v":0},null,null,null,0,0,0,0,0,0,0,0,0,0,0,0,0,0,0,0,0,0,0,null,null,0]
[0,{"$f":"IFERROR(INDEX(Settings!$AO$17:$AO$38,MATCH(Personnel!$G867,Settings!$AP$17:$AP$38,0)),0)","v":0},null,null,null,0,0,0,0,0,0,0,0,0,0,0,0,0,0,0,0,0,0,0,null,null,0]
[0,{"$f":"IFERROR(INDEX(Settings!$AO$17:$AO$38,MATCH(Personnel!$G868,Settings!$AP$17:$AP$38,0)),0)","v":0},null,null,null,0,0,0,0,0,0,0,0,0,0,0,0,0,0,0,0,0,0,0,null,null,0]
[0,{"$f":"IFERROR(INDEX(Settings!$AO$17:$AO$38,MATCH(Personnel!$G869,Settings!$AP$17:$AP$38,0)),0)","v":0},null,null,null,0,0,0,0,0,0,0,0,0,0,0,0,0,0,0,0,0,0,0,null,null,0]
[0,{"$f":"IFERROR(INDEX(Settings!$AO$17:$AO$38,MATCH(Personnel!$G870,Settings!$AP$17:$AP$38,0)),0)","v":0},null,null,null,0,0,0,0,0,0,0,0,0,0,0,0,0,0,0,0,0,0,0,null,null,0]
[0,{"$f":"IFERROR(INDEX(Settings!$AO$17:$AO$38,MATCH(Personnel!$G871,Settings!$AP$17:$AP$38,0)),0)","v":0},null,null,null,0,0,0,0,0,0,0,0,0,0,0,0,0,0,0,0,0,0,0,null,null,0]
[0,{"$f":"IFERROR(INDEX(Settings!$AO$17:$AO$38,MATCH(Personnel!$G872,Settings!$AP$17:$AP$38,0)),0)","v":0},null,null,null,0,0,0,0,0,0,0,0,0,0,0,0,0,0,0,0,0,0,0,null,null,0]
[0,{"$f":"IFERROR(INDEX(Settings!$AO$17:$AO$38,MATCH(Personnel!$G873,Settings!$AP$17:$AP$38,0)),0)","v":0},null,null,null,0,0,0,0,0,0,0,0,0,0,0,0,0,0,0,0,0,0,0,null,null,0]
[0,{"$f":"IFERROR(INDEX(Settings!$AO$17:$AO$38,MATCH(Personnel!$G874,Settings!$AP$17:$AP$38,0)),0)","v":0},null,null,null,0,0,0,0,0,0,0,0,0,0,0,0,0,0,0,0,0,0,0,null,null,0]
[0,{"$f":"IFERROR(INDEX(Settings!$AO$17:$AO$38,MATCH(Personnel!$G875,Settings!$AP$17:$AP$38,0)),0)","v":0},null,null,null,0,0,0,0,0,0,0,0,0,0,0,0,0,0,0,0,0,0,0,null,null,0]
[0,{"$f":"IFERROR(INDEX(Settings!$AO$17:$AO$38,MATCH(Personnel!$G876,Settings!$AP$17:$AP$38,0)),0)","v":0},null,null,null,0,0,0,0,0,0,0,0,0,0,0,0,0,0,0,0,0,0,0,null,null,0]
[0,{"$f":"IFERROR(INDEX(Settings!$AO$17:$AO$38,MATCH(Personnel!$G877,Settings!$AP$17:$AP$38,0)),0)","v":0},null,null,null,0,0,0,0,0,0,0,0,0,0,0,0,0,0,0,0,0,0,0,null,null,0]
[0,{"$f":"IFERROR(INDEX(Settings!$AO$17:$AO$38,MATCH(Personnel!$G878,Settings!$AP$17:$AP$38,0)),0)","v":0},null,null,null,0,0,0,0,0,0,0,0,0,0,0,0,0,0,0,0,0,0,0,null,null,0]
[0,{"$f":"IFERROR(INDEX(Settings!$AO$17:$AO$38,MATCH(Personnel!$G879,Settings!$AP$17:$AP$38,0)),0)","v":0},null,null,null,0,0,0,0,0,0,0,0,0,0,0,0,0,0,0,0,0,0,0,null,null,0]
[0,{"$f":"IFERROR(INDEX(Settings!$AO$17:$AO$38,MATCH(Personnel!$G880,Settings!$AP$17:$AP$38,0)),0)","v":0},null,null,null,0,0,0,0,0,0,0,0,0,0,0,0,0,0,0,0,0,0,0,null,null,0]
[0,{"$f":"IFERROR(INDEX(Settings!$AO$17:$AO$38,MATCH(Personnel!$G881,Settings!$AP$17:$AP$38,0)),0)","v":0},null,null,null,0,0,0,0,0,0,0,0,0,0,0,0,0,0,0,0,0,0,0,null,null,0]
[0,{"$f":"IFERROR(INDEX(Settings!$AO$17:$AO$38,MATCH(Personnel!$G882,Settings!$AP$17:$AP$38,0)),0)","v":0},null,null,null,0,0,0,0,0,0,0,0,0,0,0,0,0,0,0,0,0,0,0,null,null,0]
[0,{"$f":"IFERROR(INDEX(Settings!$AO$17:$AO$38,MATCH(Personnel!$G883,Settings!$AP$17:$AP$38,0)),0)","v":0},null,null,null,0,0,0,0,0,0,0,0,0,0,0,0,0,0,0,0,0,0,0,null,null,0]
[0,{"$f":"IFERROR(INDEX(Settings!$AO$17:$AO$38,MATCH(Personnel!$G884,Settings!$AP$17:$AP$38,0)),0)","v":0},null,null,null,0,0,0,0,0,0,0,0,0,0,0,0,0,0,0,0,0,0,0,null,null,0]
[0,{"$f":"IFERROR(INDEX(Settings!$AO$17:$AO$38,MATCH(Personnel!$G885,Settings!$AP$17:$AP$38,0)),0)","v":0},null,null,null,0,0,0,0,0,0,0,0,0,0,0,0,0,0,0,0,0,0,0,null,null,0]
[0,{"$f":"IFERROR(INDEX(Settings!$AO$17:$AO$38,MATCH(Personnel!$G886,Settings!$AP$17:$AP$38,0)),0)","v":0},null,null,null,0,0,0,0,0,0,0,0,0,0,0,0,0,0,0,0,0,0,0,null,null,0]
[0,{"$f":"IFERROR(INDEX(Settings!$AO$17:$AO$38,MATCH(Personnel!$G887,Settings!$AP$17:$AP$38,0)),0)","v":0},null,null,null,0,0,0,0,0,0,0,0,0,0,0,0,0,0,0,0,0,0,0,null,null,0]
[0,{"$f":"IFERROR(INDEX(Settings!$AO$17:$AO$38,MATCH(Personnel!$G888,Settings!$AP$17:$AP$38,0)),0)","v":0},null,null,null,0,0,0,0,0,0,0,0,0,0,0,0,0,0,0,0,0,0,0,null,null,0]
[0,{"$f":"IFERROR(INDEX(Settings!$AO$17:$AO$38,MATCH(Personnel!$G889,Settings!$AP$17:$AP$38,0)),0)","v":0},null,null,null,0,0,0,0,0,0,0,0,0,0,0,0,0,0,0,0,0,0,0,null,null,0]
[0,{"$f":"IFERROR(INDEX(Settings!$AO$17:$AO$38,MATCH(Personnel!$G890,Settings!$AP$17:$AP$38,0)),0)","v":0},null,null,null,0,0,0,0,0,0,0,0,0,0,0,0,0,0,0,0,0,0,0,null,null,0]
[0,{"$f":"IFERROR(INDEX(Settings!$AO$17:$AO$38,MATCH(Personnel!$G891,Settings!$AP$17:$AP$38,0)),0)","v":0},null,null,null,0,0,0,0,0,0,0,0,0,0,0,0,0,0,0,0,0,0,0,null,null,0]
[0,{"$f":"IFERROR(INDEX(Settings!$AO$17:$AO$38,MATCH(Personnel!$G892,Settings!$AP$17:$AP$38,0)),0)","v":0},null,null,null,0,0,0,0,0,0,0,0,0,0,0,0,0,0,0,0,0,0,0,null,null,0]
[0,{"$f":"IFERROR(INDEX(Settings!$AO$17:$AO$38,MATCH(Personnel!$G893,Settings!$AP$17:$AP$38,0)),0)","v":0},null,null,null,0,0,0,0,0,0,0,0,0,0,0,0,0,0,0,0,0,0,0,null,null,0]
[0,{"$f":"IFERROR(INDEX(Settings!$AO$17:$AO$38,MATCH(Personnel!$G894,Settings!$AP$17:$AP$38,0)),0)","v":0},null,null,null,0,0,0,0,0,0,0,0,0,0,0,0,0,0,0,0,0,0,0,null,null,0]
[0,{"$f":"IFERROR(INDEX(Settings!$AO$17:$AO$38,MATCH(Personnel!$G895,Settings!$AP$17:$AP$38,0)),0)","v":0},null,null,null,0,0,0,0,0,0,0,0,0,0,0,0,0,0,0,0,0,0,0,null,null,0]
[0,{"$f":"IFERROR(INDEX(Settings!$AO$17:$AO$38,MATCH(Personnel!$G896,Settings!$AP$17:$AP$38,0)),0)","v":0},null,null,null,0,0,0,0,0,0,0,0,0,0,0,0,0,0,0,0,0,0,0,null,null,0]
[0,{"$f":"IFERROR(INDEX(Settings!$AO$17:$AO$38,MATCH(Personnel!$G897,Settings!$AP$17:$AP$38,0)),0)","v":0},null,null,null,0,0,0,0,0,0,0,0,0,0,0,0,0,0,0,0,0,0,0,null,null,0]
[0,{"$f":"IFERROR(INDEX(Settings!$AO$17:$AO$38,MATCH(Personnel!$G898,Settings!$AP$17:$AP$38,0)),0)","v":0},null,null,null,0,0,0,0,0,0,0,0,0,0,0,0,0,0,0,0,0,0,0,null,null,0]
[0,{"$f":"IFERROR(INDEX(Settings!$AO$17:$AO$38,MATCH(Personnel!$G899,Settings!$AP$17:$AP$38,0)),0)","v":0},null,null,null,0,0,0,0,0,0,0,0,0,0,0,0,0,0,0,0,0,0,0,null,null,0]
[0,{"$f":"IFERROR(INDEX(Settings!$AO$17:$AO$38,MATCH(Personnel!$G900,Settings!$AP$17:$AP$38,0)),0)","v":0},null,null,null,0,0,0,0,0,0,0,0,0,0,0,0,0,0,0,0,0,0,0,null,null,0]
[0,{"$f":"IFERROR(INDEX(Settings!$AO$17:$AO$38,MATCH(Personnel!$G901,Settings!$AP$17:$AP$38,0)),0)","v":0},null,null,null,0,0,0,0,0,0,0,0,0,0,0,0,0,0,0,0,0,0,0,null,null,0]
[0,{"$f":"IFERROR(INDEX(Settings!$AO$17:$AO$38,MATCH(Personnel!$G902,Settings!$AP$17:$AP$38,0)),0)","v":0},null,null,null,0,0,0,0,0,0,0,0,0,0,0,0,0,0,0,0,0,0,0,null,null,0]
[0,{"$f":"IFERROR(INDEX(Settings!$AO$17:$AO$38,MATCH(Personnel!$G903,Settings!$AP$17:$AP$38,0)),0)","v":0},null,null,null,0,0,0,0,0,0,0,0,0,0,0,0,0,0,0,0,0,0,0,null,null,0]
[0,{"$f":"IFERROR(INDEX(Settings!$AO$17:$AO$38,MATCH(Personnel!$G904,Settings!$AP$17:$AP$38,0)),0)","v":0},null,null,null,0,0,0,0,0,0,0,0,0,0,0,0,0,0,0,0,0,0,0,null,null,0]
[0,{"$f":"IFERROR(INDEX(Settings!$AO$17:$AO$38,MATCH(Personnel!$G905,Settings!$AP$17:$AP$38,0)),0)","v":0},null,null,null,0,0,0,0,0,0,0,0,0,0,0,0,0,0,0,0,0,0,0,null,null,0]
[0,{"$f":"IFERROR(INDEX(Settings!$AO$17:$AO$38,MATCH(Personnel!$G906,Settings!$AP$17:$AP$38,0)),0)","v":0},null,null,null,0,0,0,0,0,0,0,0,0,0,0,0,0,0,0,0,0,0,0,null,null,0]
[0,{"$f":"IFERROR(INDEX(Settings!$AO$17:$AO$38,MATCH(Personnel!$G907,Settings!$AP$17:$AP$38,0)),0)","v":0},null,null,null,0,0,0,0,0,0,0,0,0,0,0,0,0,0,0,0,0,0,0,null,null,0]
[{"$f":"IF(SUM(K908:AA908)>0,1,0)","v":0},{"$f":"IFERROR(INDEX(Settings!$AO$17:$AO$38,MATCH(Personnel!$G908,Settings!$AP$17:$AP$38,0)),0)","v":0},null,null,null,0,0,0,0,0,0,0,0,0,0,0,0,0,0,0,0,0,0,0,null,null,0]
[0,{"$f":"IFERROR(INDEX(Settings!$AO$17:$AO$38,MATCH(Personnel!$G909,Settings!$AP$17:$AP$38,0)),0)","v":0},null,null,null,0,0,0,0,0,0,0,{"$f":"ROUND(IF(ISERROR(L909/K909),0,(L909/K909)),0)","v":0},0,0,0,0,{"$f":"ROUND(IF(ISERROR(Q909/P909),0,(Q909/P909)),0)","v":0},0,0,{"$f":"ROUND(IF(ISERROR(T909/S909),0,(T909/S909)),0)","v":0},0,0,{"$f":"ROUND(IF(ISERROR(W909/V909),0,(W909/V909)),0)","v":0},null,null,{"$f":"ROUND(IF(ISERROR(Z909/Y909),0,(Z909/Y909)),0)","v":0}]
[0,{"$f":"IFERROR(INDEX(Settings!$AO$17:$AO$38,MATCH(Personnel!$G910,Settings!$AP$17:$AP$38,0)),0)","v":0},null,null,null,0,0,0,0,0,0,0,0,0,0,0,0,0,0,0,0,0,0,0,null,null,0]
[0,{"$f":"IFERROR(INDEX(Settings!$AO$17:$AO$38,MATCH(Personnel!$G911,Settings!$AP$17:$AP$38,0)),0)","v":0},null,null,null,0,0,0,0,0,0,0,0,0,0,0,0,0,0,0,0,0,0,0,null,null,0]
[0,{"$f":"IFERROR(INDEX(Settings!$AO$17:$AO$38,MATCH(Personnel!$G912,Settings!$AP$17:$AP$38,0)),0)","v":0},null,null,null,0,0,0,0,0,0,0,0,0,0,0,0,0,0,0,0,0,0,0,null,null,0]
[0,{"$f":"IFERROR(INDEX(Settings!$AO$17:$AO$38,MATCH(Personnel!$G913,Settings!$AP$17:$AP$38,0)),0)","v":0},null,null,null,0,0,0,0,0,0,0,0,0,0,0,0,0,0,0,0,0,0,0,null,null,0]
[0,{"$f":"IFERROR(INDEX(Settings!$AO$17:$AO$38,MATCH(Personnel!$G914,Settings!$AP$17:$AP$38,0)),0)","v":0},null,null,null,0,0,0,0,0,0,0,0,0,0,0,0,0,0,0,0,0,0,0,null,null,0]
[0,{"$f":"IFERROR(INDEX(Settings!$AO$17:$AO$38,MATCH(Personnel!$G915,Settings!$AP$17:$AP$38,0)),0)","v":0},null,null,null,0,0,0,0,0,0,0,0,0,0,0,0,0,0,0,0,0,0,0,null,null,0]
[0,{"$f":"IFERROR(INDEX(Settings!$AO$17:$AO$38,MATCH(Personnel!$G916,Settings!$AP$17:$AP$38,0)),0)","v":0},null,null,null,0,0,0,0,0,0,0,0,0,0,0,0,0,0,0,0,0,0,0,null,null,0]
[0,{"$f":"IFERROR(INDEX(Settings!$AO$17:$AO$38,MATCH(Personnel!$G917,Settings!$AP$17:$AP$38,0)),0)","v":0},null,null,null,0,0,0,0,0,0,0,0,0,0,0,0,0,0,0,0,0,0,0,null,null,0]
[0,{"$f":"IFERROR(INDEX(Settings!$AO$17:$AO$38,MATCH(Personnel!$G918,Settings!$AP$17:$AP$38,0)),0)","v":0},null,null,null,0,0,0,0,0,0,0,0,0,0,0,0,0,0,0,0,0,0,0,null,null,0]
[0,{"$f":"IFERROR(INDEX(Settings!$AO$17:$AO$38,MATCH(Personnel!$G919,Settings!$AP$17:$AP$38,0)),0)","v":0},null,null,null,0,0,0,0,0,0,0,0,0,0,0,0,0,0,0,0,0,0,0,null,null,0]
[0,{"$f":"IFERROR(INDEX(Settings!$AO$17:$AO$38,MATCH(Personnel!$G920,Settings!$AP$17:$AP$38,0)),0)","v":0},null,null,null,0,0,0,0,0,0,0,0,0,0,0,0,0,0,0,0,0,0,0,null,null,0]
[0,{"$f":"IFERROR(INDEX(Settings!$AO$17:$AO$38,MATCH(Personnel!$G921,Settings!$AP$17:$AP$38,0)),0)","v":0},null,null,null,0,0,0,0,0,0,0,0,0,0,0,0,0,0,0,0,0,0,0,null,null,0]
[0,{"$f":"IFERROR(INDEX(Settings!$AO$17:$AO$38,MATCH(Personnel!$G922,Settings!$AP$17:$AP$38,0)),0)","v":0},null,null,null,0,0,0,0,0,0,0,0,0,0,0,0,0,0,0,0,0,0,0,null,null,0]
[0,{"$f":"IFERROR(INDEX(Settings!$AO$17:$AO$38,MATCH(Personnel!$G923,Settings!$AP$17:$AP$38,0)),0)","v":0},null,null,null,0,0,0,0,0,0,0,0,0,0,0,0,0,0,0,0,0,0,0,null,null,0]
[0,{"$f":"IFERROR(INDEX(Settings!$AO$17:$AO$38,MATCH(Personnel!$G924,Settings!$AP$17:$AP$38,0)),0)","v":0},null,null,null,0,0,0,0,0,0,0,0,0,0,0,0,0,0,0,0,0,0,0,null,null,0]
[0,{"$f":"IFERROR(INDEX(Settings!$AO$17:$AO$38,MATCH(Personnel!$G925,Settings!$AP$17:$AP$38,0)),0)","v":0},null,null,null,0,0,0,0,0,0,0,0,0,0,0,0,0,0,0,0,0,0,0,null,null,0]
[0,{"$f":"IFERROR(INDEX(Settings!$AO$17:$AO$38,MATCH(Personnel!$G926,Settings!$AP$17:$AP$38,0)),0)","v":0},null,null,null,0,0,0,0,0,0,0,0,0,0,0,0,0,0,0,0,0,0,0,null,null,0]
[0,{"$f":"IFERROR(INDEX(Settings!$AO$17:$AO$38,MATCH(Personnel!$G927,Settings!$AP$17:$AP$38,0)),0)","v":0},null,null,null,0,0,0,0,0,0,0,0,0,0,0,0,0,0,0,0,0,0,0,null,null,0]
[0,{"$f":"IFERROR(INDEX(Settings!$AO$17:$AO$38,MATCH(Personnel!$G928,Settings!$AP$17:$AP$38,0)),0)","v":0},null,null,null,0,0,0,0,0,0,0,0,0,0,0,0,0,0,0,0,0,0,0,null,null,0]
[0,{"$f":"IFERROR(INDEX(Settings!$AO$17:$AO$38,MATCH(Personnel!$G929,Settings!$AP$17:$AP$38,0)),0)","v":0},null,null,null,0,0,0,0,0,0,0,0,0,0,0,0,0,0,0,0,0,0,0,null,null,0]
[0,{"$f":"IFERROR(INDEX(Settings!$AO$17:$AO$38,MATCH(Personnel!$G930,Settings!$AP$17:$AP$38,0)),0)","v":0},null,null,null,0,0,0,0,0,0,0,0,0,0,0,0,0,0,0,0,0,0,0,null,null,0]
[0,{"$f":"IFERROR(INDEX(Settings!$AO$17:$AO$38,MATCH(Personnel!$G931,Settings!$AP$17:$AP$38,0)),0)","v":0},null,null,null,0,0,0,0,0,0,0,0,0,0,0,0,0,0,0,0,0,0,0,null,null,0]
[0,{"$f":"IFERROR(INDEX(Settings!$AO$17:$AO$38,MATCH(Personnel!$G932,Settings!$AP$17:$AP$38,0)),0)","v":0},null,null,null,0,0,0,0,0,0,0,0,0,0,0,0,0,0,0,0,0,0,0,null,null,0]
[0,{"$f":"IFERROR(INDEX(Settings!$AO$17:$AO$38,MATCH(Personnel!$G933,Settings!$AP$17:$AP$38,0)),0)","v":0},null,null,null,0,0,0,0,0,0,0,0,0,0,0,0,0,0,0,0,0,0,0,null,null,0]
[0,{"$f":"IFERROR(INDEX(Settings!$AO$17:$AO$38,MATCH(Personnel!$G934,Settings!$AP$17:$AP$38,0)),0)","v":0},null,null,null,0,0,0,0,0,0,0,0,0,0,0,0,0,0,0,0,0,0,0,null,null,0]
[0,{"$f":"IFERROR(INDEX(Settings!$AO$17:$AO$38,MATCH(Personnel!$G935,Settings!$AP$17:$AP$38,0)),0)","v":0},null,null,null,0,0,0,0,0,0,0,0,0,0,0,0,0,0,0,0,0,0,0,null,null,0]
[0,{"$f":"IFERROR(INDEX(Settings!$AO$17:$AO$38,MATCH(Personnel!$G936,Settings!$AP$17:$AP$38,0)),0)","v":0},null,null,null,0,0,0,0,0,0,0,0,0,0,0,0,0,0,0,0,0,0,0,null,null,0]
[0,{"$f":"IFERROR(INDEX(Settings!$AO$17:$AO$38,MATCH(Personnel!$G937,Settings!$AP$17:$AP$38,0)),0)","v":0},null,null,null,0,0,0,0,0,0,0,0,0,0,0,0,0,0,0,0,0,0,0,null,null,0]
[0,{"$f":"IFERROR(INDEX(Settings!$AO$17:$AO$38,MATCH(Personnel!$G938,Settings!$AP$17:$AP$38,0)),0)","v":0},null,null,null,0,0,0,0,0,0,0,0,0,0,0,0,0,0,0,0,0,0,0,null,null,0]
[0,{"$f":"IFERROR(INDEX(Settings!$AO$17:$AO$38,MATCH(Personnel!$G939,Settings!$AP$17:$AP$38,0)),0)","v":0},null,null,null,0,0,0,0,0,0,0,0,0,0,0,0,0,0,0,0,0,0,0,null,null,0]
[0,{"$f":"IFERROR(INDEX(Settings!$AO$17:$AO$38,MATCH(Personnel!$G940,Settings!$AP$17:$AP$38,0)),0)","v":0},null,null,null,0,0,0,0,0,0,0,0,0,0,0,0,0,0,0,0,0,0,0,null,null,0]
[0,{"$f":"IFERROR(INDEX(Settings!$AO$17:$AO$38,MATCH(Personnel!$G941,Settings!$AP$17:$AP$38,0)),0)","v":0},null,null,null,0,0,0,0,0,0,0,0,0,0,0,0,0,0,0,0,0,0,0,null,null,0]
[0,{"$f":"IFERROR(INDEX(Settings!$AO$17:$AO$38,MATCH(Personnel!$G942,Settings!$AP$17:$AP$38,0)),0)","v":0},null,null,null,0,0,0,0,0,0,0,0,0,0,0,0,0,0,0,0,0,0,0,null,null,0]
[0,{"$f":"IFERROR(INDEX(Settings!$AO$17:$AO$38,MATCH(Personnel!$G943,Settings!$AP$17:$AP$38,0)),0)","v":0},null,null,null,0,0,0,0,0,0,0,0,0,0,0,0,0,0,0,0,0,0,0,null,null,0]
[0,{"$f":"IFERROR(INDEX(Settings!$AO$17:$AO$38,MATCH(Personnel!$G944,Settings!$AP$17:$AP$38,0)),0)","v":0},null,null,null,0,0,0,0,0,0,0,0,0,0,0,0,0,0,0,0,0,0,0,null,null,0]
[0,{"$f":"IFERROR(INDEX(Settings!$AO$17:$AO$38,MATCH(Personnel!$G945,Settings!$AP$17:$AP$38,0)),0)","v":0},null,null,null,0,0,0,0,0,0,0,0,0,0,0,0,0,0,0,0,0,0,0,null,null,0]
[0,{"$f":"IFERROR(INDEX(Settings!$AO$17:$AO$38,MATCH(Personnel!$G946,Settings!$AP$17:$AP$38,0)),0)","v":0},null,null,null,0,0,0,0,0,0,0,0,0,0,0,0,0,0,0,0,0,0,0,null,null,0]
[0,{"$f":"IFERROR(INDEX(Settings!$AO$17:$AO$38,MATCH(Personnel!$G947,Settings!$AP$17:$AP$38,0)),0)","v":0},null,null,null,0,0,0,0,0,0,0,0,0,0,0,0,0,0,0,0,0,0,0,null,null,0]
[0,{"$f":"IFERROR(INDEX(Settings!$AO$17:$AO$38,MATCH(Personnel!$G948,Settings!$AP$17:$AP$38,0)),0)","v":0},null,null,null,0,0,0,0,0,0,0,0,0,0,0,0,0,0,0,0,0,0,0,null,null,0]
[0,{"$f":"IFERROR(INDEX(Settings!$AO$17:$AO$38,MATCH(Personnel!$G949,Settings!$AP$17:$AP$38,0)),0)","v":0},null,null,null,0,0,0,0,0,0,0,0,0,0,0,0,0,0,0,0,0,0,0,null,null,0]
[0,{"$f":"IFERROR(INDEX(Settings!$AO$17:$AO$38,MATCH(Personnel!$G950,Settings!$AP$17:$AP$38,0)),0)","v":0},null,null,null,0,0,0,0,0,0,0,0,0,0,0,0,0,0,0,0,0,0,0,null,null,0]
[0,{"$f":"IFERROR(INDEX(Settings!$AO$17:$AO$38,MATCH(Personnel!$G951,Settings!$AP$17:$AP$38,0)),0)","v":0},null,null,null,0,0,0,0,0,0,0,0,0,0,0,0,0,0,0,0,0,0,0,null,null,0]
[0,{"$f":"IFERROR(INDEX(Settings!$AO$17:$AO$38,MATCH(Personnel!$G952,Settings!$AP$17:$AP$38,0)),0)","v":0},null,null,null,0,0,0,0,0,0,0,0,0,0,0,0,0,0,0,0,0,0,0,null,null,0]
[0,{"$f":"IFERROR(INDEX(Settings!$AO$17:$AO$38,MATCH(Personnel!$G953,Settings!$AP$17:$AP$38,0)),0)","v":0},null,null,null,0,0,0,0,0,0,0,0,0,0,0,0,0,0,0,0,0,0,0,null,null,0]
[0,{"$f":"IFERROR(INDEX(Settings!$AO$17:$AO$38,MATCH(Personnel!$G954,Settings!$AP$17:$AP$38,0)),0)","v":0},null,null,null,0,0,0,0,0,0,0,0,0,0,0,0,0,0,0,0,0,0,0,null,null,0]
[0,{"$f":"IFERROR(INDEX(Settings!$AO$17:$AO$38,MATCH(Personnel!$G955,Settings!$AP$17:$AP$38,0)),0)","v":0},null,null,null,0,0,0,0,0,0,0,0,0,0,0,0,0,0,0,0,0,0,0,null,null,0]
[0,{"$f":"IFERROR(INDEX(Settings!$AO$17:$AO$38,MATCH(Personnel!$G956,Settings!$AP$17:$AP$38,0)),0)","v":0},null,null,null,0,0,0,0,0,0,0,0,0,0,0,0,0,0,0,0,0,0,0,null,null,0]
[0,{"$f":"IFERROR(INDEX(Settings!$AO$17:$AO$38,MATCH(Personnel!$G957,Settings!$AP$17:$AP$38,0)),0)","v":0},null,null,null,0,0,0,0,0,0,0,0,0,0,0,0,0,0,0,0,0,0,0,null,null,0]
[0,{"$f":"IFERROR(INDEX(Settings!$AO$17:$AO$38,MATCH(Personnel!$G958,Settings!$AP$17:$AP$38,0)),0)","v":0},null,null,null,0,0,0,0,0,0,0,0,0,0,0,0,0,0,0,0,0,0,0,null,null,0]
[0,{"$f":"IFERROR(INDEX(Settings!$AO$17:$AO$38,MATCH(Personnel!$G959,Settings!$AP$17:$AP$38,0)),0)","v":0},null,null,null,0,0,0,0,0,0,0,0,0,0,0,0,0,0,0,0,0,0,0,null,null,0]
[0,{"$f":"IFERROR(INDEX(Settings!$AO$17:$AO$38,MATCH(Personnel!$G960,Settings!$AP$17:$AP$38,0)),0)","v":0},null,null,null,0,0,0,0,0,0,0,0,0,0,0,0,0,0,0,0,0,0,0,null,null,0]
[0,{"$f":"IFERROR(INDEX(Settings!$AO$17:$AO$38,MATCH(Personnel!$G961,Settings!$AP$17:$AP$38,0)),0)","v":0},null,null,null,0,0,0,0,0,0,0,0,0,0,0,0,0,0,0,0,0,0,0,null,null,0]
[0,{"$f":"IFERROR(INDEX(Settings!$AO$17:$AO$38,MATCH(Personnel!$G962,Settings!$AP$17:$AP$38,0)),0)","v":0},null,null,null,0,0,0,0,0,0,0,0,0,0,0,0,0,0,0,0,0,0,0,null,null,0]
[0,{"$f":"IFERROR(INDEX(Settings!$AO$17:$AO$38,MATCH(Personnel!$G963,Settings!$AP$17:$AP$38,0)),0)","v":0},null,null,null,0,0,0,0,0,0,0,0,0,0,0,0,0,0,0,0,0,0,0,null,null,0]
[0,{"$f":"IFERROR(INDEX(Settings!$AO$17:$AO$38,MATCH(Personnel!$G964,Settings!$AP$17:$AP$38,0)),0)","v":0},null,null,null,0,0,0,0,0,0,0,0,0,0,0,0,0,0,0,0,0,0,0,null,null,0]
[0,{"$f":"IFERROR(INDEX(Settings!$AO$17:$AO$38,MATCH(Personnel!$G965,Settings!$AP$17:$AP$38,0)),0)","v":0},null,null,null,0,0,0,0,0,0,0,0,0,0,0,0,0,0,0,0,0,0,0,null,null,0]
[0,{"$f":"IFERROR(INDEX(Settings!$AO$17:$AO$38,MATCH(Personnel!$G966,Settings!$AP$17:$AP$38,0)),0)","v":0},null,null,null,0,0,0,0,0,0,0,0,0,0,0,0,0,0,0,0,0,0,0,null,null,0]
[0,{"$f":"IFERROR(INDEX(Settings!$AO$17:$AO$38,MATCH(Personnel!$G967,Settings!$AP$17:$AP$38,0)),0)","v":0},null,null,null,0,0,0,0,0,0,0,0,0,0,0,0,0,0,0,0,0,0,0,null,null,0]
[0,{"$f":"IFERROR(INDEX(Settings!$AO$17:$AO$38,MATCH(Personnel!$G968,Settings!$AP$17:$AP$38,0)),0)","v":0},null,null,null,0,0,0,0,0,0,0,0,0,0,0,0,0,0,0,0,0,0,0,null,null,0]
[0,{"$f":"IFERROR(INDEX(Settings!$AO$17:$AO$38,MATCH(Personnel!$G969,Settings!$AP$17:$AP$38,0)),0)","v":0},null,null,null,0,0,0,0,0,0,0,0,0,0,0,0,0,0,0,0,0,0,0,null,null,0]
[0,{"$f":"IFERROR(INDEX(Settings!$AO$17:$AO$38,MATCH(Personnel!$G970,Settings!$AP$17:$AP$38,0)),0)","v":0},null,null,null,0,0,0,0,0,0,0,0,0,0,0,0,0,0,0,0,0,0,0,null,null,0]
[0,{"$f":"IFERROR(INDEX(Settings!$AO$17:$AO$38,MATCH(Personnel!$G971,Settings!$AP$17:$AP$38,0)),0)","v":0},null,null,null,0,0,0,0,0,0,0,0,0,0,0,0,0,0,0,0,0,0,0,null,null,0]
[{"$f":"IF(SUM(K972:AA972)>0,1,0)","v":0},{"$f":"IFERROR(INDEX(Settings!$AO$17:$AO$38,MATCH(Personnel!$G972,Settings!$AP$17:$AP$38,0)),0)","v":0},null,null,null,0,0,0,0,0,0,0,0,0,0,0,0,0,0,0,0,0,0,0,null,null,0]
[0,{"$f":"IFERROR(INDEX(Settings!$AO$17:$AO$38,MATCH(Personnel!$G973,Settings!$AP$17:$AP$38,0)),0)","v":0},null,null,null,0,0,0,0,0,0,0,{"$f":"ROUND(IF(ISERROR(L973/K973),0,(L973/K973)),0)","v":0},0,0,0,0,{"$f":"ROUND(IF(ISERROR(Q973/P973),0,(Q973/P973)),0)","v":0},0,0,{"$f":"ROUND(IF(ISERROR(T973/S973),0,(T973/S973)),0)","v":0},0,0,{"$f":"ROUND(IF(ISERROR(W973/V973),0,(W973/V973)),0)","v":0},null,null,{"$f":"ROUND(IF(ISERROR(Z973/Y973),0,(Z973/Y973)),0)","v":0}]
[0,{"$f":"IFERROR(INDEX(Settings!$AO$17:$AO$38,MATCH(Personnel!$G974,Settings!$AP$17:$AP$38,0)),0)","v":0},null,null,null,0,0,0,0,0,0,0,0,0,0,0,0,0,0,0,0,0,0,0,null,null,0]
[0,{"$f":"IFERROR(INDEX(Settings!$AO$17:$AO$38,MATCH(Personnel!$G975,Settings!$AP$17:$AP$38,0)),0)","v":0},null,null,null,0,0,0,0,0,0,0,0,0,0,0,0,0,0,0,0,0,0,0,null,null,0]
[0,{"$f":"IFERROR(INDEX(Settings!$AO$17:$AO$38,MATCH(Personnel!$G976,Settings!$AP$17:$AP$38,0)),0)","v":0},null,null,null,0,0,0,0,0,0,0,0,0,0,0,0,0,0,0,0,0,0,0,null,null,0]
[0,{"$f":"IFERROR(INDEX(Settings!$AO$17:$AO$38,MATCH(Personnel!$G977,Settings!$AP$17:$AP$38,0)),0)","v":0},null,null,null,0,0,0,0,0,0,0,0,0,0,0,0,0,0,0,0,0,0,0,null,null,0]
[0,{"$f":"IFERROR(INDEX(Settings!$AO$17:$AO$38,MATCH(Personnel!$G978,Settings!$AP$17:$AP$38,0)),0)","v":0},null,null,null,0,0,0,0,0,0,0,0,0,0,0,0,0,0,0,0,0,0,0,null,null,0]
[0,{"$f":"IFERROR(INDEX(Settings!$AO$17:$AO$38,MATCH(Personnel!$G979,Settings!$AP$17:$AP$38,0)),0)","v":0},null,null,null,0,0,0,0,0,0,0,0,0,0,0,0,0,0,0,0,0,0,0,null,null,0]
[0,{"$f":"IFERROR(INDEX(Settings!$AO$17:$AO$38,MATCH(Personnel!$G980,Settings!$AP$17:$AP$38,0)),0)","v":0},null,null,null,0,0,0,0,0,0,0,0,0,0,0,0,0,0,0,0,0,0,0,null,null,0]
[0,{"$f":"IFERROR(INDEX(Settings!$AO$17:$AO$38,MATCH(Personnel!$G981,Settings!$AP$17:$AP$38,0)),0)","v":0},null,null,null,0,0,0,0,0,0,0,0,0,0,0,0,0,0,0,0,0,0,0,null,null,0]
[0,{"$f":"IFERROR(INDEX(Settings!$AO$17:$AO$38,MATCH(Personnel!$G982,Settings!$AP$17:$AP$38,0)),0)","v":0},null,null,null,0,0,0,0,0,0,0,0,0,0,0,0,0,0,0,0,0,0,0,null,null,0]
[0,{"$f":"IFERROR(INDEX(Settings!$AO$17:$AO$38,MATCH(Personnel!$G983,Settings!$AP$17:$AP$38,0)),0)","v":0},null,null,null,0,0,0,0,0,0,0,0,0,0,0,0,0,0,0,0,0,0,0,null,null,0]
[0,{"$f":"IFERROR(INDEX(Settings!$AO$17:$AO$38,MATCH(Personnel!$G984,Settings!$AP$17:$AP$38,0)),0)","v":0},null,null,null,0,0,0,0,0,0,0,0,0,0,0,0,0,0,0,0,0,0,0,null,null,0]
[0,{"$f":"IFERROR(INDEX(Settings!$AO$17:$AO$38,MATCH(Personnel!$G985,Settings!$AP$17:$AP$38,0)),0)","v":0},null,null,null,0,0,0,0,0,0,0,0,0,0,0,0,0,0,0,0,0,0,0,null,null,0]
[0,{"$f":"IFERROR(INDEX(Settings!$AO$17:$AO$38,MATCH(Personnel!$G986,Settings!$AP$17:$AP$38,0)),0)","v":0},null,null,null,0,0,0,0,0,0,0,0,0,0,0,0,0,0,0,0,0,0,0,null,null,0]
[0,{"$f":"IFERROR(INDEX(Settings!$AO$17:$AO$38,MATCH(Personnel!$G987,Settings!$AP$17:$AP$38,0)),0)","v":0},null,null,null,0,0,0,0,0,0,0,0,0,0,0,0,0,0,0,0,0,0,0,null,null,0]
[0,{"$f":"IFERROR(INDEX(Settings!$AO$17:$AO$38,MATCH(Personnel!$G988,Settings!$AP$17:$AP$38,0)),0)","v":0},null,null,null,0,0,0,0,0,0,0,0,0,0,0,0,0,0,0,0,0,0,0,null,null,0]
[0,{"$f":"IFERROR(INDEX(Settings!$AO$17:$AO$38,MATCH(Personnel!$G989,Settings!$AP$17:$AP$38,0)),0)","v":0},null,null,null,0,0,0,0,0,0,0,0,0,0,0,0,0,0,0,0,0,0,0,null,null,0]
[0,{"$f":"IFERROR(INDEX(Settings!$AO$17:$AO$38,MATCH(Personnel!$G990,Settings!$AP$17:$AP$38,0)),0)","v":0},null,null,null,0,0,0,0,0,0,0,0,0,0,0,0,0,0,0,0,0,0,0,null,null,0]
[0,{"$f":"IFERROR(INDEX(Settings!$AO$17:$AO$38,MATCH(Personnel!$G991,Settings!$AP$17:$AP$38,0)),0)","v":0},null,null,null,0,0,0,0,0,0,0,0,0,0,0,0,0,0,0,0,0,0,0,null,null,0]
[0,{"$f":"IFERROR(INDEX(Settings!$AO$17:$AO$38,MATCH(Personnel!$G992,Settings!$AP$17:$AP$38,0)),0)","v":0},null,null,null,0,0,0,0,0,0,0,0,0,0,0,0,0,0,0,0,0,0,0,null,null,0]
[0,{"$f":"IFERROR(INDEX(Settings!$AO$17:$AO$38,MATCH(Personnel!$G993,Settings!$AP$17:$AP$38,0)),0)","v":0},null,null,null,0,0,0,0,0,0,0,0,0,0,0,0,0,0,0,0,0,0,0,null,null,0]
[0,{"$f":"IFERROR(INDEX(Settings!$AO$17:$AO$38,MATCH(Personnel!$G994,Settings!$AP$17:$AP$38,0)),0)","v":0},null,null,null,0,0,0,0,0,0,0,0,0,0,0,0,0,0,0,0,0,0,0,null,null,0]
[0,{"$f":"IFERROR(INDEX(Settings!$AO$17:$AO$38,MATCH(Personnel!$G995,Settings!$AP$17:$AP$38,0)),0)","v":0},null,null,null,0,0,0,0,0,0,0,0,0,0,0,0,0,0,0,0,0,0,0,null,null,0]
[0,{"$f":"IFERROR(INDEX(Settings!$AO$17:$AO$38,MATCH(Personnel!$G996,Settings!$AP$17:$AP$38,0)),0)","v":0},null,null,null,0,0,0,0,0,0,0,0,0,0,0,0,0,0,0,0,0,0,0,null,null,0]
[0,{"$f":"IFERROR(INDEX(Settings!$AO$17:$AO$38,MATCH(Personnel!$G997,Settings!$AP$17:$AP$38,0)),0)","v":0},null,null,null,0,0,0,0,0,0,0,0,0,0,0,0,0,0,0,0,0,0,0,null,null,0]
[0,{"$f":"IFERROR(INDEX(Settings!$AO$17:$AO$38,MATCH(Personnel!$G998,Settings!$AP$17:$AP$38,0)),0)","v":0},null,null,null,0,0,0,0,0,0,0,0,0,0,0,0,0,0,0,0,0,0,0,null,null,0]
[0,{"$f":"IFERROR(INDEX(Settings!$AO$17:$AO$38,MATCH(Personnel!$G999,Settings!$AP$17:$AP$38,0)),0)","v":0},null,null,null,0,0,0,0,0,0,0,0,0,0,0,0,0,0,0,0,0,0,0,null,null,0]
[0,{"$f":"IFERROR(INDEX(Settings!$AO$17:$AO$38,MATCH(Personnel!$G1000,Settings!$AP$17:$AP$38,0)),0)","v":0},null,null,null,0,0,0,0,0,0,0,0,0,0,0,0,0,0,0,0,0,0,0,null,null,0]
[0,{"$f":"IFERROR(INDEX(Settings!$AO$17:$AO$38,MATCH(Personnel!$G1001,Settings!$AP$17:$AP$38,0)),0)","v":0},null,null,null,0,0,0,0,0,0,0,0,0,0,0,0,0,0,0,0,0,0,0,null,null,0]
[0,{"$f":"IFERROR(INDEX(Settings!$AO$17:$AO$38,MATCH(Personnel!$G1002,Settings!$AP$17:$AP$38,0)),0)","v":0},null,null,null,0,0,0,0,0,0,0,0,0,0,0,0,0,0,0,0,0,0,0,null,null,0]
[0,{"$f":"IFERROR(INDEX(Settings!$AO$17:$AO$38,MATCH(Personnel!$G1003,Settings!$AP$17:$AP$38,0)),0)","v":0},null,null,null,0,0,0,0,0,0,0,0,0,0,0,0,0,0,0,0,0,0,0,null,null,0]
[0,{"$f":"IFERROR(INDEX(Settings!$AO$17:$AO$38,MATCH(Personnel!$G1004,Settings!$AP$17:$AP$38,0)),0)","v":0},null,null,null,0,0,0,0,0,0,0,0,0,0,0,0,0,0,0,0,0,0,0,null,null,0]
[0,{"$f":"IFERROR(INDEX(Settings!$AO$17:$AO$38,MATCH(Personnel!$G1005,Settings!$AP$17:$AP$38,0)),0)","v":0},null,null,null,0,0,0,0,0,0,0,0,0,0,0,0,0,0,0,0,0,0,0,null,null,0]
[0,{"$f":"IFERROR(INDEX(Settings!$AO$17:$AO$38,MATCH(Personnel!$G1006,Settings!$AP$17:$AP$38,0)),0)","v":0},null,null,null,0,0,0,0,0,0,0,0,0,0,0,0,0,0,0,0,0,0,0,null,null,0]
[0,{"$f":"IFERROR(INDEX(Settings!$AO$17:$AO$38,MATCH(Personnel!$G1007,Settings!$AP$17:$AP$38,0)),0)","v":0},null,null,null,0,0,0,0,0,0,0,0,0,0,0,0,0,0,0,0,0,0,0,null,null,0]
[0,{"$f":"IFERROR(INDEX(Settings!$AO$17:$AO$38,MATCH(Personnel!$G1008,Settings!$AP$17:$AP$38,0)),0)","v":0},null,null,null,0,0,0,0,0,0,0,0,0,0,0,0,0,0,0,0,0,0,0,null,null,0]
[0,{"$f":"IFERROR(INDEX(Settings!$AO$17:$AO$38,MATCH(Personnel!$G1009,Settings!$AP$17:$AP$38,0)),0)","v":0},null,null,null,0,0,0,0,0,0,0,0,0,0,0,0,0,0,0,0,0,0,0,null,null,0]
[0,{"$f":"IFERROR(INDEX(Settings!$AO$17:$AO$38,MATCH(Personnel!$G1010,Settings!$AP$17:$AP$38,0)),0)","v":0},null,null,null,0,0,0,0,0,0,0,0,0,0,0,0,0,0,0,0,0,0,0,null,null,0]
[0,{"$f":"IFERROR(INDEX(Settings!$AO$17:$AO$38,MATCH(Personnel!$G1011,Settings!$AP$17:$AP$38,0)),0)","v":0},null,null,null,0,0,0,0,0,0,0,0,0,0,0,0,0,0,0,0,0,0,0,null,null,0]
[0,{"$f":"IFERROR(INDEX(Settings!$AO$17:$AO$38,MATCH(Personnel!$G1012,Settings!$AP$17:$AP$38,0)),0)","v":0},null,null,null,0,0,0,0,0,0,0,0,0,0,0,0,0,0,0,0,0,0,0,null,null,0]
[0,{"$f":"IFERROR(INDEX(Settings!$AO$17:$AO$38,MATCH(Personnel!$G1013,Settings!$AP$17:$AP$38,0)),0)","v":0},null,null,null,0,0,0,0,0,0,0,0,0,0,0,0,0,0,0,0,0,0,0,null,null,0]
[0,{"$f":"IFERROR(INDEX(Settings!$AO$17:$AO$38,MATCH(Personnel!$G1014,Settings!$AP$17:$AP$38,0)),0)","v":0},null,null,null,0,0,0,0,0,0,0,0,0,0,0,0,0,0,0,0,0,0,0,null,null,0]
[0,{"$f":"IFERROR(INDEX(Settings!$AO$17:$AO$38,MATCH(Personnel!$G1015,Settings!$AP$17:$AP$38,0)),0)","v":0},null,null,null,0,0,0,0,0,0,0,0,0,0,0,0,0,0,0,0,0,0,0,null,null,0]
[0,{"$f":"IFERROR(INDEX(Settings!$AO$17:$AO$38,MATCH(Personnel!$G1016,Settings!$AP$17:$AP$38,0)),0)","v":0},null,null,null,0,0,0,0,0,0,0,0,0,0,0,0,0,0,0,0,0,0,0,null,null,0]
[0,{"$f":"IFERROR(INDEX(Settings!$AO$17:$AO$38,MATCH(Personnel!$G1017,Settings!$AP$17:$AP$38,0)),0)","v":0},null,null,null,0,0,0,0,0,0,0,0,0,0,0,0,0,0,0,0,0,0,0,null,null,0]
[0,{"$f":"IFERROR(INDEX(Settings!$AO$17:$AO$38,MATCH(Personnel!$G1018,Settings!$AP$17:$AP$38,0)),0)","v":0},null,null,null,0,0,0,0,0,0,0,0,0,0,0,0,0,0,0,0,0,0,0,null,null,0]
[0,{"$f":"IFERROR(INDEX(Settings!$AO$17:$AO$38,MATCH(Personnel!$G1019,Settings!$AP$17:$AP$38,0)),0)","v":0},null,null,null,0,0,0,0,0,0,0,0,0,0,0,0,0,0,0,0,0,0,0,null,null,0]
[0,{"$f":"IFERROR(INDEX(Settings!$AO$17:$AO$38,MATCH(Personnel!$G1020,Settings!$AP$17:$AP$38,0)),0)","v":0},null,null,null,0,0,0,0,0,0,0,0,0,0,0,0,0,0,0,0,0,0,0,null,null,0]
[0,{"$f":"IFERROR(INDEX(Settings!$AO$17:$AO$38,MATCH(Personnel!$G1021,Settings!$AP$17:$AP$38,0)),0)","v":0},null,null,null,0,0,0,0,0,0,0,0,0,0,0,0,0,0,0,0,0,0,0,null,null,0]
[0,{"$f":"IFERROR(INDEX(Settings!$AO$17:$AO$38,MATCH(Personnel!$G1022,Settings!$AP$17:$AP$38,0)),0)","v":0},null,null,null,0,0,0,0,0,0,0,0,0,0,0,0,0,0,0,0,0,0,0,null,null,0]
[0,{"$f":"IFERROR(INDEX(Settings!$AO$17:$AO$38,MATCH(Personnel!$G1023,Settings!$AP$17:$AP$38,0)),0)","v":0},null,null,null,0,0,0,0,0,0,0,0,0,0,0,0,0,0,0,0,0,0,0,null,null,0]
[0,{"$f":"IFERROR(INDEX(Settings!$AO$17:$AO$38,MATCH(Personnel!$G1024,Settings!$AP$17:$AP$38,0)),0)","v":0},null,null,null,0,0,0,0,0,0,0,0,0,0,0,0,0,0,0,0,0,0,0,null,null,0]
[0,{"$f":"IFERROR(INDEX(Settings!$AO$17:$AO$38,MATCH(Personnel!$G1025,Settings!$AP$17:$AP$38,0)),0)","v":0},null,null,null,0,0,0,0,0,0,0,0,0,0,0,0,0,0,0,0,0,0,0,null,null,0]
[0,{"$f":"IFERROR(INDEX(Settings!$AO$17:$AO$38,MATCH(Personnel!$G1026,Settings!$AP$17:$AP$38,0)),0)","v":0},null,null,null,0,0,0,0,0,0,0,0,0,0,0,0,0,0,0,0,0,0,0,null,null,0]
[0,{"$f":"IFERROR(INDEX(Settings!$AO$17:$AO$38,MATCH(Personnel!$G1027,Settings!$AP$17:$AP$38,0)),0)","v":0},null,null,null,0,0,0,0,0,0,0,0,0,0,0,0,0,0,0,0,0,0,0,null,null,0]
[0,{"$f":"IFERROR(INDEX(Settings!$AO$17:$AO$38,MATCH(Personnel!$G1028,Settings!$AP$17:$AP$38,0)),0)","v":0},null,null,null,0,0,0,0,0,0,0,0,0,0,0,0,0,0,0,0,0,0,0,null,null,0]
[0,{"$f":"IFERROR(INDEX(Settings!$AO$17:$AO$38,MATCH(Personnel!$G1029,Settings!$AP$17:$AP$38,0)),0)","v":0},null,null,null,0,0,0,0,0,0,0,0,0,0,0,0,0,0,0,0,0,0,0,null,null,0]
[0,{"$f":"IFERROR(INDEX(Settings!$AO$17:$AO$38,MATCH(Personnel!$G1030,Settings!$AP$17:$AP$38,0)),0)","v":0},null,null,null,0,0,0,0,0,0,0,0,0,0,0,0,0,0,0,0,0,0,0,null,null,0]
[0,{"$f":"IFERROR(INDEX(Settings!$AO$17:$AO$38,MATCH(Personnel!$G1031,Settings!$AP$17:$AP$38,0)),0)","v":0},null,null,null,0,0,0,0,0,0,0,0,0,0,0,0,0,0,0,0,0,0,0,null,null,0]
[0,{"$f":"IFERROR(INDEX(Settings!$AO$17:$AO$38,MATCH(Personnel!$G1032,Settings!$AP$17:$AP$38,0)),0)","v":0},null,null,null,0,0,0,0,0,0,0,0,0,0,0,0,0,0,0,0,0,0,0,null,null,0]
[0,{"$f":"IFERROR(INDEX(Settings!$AO$17:$AO$38,MATCH(Personnel!$G1033,Settings!$AP$17:$AP$38,0)),0)","v":0},null,null,null,0,0,0,0,0,0,0,0,0,0,0,0,0,0,0,0,0,0,0,null,null,0]
[0,{"$f":"IFERROR(INDEX(Settings!$AO$17:$AO$38,MATCH(Personnel!$G1034,Settings!$AP$17:$AP$38,0)),0)","v":0},null,null,null,0,0,0,0,0,0,0,0,0,0,0,0,0,0,0,0,0,0,0,null,null,0]
[0,{"$f":"IFERROR(INDEX(Settings!$AO$17:$AO$38,MATCH(Personnel!$G1035,Settings!$AP$17:$AP$38,0)),0)","v":0},null,null,null,0,0,0,0,0,0,0,0,0,0,0,0,0,0,0,0,0,0,0,null,null,0]
[{"$f":"IF(SUM(K1036:AA1036)>0,1,0)","v":0},{"$f":"IFERROR(INDEX(Settings!$AO$17:$AO$38,MATCH(Personnel!$G1036,Settings!$AP$17:$AP$38,0)),0)","v":0},null,null,null,0,0,0,0,0,0,0,0,0,0,0,0,0,0,0,0,0,0,0,null,null,0]
[0,{"$f":"IFERROR(INDEX(Settings!$AO$17:$AO$38,MATCH(Personnel!$G1037,Settings!$AP$17:$AP$38,0)),0)","v":0},null,null,null,0,0,0,0,0,0,0,{"$f":"ROUND(IF(ISERROR(L1037/K1037),0,(L1037/K1037)),0)","v":0},0,0,0,0,{"$f":"ROUND(IF(ISERROR(Q1037/P1037),0,(Q1037/P1037)),0)","v":0},0,0,{"$f":"ROUND(IF(ISERROR(T1037/S1037),0,(T1037/S1037)),0)","v":0},0,0,{"$f":"ROUND(IF(ISERROR(W1037/V1037),0,(W1037/V1037)),0)","v":0},null,null,{"$f":"ROUND(IF(ISERROR(Z1037/Y1037),0,(Z1037/Y1037)),0)","v":0}]
[0,{"$f":"IFERROR(INDEX(Settings!$AO$17:$AO$38,MATCH(Personnel!$G1038,Settings!$AP$17:$AP$38,0)),0)","v":0},null,null,null,0,0,0,0,0,0,0,0,0,0,0,0,0,0,0,0,0,0,0,null,null,0]
[0,{"$f":"IFERROR(INDEX(Settings!$AO$17:$AO$38,MATCH(Personnel!$G1039,Settings!$AP$17:$AP$38,0)),0)","v":0},null,null,null,0,0,0,0,0,0,0,0,0,0,0,0,0,0,0,0,0,0,0,null,null,0]
[0,{"$f":"IFERROR(INDEX(Settings!$AO$17:$AO$38,MATCH(Personnel!$G1040,Settings!$AP$17:$AP$38,0)),0)","v":0},null,null,null,0,0,0,0,0,0,0,0,0,0,0,0,0,0,0,0,0,0,0,null,null,0]
[0,{"$f":"IFERROR(INDEX(Settings!$AO$17:$AO$38,MATCH(Personnel!$G1041,Settings!$AP$17:$AP$38,0)),0)","v":0},null,null,null,0,0,0,0,0,0,0,0,0,0,0,0,0,0,0,0,0,0,0,null,null,0]
[0,{"$f":"IFERROR(INDEX(Settings!$AO$17:$AO$38,MATCH(Personnel!$G1042,Settings!$AP$17:$AP$38,0)),0)","v":0},null,null,null,0,0,0,0,0,0,0,0,0,0,0,0,0,0,0,0,0,0,0,null,null,0]
[0,{"$f":"IFERROR(INDEX(Settings!$AO$17:$AO$38,MATCH(Personnel!$G1043,Settings!$AP$17:$AP$38,0)),0)","v":0},null,null,null,0,0,0,0,0,0,0,0,0,0,0,0,0,0,0,0,0,0,0,null,null,0]
[0,{"$f":"IFERROR(INDEX(Settings!$AO$17:$AO$38,MATCH(Personnel!$G1044,Settings!$AP$17:$AP$38,0)),0)","v":0},null,null,null,0,0,0,0,0,0,0,0,0,0,0,0,0,0,0,0,0,0,0,null,null,0]
[0,{"$f":"IFERROR(INDEX(Settings!$AO$17:$AO$38,MATCH(Personnel!$G1045,Settings!$AP$17:$AP$38,0)),0)","v":0},null,null,null,0,0,0,0,0,0,0,0,0,0,0,0,0,0,0,0,0,0,0,null,null,0]
[0,{"$f":"IFERROR(INDEX(Settings!$AO$17:$AO$38,MATCH(Personnel!$G1046,Settings!$AP$17:$AP$38,0)),0)","v":0},null,null,null,0,0,0,0,0,0,0,0,0,0,0,0,0,0,0,0,0,0,0,null,null,0]
[0,{"$f":"IFERROR(INDEX(Settings!$AO$17:$AO$38,MATCH(Personnel!$G1047,Settings!$AP$17:$AP$38,0)),0)","v":0},null,null,null,0,0,0,0,0,0,0,0,0,0,0,0,0,0,0,0,0,0,0,null,null,0]
[0,{"$f":"IFERROR(INDEX(Settings!$AO$17:$AO$38,MATCH(Personnel!$G1048,Settings!$AP$17:$AP$38,0)),0)","v":0},null,null,null,0,0,0,0,0,0,0,0,0,0,0,0,0,0,0,0,0,0,0,null,null,0]
[0,{"$f":"IFERROR(INDEX(Settings!$AO$17:$AO$38,MATCH(Personnel!$G1049,Settings!$AP$17:$AP$38,0)),0)","v":0},null,null,null,0,0,0,0,0,0,0,0,0,0,0,0,0,0,0,0,0,0,0,null,null,0]
[0,{"$f":"IFERROR(INDEX(Settings!$AO$17:$AO$38,MATCH(Personnel!$G1050,Settings!$AP$17:$AP$38,0)),0)","v":0},null,null,null,0,0,0,0,0,0,0,0,0,0,0,0,0,0,0,0,0,0,0,null,null,0]
[0,{"$f":"IFERROR(INDEX(Settings!$AO$17:$AO$38,MATCH(Personnel!$G1051,Settings!$AP$17:$AP$38,0)),0)","v":0},null,null,null,0,0,0,0,0,0,0,0,0,0,0,0,0,0,0,0,0,0,0,null,null,0]
[0,{"$f":"IFERROR(INDEX(Settings!$AO$17:$AO$38,MATCH(Personnel!$G1052,Settings!$AP$17:$AP$38,0)),0)","v":0},null,null,null,0,0,0,0,0,0,0,0,0,0,0,0,0,0,0,0,0,0,0,null,null,0]
[0,{"$f":"IFERROR(INDEX(Settings!$AO$17:$AO$38,MATCH(Personnel!$G1053,Settings!$AP$17:$AP$38,0)),0)","v":0},null,null,null,0,0,0,0,0,0,0,0,0,0,0,0,0,0,0,0,0,0,0,null,null,0]
[0,{"$f":"IFERROR(INDEX(Settings!$AO$17:$AO$38,MATCH(Personnel!$G1054,Settings!$AP$17:$AP$38,0)),0)","v":0},null,null,null,0,0,0,0,0,0,0,0,0,0,0,0,0,0,0,0,0,0,0,null,null,0]
[0,{"$f":"IFERROR(INDEX(Settings!$AO$17:$AO$38,MATCH(Personnel!$G1055,Settings!$AP$17:$AP$38,0)),0)","v":0},null,null,null,0,0,0,0,0,0,0,0,0,0,0,0,0,0,0,0,0,0,0,null,null,0]
[0,{"$f":"IFERROR(INDEX(Settings!$AO$17:$AO$38,MATCH(Personnel!$G1056,Settings!$AP$17:$AP$38,0)),0)","v":0},null,null,null,0,0,0,0,0,0,0,0,0,0,0,0,0,0,0,0,0,0,0,null,null,0]
[0,{"$f":"IFERROR(INDEX(Settings!$AO$17:$AO$38,MATCH(Personnel!$G1057,Settings!$AP$17:$AP$38,0)),0)","v":0},null,null,null,0,0,0,0,0,0,0,0,0,0,0,0,0,0,0,0,0,0,0,null,null,0]
[0,{"$f":"IFERROR(INDEX(Settings!$AO$17:$AO$38,MATCH(Personnel!$G1058,Settings!$AP$17:$AP$38,0)),0)","v":0},null,null,null,0,0,0,0,0,0,0,0,0,0,0,0,0,0,0,0,0,0,0,null,null,0]
[0,{"$f":"IFERROR(INDEX(Settings!$AO$17:$AO$38,MATCH(Personnel!$G1059,Settings!$AP$17:$AP$38,0)),0)","v":0},null,null,null,0,0,0,0,0,0,0,0,0,0,0,0,0,0,0,0,0,0,0,null,null,0]
[0,{"$f":"IFERROR(INDEX(Settings!$AO$17:$AO$38,MATCH(Personnel!$G1060,Settings!$AP$17:$AP$38,0)),0)","v":0},null,null,null,0,0,0,0,0,0,0,0,0,0,0,0,0,0,0,0,0,0,0,null,null,0]
[0,{"$f":"IFERROR(INDEX(Settings!$AO$17:$AO$38,MATCH(Personnel!$G1061,Settings!$AP$17:$AP$38,0)),0)","v":0},null,null,null,0,0,0,0,0,0,0,0,0,0,0,0,0,0,0,0,0,0,0,null,null,0]
[0,{"$f":"IFERROR(INDEX(Settings!$AO$17:$AO$38,MATCH(Personnel!$G1062,Settings!$AP$17:$AP$38,0)),0)","v":0},null,null,null,0,0,0,0,0,0,0,0,0,0,0,0,0,0,0,0,0,0,0,null,null,0]
[0,{"$f":"IFERROR(INDEX(Settings!$AO$17:$AO$38,MATCH(Personnel!$G1063,Settings!$AP$17:$AP$38,0)),0)","v":0},null,null,null,0,0,0,0,0,0,0,0,0,0,0,0,0,0,0,0,0,0,0,null,null,0]
[0,{"$f":"IFERROR(INDEX(Settings!$AO$17:$AO$38,MATCH(Personnel!$G1064,Settings!$AP$17:$AP$38,0)),0)","v":0},null,null,null,0,0,0,0,0,0,0,0,0,0,0,0,0,0,0,0,0,0,0,null,null,0]
[0,{"$f":"IFERROR(INDEX(Settings!$AO$17:$AO$38,MATCH(Personnel!$G1065,Settings!$AP$17:$AP$38,0)),0)","v":0},null,null,null,0,0,0,0,0,0,0,0,0,0,0,0,0,0,0,0,0,0,0,null,null,0]
[0,{"$f":"IFERROR(INDEX(Settings!$AO$17:$AO$38,MATCH(Personnel!$G1066,Settings!$AP$17:$AP$38,0)),0)","v":0},null,null,null,0,0,0,0,0,0,0,0,0,0,0,0,0,0,0,0,0,0,0,null,null,0]
[0,{"$f":"IFERROR(INDEX(Settings!$AO$17:$AO$38,MATCH(Personnel!$G1067,Settings!$AP$17:$AP$38,0)),0)","v":0},null,null,null,0,0,0,0,0,0,0,0,0,0,0,0,0,0,0,0,0,0,0,null,null,0]
[0,{"$f":"IFERROR(INDEX(Settings!$AO$17:$AO$38,MATCH(Personnel!$G1068,Settings!$AP$17:$AP$38,0)),0)","v":0},null,null,null,0,0,0,0,0,0,0,0,0,0,0,0,0,0,0,0,0,0,0,null,null,0]
[0,{"$f":"IFERROR(INDEX(Settings!$AO$17:$AO$38,MATCH(Personnel!$G1069,Settings!$AP$17:$AP$38,0)),0)","v":0},null,null,null,0,0,0,0,0,0,0,0,0,0,0,0,0,0,0,0,0,0,0,null,null,0]
[0,{"$f":"IFERROR(INDEX(Settings!$AO$17:$AO$38,MATCH(Personnel!$G1070,Settings!$AP$17:$AP$38,0)),0)","v":0},null,null,null,0,0,0,0,0,0,0,0,0,0,0,0,0,0,0,0,0,0,0,null,null,0]
[0,{"$f":"IFERROR(INDEX(Settings!$AO$17:$AO$38,MATCH(Personnel!$G1071,Settings!$AP$17:$AP$38,0)),0)","v":0},null,null,null,0,0,0,0,0,0,0,0,0,0,0,0,0,0,0,0,0,0,0,null,null,0]
[0,{"$f":"IFERROR(INDEX(Settings!$AO$17:$AO$38,MATCH(Personnel!$G1072,Settings!$AP$17:$AP$38,0)),0)","v":0},null,null,null,0,0,0,0,0,0,0,0,0,0,0,0,0,0,0,0,0,0,0,null,null,0]
[0,{"$f":"IFERROR(INDEX(Settings!$AO$17:$AO$38,MATCH(Personnel!$G1073,Settings!$AP$17:$AP$38,0)),0)","v":0},null,null,null,0,0,0,0,0,0,0,0,0,0,0,0,0,0,0,0,0,0,0,null,null,0]
[0,{"$f":"IFERROR(INDEX(Settings!$AO$17:$AO$38,MATCH(Personnel!$G1074,Settings!$AP$17:$AP$38,0)),0)","v":0},null,null,null,0,0,0,0,0,0,0,0,0,0,0,0,0,0,0,0,0,0,0,null,null,0]
[0,{"$f":"IFERROR(INDEX(Settings!$AO$17:$AO$38,MATCH(Personnel!$G1075,Settings!$AP$17:$AP$38,0)),0)","v":0},null,null,null,0,0,0,0,0,0,0,0,0,0,0,0,0,0,0,0,0,0,0,null,null,0]
[0,{"$f":"IFERROR(INDEX(Settings!$AO$17:$AO$38,MATCH(Personnel!$G1076,Settings!$AP$17:$AP$38,0)),0)","v":0},null,null,null,0,0,0,0,0,0,0,0,0,0,0,0,0,0,0,0,0,0,0,null,null,0]
[0,{"$f":"IFERROR(INDEX(Settings!$AO$17:$AO$38,MATCH(Personnel!$G1077,Settings!$AP$17:$AP$38,0)),0)","v":0},null,null,null,0,0,0,0,0,0,0,0,0,0,0,0,0,0,0,0,0,0,0,null,null,0]
[0,{"$f":"IFERROR(INDEX(Settings!$AO$17:$AO$38,MATCH(Personnel!$G1078,Settings!$AP$17:$AP$38,0)),0)","v":0},null,null,null,0,0,0,0,0,0,0,0,0,0,0,0,0,0,0,0,0,0,0,null,null,0]
[0,{"$f":"IFERROR(INDEX(Settings!$AO$17:$AO$38,MATCH(Personnel!$G1079,Settings!$AP$17:$AP$38,0)),0)","v":0},null,null,null,0,0,0,0,0,0,0,0,0,0,0,0,0,0,0,0,0,0,0,null,null,0]
[0,{"$f":"IFERROR(INDEX(Settings!$AO$17:$AO$38,MATCH(Personnel!$G1080,Settings!$AP$17:$AP$38,0)),0)","v":0},null,null,null,0,0,0,0,0,0,0,0,0,0,0,0,0,0,0,0,0,0,0,null,null,0]
[0,{"$f":"IFERROR(INDEX(Settings!$AO$17:$AO$38,MATCH(Personnel!$G1081,Settings!$AP$17:$AP$38,0)),0)","v":0},null,null,null,0,0,0,0,0,0,0,0,0,0,0,0,0,0,0,0,0,0,0,null,null,0]
[0,{"$f":"IFERROR(INDEX(Settings!$AO$17:$AO$38,MATCH(Personnel!$G1082,Settings!$AP$17:$AP$38,0)),0)","v":0},null,null,null,0,0,0,0,0,0,0,0,0,0,0,0,0,0,0,0,0,0,0,null,null,0]
[0,{"$f":"IFERROR(INDEX(Settings!$AO$17:$AO$38,MATCH(Personnel!$G1083,Settings!$AP$17:$AP$38,0)),0)","v":0},null,null,null,0,0,0,0,0,0,0,0,0,0,0,0,0,0,0,0,0,0,0,null,null,0]
[0,{"$f":"IFERROR(INDEX(Settings!$AO$17:$AO$38,MATCH(Personnel!$G1084,Settings!$AP$17:$AP$38,0)),0)","v":0},null,null,null,0,0,0,0,0,0,0,0,0,0,0,0,0,0,0,0,0,0,0,null,null,0]
[0,{"$f":"IFERROR(INDEX(Settings!$AO$17:$AO$38,MATCH(Personnel!$G1085,Settings!$AP$17:$AP$38,0)),0)","v":0},null,null,null,0,0,0,0,0,0,0,0,0,0,0,0,0,0,0,0,0,0,0,null,null,0]
[0,{"$f":"IFERROR(INDEX(Settings!$AO$17:$AO$38,MATCH(Personnel!$G1086,Settings!$AP$17:$AP$38,0)),0)","v":0},null,null,null,0,0,0,0,0,0,0,0,0,0,0,0,0,0,0,0,0,0,0,null,null,0]
[0,{"$f":"IFERROR(INDEX(Settings!$AO$17:$AO$38,MATCH(Personnel!$G1087,Settings!$AP$17:$AP$38,0)),0)","v":0},null,null,null,0,0,0,0,0,0,0,0,0,0,0,0,0,0,0,0,0,0,0,null,null,0]
[0,{"$f":"IFERROR(INDEX(Settings!$AO$17:$AO$38,MATCH(Personnel!$G1088,Settings!$AP$17:$AP$38,0)),0)","v":0},null,null,null,0,0,0,0,0,0,0,0,0,0,0,0,0,0,0,0,0,0,0,null,null,0]
[0,{"$f":"IFERROR(INDEX(Settings!$AO$17:$AO$38,MATCH(Personnel!$G1089,Settings!$AP$17:$AP$38,0)),0)","v":0},null,null,null,0,0,0,0,0,0,0,0,0,0,0,0,0,0,0,0,0,0,0,null,null,0]
[0,{"$f":"IFERROR(INDEX(Settings!$AO$17:$AO$38,MATCH(Personnel!$G1090,Settings!$AP$17:$AP$38,0)),0)","v":0},null,null,null,0,0,0,0,0,0,0,0,0,0,0,0,0,0,0,0,0,0,0,null,null,0]
[0,{"$f":"IFERROR(INDEX(Settings!$AO$17:$AO$38,MATCH(Personnel!$G1091,Settings!$AP$17:$AP$38,0)),0)","v":0},null,null,null,0,0,0,0,0,0,0,0,0,0,0,0,0,0,0,0,0,0,0,null,null,0]
[0,{"$f":"IFERROR(INDEX(Settings!$AO$17:$AO$38,MATCH(Personnel!$G1092,Settings!$AP$17:$AP$38,0)),0)","v":0},null,null,null,0,0,0,0,0,0,0,0,0,0,0,0,0,0,0,0,0,0,0,null,null,0]
[0,{"$f":"IFERROR(INDEX(Settings!$AO$17:$AO$38,MATCH(Personnel!$G1093,Settings!$AP$17:$AP$38,0)),0)","v":0},null,null,null,0,0,0,0,0,0,0,0,0,0,0,0,0,0,0,0,0,0,0,null,null,0]
[0,{"$f":"IFERROR(INDEX(Settings!$AO$17:$AO$38,MATCH(Personnel!$G1094,Settings!$AP$17:$AP$38,0)),0)","v":0},null,null,null,0,0,0,0,0,0,0,0,0,0,0,0,0,0,0,0,0,0,0,null,null,0]
[0,{"$f":"IFERROR(INDEX(Settings!$AO$17:$AO$38,MATCH(Personnel!$G1095,Settings!$AP$17:$AP$38,0)),0)","v":0},null,null,null,0,0,0,0,0,0,0,0,0,0,0,0,0,0,0,0,0,0,0,null,null,0]
[0,{"$f":"IFERROR(INDEX(Settings!$AO$17:$AO$38,MATCH(Personnel!$G1096,Settings!$AP$17:$AP$38,0)),0)","v":0},null,null,null,0,0,0,0,0,0,0,0,0,0,0,0,0,0,0,0,0,0,0,null,null,0]
[0,{"$f":"IFERROR(INDEX(Settings!$AO$17:$AO$38,MATCH(Personnel!$G1097,Settings!$AP$17:$AP$38,0)),0)","v":0},null,null,null,0,0,0,0,0,0,0,0,0,0,0,0,0,0,0,0,0,0,0,null,null,0]
[0,{"$f":"IFERROR(INDEX(Settings!$AO$17:$AO$38,MATCH(Personnel!$G1098,Settings!$AP$17:$AP$38,0)),0)","v":0},null,null,null,0,0,0,0,0,0,0,0,0,0,0,0,0,0,0,0,0,0,0,null,null,0]
[0,{"$f":"IFERROR(INDEX(Settings!$AO$17:$AO$38,MATCH(Personnel!$G1099,Settings!$AP$17:$AP$38,0)),0)","v":0},null,null,null,0,0,0,0,0,0,0,0,0,0,0,0,0,0,0,0,0,0,0,null,null,0]
[{"$f":"IF(SUM(K1100:AA1100)>0,1,0)","v":0},{"$f":"IFERROR(INDEX(Settings!$AO$17:$AO$38,MATCH(Personnel!$G1100,Settings!$AP$17:$AP$38,0)),0)","v":0},null,null,null,0,0,0,0,0,0,0,0,0,0,0,0,0,0,0,0,0,0,0,null,null,0]
[0,{"$f":"IFERROR(INDEX(Settings!$AO$17:$AO$38,MATCH(Personnel!$G1101,Settings!$AP$17:$AP$38,0)),0)","v":0},null,null,null,0,0,0,0,0,0,0,{"$f":"ROUND(IF(ISERROR(L1101/K1101),0,(L1101/K1101)),0)","v":0},0,0,0,0,{"$f":"ROUND(IF(ISERROR(Q1101/P1101),0,(Q1101/P1101)),0)","v":0},0,0,{"$f":"ROUND(IF(ISERROR(T1101/S1101),0,(T1101/S1101)),0)","v":0},0,0,{"$f":"ROUND(IF(ISERROR(W1101/V1101),0,(W1101/V1101)),0)","v":0},null,null,{"$f":"ROUND(IF(ISERROR(Z1101/Y1101),0,(Z1101/Y1101)),0)","v":0}]
[0,{"$f":"IFERROR(INDEX(Settings!$AO$17:$AO$38,MATCH(Personnel!$G1102,Settings!$AP$17:$AP$38,0)),0)","v":0},null,null,null,0,0,0,0,0,0,0,0,0,0,0,0,0,0,0,0,0,0,0,null,null,0]
[0,{"$f":"IFERROR(INDEX(Settings!$AO$17:$AO$38,MATCH(Personnel!$G1103,Settings!$AP$17:$AP$38,0)),0)","v":0},null,null,null,0,0,0,0,0,0,0,0,0,0,0,0,0,0,0,0,0,0,0,null,null,0]
[0,{"$f":"IFERROR(INDEX(Settings!$AO$17:$AO$38,MATCH(Personnel!$G1104,Settings!$AP$17:$AP$38,0)),0)","v":0},null,null,null,0,0,0,0,0,0,0,0,0,0,0,0,0,0,0,0,0,0,0,null,null,0]
[0,{"$f":"IFERROR(INDEX(Settings!$AO$17:$AO$38,MATCH(Personnel!$G1105,Settings!$AP$17:$AP$38,0)),0)","v":0},null,null,null,0,0,0,0,0,0,0,0,0,0,0,0,0,0,0,0,0,0,0,null,null,0]
[0,{"$f":"IFERROR(INDEX(Settings!$AO$17:$AO$38,MATCH(Personnel!$G1106,Settings!$AP$17:$AP$38,0)),0)","v":0},null,null,null,0,0,0,0,0,0,0,0,0,0,0,0,0,0,0,0,0,0,0,null,null,0]
[0,{"$f":"IFERROR(INDEX(Settings!$AO$17:$AO$38,MATCH(Personnel!$G1107,Settings!$AP$17:$AP$38,0)),0)","v":0},null,null,null,0,0,0,0,0,0,0,0,0,0,0,0,0,0,0,0,0,0,0,null,null,0]
[0,{"$f":"IFERROR(INDEX(Settings!$AO$17:$AO$38,MATCH(Personnel!$G1108,Settings!$AP$17:$AP$38,0)),0)","v":0},null,null,null,0,0,0,0,0,0,0,0,0,0,0,0,0,0,0,0,0,0,0,null,null,0]
[0,{"$f":"IFERROR(INDEX(Settings!$AO$17:$AO$38,MATCH(Personnel!$G1109,Settings!$AP$17:$AP$38,0)),0)","v":0},null,null,null,0,0,0,0,0,0,0,0,0,0,0,0,0,0,0,0,0,0,0,null,null,0]
[0,{"$f":"IFERROR(INDEX(Settings!$AO$17:$AO$38,MATCH(Personnel!$G1110,Settings!$AP$17:$AP$38,0)),0)","v":0},null,null,null,0,0,0,0,0,0,0,0,0,0,0,0,0,0,0,0,0,0,0,null,null,0]
[0,{"$f":"IFERROR(INDEX(Settings!$AO$17:$AO$38,MATCH(Personnel!$G1111,Settings!$AP$17:$AP$38,0)),0)","v":0},null,null,null,0,0,0,0,0,0,0,0,0,0,0,0,0,0,0,0,0,0,0,null,null,0]
[0,{"$f":"IFERROR(INDEX(Settings!$AO$17:$AO$38,MATCH(Personnel!$G1112,Settings!$AP$17:$AP$38,0)),0)","v":0},null,null,null,0,0,0,0,0,0,0,0,0,0,0,0,0,0,0,0,0,0,0,null,null,0]
[0,{"$f":"IFERROR(INDEX(Settings!$AO$17:$AO$38,MATCH(Personnel!$G1113,Settings!$AP$17:$AP$38,0)),0)","v":0},null,null,null,0,0,0,0,0,0,0,0,0,0,0,0,0,0,0,0,0,0,0,null,null,0]
[0,{"$f":"IFERROR(INDEX(Settings!$AO$17:$AO$38,MATCH(Personnel!$G1114,Settings!$AP$17:$AP$38,0)),0)","v":0},null,null,null,0,0,0,0,0,0,0,0,0,0,0,0,0,0,0,0,0,0,0,null,null,0]
[0,{"$f":"IFERROR(INDEX(Settings!$AO$17:$AO$38,MATCH(Personnel!$G1115,Settings!$AP$17:$AP$38,0)),0)","v":0},null,null,null,0,0,0,0,0,0,0,0,0,0,0,0,0,0,0,0,0,0,0,null,null,0]
[0,{"$f":"IFERROR(INDEX(Settings!$AO$17:$AO$38,MATCH(Personnel!$G1116,Settings!$AP$17:$AP$38,0)),0)","v":0},null,null,null,0,0,0,0,0,0,0,0,0,0,0,0,0,0,0,0,0,0,0,null,null,0]
[0,{"$f":"IFERROR(INDEX(Settings!$AO$17:$AO$38,MATCH(Personnel!$G1117,Settings!$AP$17:$AP$38,0)),0)","v":0},null,null,null,0,0,0,0,0,0,0,0,0,0,0,0,0,0,0,0,0,0,0,null,null,0]
[0,{"$f":"IFERROR(INDEX(Settings!$AO$17:$AO$38,MATCH(Personnel!$G1118,Settings!$AP$17:$AP$38,0)),0)","v":0},null,null,null,0,0,0,0,0,0,0,0,0,0,0,0,0,0,0,0,0,0,0,null,null,0]
[0,{"$f":"IFERROR(INDEX(Settings!$AO$17:$AO$38,MATCH(Personnel!$G1119,Settings!$AP$17:$AP$38,0)),0)","v":0},null,null,null,0,0,0,0,0,0,0,0,0,0,0,0,0,0,0,0,0,0,0,null,null,0]
[0,{"$f":"IFERROR(INDEX(Settings!$AO$17:$AO$38,MATCH(Personnel!$G1120,Settings!$AP$17:$AP$38,0)),0)","v":0},null,null,null,0,0,0,0,0,0,0,0,0,0,0,0,0,0,0,0,0,0,0,null,null,0]
[0,{"$f":"IFERROR(INDEX(Settings!$AO$17:$AO$38,MATCH(Personnel!$G1121,Settings!$AP$17:$AP$38,0)),0)","v":0},null,null,null,0,0,0,0,0,0,0,0,0,0,0,0,0,0,0,0,0,0,0,null,null,0]
[0,{"$f":"IFERROR(INDEX(Settings!$AO$17:$AO$38,MATCH(Personnel!$G1122,Settings!$AP$17:$AP$38,0)),0)","v":0},null,null,null,0,0,0,0,0,0,0,0,0,0,0,0,0,0,0,0,0,0,0,null,null,0]
[0,{"$f":"IFERROR(INDEX(Settings!$AO$17:$AO$38,MATCH(Personnel!$G1123,Settings!$AP$17:$AP$38,0)),0)","v":0},null,null,null,0,0,0,0,0,0,0,0,0,0,0,0,0,0,0,0,0,0,0,null,null,0]
[0,{"$f":"IFERROR(INDEX(Settings!$AO$17:$AO$38,MATCH(Personnel!$G1124,Settings!$AP$17:$AP$38,0)),0)","v":0},null,null,null,0,0,0,0,0,0,0,0,0,0,0,0,0,0,0,0,0,0,0,null,null,0]
[0,{"$f":"IFERROR(INDEX(Settings!$AO$17:$AO$38,MATCH(Personnel!$G1125,Settings!$AP$17:$AP$38,0)),0)","v":0},null,null,null,0,0,0,0,0,0,0,0,0,0,0,0,0,0,0,0,0,0,0,null,null,0]
[0,{"$f":"IFERROR(INDEX(Settings!$AO$17:$AO$38,MATCH(Personnel!$G1126,Settings!$AP$17:$AP$38,0)),0)","v":0},null,null,null,0,0,0,0,0,0,0,0,0,0,0,0,0,0,0,0,0,0,0,null,null,0]
[0,{"$f":"IFERROR(INDEX(Settings!$AO$17:$AO$38,MATCH(Personnel!$G1127,Settings!$AP$17:$AP$38,0)),0)","v":0},null,null,null,0,0,0,0,0,0,0,0,0,0,0,0,0,0,0,0,0,0,0,null,null,0]
[0,{"$f":"IFERROR(INDEX(Settings!$AO$17:$AO$38,MATCH(Personnel!$G1128,Settings!$AP$17:$AP$38,0)),0)","v":0},null,null,null,0,0,0,0,0,0,0,0,0,0,0,0,0,0,0,0,0,0,0,null,null,0]
[0,{"$f":"IFERROR(INDEX(Settings!$AO$17:$AO$38,MATCH(Personnel!$G1129,Settings!$AP$17:$AP$38,0)),0)","v":0},null,null,null,0,0,0,0,0,0,0,0,0,0,0,0,0,0,0,0,0,0,0,null,null,0]
[0,{"$f":"IFERROR(INDEX(Settings!$AO$17:$AO$38,MATCH(Personnel!$G1130,Settings!$AP$17:$AP$38,0)),0)","v":0},null,null,null,0,0,0,0,0,0,0,0,0,0,0,0,0,0,0,0,0,0,0,null,null,0]
[0,{"$f":"IFERROR(INDEX(Settings!$AO$17:$AO$38,MATCH(Personnel!$G1131,Settings!$AP$17:$AP$38,0)),0)","v":0},null,null,null,0,0,0,0,0,0,0,0,0,0,0,0,0,0,0,0,0,0,0,null,null,0]
[0,{"$f":"IFERROR(INDEX(Settings!$AO$17:$AO$38,MATCH(Personnel!$G1132,Settings!$AP$17:$AP$38,0)),0)","v":0},null,null,null,0,0,0,0,0,0,0,0,0,0,0,0,0,0,0,0,0,0,0,null,null,0]
[0,{"$f":"IFERROR(INDEX(Settings!$AO$17:$AO$38,MATCH(Personnel!$G1133,Settings!$AP$17:$AP$38,0)),0)","v":0},null,null,null,0,0,0,0,0,0,0,0,0,0,0,0,0,0,0,0,0,0,0,null,null,0]
[0,{"$f":"IFERROR(INDEX(Settings!$AO$17:$AO$38,MATCH(Personnel!$G1134,Settings!$AP$17:$AP$38,0)),0)","v":0},null,null,null,0,0,0,0,0,0,0,0,0,0,0,0,0,0,0,0,0,0,0,null,null,0]
[0,{"$f":"IFERROR(INDEX(Settings!$AO$17:$AO$38,MATCH(Personnel!$G1135,Settings!$AP$17:$AP$38,0)),0)","v":0},null,null,null,0,0,0,0,0,0,0,0,0,0,0,0,0,0,0,0,0,0,0,null,null,0]
[0,{"$f":"IFERROR(INDEX(Settings!$AO$17:$AO$38,MATCH(Personnel!$G1136,Settings!$AP$17:$AP$38,0)),0)","v":0},null,null,null,0,0,0,0,0,0,0,0,0,0,0,0,0,0,0,0,0,0,0,null,null,0]
[0,{"$f":"IFERROR(INDEX(Settings!$AO$17:$AO$38,MATCH(Personnel!$G1137,Settings!$AP$17:$AP$38,0)),0)","v":0},null,null,null,0,0,0,0,0,0,0,0,0,0,0,0,0,0,0,0,0,0,0,null,null,0]
[0,{"$f":"IFERROR(INDEX(Settings!$AO$17:$AO$38,MATCH(Personnel!$G1138,Settings!$AP$17:$AP$38,0)),0)","v":0},null,null,null,0,0,0,0,0,0,0,0,0,0,0,0,0,0,0,0,0,0,0,null,null,0]
[0,{"$f":"IFERROR(INDEX(Settings!$AO$17:$AO$38,MATCH(Personnel!$G1139,Settings!$AP$17:$AP$38,0)),0)","v":0},null,null,null,0,0,0,0,0,0,0,0,0,0,0,0,0,0,0,0,0,0,0,null,null,0]
[0,{"$f":"IFERROR(INDEX(Settings!$AO$17:$AO$38,MATCH(Personnel!$G1140,Settings!$AP$17:$AP$38,0)),0)","v":0},null,null,null,0,0,0,0,0,0,0,0,0,0,0,0,0,0,0,0,0,0,0,null,null,0]
[0,{"$f":"IFERROR(INDEX(Settings!$AO$17:$AO$38,MATCH(Personnel!$G1141,Settings!$AP$17:$AP$38,0)),0)","v":0},null,null,null,0,0,0,0,0,0,0,0,0,0,0,0,0,0,0,0,0,0,0,null,null,0]
[0,{"$f":"IFERROR(INDEX(Settings!$AO$17:$AO$38,MATCH(Personnel!$G1142,Settings!$AP$17:$AP$38,0)),0)","v":0},null,null,null,0,0,0,0,0,0,0,0,0,0,0,0,0,0,0,0,0,0,0,null,null,0]
[0,{"$f":"IFERROR(INDEX(Settings!$AO$17:$AO$38,MATCH(Personnel!$G1143,Settings!$AP$17:$AP$38,0)),0)","v":0},null,null,null,0,0,0,0,0,0,0,0,0,0,0,0,0,0,0,0,0,0,0,null,null,0]
[0,{"$f":"IFERROR(INDEX(Settings!$AO$17:$AO$38,MATCH(Personnel!$G1144,Settings!$AP$17:$AP$38,0)),0)","v":0},null,null,null,0,0,0,0,0,0,0,0,0,0,0,0,0,0,0,0,0,0,0,null,null,0]
[0,{"$f":"IFERROR(INDEX(Settings!$AO$17:$AO$38,MATCH(Personnel!$G1145,Settings!$AP$17:$AP$38,0)),0)","v":0},null,null,null,0,0,0,0,0,0,0,0,0,0,0,0,0,0,0,0,0,0,0,null,null,0]
[0,{"$f":"IFERROR(INDEX(Settings!$AO$17:$AO$38,MATCH(Personnel!$G1146,Settings!$AP$17:$AP$38,0)),0)","v":0},null,null,null,0,0,0,0,0,0,0,0,0,0,0,0,0,0,0,0,0,0,0,null,null,0]
[0,{"$f":"IFERROR(INDEX(Settings!$AO$17:$AO$38,MATCH(Personnel!$G1147,Settings!$AP$17:$AP$38,0)),0)","v":0},null,null,null,0,0,0,0,0,0,0,0,0,0,0,0,0,0,0,0,0,0,0,null,null,0]
[0,{"$f":"IFERROR(INDEX(Settings!$AO$17:$AO$38,MATCH(Personnel!$G1148,Settings!$AP$17:$AP$38,0)),0)","v":0},null,null,null,0,0,0,0,0,0,0,0,0,0,0,0,0,0,0,0,0,0,0,null,null,0]
[0,{"$f":"IFERROR(INDEX(Settings!$AO$17:$AO$38,MATCH(Personnel!$G1149,Settings!$AP$17:$AP$38,0)),0)","v":0},null,null,null,0,0,0,0,0,0,0,0,0,0,0,0,0,0,0,0,0,0,0,null,null,0]
[0,{"$f":"IFERROR(INDEX(Settings!$AO$17:$AO$38,MATCH(Personnel!$G1150,Settings!$AP$17:$AP$38,0)),0)","v":0},null,null,null,0,0,0,0,0,0,0,0,0,0,0,0,0,0,0,0,0,0,0,null,null,0]
[0,{"$f":"IFERROR(INDEX(Settings!$AO$17:$AO$38,MATCH(Personnel!$G1151,Settings!$AP$17:$AP$38,0)),0)","v":0},null,null,null,0,0,0,0,0,0,0,0,0,0,0,0,0,0,0,0,0,0,0,null,null,0]
[0,{"$f":"IFERROR(INDEX(Settings!$AO$17:$AO$38,MATCH(Personnel!$G1152,Settings!$AP$17:$AP$38,0)),0)","v":0},null,null,null,0,0,0,0,0,0,0,0,0,0,0,0,0,0,0,0,0,0,0,null,null,0]
[0,{"$f":"IFERROR(INDEX(Settings!$AO$17:$AO$38,MATCH(Personnel!$G1153,Settings!$AP$17:$AP$38,0)),0)","v":0},null,null,null,0,0,0,0,0,0,0,0,0,0,0,0,0,0,0,0,0,0,0,null,null,0]
[0,{"$f":"IFERROR(INDEX(Settings!$AO$17:$AO$38,MATCH(Personnel!$G1154,Settings!$AP$17:$AP$38,0)),0)","v":0},null,null,null,0,0,0,0,0,0,0,0,0,0,0,0,0,0,0,0,0,0,0,null,null,0]
[0,{"$f":"IFERROR(INDEX(Settings!$AO$17:$AO$38,MATCH(Personnel!$G1155,Settings!$AP$17:$AP$38,0)),0)","v":0},null,null,null,0,0,0,0,0,0,0,0,0,0,0,0,0,0,0,0,0,0,0,null,null,0]
[0,{"$f":"IFERROR(INDEX(Settings!$AO$17:$AO$38,MATCH(Personnel!$G1156,Settings!$AP$17:$AP$38,0)),0)","v":0},null,null,null,0,0,0,0,0,0,0,0,0,0,0,0,0,0,0,0,0,0,0,null,null,0]
[0,{"$f":"IFERROR(INDEX(Settings!$AO$17:$AO$38,MATCH(Personnel!$G1157,Settings!$AP$17:$AP$38,0)),0)","v":0},null,null,null,0,0,0,0,0,0,0,0,0,0,0,0,0,0,0,0,0,0,0,null,null,0]
[0,{"$f":"IFERROR(INDEX(Settings!$AO$17:$AO$38,MATCH(Personnel!$G1158,Settings!$AP$17:$AP$38,0)),0)","v":0},null,null,null,0,0,0,0,0,0,0,0,0,0,0,0,0,0,0,0,0,0,0,null,null,0]
[0,{"$f":"IFERROR(INDEX(Settings!$AO$17:$AO$38,MATCH(Personnel!$G1159,Settings!$AP$17:$AP$38,0)),0)","v":0},null,null,null,0,0,0,0,0,0,0,0,0,0,0,0,0,0,0,0,0,0,0,null,null,0]
[0,{"$f":"IFERROR(INDEX(Settings!$AO$17:$AO$38,MATCH(Personnel!$G1160,Settings!$AP$17:$AP$38,0)),0)","v":0},null,null,null,0,0,0,0,0,0,0,0,0,0,0,0,0,0,0,0,0,0,0,null,null,0]
[0,{"$f":"IFERROR(INDEX(Settings!$AO$17:$AO$38,MATCH(Personnel!$G1161,Settings!$AP$17:$AP$38,0)),0)","v":0},null,null,null,0,0,0,0,0,0,0,0,0,0,0,0,0,0,0,0,0,0,0,null,null,0]
[0,{"$f":"IFERROR(INDEX(Settings!$AO$17:$AO$38,MATCH(Personnel!$G1162,Settings!$AP$17:$AP$38,0)),0)","v":0},null,null,null,0,0,0,0,0,0,0,0,0,0,0,0,0,0,0,0,0,0,0,null,null,0]
[0,{"$f":"IFERROR(INDEX(Settings!$AO$17:$AO$38,MATCH(Personnel!$G1163,Settings!$AP$17:$AP$38,0)),0)","v":0},null,null,null,0,0,0,0,0,0,0,0,0,0,0,0,0,0,0,0,0,0,0,null,null,0]
[{"$f":"IF(SUM(K1164:AA1164)>0,1,0)","v":0},{"$f":"IFERROR(INDEX(Settings!$AO$17:$AO$38,MATCH(Personnel!$G1164,Settings!$AP$17:$AP$38,0)),0)","v":0},null,null,null,0,0,0,0,0,0,0,0,0,0,0,0,0,0,0,0,0,0,0,null,null,0]
[0,{"$f":"IFERROR(INDEX(Settings!$AO$17:$AO$38,MATCH(Personnel!$G1165,Settings!$AP$17:$AP$38,0)),0)","v":0},null,null,null,0,0,0,0,0,0,0,{"$f":"ROUND(IF(ISERROR(L1165/K1165),0,(L1165/K1165)),0)","v":0},0,0,0,0,{"$f":"ROUND(IF(ISERROR(Q1165/P1165),0,(Q1165/P1165)),0)","v":0},0,0,{"$f":"ROUND(IF(ISERROR(T1165/S1165),0,(T1165/S1165)),0)","v":0},0,0,{"$f":"ROUND(IF(ISERROR(W1165/V1165),0,(W1165/V1165)),0)","v":0},null,null,{"$f":"ROUND(IF(ISERROR(Z1165/Y1165),0,(Z1165/Y1165)),0)","v":0}]
[0,{"$f":"IFERROR(INDEX(Settings!$AO$17:$AO$38,MATCH(Personnel!$G1166,Settings!$AP$17:$AP$38,0)),0)","v":0},null,null,null,0,0,0,0,0,0,0,0,0,0,0,0,0,0,0,0,0,0,0,null,null,0]
[0,{"$f":"IFERROR(INDEX(Settings!$AO$17:$AO$38,MATCH(Personnel!$G1167,Settings!$AP$17:$AP$38,0)),0)","v":0},null,null,null,0,0,0,0,0,0,0,0,0,0,0,0,0,0,0,0,0,0,0,null,null,0]
[0,{"$f":"IFERROR(INDEX(Settings!$AO$17:$AO$38,MATCH(Personnel!$G1168,Settings!$AP$17:$AP$38,0)),0)","v":0},null,null,null,0,0,0,0,0,0,0,0,0,0,0,0,0,0,0,0,0,0,0,null,null,0]
[0,{"$f":"IFERROR(INDEX(Settings!$AO$17:$AO$38,MATCH(Personnel!$G1169,Settings!$AP$17:$AP$38,0)),0)","v":0},null,null,null,0,0,0,0,0,0,0,0,0,0,0,0,0,0,0,0,0,0,0,null,null,0]
[0,{"$f":"IFERROR(INDEX(Settings!$AO$17:$AO$38,MATCH(Personnel!$G1170,Settings!$AP$17:$AP$38,0)),0)","v":0},null,null,null,0,0,0,0,0,0,0,0,0,0,0,0,0,0,0,0,0,0,0,null,null,0]
[0,{"$f":"IFERROR(INDEX(Settings!$AO$17:$AO$38,MATCH(Personnel!$G1171,Settings!$AP$17:$AP$38,0)),0)","v":0},null,null,null,0,0,0,0,0,0,0,0,0,0,0,0,0,0,0,0,0,0,0,null,null,0]
[0,{"$f":"IFERROR(INDEX(Settings!$AO$17:$AO$38,MATCH(Personnel!$G1172,Settings!$AP$17:$AP$38,0)),0)","v":0},null,null,null,0,0,0,0,0,0,0,0,0,0,0,0,0,0,0,0,0,0,0,null,null,0]
[0,{"$f":"IFERROR(INDEX(Settings!$AO$17:$AO$38,MATCH(Personnel!$G1173,Settings!$AP$17:$AP$38,0)),0)","v":0},null,null,null,0,0,0,0,0,0,0,0,0,0,0,0,0,0,0,0,0,0,0,null,null,0]
[0,{"$f":"IFERROR(INDEX(Settings!$AO$17:$AO$38,MATCH(Personnel!$G1174,Settings!$AP$17:$AP$38,0)),0)","v":0},null,null,null,0,0,0,0,0,0,0,0,0,0,0,0,0,0,0,0,0,0,0,null,null,0]
[0,{"$f":"IFERROR(INDEX(Settings!$AO$17:$AO$38,MATCH(Personnel!$G1175,Settings!$AP$17:$AP$38,0)),0)","v":0},null,null,null,0,0,0,0,0,0,0,0,0,0,0,0,0,0,0,0,0,0,0,null,null,0]
[0,{"$f":"IFERROR(INDEX(Settings!$AO$17:$AO$38,MATCH(Personnel!$G1176,Settings!$AP$17:$AP$38,0)),0)","v":0},null,null,null,0,0,0,0,0,0,0,0,0,0,0,0,0,0,0,0,0,0,0,null,null,0]
[0,{"$f":"IFERROR(INDEX(Settings!$AO$17:$AO$38,MATCH(Personnel!$G1177,Settings!$AP$17:$AP$38,0)),0)","v":0},null,null,null,0,0,0,0,0,0,0,0,0,0,0,0,0,0,0,0,0,0,0,null,null,0]
[0,{"$f":"IFERROR(INDEX(Settings!$AO$17:$AO$38,MATCH(Personnel!$G1178,Settings!$AP$17:$AP$38,0)),0)","v":0},null,null,null,0,0,0,0,0,0,0,0,0,0,0,0,0,0,0,0,0,0,0,null,null,0]
[0,{"$f":"IFERROR(INDEX(Settings!$AO$17:$AO$38,MATCH(Personnel!$G1179,Settings!$AP$17:$AP$38,0)),0)","v":0},null,null,null,0,0,0,0,0,0,0,0,0,0,0,0,0,0,0,0,0,0,0,null,null,0]
[0,{"$f":"IFERROR(INDEX(Settings!$AO$17:$AO$38,MATCH(Personnel!$G1180,Settings!$AP$17:$AP$38,0)),0)","v":0},null,null,null,0,0,0,0,0,0,0,0,0,0,0,0,0,0,0,0,0,0,0,null,null,0]
[0,{"$f":"IFERROR(INDEX(Settings!$AO$17:$AO$38,MATCH(Personnel!$G1181,Settings!$AP$17:$AP$38,0)),0)","v":0},null,null,null,0,0,0,0,0,0,0,0,0,0,0,0,0,0,0,0,0,0,0,null,null,0]
[0,{"$f":"IFERROR(INDEX(Settings!$AO$17:$AO$38,MATCH(Personnel!$G1182,Settings!$AP$17:$AP$38,0)),0)","v":0},null,null,null,0,0,0,0,0,0,0,0,0,0,0,0,0,0,0,0,0,0,0,null,null,0]
[0,{"$f":"IFERROR(INDEX(Settings!$AO$17:$AO$38,MATCH(Personnel!$G1183,Settings!$AP$17:$AP$38,0)),0)","v":0},null,null,null,0,0,0,0,0,0,0,0,0,0,0,0,0,0,0,0,0,0,0,null,null,0]
[0,{"$f":"IFERROR(INDEX(Settings!$AO$17:$AO$38,MATCH(Personnel!$G1184,Settings!$AP$17:$AP$38,0)),0)","v":0},null,null,null,0,0,0,0,0,0,0,0,0,0,0,0,0,0,0,0,0,0,0,null,null,0]
[0,{"$f":"IFERROR(INDEX(Settings!$AO$17:$AO$38,MATCH(Personnel!$G1185,Settings!$AP$17:$AP$38,0)),0)","v":0},null,null,null,0,0,0,0,0,0,0,0,0,0,0,0,0,0,0,0,0,0,0,null,null,0]
[0,{"$f":"IFERROR(INDEX(Settings!$AO$17:$AO$38,MATCH(Personnel!$G1186,Settings!$AP$17:$AP$38,0)),0)","v":0},null,null,null,0,0,0,0,0,0,0,0,0,0,0,0,0,0,0,0,0,0,0,null,null,0]
[0,{"$f":"IFERROR(INDEX(Settings!$AO$17:$AO$38,MATCH(Personnel!$G1187,Settings!$AP$17:$AP$38,0)),0)","v":0},null,null,null,0,0,0,0,0,0,0,0,0,0,0,0,0,0,0,0,0,0,0,null,null,0]
[0,{"$f":"IFERROR(INDEX(Settings!$AO$17:$AO$38,MATCH(Personnel!$G1188,Settings!$AP$17:$AP$38,0)),0)","v":0},null,null,null,0,0,0,0,0,0,0,0,0,0,0,0,0,0,0,0,0,0,0,null,null,0]
[0,{"$f":"IFERROR(INDEX(Settings!$AO$17:$AO$38,MATCH(Personnel!$G1189,Settings!$AP$17:$AP$38,0)),0)","v":0},null,null,null,0,0,0,0,0,0,0,0,0,0,0,0,0,0,0,0,0,0,0,null,null,0]
[0,{"$f":"IFERROR(INDEX(Settings!$AO$17:$AO$38,MATCH(Personnel!$G1190,Settings!$AP$17:$AP$38,0)),0)","v":0},null,null,null,0,0,0,0,0,0,0,0,0,0,0,0,0,0,0,0,0,0,0,null,null,0]
[0,{"$f":"IFERROR(INDEX(Settings!$AO$17:$AO$38,MATCH(Personnel!$G1191,Settings!$AP$17:$AP$38,0)),0)","v":0},null,null,null,0,0,0,0,0,0,0,0,0,0,0,0,0,0,0,0,0,0,0,null,null,0]
[0,{"$f":"IFERROR(INDEX(Settings!$AO$17:$AO$38,MATCH(Personnel!$G1192,Settings!$AP$17:$AP$38,0)),0)","v":0},null,null,null,0,0,0,0,0,0,0,0,0,0,0,0,0,0,0,0,0,0,0,null,null,0]
[0,{"$f":"IFERROR(INDEX(Settings!$AO$17:$AO$38,MATCH(Personnel!$G1193,Settings!$AP$17:$AP$38,0)),0)","v":0},null,null,null,0,0,0,0,0,0,0,0,0,0,0,0,0,0,0,0,0,0,0,null,null,0]
[0,{"$f":"IFERROR(INDEX(Settings!$AO$17:$AO$38,MATCH(Personnel!$G1194,Settings!$AP$17:$AP$38,0)),0)","v":0},null,null,null,0,0,0,0,0,0,0,0,0,0,0,0,0,0,0,0,0,0,0,null,null,0]
[0,{"$f":"IFERROR(INDEX(Settings!$AO$17:$AO$38,MATCH(Personnel!$G1195,Settings!$AP$17:$AP$38,0)),0)","v":0},null,null,null,0,0,0,0,0,0,0,0,0,0,0,0,0,0,0,0,0,0,0,null,null,0]
[0,{"$f":"IFERROR(INDEX(Settings!$AO$17:$AO$38,MATCH(Personnel!$G1196,Settings!$AP$17:$AP$38,0)),0)","v":0},null,null,null,0,0,0,0,0,0,0,0,0,0,0,0,0,0,0,0,0,0,0,null,null,0]
[0,{"$f":"IFERROR(INDEX(Settings!$AO$17:$AO$38,MATCH(Personnel!$G1197,Settings!$AP$17:$AP$38,0)),0)","v":0},null,null,null,0,0,0,0,0,0,0,0,0,0,0,0,0,0,0,0,0,0,0,null,null,0]
[0,{"$f":"IFERROR(INDEX(Settings!$AO$17:$AO$38,MATCH(Personnel!$G1198,Settings!$AP$17:$AP$38,0)),0)","v":0},null,null,null,0,0,0,0,0,0,0,0,0,0,0,0,0,0,0,0,0,0,0,null,null,0]
[0,{"$f":"IFERROR(INDEX(Settings!$AO$17:$AO$38,MATCH(Personnel!$G1199,Settings!$AP$17:$AP$38,0)),0)","v":0},null,null,null,0,0,0,0,0,0,0,0,0,0,0,0,0,0,0,0,0,0,0,null,null,0]
[0,{"$f":"IFERROR(INDEX(Settings!$AO$17:$AO$38,MATCH(Personnel!$G1200,Settings!$AP$17:$AP$38,0)),0)","v":0},null,null,null,0,0,0,0,0,0,0,0,0,0,0,0,0,0,0,0,0,0,0,null,null,0]
[0,{"$f":"IFERROR(INDEX(Settings!$AO$17:$AO$38,MATCH(Personnel!$G1201,Settings!$AP$17:$AP$38,0)),0)","v":0},null,null,null,0,0,0,0,0,0,0,0,0,0,0,0,0,0,0,0,0,0,0,null,null,0]
[0,{"$f":"IFERROR(INDEX(Settings!$AO$17:$AO$38,MATCH(Personnel!$G1202,Settings!$AP$17:$AP$38,0)),0)","v":0},null,null,null,0,0,0,0,0,0,0,0,0,0,0,0,0,0,0,0,0,0,0,null,null,0]
[0,{"$f":"IFERROR(INDEX(Settings!$AO$17:$AO$38,MATCH(Personnel!$G1203,Settings!$AP$17:$AP$38,0)),0)","v":0},null,null,null,0,0,0,0,0,0,0,0,0,0,0,0,0,0,0,0,0,0,0,null,null,0]
[0,{"$f":"IFERROR(INDEX(Settings!$AO$17:$AO$38,MATCH(Personnel!$G1204,Settings!$AP$17:$AP$38,0)),0)","v":0},null,null,null,0,0,0,0,0,0,0,0,0,0,0,0,0,0,0,0,0,0,0,null,null,0]
[0,{"$f":"IFERROR(INDEX(Settings!$AO$17:$AO$38,MATCH(Personnel!$G1205,Settings!$AP$17:$AP$38,0)),0)","v":0},null,null,null,0,0,0,0,0,0,0,0,0,0,0,0,0,0,0,0,0,0,0,null,null,0]
[0,{"$f":"IFERROR(INDEX(Settings!$AO$17:$AO$38,MATCH(Personnel!$G1206,Settings!$AP$17:$AP$38,0)),0)","v":0},null,null,null,0,0,0,0,0,0,0,0,0,0,0,0,0,0,0,0,0,0,0,null,null,0]
[0,{"$f":"IFERROR(INDEX(Settings!$AO$17:$AO$38,MATCH(Personnel!$G1207,Settings!$AP$17:$AP$38,0)),0)","v":0},null,null,null,0,0,0,0,0,0,0,0,0,0,0,0,0,0,0,0,0,0,0,null,null,0]
[0,{"$f":"IFERROR(INDEX(Settings!$AO$17:$AO$38,MATCH(Personnel!$G1208,Settings!$AP$17:$AP$38,0)),0)","v":0},null,null,null,0,0,0,0,0,0,0,0,0,0,0,0,0,0,0,0,0,0,0,null,null,0]
[0,{"$f":"IFERROR(INDEX(Settings!$AO$17:$AO$38,MATCH(Personnel!$G1209,Settings!$AP$17:$AP$38,0)),0)","v":0},null,null,null,0,0,0,0,0,0,0,0,0,0,0,0,0,0,0,0,0,0,0,null,null,0]
[0,{"$f":"IFERROR(INDEX(Settings!$AO$17:$AO$38,MATCH(Personnel!$G1210,Settings!$AP$17:$AP$38,0)),0)","v":0},null,null,null,0,0,0,0,0,0,0,0,0,0,0,0,0,0,0,0,0,0,0,null,null,0]
[0,{"$f":"IFERROR(INDEX(Settings!$AO$17:$AO$38,MATCH(Personnel!$G1211,Settings!$AP$17:$AP$38,0)),0)","v":0},null,null,null,0,0,0,0,0,0,0,0,0,0,0,0,0,0,0,0,0,0,0,null,null,0]
[0,{"$f":"IFERROR(INDEX(Settings!$AO$17:$AO$38,MATCH(Personnel!$G1212,Settings!$AP$17:$AP$38,0)),0)","v":0},null,null,null,0,0,0,0,0,0,0,0,0,0,0,0,0,0,0,0,0,0,0,null,null,0]
[0,{"$f":"IFERROR(INDEX(Settings!$AO$17:$AO$38,MATCH(Personnel!$G1213,Settings!$AP$17:$AP$38,0)),0)","v":0},null,null,null,0,0,0,0,0,0,0,0,0,0,0,0,0,0,0,0,0,0,0,null,null,0]
[0,{"$f":"IFERROR(INDEX(Settings!$AO$17:$AO$38,MATCH(Personnel!$G1214,Settings!$AP$17:$AP$38,0)),0)","v":0},null,null,null,0,0,0,0,0,0,0,0,0,0,0,0,0,0,0,0,0,0,0,null,null,0]
[0,{"$f":"IFERROR(INDEX(Settings!$AO$17:$AO$38,MATCH(Personnel!$G1215,Settings!$AP$17:$AP$38,0)),0)","v":0},null,null,null,0,0,0,0,0,0,0,0,0,0,0,0,0,0,0,0,0,0,0,null,null,0]
[0,{"$f":"IFERROR(INDEX(Settings!$AO$17:$AO$38,MATCH(Personnel!$G1216,Settings!$AP$17:$AP$38,0)),0)","v":0},null,null,null,0,0,0,0,0,0,0,0,0,0,0,0,0,0,0,0,0,0,0,null,null,0]
[0,{"$f":"IFERROR(INDEX(Settings!$AO$17:$AO$38,MATCH(Personnel!$G1217,Settings!$AP$17:$AP$38,0)),0)","v":0},null,null,null,0,0,0,0,0,0,0,0,0,0,0,0,0,0,0,0,0,0,0,null,null,0]
[0,{"$f":"IFERROR(INDEX(Settings!$AO$17:$AO$38,MATCH(Personnel!$G1218,Settings!$AP$17:$AP$38,0)),0)","v":0},null,null,null,0,0,0,0,0,0,0,0,0,0,0,0,0,0,0,0,0,0,0,null,null,0]
[0,{"$f":"IFERROR(INDEX(Settings!$AO$17:$AO$38,MATCH(Personnel!$G1219,Settings!$AP$17:$AP$38,0)),0)","v":0},null,null,null,0,0,0,0,0,0,0,0,0,0,0,0,0,0,0,0,0,0,0,null,null,0]
[0,{"$f":"IFERROR(INDEX(Settings!$AO$17:$AO$38,MATCH(Personnel!$G1220,Settings!$AP$17:$AP$38,0)),0)","v":0},null,null,null,0,0,0,0,0,0,0,0,0,0,0,0,0,0,0,0,0,0,0,null,null,0]
[0,{"$f":"IFERROR(INDEX(Settings!$AO$17:$AO$38,MATCH(Personnel!$G1221,Settings!$AP$17:$AP$38,0)),0)","v":0},null,null,null,0,0,0,0,0,0,0,0,0,0,0,0,0,0,0,0,0,0,0,null,null,0]
[0,{"$f":"IFERROR(INDEX(Settings!$AO$17:$AO$38,MATCH(Personnel!$G1222,Settings!$AP$17:$AP$38,0)),0)","v":0},null,null,null,0,0,0,0,0,0,0,0,0,0,0,0,0,0,0,0,0,0,0,null,null,0]
[0,{"$f":"IFERROR(INDEX(Settings!$AO$17:$AO$38,MATCH(Personnel!$G1223,Settings!$AP$17:$AP$38,0)),0)","v":0},null,null,null,0,0,0,0,0,0,0,0,0,0,0,0,0,0,0,0,0,0,0,null,null,0]
[0,{"$f":"IFERROR(INDEX(Settings!$AO$17:$AO$38,MATCH(Personnel!$G1224,Settings!$AP$17:$AP$38,0)),0)","v":0},null,null,null,0,0,0,0,0,0,0,0,0,0,0,0,0,0,0,0,0,0,0,null,null,0]
[0,{"$f":"IFERROR(INDEX(Settings!$AO$17:$AO$38,MATCH(Personnel!$G1225,Settings!$AP$17:$AP$38,0)),0)","v":0},null,null,null,0,0,0,0,0,0,0,0,0,0,0,0,0,0,0,0,0,0,0,null,null,0]
[0,{"$f":"IFERROR(INDEX(Settings!$AO$17:$AO$38,MATCH(Personnel!$G1226,Settings!$AP$17:$AP$38,0)),0)","v":0},null,null,null,0,0,0,0,0,0,0,0,0,0,0,0,0,0,0,0,0,0,0,null,null,0]
[0,{"$f":"IFERROR(INDEX(Settings!$AO$17:$AO$38,MATCH(Personnel!$G1227,Settings!$AP$17:$AP$38,0)),0)","v":0},null,null,null,0,0,0,0,0,0,0,0,0,0,0,0,0,0,0,0,0,0,0,null,null,0]
[{"$f":"IF(SUM(K1228:AA1228)>0,1,0)","v":0},{"$f":"IFERROR(INDEX(Settings!$AO$17:$AO$38,MATCH(Personnel!$G1228,Settings!$AP$17:$AP$38,0)),0)","v":0},null,null,null,0,0,0,0,0,0,0,0,0,0,0,0,0,0,0,0,0,0,0,null,null,0]
[0,{"$f":"IFERROR(INDEX(Settings!$AO$17:$AO$38,MATCH(Personnel!$G1229,Settings!$AP$17:$AP$38,0)),0)","v":0},null,null,null,0,0,0,0,0,0,0,{"$f":"ROUND(IF(ISERROR(L1229/K1229),0,(L1229/K1229)),0)","v":0},0,0,0,0,{"$f":"ROUND(IF(ISERROR(Q1229/P1229),0,(Q1229/P1229)),0)","v":0},0,0,{"$f":"ROUND(IF(ISERROR(T1229/S1229),0,(T1229/S1229)),0)","v":0},0,0,{"$f":"ROUND(IF(ISERROR(W1229/V1229),0,(W1229/V1229)),0)","v":0},null,null,{"$f":"ROUND(IF(ISERROR(Z1229/Y1229),0,(Z1229/Y1229)),0)","v":0}]
[0,{"$f":"IFERROR(INDEX(Settings!$AO$17:$AO$38,MATCH(Personnel!$G1230,Settings!$AP$17:$AP$38,0)),0)","v":0},null,null,null,0,0,0,0,0,0,0,0,0,0,0,0,0,0,0,0,0,0,0,null,null,0]
[0,{"$f":"IFERROR(INDEX(Settings!$AO$17:$AO$38,MATCH(Personnel!$G1231,Settings!$AP$17:$AP$38,0)),0)","v":0},null,null,null,0,0,0,0,0,0,0,0,0,0,0,0,0,0,0,0,0,0,0,null,null,0]
[0,{"$f":"IFERROR(INDEX(Settings!$AO$17:$AO$38,MATCH(Personnel!$G1232,Settings!$AP$17:$AP$38,0)),0)","v":0},null,null,null,0,0,0,0,0,0,0,0,0,0,0,0,0,0,0,0,0,0,0,null,null,0]
[0,{"$f":"IFERROR(INDEX(Settings!$AO$17:$AO$38,MATCH(Personnel!$G1233,Settings!$AP$17:$AP$38,0)),0)","v":0},null,null,null,0,0,0,0,0,0,0,0,0,0,0,0,0,0,0,0,0,0,0,null,null,0]
[0,{"$f":"IFERROR(INDEX(Settings!$AO$17:$AO$38,MATCH(Personnel!$G1234,Settings!$AP$17:$AP$38,0)),0)","v":0},null,null,null,0,0,0,0,0,0,0,0,0,0,0,0,0,0,0,0,0,0,0,null,null,0]
[0,{"$f":"IFERROR(INDEX(Settings!$AO$17:$AO$38,MATCH(Personnel!$G1235,Settings!$AP$17:$AP$38,0)),0)","v":0},null,null,null,0,0,0,0,0,0,0,0,0,0,0,0,0,0,0,0,0,0,0,null,null,0]
[0,{"$f":"IFERROR(INDEX(Settings!$AO$17:$AO$38,MATCH(Personnel!$G1236,Settings!$AP$17:$AP$38,0)),0)","v":0},null,null,null,0,0,0,0,0,0,0,0,0,0,0,0,0,0,0,0,0,0,0,null,null,0]
[0,{"$f":"IFERROR(INDEX(Settings!$AO$17:$AO$38,MATCH(Personnel!$G1237,Settings!$AP$17:$AP$38,0)),0)","v":0},null,null,null,0,0,0,0,0,0,0,0,0,0,0,0,0,0,0,0,0,0,0,null,null,0]
[0,{"$f":"IFERROR(INDEX(Settings!$AO$17:$AO$38,MATCH(Personnel!$G1238,Settings!$AP$17:$AP$38,0)),0)","v":0},null,null,null,0,0,0,0,0,0,0,0,0,0,0,0,0,0,0,0,0,0,0,null,null,0]
[0,{"$f":"IFERROR(INDEX(Settings!$AO$17:$AO$38,MATCH(Personnel!$G1239,Settings!$AP$17:$AP$38,0)),0)","v":0},null,null,null,0,0,0,0,0,0,0,0,0,0,0,0,0,0,0,0,0,0,0,null,null,0]
[0,{"$f":"IFERROR(INDEX(Settings!$AO$17:$AO$38,MATCH(Personnel!$G1240,Settings!$AP$17:$AP$38,0)),0)","v":0},null,null,null,0,0,0,0,0,0,0,0,0,0,0,0,0,0,0,0,0,0,0,null,null,0]
[0,{"$f":"IFERROR(INDEX(Settings!$AO$17:$AO$38,MATCH(Personnel!$G1241,Settings!$AP$17:$AP$38,0)),0)","v":0},null,null,null,0,0,0,0,0,0,0,0,0,0,0,0,0,0,0,0,0,0,0,null,null,0]
[0,{"$f":"IFERROR(INDEX(Settings!$AO$17:$AO$38,MATCH(Personnel!$G1242,Settings!$AP$17:$AP$38,0)),0)","v":0},null,null,null,0,0,0,0,0,0,0,0,0,0,0,0,0,0,0,0,0,0,0,null,null,0]
[0,{"$f":"IFERROR(INDEX(Settings!$AO$17:$AO$38,MATCH(Personnel!$G1243,Settings!$AP$17:$AP$38,0)),0)","v":0},null,null,null,0,0,0,0,0,0,0,0,0,0,0,0,0,0,0,0,0,0,0,null,null,0]
[0,{"$f":"IFERROR(INDEX(Settings!$AO$17:$AO$38,MATCH(Personnel!$G1244,Settings!$AP$17:$AP$38,0)),0)","v":0},null,null,null,0,0,0,0,0,0,0,0,0,0,0,0,0,0,0,0,0,0,0,null,null,0]
[0,{"$f":"IFERROR(INDEX(Settings!$AO$17:$AO$38,MATCH(Personnel!$G1245,Settings!$AP$17:$AP$38,0)),0)","v":0},null,null,null,0,0,0,0,0,0,0,0,0,0,0,0,0,0,0,0,0,0,0,null,null,0]
[0,{"$f":"IFERROR(INDEX(Settings!$AO$17:$AO$38,MATCH(Personnel!$G1246,Settings!$AP$17:$AP$38,0)),0)","v":0},null,null,null,0,0,0,0,0,0,0,0,0,0,0,0,0,0,0,0,0,0,0,null,null,0]
[0,{"$f":"IFERROR(INDEX(Settings!$AO$17:$AO$38,MATCH(Personnel!$G1247,Settings!$AP$17:$AP$38,0)),0)","v":0},null,null,null,0,0,0,0,0,0,0,0,0,0,0,0,0,0,0,0,0,0,0,null,null,0]
[0,{"$f":"IFERROR(INDEX(Settings!$AO$17:$AO$38,MATCH(Personnel!$G1248,Settings!$AP$17:$AP$38,0)),0)","v":0},null,null,null,0,0,0,0,0,0,0,0,0,0,0,0,0,0,0,0,0,0,0,null,null,0]
[0,{"$f":"IFERROR(INDEX(Settings!$AO$17:$AO$38,MATCH(Personnel!$G1249,Settings!$AP$17:$AP$38,0)),0)","v":0},null,null,null,0,0,0,0,0,0,0,0,0,0,0,0,0,0,0,0,0,0,0,null,null,0]
[0,{"$f":"IFERROR(INDEX(Settings!$AO$17:$AO$38,MATCH(Personnel!$G1250,Settings!$AP$17:$AP$38,0)),0)","v":0},null,null,null,0,0,0,0,0,0,0,0,0,0,0,0,0,0,0,0,0,0,0,null,null,0]
[0,{"$f":"IFERROR(INDEX(Settings!$AO$17:$AO$38,MATCH(Personnel!$G1251,Settings!$AP$17:$AP$38,0)),0)","v":0},null,null,null,0,0,0,0,0,0,0,0,0,0,0,0,0,0,0,0,0,0,0,null,null,0]
[0,{"$f":"IFERROR(INDEX(Settings!$AO$17:$AO$38,MATCH(Personnel!$G1252,Settings!$AP$17:$AP$38,0)),0)","v":0},null,null,null,0,0,0,0,0,0,0,0,0,0,0,0,0,0,0,0,0,0,0,null,null,0]
[0,{"$f":"IFERROR(INDEX(Settings!$AO$17:$AO$38,MATCH(Personnel!$G1253,Settings!$AP$17:$AP$38,0)),0)","v":0},null,null,null,0,0,0,0,0,0,0,0,0,0,0,0,0,0,0,0,0,0,0,null,null,0]
[0,{"$f":"IFERROR(INDEX(Settings!$AO$17:$AO$38,MATCH(Personnel!$G1254,Settings!$AP$17:$AP$38,0)),0)","v":0},null,null,null,0,0,0,0,0,0,0,0,0,0,0,0,0,0,0,0,0,0,0,null,null,0]
[0,{"$f":"IFERROR(INDEX(Settings!$AO$17:$AO$38,MATCH(Personnel!$G1255,Settings!$AP$17:$AP$38,0)),0)","v":0},null,null,null,0,0,0,0,0,0,0,0,0,0,0,0,0,0,0,0,0,0,0,null,null,0]
[0,{"$f":"IFERROR(INDEX(Settings!$AO$17:$AO$38,MATCH(Personnel!$G1256,Settings!$AP$17:$AP$38,0)),0)","v":0},null,null,null,0,0,0,0,0,0,0,0,0,0,0,0,0,0,0,0,0,0,0,null,null,0]
[0,{"$f":"IFERROR(INDEX(Settings!$AO$17:$AO$38,MATCH(Personnel!$G1257,Settings!$AP$17:$AP$38,0)),0)","v":0},null,null,null,0,0,0,0,0,0,0,0,0,0,0,0,0,0,0,0,0,0,0,null,null,0]
[0,{"$f":"IFERROR(INDEX(Settings!$AO$17:$AO$38,MATCH(Personnel!$G1258,Settings!$AP$17:$AP$38,0)),0)","v":0},null,null,null,0,0,0,0,0,0,0,0,0,0,0,0,0,0,0,0,0,0,0,null,null,0]
[0,{"$f":"IFERROR(INDEX(Settings!$AO$17:$AO$38,MATCH(Personnel!$G1259,Settings!$AP$17:$AP$38,0)),0)","v":0},null,null,null,0,0,0,0,0,0,0,0,0,0,0,0,0,0,0,0,0,0,0,null,null,0]
[0,{"$f":"IFERROR(INDEX(Settings!$AO$17:$AO$38,MATCH(Personnel!$G1260,Settings!$AP$17:$AP$38,0)),0)","v":0},null,null,null,0,0,0,0,0,0,0,0,0,0,0,0,0,0,0,0,0,0,0,null,null,0]
[0,{"$f":"IFERROR(INDEX(Settings!$AO$17:$AO$38,MATCH(Personnel!$G1261,Settings!$AP$17:$AP$38,0)),0)","v":0},null,null,null,0,0,0,0,0,0,0,0,0,0,0,0,0,0,0,0,0,0,0,null,null,0]
[0,{"$f":"IFERROR(INDEX(Settings!$AO$17:$AO$38,MATCH(Personnel!$G1262,Settings!$AP$17:$AP$38,0)),0)","v":0},null,null,null,0,0,0,0,0,0,0,0,0,0,0,0,0,0,0,0,0,0,0,null,null,0]
[0,{"$f":"IFERROR(INDEX(Settings!$AO$17:$AO$38,MATCH(Personnel!$G1263,Settings!$AP$17:$AP$38,0)),0)","v":0},null,null,null,0,0,0,0,0,0,0,0,0,0,0,0,0,0,0,0,0,0,0,null,null,0]
[0,{"$f":"IFERROR(INDEX(Settings!$AO$17:$AO$38,MATCH(Personnel!$G1264,Settings!$AP$17:$AP$38,0)),0)","v":0},null,null,null,0,0,0,0,0,0,0,0,0,0,0,0,0,0,0,0,0,0,0,null,null,0]
[0,{"$f":"IFERROR(INDEX(Settings!$AO$17:$AO$38,MATCH(Personnel!$G1265,Settings!$AP$17:$AP$38,0)),0)","v":0},null,null,null,0,0,0,0,0,0,0,0,0,0,0,0,0,0,0,0,0,0,0,null,null,0]
[0,{"$f":"IFERROR(INDEX(Settings!$AO$17:$AO$38,MATCH(Personnel!$G1266,Settings!$AP$17:$AP$38,0)),0)","v":0},null,null,null,0,0,0,0,0,0,0,0,0,0,0,0,0,0,0,0,0,0,0,null,null,0]
[0,{"$f":"IFERROR(INDEX(Settings!$AO$17:$AO$38,MATCH(Personnel!$G1267,Settings!$AP$17:$AP$38,0)),0)","v":0},null,null,null,0,0,0,0,0,0,0,0,0,0,0,0,0,0,0,0,0,0,0,null,null,0]
[0,{"$f":"IFERROR(INDEX(Settings!$AO$17:$AO$38,MATCH(Personnel!$G1268,Settings!$AP$17:$AP$38,0)),0)","v":0},null,null,null,0,0,0,0,0,0,0,0,0,0,0,0,0,0,0,0,0,0,0,null,null,0]
[0,{"$f":"IFERROR(INDEX(Settings!$AO$17:$AO$38,MATCH(Personnel!$G1269,Settings!$AP$17:$AP$38,0)),0)","v":0},null,null,null,0,0,0,0,0,0,0,0,0,0,0,0,0,0,0,0,0,0,0,null,null,0]
[0,{"$f":"IFERROR(INDEX(Settings!$AO$17:$AO$38,MATCH(Personnel!$G1270,Settings!$AP$17:$AP$38,0)),0)","v":0},null,null,null,0,0,0,0,0,0,0,0,0,0,0,0,0,0,0,0,0,0,0,null,null,0]
[0,{"$f":"IFERROR(INDEX(Settings!$AO$17:$AO$38,MATCH(Personnel!$G1271,Settings!$AP$17:$AP$38,0)),0)","v":0},null,null,null,0,0,0,0,0,0,0,0,0,0,0,0,0,0,0,0,0,0,0,null,null,0]
[0,{"$f":"IFERROR(INDEX(Settings!$AO$17:$AO$38,MATCH(Personnel!$G1272,Settings!$AP$17:$AP$38,0)),0)","v":0},null,null,null,0,0,0,0,0,0,0,0,0,0,0,0,0,0,0,0,0,0,0,null,null,0]
[0,{"$f":"IFERROR(INDEX(Settings!$AO$17:$AO$38,MATCH(Personnel!$G1273,Settings!$AP$17:$AP$38,0)),0)","v":0},null,null,null,0,0,0,0,0,0,0,0,0,0,0,0,0,0,0,0,0,0,0,null,null,0]
[0,{"$f":"IFERROR(INDEX(Settings!$AO$17:$AO$38,MATCH(Personnel!$G1274,Settings!$AP$17:$AP$38,0)),0)","v":0},null,null,null,0,0,0,0,0,0,0,0,0,0,0,0,0,0,0,0,0,0,0,null,null,0]
[0,{"$f":"IFERROR(INDEX(Settings!$AO$17:$AO$38,MATCH(Personnel!$G1275,Settings!$AP$17:$AP$38,0)),0)","v":0},null,null,null,0,0,0,0,0,0,0,0,0,0,0,0,0,0,0,0,0,0,0,null,null,0]
[0,{"$f":"IFERROR(INDEX(Settings!$AO$17:$AO$38,MATCH(Personnel!$G1276,Settings!$AP$17:$AP$38,0)),0)","v":0},null,null,null,0,0,0,0,0,0,0,0,0,0,0,0,0,0,0,0,0,0,0,null,null,0]
[0,{"$f":"IFERROR(INDEX(Settings!$AO$17:$AO$38,MATCH(Personnel!$G1277,Settings!$AP$17:$AP$38,0)),0)","v":0},null,null,null,0,0,0,0,0,0,0,0,0,0,0,0,0,0,0,0,0,0,0,null,null,0]
[0,{"$f":"IFERROR(INDEX(Settings!$AO$17:$AO$38,MATCH(Personnel!$G1278,Settings!$AP$17:$AP$38,0)),0)","v":0},null,null,null,0,0,0,0,0,0,0,0,0,0,0,0,0,0,0,0,0,0,0,null,null,0]
[0,{"$f":"IFERROR(INDEX(Settings!$AO$17:$AO$38,MATCH(Personnel!$G1279,Settings!$AP$17:$AP$38,0)),0)","v":0},null,null,null,0,0,0,0,0,0,0,0,0,0,0,0,0,0,0,0,0,0,0,null,null,0]
[0,{"$f":"IFERROR(INDEX(Settings!$AO$17:$AO$38,MATCH(Personnel!$G1280,Settings!$AP$17:$AP$38,0)),0)","v":0},null,null,null,0,0,0,0,0,0,0,0,0,0,0,0,0,0,0,0,0,0,0,null,null,0]
[0,{"$f":"IFERROR(INDEX(Settings!$AO$17:$AO$38,MATCH(Personnel!$G1281,Settings!$AP$17:$AP$38,0)),0)","v":0},null,null,null,0,0,0,0,0,0,0,0,0,0,0,0,0,0,0,0,0,0,0,null,null,0]
[0,{"$f":"IFERROR(INDEX(Settings!$AO$17:$AO$38,MATCH(Personnel!$G1282,Settings!$AP$17:$AP$38,0)),0)","v":0},null,null,null,0,0,0,0,0,0,0,0,0,0,0,0,0,0,0,0,0,0,0,null,null,0]
[0,{"$f":"IFERROR(INDEX(Settings!$AO$17:$AO$38,MATCH(Personnel!$G1283,Settings!$AP$17:$AP$38,0)),0)","v":0},null,null,null,0,0,0,0,0,0,0,0,0,0,0,0,0,0,0,0,0,0,0,null,null,0]
[0,{"$f":"IFERROR(INDEX(Settings!$AO$17:$AO$38,MATCH(Personnel!$G1284,Settings!$AP$17:$AP$38,0)),0)","v":0},null,null,null,0,0,0,0,0,0,0,0,0,0,0,0,0,0,0,0,0,0,0,null,null,0]
[0,{"$f":"IFERROR(INDEX(Settings!$AO$17:$AO$38,MATCH(Personnel!$G1285,Settings!$AP$17:$AP$38,0)),0)","v":0},null,null,null,0,0,0,0,0,0,0,0,0,0,0,0,0,0,0,0,0,0,0,null,null,0]
[0,{"$f":"IFERROR(INDEX(Settings!$AO$17:$AO$38,MATCH(Personnel!$G1286,Settings!$AP$17:$AP$38,0)),0)","v":0},null,null,null,0,0,0,0,0,0,0,0,0,0,0,0,0,0,0,0,0,0,0,null,null,0]
[0,{"$f":"IFERROR(INDEX(Settings!$AO$17:$AO$38,MATCH(Personnel!$G1287,Settings!$AP$17:$AP$38,0)),0)","v":0},null,null,null,0,0,0,0,0,0,0,0,0,0,0,0,0,0,0,0,0,0,0,null,null,0]
[0,{"$f":"IFERROR(INDEX(Settings!$AO$17:$AO$38,MATCH(Personnel!$G1288,Settings!$AP$17:$AP$38,0)),0)","v":0},null,null,null,0,0,0,0,0,0,0,0,0,0,0,0,0,0,0,0,0,0,0,null,null,0]
[0,{"$f":"IFERROR(INDEX(Settings!$AO$17:$AO$38,MATCH(Personnel!$G1289,Settings!$AP$17:$AP$38,0)),0)","v":0},null,null,null,0,0,0,0,0,0,0,0,0,0,0,0,0,0,0,0,0,0,0,null,null,0]
[0,{"$f":"IFERROR(INDEX(Settings!$AO$17:$AO$38,MATCH(Personnel!$G1290,Settings!$AP$17:$AP$38,0)),0)","v":0},null,null,null,0,0,0,0,0,0,0,0,0,0,0,0,0,0,0,0,0,0,0,null,null,0]
[0,{"$f":"IFERROR(INDEX(Settings!$AO$17:$AO$38,MATCH(Personnel!$G1291,Settings!$AP$17:$AP$38,0)),0)","v":0},null,null,null,0,0,0,0,0,0,0,0,0,0,0,0,0,0,0,0,0,0,0,null,null,0]
[{"$f":"IF(SUM(K1292:AA1292)>0,1,0)","v":0},{"$f":"IFERROR(INDEX(Settings!$AO$17:$AO$38,MATCH(Personnel!$G1292,Settings!$AP$17:$AP$38,0)),0)","v":0},null,null,null,0,0,0,0,0,0,0,0,0,0,0,0,0,0,0,0,0,0,0,null,null,0]
[0,{"$f":"IFERROR(INDEX(Settings!$AO$17:$AO$38,MATCH(Personnel!$G1293,Settings!$AP$17:$AP$38,0)),0)","v":0},null,null,null,0,0,0,0,0,0,0,{"$f":"ROUND(IF(ISERROR(L1293/K1293),0,(L1293/K1293)),0)","v":0},0,0,0,0,{"$f":"ROUND(IF(ISERROR(Q1293/P1293),0,(Q1293/P1293)),0)","v":0},0,0,{"$f":"ROUND(IF(ISERROR(T1293/S1293),0,(T1293/S1293)),0)","v":0},0,0,{"$f":"ROUND(IF(ISERROR(W1293/V1293),0,(W1293/V1293)),0)","v":0},null,null,{"$f":"ROUND(IF(ISERROR(Z1293/Y1293),0,(Z1293/Y1293)),0)","v":0}]
[0,{"$f":"IFERROR(INDEX(Settings!$AO$17:$AO$38,MATCH(Personnel!$G1294,Settings!$AP$17:$AP$38,0)),0)","v":0},null,null,null,0,0,0,0,0,0,0,0,0,0,0,0,0,0,0,0,0,0,0,null,null,0]
[0,{"$f":"IFERROR(INDEX(Settings!$AO$17:$AO$38,MATCH(Personnel!$G1295,Settings!$AP$17:$AP$38,0)),0)","v":0},null,null,null,0,0,0,0,0,0,0,0,0,0,0,0,0,0,0,0,0,0,0,null,null,0]
[0,{"$f":"IFERROR(INDEX(Settings!$AO$17:$AO$38,MATCH(Personnel!$G1296,Settings!$AP$17:$AP$38,0)),0)","v":0},null,null,null,0,0,0,0,0,0,0,0,0,0,0,0,0,0,0,0,0,0,0,null,null,0]
[0,{"$f":"IFERROR(INDEX(Settings!$AO$17:$AO$38,MATCH(Personnel!$G1297,Settings!$AP$17:$AP$38,0)),0)","v":0},null,null,null,0,0,0,0,0,0,0,0,0,0,0,0,0,0,0,0,0,0,0,null,null,0]
[0,{"$f":"IFERROR(INDEX(Settings!$AO$17:$AO$38,MATCH(Personnel!$G1298,Settings!$AP$17:$AP$38,0)),0)","v":0},null,null,null,0,0,0,0,0,0,0,0,0,0,0,0,0,0,0,0,0,0,0,null,null,0]
[0,{"$f":"IFERROR(INDEX(Settings!$AO$17:$AO$38,MATCH(Personnel!$G1299,Settings!$AP$17:$AP$38,0)),0)","v":0},null,null,null,0,0,0,0,0,0,0,0,0,0,0,0,0,0,0,0,0,0,0,null,null,0]
[0,{"$f":"IFERROR(INDEX(Settings!$AO$17:$AO$38,MATCH(Personnel!$G1300,Settings!$AP$17:$AP$38,0)),0)","v":0},null,null,null,0,0,0,0,0,0,0,0,0,0,0,0,0,0,0,0,0,0,0,null,null,0]
[0,{"$f":"IFERROR(INDEX(Settings!$AO$17:$AO$38,MATCH(Personnel!$G1301,Settings!$AP$17:$AP$38,0)),0)","v":0},null,null,null,0,0,0,0,0,0,0,0,0,0,0,0,0,0,0,0,0,0,0,null,null,0]
[0,{"$f":"IFERROR(INDEX(Settings!$AO$17:$AO$38,MATCH(Personnel!$G1302,Settings!$AP$17:$AP$38,0)),0)","v":0},null,null,null,0,0,0,0,0,0,0,0,0,0,0,0,0,0,0,0,0,0,0,null,null,0]
[0,{"$f":"IFERROR(INDEX(Settings!$AO$17:$AO$38,MATCH(Personnel!$G1303,Settings!$AP$17:$AP$38,0)),0)","v":0},null,null,null,0,0,0,0,0,0,0,0,0,0,0,0,0,0,0,0,0,0,0,null,null,0]
[0,{"$f":"IFERROR(INDEX(Settings!$AO$17:$AO$38,MATCH(Personnel!$G1304,Settings!$AP$17:$AP$38,0)),0)","v":0},null,null,null,0,0,0,0,0,0,0,0,0,0,0,0,0,0,0,0,0,0,0,null,null,0]
[0,{"$f":"IFERROR(INDEX(Settings!$AO$17:$AO$38,MATCH(Personnel!$G1305,Settings!$AP$17:$AP$38,0)),0)","v":0},null,null,null,0,0,0,0,0,0,0,0,0,0,0,0,0,0,0,0,0,0,0,null,null,0]
[0,{"$f":"IFERROR(INDEX(Settings!$AO$17:$AO$38,MATCH(Personnel!$G1306,Settings!$AP$17:$AP$38,0)),0)","v":0},null,null,null,0,0,0,0,0,0,0,0,0,0,0,0,0,0,0,0,0,0,0,null,null,0]
[0,{"$f":"IFERROR(INDEX(Settings!$AO$17:$AO$38,MATCH(Personnel!$G1307,Settings!$AP$17:$AP$38,0)),0)","v":0},null,null,null,0,0,0,0,0,0,0,0,0,0,0,0,0,0,0,0,0,0,0,null,null,0]
[0,{"$f":"IFERROR(INDEX(Settings!$AO$17:$AO$38,MATCH(Personnel!$G1308,Settings!$AP$17:$AP$38,0)),0)","v":0},null,null,null,0,0,0,0,0,0,0,0,0,0,0,0,0,0,0,0,0,0,0,null,null,0]
[0,{"$f":"IFERROR(INDEX(Settings!$AO$17:$AO$38,MATCH(Personnel!$G1309,Settings!$AP$17:$AP$38,0)),0)","v":0},null,null,null,0,0,0,0,0,0,0,0,0,0,0,0,0,0,0,0,0,0,0,null,null,0]
[0,{"$f":"IFERROR(INDEX(Settings!$AO$17:$AO$38,MATCH(Personnel!$G1310,Settings!$AP$17:$AP$38,0)),0)","v":0},null,null,null,0,0,0,0,0,0,0,0,0,0,0,0,0,0,0,0,0,0,0,null,null,0]
[0,{"$f":"IFERROR(INDEX(Settings!$AO$17:$AO$38,MATCH(Personnel!$G1311,Settings!$AP$17:$AP$38,0)),0)","v":0},null,null,null,0,0,0,0,0,0,0,0,0,0,0,0,0,0,0,0,0,0,0,null,null,0]
[0,{"$f":"IFERROR(INDEX(Settings!$AO$17:$AO$38,MATCH(Personnel!$G1312,Settings!$AP$17:$AP$38,0)),0)","v":0},null,null,null,0,0,0,0,0,0,0,0,0,0,0,0,0,0,0,0,0,0,0,null,null,0]
[0,{"$f":"IFERROR(INDEX(Settings!$AO$17:$AO$38,MATCH(Personnel!$G1313,Settings!$AP$17:$AP$38,0)),0)","v":0},null,null,null,0,0,0,0,0,0,0,0,0,0,0,0,0,0,0,0,0,0,0,null,null,0]
[0,{"$f":"IFERROR(INDEX(Settings!$AO$17:$AO$38,MATCH(Personnel!$G1314,Settings!$AP$17:$AP$38,0)),0)","v":0},null,null,null,0,0,0,0,0,0,0,0,0,0,0,0,0,0,0,0,0,0,0,null,null,0]
[0,{"$f":"IFERROR(INDEX(Settings!$AO$17:$AO$38,MATCH(Personnel!$G1315,Settings!$AP$17:$AP$38,0)),0)","v":0},null,null,null,0,0,0,0,0,0,0,0,0,0,0,0,0,0,0,0,0,0,0,null,null,0]
[0,{"$f":"IFERROR(INDEX(Settings!$AO$17:$AO$38,MATCH(Personnel!$G1316,Settings!$AP$17:$AP$38,0)),0)","v":0},null,null,null,0,0,0,0,0,0,0,0,0,0,0,0,0,0,0,0,0,0,0,null,null,0]
[0,{"$f":"IFERROR(INDEX(Settings!$AO$17:$AO$38,MATCH(Personnel!$G1317,Settings!$AP$17:$AP$38,0)),0)","v":0},null,null,null,0,0,0,0,0,0,0,0,0,0,0,0,0,0,0,0,0,0,0,null,null,0]
[0,{"$f":"IFERROR(INDEX(Settings!$AO$17:$AO$38,MATCH(Personnel!$G1318,Settings!$AP$17:$AP$38,0)),0)","v":0},null,null,null,0,0,0,0,0,0,0,0,0,0,0,0,0,0,0,0,0,0,0,null,null,0]
[0,{"$f":"IFERROR(INDEX(Settings!$AO$17:$AO$38,MATCH(Personnel!$G1319,Settings!$AP$17:$AP$38,0)),0)","v":0},null,null,null,0,0,0,0,0,0,0,0,0,0,0,0,0,0,0,0,0,0,0,null,null,0]
[0,{"$f":"IFERROR(INDEX(Settings!$AO$17:$AO$38,MATCH(Personnel!$G1320,Settings!$AP$17:$AP$38,0)),0)","v":0},null,null,null,0,0,0,0,0,0,0,0,0,0,0,0,0,0,0,0,0,0,0,null,null,0]
[0,{"$f":"IFERROR(INDEX(Settings!$AO$17:$AO$38,MATCH(Personnel!$G1321,Settings!$AP$17:$AP$38,0)),0)","v":0},null,null,null,0,0,0,0,0,0,0,0,0,0,0,0,0,0,0,0,0,0,0,null,null,0]
[0,{"$f":"IFERROR(INDEX(Settings!$AO$17:$AO$38,MATCH(Personnel!$G1322,Settings!$AP$17:$AP$38,0)),0)","v":0},null,null,null,0,0,0,0,0,0,0,0,0,0,0,0,0,0,0,0,0,0,0,null,null,0]
[0,{"$f":"IFERROR(INDEX(Settings!$AO$17:$AO$38,MATCH(Personnel!$G1323,Settings!$AP$17:$AP$38,0)),0)","v":0},null,null,null,0,0,0,0,0,0,0,0,0,0,0,0,0,0,0,0,0,0,0,null,null,0]
[0,{"$f":"IFERROR(INDEX(Settings!$AO$17:$AO$38,MATCH(Personnel!$G1324,Settings!$AP$17:$AP$38,0)),0)","v":0},null,null,null,0,0,0,0,0,0,0,0,0,0,0,0,0,0,0,0,0,0,0,null,null,0]
[0,{"$f":"IFERROR(INDEX(Settings!$AO$17:$AO$38,MATCH(Personnel!$G1325,Settings!$AP$17:$AP$38,0)),0)","v":0},null,null,null,0,0,0,0,0,0,0,0,0,0,0,0,0,0,0,0,0,0,0,null,null,0]
[0,{"$f":"IFERROR(INDEX(Settings!$AO$17:$AO$38,MATCH(Personnel!$G1326,Settings!$AP$17:$AP$38,0)),0)","v":0},null,null,null,0,0,0,0,0,0,0,0,0,0,0,0,0,0,0,0,0,0,0,null,null,0]
[0,{"$f":"IFERROR(INDEX(Settings!$AO$17:$AO$38,MATCH(Personnel!$G1327,Settings!$AP$17:$AP$38,0)),0)","v":0},null,null,null,0,0,0,0,0,0,0,0,0,0,0,0,0,0,0,0,0,0,0,null,null,0]
[0,{"$f":"IFERROR(INDEX(Settings!$AO$17:$AO$38,MATCH(Personnel!$G1328,Settings!$AP$17:$AP$38,0)),0)","v":0},null,null,null,0,0,0,0,0,0,0,0,0,0,0,0,0,0,0,0,0,0,0,null,null,0]
[0,{"$f":"IFERROR(INDEX(Settings!$AO$17:$AO$38,MATCH(Personnel!$G1329,Settings!$AP$17:$AP$38,0)),0)","v":0},null,null,null,0,0,0,0,0,0,0,0,0,0,0,0,0,0,0,0,0,0,0,null,null,0]
[0,{"$f":"IFERROR(INDEX(Settings!$AO$17:$AO$38,MATCH(Personnel!$G1330,Settings!$AP$17:$AP$38,0)),0)","v":0},null,null,null,0,0,0,0,0,0,0,0,0,0,0,0,0,0,0,0,0,0,0,null,null,0]
[0,{"$f":"IFERROR(INDEX(Settings!$AO$17:$AO$38,MATCH(Personnel!$G1331,Settings!$AP$17:$AP$38,0)),0)","v":0},null,null,null,0,0,0,0,0,0,0,0,0,0,0,0,0,0,0,0,0,0,0,null,null,0]
[0,{"$f":"IFERROR(INDEX(Settings!$AO$17:$AO$38,MATCH(Personnel!$G1332,Settings!$AP$17:$AP$38,0)),0)","v":0},null,null,null,0,0,0,0,0,0,0,0,0,0,0,0,0,0,0,0,0,0,0,null,null,0]
[0,{"$f":"IFERROR(INDEX(Settings!$AO$17:$AO$38,MATCH(Personnel!$G1333,Settings!$AP$17:$AP$38,0)),0)","v":0},null,null,null,0,0,0,0,0,0,0,0,0,0,0,0,0,0,0,0,0,0,0,null,null,0]
[0,{"$f":"IFERROR(INDEX(Settings!$AO$17:$AO$38,MATCH(Personnel!$G1334,Settings!$AP$17:$AP$38,0)),0)","v":0},null,null,null,0,0,0,0,0,0,0,0,0,0,0,0,0,0,0,0,0,0,0,null,null,0]
[0,{"$f":"IFERROR(INDEX(Settings!$AO$17:$AO$38,MATCH(Personnel!$G1335,Settings!$AP$17:$AP$38,0)),0)","v":0},null,null,null,0,0,0,0,0,0,0,0,0,0,0,0,0,0,0,0,0,0,0,null,null,0]
[0,{"$f":"IFERROR(INDEX(Settings!$AO$17:$AO$38,MATCH(Personnel!$G1336,Settings!$AP$17:$AP$38,0)),0)","v":0},null,null,null,0,0,0,0,0,0,0,0,0,0,0,0,0,0,0,0,0,0,0,null,null,0]
[0,{"$f":"IFERROR(INDEX(Settings!$AO$17:$AO$38,MATCH(Personnel!$G1337,Settings!$AP$17:$AP$38,0)),0)","v":0},null,null,null,0,0,0,0,0,0,0,0,0,0,0,0,0,0,0,0,0,0,0,null,null,0]
[0,{"$f":"IFERROR(INDEX(Settings!$AO$17:$AO$38,MATCH(Personnel!$G1338,Settings!$AP$17:$AP$38,0)),0)","v":0},null,null,null,0,0,0,0,0,0,0,0,0,0,0,0,0,0,0,0,0,0,0,null,null,0]
[0,{"$f":"IFERROR(INDEX(Settings!$AO$17:$AO$38,MATCH(Personnel!$G1339,Settings!$AP$17:$AP$38,0)),0)","v":0},null,null,null,0,0,0,0,0,0,0,0,0,0,0,0,0,0,0,0,0,0,0,null,null,0]
[0,{"$f":"IFERROR(INDEX(Settings!$AO$17:$AO$38,MATCH(Personnel!$G1340,Settings!$AP$17:$AP$38,0)),0)","v":0},null,null,null,0,0,0,0,0,0,0,0,0,0,0,0,0,0,0,0,0,0,0,null,null,0]
[0,{"$f":"IFERROR(INDEX(Settings!$AO$17:$AO$38,MATCH(Personnel!$G1341,Settings!$AP$17:$AP$38,0)),0)","v":0},null,null,null,0,0,0,0,0,0,0,0,0,0,0,0,0,0,0,0,0,0,0,null,null,0]
[0,{"$f":"IFERROR(INDEX(Settings!$AO$17:$AO$38,MATCH(Personnel!$G1342,Settings!$AP$17:$AP$38,0)),0)","v":0},null,null,null,0,0,0,0,0,0,0,0,0,0,0,0,0,0,0,0,0,0,0,null,null,0]
[0,{"$f":"IFERROR(INDEX(Settings!$AO$17:$AO$38,MATCH(Personnel!$G1343,Settings!$AP$17:$AP$38,0)),0)","v":0},null,null,null,0,0,0,0,0,0,0,0,0,0,0,0,0,0,0,0,0,0,0,null,null,0]
[0,{"$f":"IFERROR(INDEX(Settings!$AO$17:$AO$38,MATCH(Personnel!$G1344,Settings!$AP$17:$AP$38,0)),0)","v":0},null,null,null,0,0,0,0,0,0,0,0,0,0,0,0,0,0,0,0,0,0,0,null,null,0]
[0,{"$f":"IFERROR(INDEX(Settings!$AO$17:$AO$38,MATCH(Personnel!$G1345,Settings!$AP$17:$AP$38,0)),0)","v":0},null,null,null,0,0,0,0,0,0,0,0,0,0,0,0,0,0,0,0,0,0,0,null,null,0]
[0,{"$f":"IFERROR(INDEX(Settings!$AO$17:$AO$38,MATCH(Personnel!$G1346,Settings!$AP$17:$AP$38,0)),0)","v":0},null,null,null,0,0,0,0,0,0,0,0,0,0,0,0,0,0,0,0,0,0,0,null,null,0]
[0,{"$f":"IFERROR(INDEX(Settings!$AO$17:$AO$38,MATCH(Personnel!$G1347,Settings!$AP$17:$AP$38,0)),0)","v":0},null,null,null,0,0,0,0,0,0,0,0,0,0,0,0,0,0,0,0,0,0,0,null,null,0]
[0,{"$f":"IFERROR(INDEX(Settings!$AO$17:$AO$38,MATCH(Personnel!$G1348,Settings!$AP$17:$AP$38,0)),0)","v":0},null,null,null,0,0,0,0,0,0,0,0,0,0,0,0,0,0,0,0,0,0,0,null,null,0]
[0,{"$f":"IFERROR(INDEX(Settings!$AO$17:$AO$38,MATCH(Personnel!$G1349,Settings!$AP$17:$AP$38,0)),0)","v":0},null,null,null,0,0,0,0,0,0,0,0,0,0,0,0,0,0,0,0,0,0,0,null,null,0]
[0,{"$f":"IFERROR(INDEX(Settings!$AO$17:$AO$38,MATCH(Personnel!$G1350,Settings!$AP$17:$AP$38,0)),0)","v":0},null,null,null,0,0,0,0,0,0,0,0,0,0,0,0,0,0,0,0,0,0,0,null,null,0]
[0,{"$f":"IFERROR(INDEX(Settings!$AO$17:$AO$38,MATCH(Personnel!$G1351,Settings!$AP$17:$AP$38,0)),0)","v":0},null,null,null,0,0,0,0,0,0,0,0,0,0,0,0,0,0,0,0,0,0,0,null,null,0]
[0,{"$f":"IFERROR(INDEX(Settings!$AO$17:$AO$38,MATCH(Personnel!$G1352,Settings!$AP$17:$AP$38,0)),0)","v":0},null,null,null,0,0,0,0,0,0,0,0,0,0,0,0,0,0,0,0,0,0,0,null,null,0]
[0,{"$f":"IFERROR(INDEX(Settings!$AO$17:$AO$38,MATCH(Personnel!$G1353,Settings!$AP$17:$AP$38,0)),0)","v":0},null,null,null,0,0,0,0,0,0,0,0,0,0,0,0,0,0,0,0,0,0,0,null,null,0]
[0,{"$f":"IFERROR(INDEX(Settings!$AO$17:$AO$38,MATCH(Personnel!$G1354,Settings!$AP$17:$AP$38,0)),0)","v":0},null,null,null,0,0,0,0,0,0,0,0,0,0,0,0,0,0,0,0,0,0,0,null,null,0]
[0,{"$f":"IFERROR(INDEX(Settings!$AO$17:$AO$38,MATCH(Personnel!$G1355,Settings!$AP$17:$AP$38,0)),0)","v":0},null,null,null,0,0,0,0,0,0,0,0,0,0,0,0,0,0,0,0,0,0,0,null,null,0]
[{"$f":"IF(SUM(K1356:AA1356)>0,1,0)","v":0},{"$f":"IFERROR(INDEX(Settings!$AO$17:$AO$38,MATCH(Personnel!$G1356,Settings!$AP$17:$AP$38,0)),0)","v":0},null,null,null,0,0,0,0,0,0,0,0,0,0,0,0,0,0,0,0,0,0,0,null,null,0]
[0,{"$f":"IFERROR(INDEX(Settings!$AO$17:$AO$38,MATCH(Personnel!$G1357,Settings!$AP$17:$AP$38,0)),0)","v":0},null,null,null,0,0,0,0,0,0,0,{"$f":"ROUND(IF(ISERROR(L1357/K1357),0,(L1357/K1357)),0)","v":0},0,0,0,0,{"$f":"ROUND(IF(ISERROR(Q1357/P1357),0,(Q1357/P1357)),0)","v":0},0,0,{"$f":"ROUND(IF(ISERROR(T1357/S1357),0,(T1357/S1357)),0)","v":0},0,0,{"$f":"ROUND(IF(ISERROR(W1357/V1357),0,(W1357/V1357)),0)","v":0},null,null,{"$f":"ROUND(IF(ISERROR(Z1357/Y1357),0,(Z1357/Y1357)),0)","v":0}]
[0,{"$f":"IFERROR(INDEX(Settings!$AO$17:$AO$38,MATCH(Personnel!$G1358,Settings!$AP$17:$AP$38,0)),0)","v":0},null,null,null,0,0,0,0,0,0,0,0,0,0,0,0,0,0,0,0,0,0,0,null,null,0]
[0,{"$f":"IFERROR(INDEX(Settings!$AO$17:$AO$38,MATCH(Personnel!$G1359,Settings!$AP$17:$AP$38,0)),0)","v":0},null,null,null,0,0,0,0,0,0,0,0,0,0,0,0,0,0,0,0,0,0,0,null,null,0]
[0,{"$f":"IFERROR(INDEX(Settings!$AO$17:$AO$38,MATCH(Personnel!$G1360,Settings!$AP$17:$AP$38,0)),0)","v":0},null,null,null,0,0,0,0,0,0,0,0,0,0,0,0,0,0,0,0,0,0,0,null,null,0]
[0,{"$f":"IFERROR(INDEX(Settings!$AO$17:$AO$38,MATCH(Personnel!$G1361,Settings!$AP$17:$AP$38,0)),0)","v":0},null,null,null,0,0,0,0,0,0,0,0,0,0,0,0,0,0,0,0,0,0,0,null,null,0]
[0,{"$f":"IFERROR(INDEX(Settings!$AO$17:$AO$38,MATCH(Personnel!$G1362,Settings!$AP$17:$AP$38,0)),0)","v":0},null,null,null,0,0,0,0,0,0,0,0,0,0,0,0,0,0,0,0,0,0,0,null,null,0]
[0,{"$f":"IFERROR(INDEX(Settings!$AO$17:$AO$38,MATCH(Personnel!$G1363,Settings!$AP$17:$AP$38,0)),0)","v":0},null,null,null,0,0,0,0,0,0,0,0,0,0,0,0,0,0,0,0,0,0,0,null,null,0]
[0,{"$f":"IFERROR(INDEX(Settings!$AO$17:$AO$38,MATCH(Personnel!$G1364,Settings!$AP$17:$AP$38,0)),0)","v":0},null,null,null,0,0,0,0,0,0,0,0,0,0,0,0,0,0,0,0,0,0,0,null,null,0]
[0,{"$f":"IFERROR(INDEX(Settings!$AO$17:$AO$38,MATCH(Personnel!$G1365,Settings!$AP$17:$AP$38,0)),0)","v":0},null,null,null,0,0,0,0,0,0,0,0,0,0,0,0,0,0,0,0,0,0,0,null,null,0]
[0,{"$f":"IFERROR(INDEX(Settings!$AO$17:$AO$38,MATCH(Personnel!$G1366,Settings!$AP$17:$AP$38,0)),0)","v":0},null,null,null,0,0,0,0,0,0,0,0,0,0,0,0,0,0,0,0,0,0,0,null,null,0]
[0,{"$f":"IFERROR(INDEX(Settings!$AO$17:$AO$38,MATCH(Personnel!$G1367,Settings!$AP$17:$AP$38,0)),0)","v":0},null,null,null,0,0,0,0,0,0,0,0,0,0,0,0,0,0,0,0,0,0,0,null,null,0]
[0,{"$f":"IFERROR(INDEX(Settings!$AO$17:$AO$38,MATCH(Personnel!$G1368,Settings!$AP$17:$AP$38,0)),0)","v":0},null,null,null,0,0,0,0,0,0,0,0,0,0,0,0,0,0,0,0,0,0,0,null,null,0]
[0,{"$f":"IFERROR(INDEX(Settings!$AO$17:$AO$38,MATCH(Personnel!$G1369,Settings!$AP$17:$AP$38,0)),0)","v":0},null,null,null,0,0,0,0,0,0,0,0,0,0,0,0,0,0,0,0,0,0,0,null,null,0]
[0,{"$f":"IFERROR(INDEX(Settings!$AO$17:$AO$38,MATCH(Personnel!$G1370,Settings!$AP$17:$AP$38,0)),0)","v":0},null,null,null,0,0,0,0,0,0,0,0,0,0,0,0,0,0,0,0,0,0,0,null,null,0]
[0,{"$f":"IFERROR(INDEX(Settings!$AO$17:$AO$38,MATCH(Personnel!$G1371,Settings!$AP$17:$AP$38,0)),0)","v":0},null,null,null,0,0,0,0,0,0,0,0,0,0,0,0,0,0,0,0,0,0,0,null,null,0]
[0,{"$f":"IFERROR(INDEX(Settings!$AO$17:$AO$38,MATCH(Personnel!$G1372,Settings!$AP$17:$AP$38,0)),0)","v":0},null,null,null,0,0,0,0,0,0,0,0,0,0,0,0,0,0,0,0,0,0,0,null,null,0]
[0,{"$f":"IFERROR(INDEX(Settings!$AO$17:$AO$38,MATCH(Personnel!$G1373,Settings!$AP$17:$AP$38,0)),0)","v":0},null,null,null,0,0,0,0,0,0,0,0,0,0,0,0,0,0,0,0,0,0,0,null,null,0]
[0,{"$f":"IFERROR(INDEX(Settings!$AO$17:$AO$38,MATCH(Personnel!$G1374,Settings!$AP$17:$AP$38,0)),0)","v":0},null,null,null,0,0,0,0,0,0,0,0,0,0,0,0,0,0,0,0,0,0,0,null,null,0]
[0,{"$f":"IFERROR(INDEX(Settings!$AO$17:$AO$38,MATCH(Personnel!$G1375,Settings!$AP$17:$AP$38,0)),0)","v":0},null,null,null,0,0,0,0,0,0,0,0,0,0,0,0,0,0,0,0,0,0,0,null,null,0]
[0,{"$f":"IFERROR(INDEX(Settings!$AO$17:$AO$38,MATCH(Personnel!$G1376,Settings!$AP$17:$AP$38,0)),0)","v":0},null,null,null,0,0,0,0,0,0,0,0,0,0,0,0,0,0,0,0,0,0,0,null,null,0]
[0,{"$f":"IFERROR(INDEX(Settings!$AO$17:$AO$38,MATCH(Personnel!$G1377,Settings!$AP$17:$AP$38,0)),0)","v":0},null,null,null,0,0,0,0,0,0,0,0,0,0,0,0,0,0,0,0,0,0,0,null,null,0]
[0,{"$f":"IFERROR(INDEX(Settings!$AO$17:$AO$38,MATCH(Personnel!$G1378,Settings!$AP$17:$AP$38,0)),0)","v":0},null,null,null,0,0,0,0,0,0,0,0,0,0,0,0,0,0,0,0,0,0,0,null,null,0]
[0,{"$f":"IFERROR(INDEX(Settings!$AO$17:$AO$38,MATCH(Personnel!$G1379,Settings!$AP$17:$AP$38,0)),0)","v":0},null,null,null,0,0,0,0,0,0,0,0,0,0,0,0,0,0,0,0,0,0,0,null,null,0]
[0,{"$f":"IFERROR(INDEX(Settings!$AO$17:$AO$38,MATCH(Personnel!$G1380,Settings!$AP$17:$AP$38,0)),0)","v":0},null,null,null,0,0,0,0,0,0,0,0,0,0,0,0,0,0,0,0,0,0,0,null,null,0]
[0,{"$f":"IFERROR(INDEX(Settings!$AO$17:$AO$38,MATCH(Personnel!$G1381,Settings!$AP$17:$AP$38,0)),0)","v":0},null,null,null,0,0,0,0,0,0,0,0,0,0,0,0,0,0,0,0,0,0,0,null,null,0]
[0,{"$f":"IFERROR(INDEX(Settings!$AO$17:$AO$38,MATCH(Personnel!$G1382,Settings!$AP$17:$AP$38,0)),0)","v":0},null,null,null,0,0,0,0,0,0,0,0,0,0,0,0,0,0,0,0,0,0,0,null,null,0]
[0,{"$f":"IFERROR(INDEX(Settings!$AO$17:$AO$38,MATCH(Personnel!$G1383,Settings!$AP$17:$AP$38,0)),0)","v":0},null,null,null,0,0,0,0,0,0,0,0,0,0,0,0,0,0,0,0,0,0,0,null,null,0]
[0,{"$f":"IFERROR(INDEX(Settings!$AO$17:$AO$38,MATCH(Personnel!$G1384,Settings!$AP$17:$AP$38,0)),0)","v":0},null,null,null,0,0,0,0,0,0,0,0,0,0,0,0,0,0,0,0,0,0,0,null,null,0]
[0,{"$f":"IFERROR(INDEX(Settings!$AO$17:$AO$38,MATCH(Personnel!$G1385,Settings!$AP$17:$AP$38,0)),0)","v":0},null,null,null,0,0,0,0,0,0,0,0,0,0,0,0,0,0,0,0,0,0,0,null,null,0]
[0,{"$f":"IFERROR(INDEX(Settings!$AO$17:$AO$38,MATCH(Personnel!$G1386,Settings!$AP$17:$AP$38,0)),0)","v":0},null,null,null,0,0,0,0,0,0,0,0,0,0,0,0,0,0,0,0,0,0,0,null,null,0]
[0,{"$f":"IFERROR(INDEX(Settings!$AO$17:$AO$38,MATCH(Personnel!$G1387,Settings!$AP$17:$AP$38,0)),0)","v":0},null,null,null,0,0,0,0,0,0,0,0,0,0,0,0,0,0,0,0,0,0,0,null,null,0]
[0,{"$f":"IFERROR(INDEX(Settings!$AO$17:$AO$38,MATCH(Personnel!$G1388,Settings!$AP$17:$AP$38,0)),0)","v":0},null,null,null,0,0,0,0,0,0,0,0,0,0,0,0,0,0,0,0,0,0,0,null,null,0]
[0,{"$f":"IFERROR(INDEX(Settings!$AO$17:$AO$38,MATCH(Personnel!$G1389,Settings!$AP$17:$AP$38,0)),0)","v":0},null,null,null,0,0,0,0,0,0,0,0,0,0,0,0,0,0,0,0,0,0,0,null,null,0]
[0,{"$f":"IFERROR(INDEX(Settings!$AO$17:$AO$38,MATCH(Personnel!$G1390,Settings!$AP$17:$AP$38,0)),0)","v":0},null,null,null,0,0,0,0,0,0,0,0,0,0,0,0,0,0,0,0,0,0,0,null,null,0]
[0,{"$f":"IFERROR(INDEX(Settings!$AO$17:$AO$38,MATCH(Personnel!$G1391,Settings!$AP$17:$AP$38,0)),0)","v":0},null,null,null,0,0,0,0,0,0,0,0,0,0,0,0,0,0,0,0,0,0,0,null,null,0]
[0,{"$f":"IFERROR(INDEX(Settings!$AO$17:$AO$38,MATCH(Personnel!$G1392,Settings!$AP$17:$AP$38,0)),0)","v":0},null,null,null,0,0,0,0,0,0,0,0,0,0,0,0,0,0,0,0,0,0,0,null,null,0]
[0,{"$f":"IFERROR(INDEX(Settings!$AO$17:$AO$38,MATCH(Personnel!$G1393,Settings!$AP$17:$AP$38,0)),0)","v":0},null,null,null,0,0,0,0,0,0,0,0,0,0,0,0,0,0,0,0,0,0,0,null,null,0]
[0,{"$f":"IFERROR(INDEX(Settings!$AO$17:$AO$38,MATCH(Personnel!$G1394,Settings!$AP$17:$AP$38,0)),0)","v":0},null,null,null,0,0,0,0,0,0,0,0,0,0,0,0,0,0,0,0,0,0,0,null,null,0]
[0,{"$f":"IFERROR(INDEX(Settings!$AO$17:$AO$38,MATCH(Personnel!$G1395,Settings!$AP$17:$AP$38,0)),0)","v":0},null,null,null,0,0,0,0,0,0,0,0,0,0,0,0,0,0,0,0,0,0,0,null,null,0]
[0,{"$f":"IFERROR(INDEX(Settings!$AO$17:$AO$38,MATCH(Personnel!$G1396,Settings!$AP$17:$AP$38,0)),0)","v":0},null,null,null,0,0,0,0,0,0,0,0,0,0,0,0,0,0,0,0,0,0,0,null,null,0]
[0,{"$f":"IFERROR(INDEX(Settings!$AO$17:$AO$38,MATCH(Personnel!$G1397,Settings!$AP$17:$AP$38,0)),0)","v":0},null,null,null,0,0,0,0,0,0,0,0,0,0,0,0,0,0,0,0,0,0,0,null,null,0]
[0,{"$f":"IFERROR(INDEX(Settings!$AO$17:$AO$38,MATCH(Personnel!$G1398,Settings!$AP$17:$AP$38,0)),0)","v":0},null,null,null,0,0,0,0,0,0,0,0,0,0,0,0,0,0,0,0,0,0,0,null,null,0]
[0,{"$f":"IFERROR(INDEX(Settings!$AO$17:$AO$38,MATCH(Personnel!$G1399,Settings!$AP$17:$AP$38,0)),0)","v":0},null,null,null,0,0,0,0,0,0,0,0,0,0,0,0,0,0,0,0,0,0,0,null,null,0]
[0,{"$f":"IFERROR(INDEX(Settings!$AO$17:$AO$38,MATCH(Personnel!$G1400,Settings!$AP$17:$AP$38,0)),0)","v":0},null,null,null,0,0,0,0,0,0,0,0,0,0,0,0,0,0,0,0,0,0,0,null,null,0]
[0,{"$f":"IFERROR(INDEX(Settings!$AO$17:$AO$38,MATCH(Personnel!$G1401,Settings!$AP$17:$AP$38,0)),0)","v":0},null,null,null,0,0,0,0,0,0,0,0,0,0,0,0,0,0,0,0,0,0,0,null,null,0]
[0,{"$f":"IFERROR(INDEX(Settings!$AO$17:$AO$38,MATCH(Personnel!$G1402,Settings!$AP$17:$AP$38,0)),0)","v":0},null,null,null,0,0,0,0,0,0,0,0,0,0,0,0,0,0,0,0,0,0,0,null,null,0]
[0,{"$f":"IFERROR(INDEX(Settings!$AO$17:$AO$38,MATCH(Personnel!$G1403,Settings!$AP$17:$AP$38,0)),0)","v":0},null,null,null,0,0,0,0,0,0,0,0,0,0,0,0,0,0,0,0,0,0,0,null,null,0]
[0,{"$f":"IFERROR(INDEX(Settings!$AO$17:$AO$38,MATCH(Personnel!$G1404,Settings!$AP$17:$AP$38,0)),0)","v":0},null,null,null,0,0,0,0,0,0,0,0,0,0,0,0,0,0,0,0,0,0,0,null,null,0]
[0,{"$f":"IFERROR(INDEX(Settings!$AO$17:$AO$38,MATCH(Personnel!$G1405,Settings!$AP$17:$AP$38,0)),0)","v":0},null,null,null,0,0,0,0,0,0,0,0,0,0,0,0,0,0,0,0,0,0,0,null,null,0]
[0,{"$f":"IFERROR(INDEX(Settings!$AO$17:$AO$38,MATCH(Personnel!$G1406,Settings!$AP$17:$AP$38,0)),0)","v":0},null,null,null,0,0,0,0,0,0,0,0,0,0,0,0,0,0,0,0,0,0,0,null,null,0]
[0,{"$f":"IFERROR(INDEX(Settings!$AO$17:$AO$38,MATCH(Personnel!$G1407,Settings!$AP$17:$AP$38,0)),0)","v":0},null,null,null,0,0,0,0,0,0,0,0,0,0,0,0,0,0,0,0,0,0,0,null,null,0]
[0,{"$f":"IFERROR(INDEX(Settings!$AO$17:$AO$38,MATCH(Personnel!$G1408,Settings!$AP$17:$AP$38,0)),0)","v":0},null,null,null,0,0,0,0,0,0,0,0,0,0,0,0,0,0,0,0,0,0,0,null,null,0]
[0,{"$f":"IFERROR(INDEX(Settings!$AO$17:$AO$38,MATCH(Personnel!$G1409,Settings!$AP$17:$AP$38,0)),0)","v":0},null,null,null,0,0,0,0,0,0,0,0,0,0,0,0,0,0,0,0,0,0,0,null,null,0]
[0,{"$f":"IFERROR(INDEX(Settings!$AO$17:$AO$38,MATCH(Personnel!$G1410,Settings!$AP$17:$AP$38,0)),0)","v":0},null,null,null,0,0,0,0,0,0,0,0,0,0,0,0,0,0,0,0,0,0,0,null,null,0]
[0,{"$f":"IFERROR(INDEX(Settings!$AO$17:$AO$38,MATCH(Personnel!$G1411,Settings!$AP$17:$AP$38,0)),0)","v":0},null,null,null,0,0,0,0,0,0,0,0,0,0,0,0,0,0,0,0,0,0,0,null,null,0]
[0,{"$f":"IFERROR(INDEX(Settings!$AO$17:$AO$38,MATCH(Personnel!$G1412,Settings!$AP$17:$AP$38,0)),0)","v":0},null,null,null,0,0,0,0,0,0,0,0,0,0,0,0,0,0,0,0,0,0,0,null,null,0]
[0,{"$f":"IFERROR(INDEX(Settings!$AO$17:$AO$38,MATCH(Personnel!$G1413,Settings!$AP$17:$AP$38,0)),0)","v":0},null,null,null,0,0,0,0,0,0,0,0,0,0,0,0,0,0,0,0,0,0,0,null,null,0]
[0,{"$f":"IFERROR(INDEX(Settings!$AO$17:$AO$38,MATCH(Personnel!$G1414,Settings!$AP$17:$AP$38,0)),0)","v":0},null,null,null,0,0,0,0,0,0,0,0,0,0,0,0,0,0,0,0,0,0,0,null,null,0]
[0,{"$f":"IFERROR(INDEX(Settings!$AO$17:$AO$38,MATCH(Personnel!$G1415,Settings!$AP$17:$AP$38,0)),0)","v":0},null,null,null,0,0,0,0,0,0,0,0,0,0,0,0,0,0,0,0,0,0,0,null,null,0]
[0,{"$f":"IFERROR(INDEX(Settings!$AO$17:$AO$38,MATCH(Personnel!$G1416,Settings!$AP$17:$AP$38,0)),0)","v":0},null,null,null,0,0,0,0,0,0,0,0,0,0,0,0,0,0,0,0,0,0,0,null,null,0]
[0,{"$f":"IFERROR(INDEX(Settings!$AO$17:$AO$38,MATCH(Personnel!$G1417,Settings!$AP$17:$AP$38,0)),0)","v":0},null,null,null,0,0,0,0,0,0,0,0,0,0,0,0,0,0,0,0,0,0,0,null,null,0]
[0,{"$f":"IFERROR(INDEX(Settings!$AO$17:$AO$38,MATCH(Personnel!$G1418,Settings!$AP$17:$AP$38,0)),0)","v":0},null,null,null,0,0,0,0,0,0,0,0,0,0,0,0,0,0,0,0,0,0,0,null,null,0]
[0,{"$f":"IFERROR(INDEX(Settings!$AO$17:$AO$38,MATCH(Personnel!$G1419,Settings!$AP$17:$AP$38,0)),0)","v":0},null,null,null,0,0,0,0,0,0,0,0,0,0,0,0,0,0,0,0,0,0,0,null,null,0]
[{"$f":"IF(SUM(K1420:AA1420)>0,1,0)","v":0},{"$f":"IFERROR(INDEX(Settings!$AO$17:$AO$38,MATCH(Personnel!$G1420,Settings!$AP$17:$AP$38,0)),0)","v":0},null,null,null,0,0,0,0,0,0,0,0,0,0,0,0,0,0,0,0,0,0,0,null,null,0]
[0,{"$f":"IFERROR(INDEX(Settings!$AO$17:$AO$38,MATCH(Personnel!$G1421,Settings!$AP$17:$AP$38,0)),0)","v":0},null,null,null,0,0,0,0,0,0,0,{"$f":"ROUND(IF(ISERROR(L1421/K1421),0,(L1421/K1421)),0)","v":0},0,0,0,0,{"$f":"ROUND(IF(ISERROR(Q1421/P1421),0,(Q1421/P1421)),0)","v":0},0,0,{"$f":"ROUND(IF(ISERROR(T1421/S1421),0,(T1421/S1421)),0)","v":0},0,0,{"$f":"ROUND(IF(ISERROR(W1421/V1421),0,(W1421/V1421)),0)","v":0},null,null,{"$f":"ROUND(IF(ISERROR(Z1421/Y1421),0,(Z1421/Y1421)),0)","v":0}]
[0,{"$f":"IFERROR(INDEX(Settings!$AO$17:$AO$38,MATCH(Personnel!$G1422,Settings!$AP$17:$AP$38,0)),0)","v":0},null,null,null,0,0,0,0,0,0,0,0,0,0,0,0,0,0,0,0,0,0,0,null,null,0]
[0,{"$f":"IFERROR(INDEX(Settings!$AO$17:$AO$38,MATCH(Personnel!$G1423,Settings!$AP$17:$AP$38,0)),0)","v":0},null,null,null,0,0,0,0,0,0,0,0,0,0,0,0,0,0,0,0,0,0,0,null,null,0]
[0,{"$f":"IFERROR(INDEX(Settings!$AO$17:$AO$38,MATCH(Personnel!$G1424,Settings!$AP$17:$AP$38,0)),0)","v":0},null,null,null,0,0,0,0,0,0,0,0,0,0,0,0,0,0,0,0,0,0,0,null,null,0]
[0,{"$f":"IFERROR(INDEX(Settings!$AO$17:$AO$38,MATCH(Personnel!$G1425,Settings!$AP$17:$AP$38,0)),0)","v":0},null,null,null,0,0,0,0,0,0,0,0,0,0,0,0,0,0,0,0,0,0,0,null,null,0]
[0,{"$f":"IFERROR(INDEX(Settings!$AO$17:$AO$38,MATCH(Personnel!$G1426,Settings!$AP$17:$AP$38,0)),0)","v":0},null,null,null,0,0,0,0,0,0,0,0,0,0,0,0,0,0,0,0,0,0,0,null,null,0]
[0,{"$f":"IFERROR(INDEX(Settings!$AO$17:$AO$38,MATCH(Personnel!$G1427,Settings!$AP$17:$AP$38,0)),0)","v":0},null,null,null,0,0,0,0,0,0,0,0,0,0,0,0,0,0,0,0,0,0,0,null,null,0]
[0,{"$f":"IFERROR(INDEX(Settings!$AO$17:$AO$38,MATCH(Personnel!$G1428,Settings!$AP$17:$AP$38,0)),0)","v":0},null,null,null,0,0,0,0,0,0,0,0,0,0,0,0,0,0,0,0,0,0,0,null,null,0]
[0,{"$f":"IFERROR(INDEX(Settings!$AO$17:$AO$38,MATCH(Personnel!$G1429,Settings!$AP$17:$AP$38,0)),0)","v":0},null,null,null,0,0,0,0,0,0,0,0,0,0,0,0,0,0,0,0,0,0,0,null,null,0]
[0,{"$f":"IFERROR(INDEX(Settings!$AO$17:$AO$38,MATCH(Personnel!$G1430,Settings!$AP$17:$AP$38,0)),0)","v":0},null,null,null,0,0,0,0,0,0,0,0,0,0,0,0,0,0,0,0,0,0,0,null,null,0]
[0,{"$f":"IFERROR(INDEX(Settings!$AO$17:$AO$38,MATCH(Personnel!$G1431,Settings!$AP$17:$AP$38,0)),0)","v":0},null,null,null,0,0,0,0,0,0,0,0,0,0,0,0,0,0,0,0,0,0,0,null,null,0]
[0,{"$f":"IFERROR(INDEX(Settings!$AO$17:$AO$38,MATCH(Personnel!$G1432,Settings!$AP$17:$AP$38,0)),0)","v":0},null,null,null,0,0,0,0,0,0,0,0,0,0,0,0,0,0,0,0,0,0,0,null,null,0]
[0,{"$f":"IFERROR(INDEX(Settings!$AO$17:$AO$38,MATCH(Personnel!$G1433,Settings!$AP$17:$AP$38,0)),0)","v":0},null,null,null,0,0,0,0,0,0,0,0,0,0,0,0,0,0,0,0,0,0,0,null,null,0]
[0,{"$f":"IFERROR(INDEX(Settings!$AO$17:$AO$38,MATCH(Personnel!$G1434,Settings!$AP$17:$AP$38,0)),0)","v":0},null,null,null,0,0,0,0,0,0,0,0,0,0,0,0,0,0,0,0,0,0,0,null,null,0]
[0,{"$f":"IFERROR(INDEX(Settings!$AO$17:$AO$38,MATCH(Personnel!$G1435,Settings!$AP$17:$AP$38,0)),0)","v":0},null,null,null,0,0,0,0,0,0,0,0,0,0,0,0,0,0,0,0,0,0,0,null,null,0]
[0,{"$f":"IFERROR(INDEX(Settings!$AO$17:$AO$38,MATCH(Personnel!$G1436,Settings!$AP$17:$AP$38,0)),0)","v":0},null,null,null,0,0,0,0,0,0,0,0,0,0,0,0,0,0,0,0,0,0,0,null,null,0]
[0,{"$f":"IFERROR(INDEX(Settings!$AO$17:$AO$38,MATCH(Personnel!$G1437,Settings!$AP$17:$AP$38,0)),0)","v":0},null,null,null,0,0,0,0,0,0,0,0,0,0,0,0,0,0,0,0,0,0,0,null,null,0]
[0,{"$f":"IFERROR(INDEX(Settings!$AO$17:$AO$38,MATCH(Personnel!$G1438,Settings!$AP$17:$AP$38,0)),0)","v":0},null,null,null,0,0,0,0,0,0,0,0,0,0,0,0,0,0,0,0,0,0,0,null,null,0]
[0,{"$f":"IFERROR(INDEX(Settings!$AO$17:$AO$38,MATCH(Personnel!$G1439,Settings!$AP$17:$AP$38,0)),0)","v":0},null,null,null,0,0,0,0,0,0,0,0,0,0,0,0,0,0,0,0,0,0,0,null,null,0]
[0,{"$f":"IFERROR(INDEX(Settings!$AO$17:$AO$38,MATCH(Personnel!$G1440,Settings!$AP$17:$AP$38,0)),0)","v":0},null,null,null,0,0,0,0,0,0,0,0,0,0,0,0,0,0,0,0,0,0,0,null,null,0]
[0,{"$f":"IFERROR(INDEX(Settings!$AO$17:$AO$38,MATCH(Personnel!$G1441,Settings!$AP$17:$AP$38,0)),0)","v":0},null,null,null,0,0,0,0,0,0,0,0,0,0,0,0,0,0,0,0,0,0,0,null,null,0]
[0,{"$f":"IFERROR(INDEX(Settings!$AO$17:$AO$38,MATCH(Personnel!$G1442,Settings!$AP$17:$AP$38,0)),0)","v":0},null,null,null,0,0,0,0,0,0,0,0,0,0,0,0,0,0,0,0,0,0,0,null,null,0]
[0,{"$f":"IFERROR(INDEX(Settings!$AO$17:$AO$38,MATCH(Personnel!$G1443,Settings!$AP$17:$AP$38,0)),0)","v":0},null,null,null,0,0,0,0,0,0,0,0,0,0,0,0,0,0,0,0,0,0,0,null,null,0]
[0,{"$f":"IFERROR(INDEX(Settings!$AO$17:$AO$38,MATCH(Personnel!$G1444,Settings!$AP$17:$AP$38,0)),0)","v":0},null,null,null,0,0,0,0,0,0,0,0,0,0,0,0,0,0,0,0,0,0,0,null,null,0]
[0,{"$f":"IFERROR(INDEX(Settings!$AO$17:$AO$38,MATCH(Personnel!$G1445,Settings!$AP$17:$AP$38,0)),0)","v":0},null,null,null,0,0,0,0,0,0,0,0,0,0,0,0,0,0,0,0,0,0,0,null,null,0]
[0,{"$f":"IFERROR(INDEX(Settings!$AO$17:$AO$38,MATCH(Personnel!$G1446,Settings!$AP$17:$AP$38,0)),0)","v":0},null,null,null,0,0,0,0,0,0,0,0,0,0,0,0,0,0,0,0,0,0,0,null,null,0]
[0,{"$f":"IFERROR(INDEX(Settings!$AO$17:$AO$38,MATCH(Personnel!$G1447,Settings!$AP$17:$AP$38,0)),0)","v":0},null,null,null,0,0,0,0,0,0,0,0,0,0,0,0,0,0,0,0,0,0,0,null,null,0]
[0,{"$f":"IFERROR(INDEX(Settings!$AO$17:$AO$38,MATCH(Personnel!$G1448,Settings!$AP$17:$AP$38,0)),0)","v":0},null,null,null,0,0,0,0,0,0,0,0,0,0,0,0,0,0,0,0,0,0,0,null,null,0]
[0,{"$f":"IFERROR(INDEX(Settings!$AO$17:$AO$38,MATCH(Personnel!$G1449,Settings!$AP$17:$AP$38,0)),0)","v":0},null,null,null,0,0,0,0,0,0,0,0,0,0,0,0,0,0,0,0,0,0,0,null,null,0]
[0,{"$f":"IFERROR(INDEX(Settings!$AO$17:$AO$38,MATCH(Personnel!$G1450,Settings!$AP$17:$AP$38,0)),0)","v":0},null,null,null,0,0,0,0,0,0,0,0,0,0,0,0,0,0,0,0,0,0,0,null,null,0]
[0,{"$f":"IFERROR(INDEX(Settings!$AO$17:$AO$38,MATCH(Personnel!$G1451,Settings!$AP$17:$AP$38,0)),0)","v":0},null,null,null,0,0,0,0,0,0,0,0,0,0,0,0,0,0,0,0,0,0,0,null,null,0]
[0,{"$f":"IFERROR(INDEX(Settings!$AO$17:$AO$38,MATCH(Personnel!$G1452,Settings!$AP$17:$AP$38,0)),0)","v":0},null,null,null,0,0,0,0,0,0,0,0,0,0,0,0,0,0,0,0,0,0,0,null,null,0]
[0,{"$f":"IFERROR(INDEX(Settings!$AO$17:$AO$38,MATCH(Personnel!$G1453,Settings!$AP$17:$AP$38,0)),0)","v":0},null,null,null,0,0,0,0,0,0,0,0,0,0,0,0,0,0,0,0,0,0,0,null,null,0]
[0,{"$f":"IFERROR(INDEX(Settings!$AO$17:$AO$38,MATCH(Personnel!$G1454,Settings!$AP$17:$AP$38,0)),0)","v":0},null,null,null,0,0,0,0,0,0,0,0,0,0,0,0,0,0,0,0,0,0,0,null,null,0]
[0,{"$f":"IFERROR(INDEX(Settings!$AO$17:$AO$38,MATCH(Personnel!$G1455,Settings!$AP$17:$AP$38,0)),0)","v":0},null,null,null,0,0,0,0,0,0,0,0,0,0,0,0,0,0,0,0,0,0,0,null,null,0]
[0,{"$f":"IFERROR(INDEX(Settings!$AO$17:$AO$38,MATCH(Personnel!$G1456,Settings!$AP$17:$AP$38,0)),0)","v":0},null,null,null,0,0,0,0,0,0,0,0,0,0,0,0,0,0,0,0,0,0,0,null,null,0]
[0,{"$f":"IFERROR(INDEX(Settings!$AO$17:$AO$38,MATCH(Personnel!$G1457,Settings!$AP$17:$AP$38,0)),0)","v":0},null,null,null,0,0,0,0,0,0,0,0,0,0,0,0,0,0,0,0,0,0,0,null,null,0]
[0,{"$f":"IFERROR(INDEX(Settings!$AO$17:$AO$38,MATCH(Personnel!$G1458,Settings!$AP$17:$AP$38,0)),0)","v":0},null,null,null,0,0,0,0,0,0,0,0,0,0,0,0,0,0,0,0,0,0,0,null,null,0]
[0,{"$f":"IFERROR(INDEX(Settings!$AO$17:$AO$38,MATCH(Personnel!$G1459,Settings!$AP$17:$AP$38,0)),0)","v":0},null,null,null,0,0,0,0,0,0,0,0,0,0,0,0,0,0,0,0,0,0,0,null,null,0]
[0,{"$f":"IFERROR(INDEX(Settings!$AO$17:$AO$38,MATCH(Personnel!$G1460,Settings!$AP$17:$AP$38,0)),0)","v":0},null,null,null,0,0,0,0,0,0,0,0,0,0,0,0,0,0,0,0,0,0,0,null,null,0]
[0,{"$f":"IFERROR(INDEX(Settings!$AO$17:$AO$38,MATCH(Personnel!$G1461,Settings!$AP$17:$AP$38,0)),0)","v":0},null,null,null,0,0,0,0,0,0,0,0,0,0,0,0,0,0,0,0,0,0,0,null,null,0]
[0,{"$f":"IFERROR(INDEX(Settings!$AO$17:$AO$38,MATCH(Personnel!$G1462,Settings!$AP$17:$AP$38,0)),0)","v":0},null,null,null,0,0,0,0,0,0,0,0,0,0,0,0,0,0,0,0,0,0,0,null,null,0]
[0,{"$f":"IFERROR(INDEX(Settings!$AO$17:$AO$38,MATCH(Personnel!$G1463,Settings!$AP$17:$AP$38,0)),0)","v":0},null,null,null,0,0,0,0,0,0,0,0,0,0,0,0,0,0,0,0,0,0,0,null,null,0]
[0,{"$f":"IFERROR(INDEX(Settings!$AO$17:$AO$38,MATCH(Personnel!$G1464,Settings!$AP$17:$AP$38,0)),0)","v":0},null,null,null,0,0,0,0,0,0,0,0,0,0,0,0,0,0,0,0,0,0,0,null,null,0]
[0,{"$f":"IFERROR(INDEX(Settings!$AO$17:$AO$38,MATCH(Personnel!$G1465,Settings!$AP$17:$AP$38,0)),0)","v":0},null,null,null,0,0,0,0,0,0,0,0,0,0,0,0,0,0,0,0,0,0,0,null,null,0]
[0,{"$f":"IFERROR(INDEX(Settings!$AO$17:$AO$38,MATCH(Personnel!$G1466,Settings!$AP$17:$AP$38,0)),0)","v":0},null,null,null,0,0,0,0,0,0,0,0,0,0,0,0,0,0,0,0,0,0,0,null,null,0]
[0,{"$f":"IFERROR(INDEX(Settings!$AO$17:$AO$38,MATCH(Personnel!$G1467,Settings!$AP$17:$AP$38,0)),0)","v":0},null,null,null,0,0,0,0,0,0,0,0,0,0,0,0,0,0,0,0,0,0,0,null,null,0]
[0,{"$f":"IFERROR(INDEX(Settings!$AO$17:$AO$38,MATCH(Personnel!$G1468,Settings!$AP$17:$AP$38,0)),0)","v":0},null,null,null,0,0,0,0,0,0,0,0,0,0,0,0,0,0,0,0,0,0,0,null,null,0]
[0,{"$f":"IFERROR(INDEX(Settings!$AO$17:$AO$38,MATCH(Personnel!$G1469,Settings!$AP$17:$AP$38,0)),0)","v":0},null,null,null,0,0,0,0,0,0,0,0,0,0,0,0,0,0,0,0,0,0,0,null,null,0]
[0,{"$f":"IFERROR(INDEX(Settings!$AO$17:$AO$38,MATCH(Personnel!$G1470,Settings!$AP$17:$AP$38,0)),0)","v":0},null,null,null,0,0,0,0,0,0,0,0,0,0,0,0,0,0,0,0,0,0,0,null,null,0]
[0,{"$f":"IFERROR(INDEX(Settings!$AO$17:$AO$38,MATCH(Personnel!$G1471,Settings!$AP$17:$AP$38,0)),0)","v":0},null,null,null,0,0,0,0,0,0,0,0,0,0,0,0,0,0,0,0,0,0,0,null,null,0]
[0,{"$f":"IFERROR(INDEX(Settings!$AO$17:$AO$38,MATCH(Personnel!$G1472,Settings!$AP$17:$AP$38,0)),0)","v":0},null,null,null,0,0,0,0,0,0,0,0,0,0,0,0,0,0,0,0,0,0,0,null,null,0]
[0,{"$f":"IFERROR(INDEX(Settings!$AO$17:$AO$38,MATCH(Personnel!$G1473,Settings!$AP$17:$AP$38,0)),0)","v":0},null,null,null,0,0,0,0,0,0,0,0,0,0,0,0,0,0,0,0,0,0,0,null,null,0]
[0,{"$f":"IFERROR(INDEX(Settings!$AO$17:$AO$38,MATCH(Personnel!$G1474,Settings!$AP$17:$AP$38,0)),0)","v":0},null,null,null,0,0,0,0,0,0,0,0,0,0,0,0,0,0,0,0,0,0,0,null,null,0]
[0,{"$f":"IFERROR(INDEX(Settings!$AO$17:$AO$38,MATCH(Personnel!$G1475,Settings!$AP$17:$AP$38,0)),0)","v":0},null,null,null,0,0,0,0,0,0,0,0,0,0,0,0,0,0,0,0,0,0,0,null,null,0]
[0,{"$f":"IFERROR(INDEX(Settings!$AO$17:$AO$38,MATCH(Personnel!$G1476,Settings!$AP$17:$AP$38,0)),0)","v":0},null,null,null,0,0,0,0,0,0,0,0,0,0,0,0,0,0,0,0,0,0,0,null,null,0]
[0,{"$f":"IFERROR(INDEX(Settings!$AO$17:$AO$38,MATCH(Personnel!$G1477,Settings!$AP$17:$AP$38,0)),0)","v":0},null,null,null,0,0,0,0,0,0,0,0,0,0,0,0,0,0,0,0,0,0,0,null,null,0]
[0,{"$f":"IFERROR(INDEX(Settings!$AO$17:$AO$38,MATCH(Personnel!$G1478,Settings!$AP$17:$AP$38,0)),0)","v":0},null,null,null,0,0,0,0,0,0,0,0,0,0,0,0,0,0,0,0,0,0,0,null,null,0]
[0,{"$f":"IFERROR(INDEX(Settings!$AO$17:$AO$38,MATCH(Personnel!$G1479,Settings!$AP$17:$AP$38,0)),0)","v":0},null,null,null,0,0,0,0,0,0,0,0,0,0,0,0,0,0,0,0,0,0,0,null,null,0]
[0,{"$f":"IFERROR(INDEX(Settings!$AO$17:$AO$38,MATCH(Personnel!$G1480,Settings!$AP$17:$AP$38,0)),0)","v":0},null,null,null,0,0,0,0,0,0,0,0,0,0,0,0,0,0,0,0,0,0,0,null,null,0]
[0,{"$f":"IFERROR(INDEX(Settings!$AO$17:$AO$38,MATCH(Personnel!$G1481,Settings!$AP$17:$AP$38,0)),0)","v":0},null,null,null,0,0,0,0,0,0,0,0,0,0,0,0,0,0,0,0,0,0,0,null,null,0]
[0,{"$f":"IFERROR(INDEX(Settings!$AO$17:$AO$38,MATCH(Personnel!$G1482,Settings!$AP$17:$AP$38,0)),0)","v":0},null,null,null,0,0,0,0,0,0,0,0,0,0,0,0,0,0,0,0,0,0,0,null,null,0]
[0,{"$f":"IFERROR(INDEX(Settings!$AO$17:$AO$38,MATCH(Personnel!$G1483,Settings!$AP$17:$AP$38,0)),0)","v":0},null,null,null,0,0,0,0,0,0,0,0,0,0,0,0,0,0,0,0,0,0,0,null,null,0]
[{"$f":"IF(SUM(K1484:AA1484)>0,1,0)","v":0},{"$f":"IFERROR(INDEX(Settings!$AO$17:$AO$38,MATCH(Personnel!$G1484,Settings!$AP$17:$AP$38,0)),0)","v":0},null,null,null,0,0,0,0,0,0,0,0,0,0,0,0,0,0,0,0,0,0,0,null,null,0]
[0,{"$f":"IFERROR(INDEX(Settings!$AO$17:$AO$38,MATCH(Personnel!$G1485,Settings!$AP$17:$AP$38,0)),0)","v":0},null,null,null,0,0,0,0,0,0,0,{"$f":"ROUND(IF(ISERROR(L1485/K1485),0,(L1485/K1485)),0)","v":0},0,0,0,0,{"$f":"ROUND(IF(ISERROR(Q1485/P1485),0,(Q1485/P1485)),0)","v":0},0,0,{"$f":"ROUND(IF(ISERROR(T1485/S1485),0,(T1485/S1485)),0)","v":0},0,0,{"$f":"ROUND(IF(ISERROR(W1485/V1485),0,(W1485/V1485)),0)","v":0},null,null,{"$f":"ROUND(IF(ISERROR(Z1485/Y1485),0,(Z1485/Y1485)),0)","v":0}]
[0,{"$f":"IFERROR(INDEX(Settings!$AO$17:$AO$38,MATCH(Personnel!$G1486,Settings!$AP$17:$AP$38,0)),0)","v":0},null,null,null,0,0,0,0,0,0,0,0,0,0,0,0,0,0,0,0,0,0,0,null,null,0]
[0,{"$f":"IFERROR(INDEX(Settings!$AO$17:$AO$38,MATCH(Personnel!$G1487,Settings!$AP$17:$AP$38,0)),0)","v":0},null,null,null,0,0,0,0,0,0,0,0,0,0,0,0,0,0,0,0,0,0,0,null,null,0]
[0,{"$f":"IFERROR(INDEX(Settings!$AO$17:$AO$38,MATCH(Personnel!$G1488,Settings!$AP$17:$AP$38,0)),0)","v":0},null,null,null,0,0,0,0,0,0,0,0,0,0,0,0,0,0,0,0,0,0,0,null,null,0]
[0,{"$f":"IFERROR(INDEX(Settings!$AO$17:$AO$38,MATCH(Personnel!$G1489,Settings!$AP$17:$AP$38,0)),0)","v":0},null,null,null,0,0,0,0,0,0,0,0,0,0,0,0,0,0,0,0,0,0,0,null,null,0]
[0,{"$f":"IFERROR(INDEX(Settings!$AO$17:$AO$38,MATCH(Personnel!$G1490,Settings!$AP$17:$AP$38,0)),0)","v":0},null,null,null,0,0,0,0,0,0,0,0,0,0,0,0,0,0,0,0,0,0,0,null,null,0]
[0,{"$f":"IFERROR(INDEX(Settings!$AO$17:$AO$38,MATCH(Personnel!$G1491,Settings!$AP$17:$AP$38,0)),0)","v":0},null,null,null,0,0,0,0,0,0,0,0,0,0,0,0,0,0,0,0,0,0,0,null,null,0]
[0,{"$f":"IFERROR(INDEX(Settings!$AO$17:$AO$38,MATCH(Personnel!$G1492,Settings!$AP$17:$AP$38,0)),0)","v":0},null,null,null,0,0,0,0,0,0,0,0,0,0,0,0,0,0,0,0,0,0,0,null,null,0]
[0,{"$f":"IFERROR(INDEX(Settings!$AO$17:$AO$38,MATCH(Personnel!$G1493,Settings!$AP$17:$AP$38,0)),0)","v":0},null,null,null,0,0,0,0,0,0,0,0,0,0,0,0,0,0,0,0,0,0,0,null,null,0]
[0,{"$f":"IFERROR(INDEX(Settings!$AO$17:$AO$38,MATCH(Personnel!$G1494,Settings!$AP$17:$AP$38,0)),0)","v":0},null,null,null,0,0,0,0,0,0,0,0,0,0,0,0,0,0,0,0,0,0,0,null,null,0]
[0,{"$f":"IFERROR(INDEX(Settings!$AO$17:$AO$38,MATCH(Personnel!$G1495,Settings!$AP$17:$AP$38,0)),0)","v":0},null,null,null,0,0,0,0,0,0,0,0,0,0,0,0,0,0,0,0,0,0,0,null,null,0]
[0,{"$f":"IFERROR(INDEX(Settings!$AO$17:$AO$38,MATCH(Personnel!$G1496,Settings!$AP$17:$AP$38,0)),0)","v":0},null,null,null,0,0,0,0,0,0,0,0,0,0,0,0,0,0,0,0,0,0,0,null,null,0]
[0,{"$f":"IFERROR(INDEX(Settings!$AO$17:$AO$38,MATCH(Personnel!$G1497,Settings!$AP$17:$AP$38,0)),0)","v":0},null,null,null,0,0,0,0,0,0,0,0,0,0,0,0,0,0,0,0,0,0,0,null,null,0]
[0,{"$f":"IFERROR(INDEX(Settings!$AO$17:$AO$38,MATCH(Personnel!$G1498,Settings!$AP$17:$AP$38,0)),0)","v":0},null,null,null,0,0,0,0,0,0,0,0,0,0,0,0,0,0,0,0,0,0,0,null,null,0]
[0,{"$f":"IFERROR(INDEX(Settings!$AO$17:$AO$38,MATCH(Personnel!$G1499,Settings!$AP$17:$AP$38,0)),0)","v":0},null,null,null,0,0,0,0,0,0,0,0,0,0,0,0,0,0,0,0,0,0,0,null,null,0]
[0,1,null,null,null,"TOTAL",null,null,null,null,{"$f":"SUMIF($J$11:$J$1499,\"Guaranteed package\",K$11:K$1499)","v":0},{"$f":"SUM(L11:L1499)","v":0},{"$f":"IFERROR(L1500/K1500,0)","v":0},{"$f":"SUMIF($J$11:$J$1499,\"Guaranteed package\",N$11:N$1499)","v":0},{"$f":"SUMIF($J$11:$J$1499,\"Guaranteed package\",O$11:O$1499)","v":0},{"$f":"SUMIF($J$11:$J$1499,\"Guaranteed package\",P$11:P$1499)","v":0},{"$f":"SUM(Q11:Q1499)","v":0},{"$f":"IFERROR(Q1500/P1500,0)","v":0},{"$f":"SUMIF($J$11:$J$1499,\"Guaranteed package\",S$11:S$1499)","v":0},{"$f":"SUM(T11:T1499)","v":0},{"$f":"IFERROR(T1500/S1500,0)","v":0},{"$f":"SUMIF($J$11:$J$1499,\"Guaranteed package\",V$11:V$1499)","v":0},{"$f":"SUM(W11:W1499)","v":0},{"$f":"IFERROR(W1500/V1500,0)","v":0},{"$f":"SUMIF($J$11:$J$1499,\"Guaranteed package\",Y$11:Y$1499)","v":0},{"$f":"SUM(Z11:Z1499)","v":0},{"$f":"IFERROR(Z1500/Y1500,0)","v":0},{"$f":"IF(Z1500<W1500/2,\"Complete outer year budget\",\"\")","v":""}]
[]
[null,null,null,null,null,"Check",null,null,null,null,null,{"$f":"ROUND(IF(L1500-ENESummary!L46>0,IF(L1500-ENESummary!L46<1,0,L1500-ENESummary!L46),L1500-ENESummary!L46),0)","v":0},null,null,null,null,{"$f":"ROUND(IF(Q1500-ENESummary!N46>0,IF(Q1500-ENESummary!N46<1,0,Q1500-ENESummary!N46),Q1500-ENESummary!N46),0)","v":0},null,null,{"$f":"ROUND(IF(T1500-ENESummary!R46>0,IF(T1500-ENESummary!R46<1,0,T1500-ENESummary!R46),T1500-ENESummary!R46),0)","v":0},null,null,{"$f":"ROUND(IF(W1500-ENESummary!S46>0,IF(W1500-ENESummary!S46<1,0,W1500-ENESummary!S46),W1500-ENESummary!S46),0)","v":0},null,null,{"$f":"ROUND(IF(Z1500-ENESummary!T46>0,IF(Z1500-ENESummary!T46<1,0,Z1500-ENESummary!T46),Z1500-ENESummary!T46),0)","v":0}]

{"sheet":"Infrastructure","index":26,"n_rows":1820,"n_cols":34,"rows_kept":1820,"cut":false,"hidden":false,"merged":[[7,18,7,20],[8,28,8,33],[7,21,7,23],[7,24,7,26]]}
[null,null,null,null,null,null,null,null,"Type of project list"]
[null,null,null,null,null,null,null,null,"Mega projects"]
[null,null,null,null,null,null,null,null,"Large projects"]
["Existing",null,null,null,null,null,null,null,"Small projects"]
[]
[null,null,null,null,null,"PE No",{"$f":"Settings!$O$2","v":"PE196"}]
[null,null,null,null,null,"Entity name",{"$f":"Settings!$D$2","v":"Transnet Limited"}]
[null,null,null,null,null,null,"Activity/Project name","GPS Coordinates1","Type of infrastructure2","Project description3","Nature of Investment","Current project stage4","SCOA item","SIP Category","Total Project Cost",{"$f":"MyYearM3","v":"2019/20"},{"$f":"MyYearM2","v":"2020/21"},{"$f":"MyYearM1","v":"2021/22"},{"$f":"MyYear0","v":"2022/23"},null,null,{"$f":"MyYearP1","v":"2023/24"},null,null,{"$f":"MyYearP2","v":"2024/25"},null,null,{"$f":"MyYearP3","v":"2025/26"},"2025/26","2026/27","2027/28","2028/29","2029/30","2030/31"]
[null,null,null,null,null,"R Thousand ",null,null,null,null,null,null,null,null,null,{"$f":"Hist_year3RestatedAudited","v":"Audited\noutcome"},{"$f":"Hist_year2RestatedAudited","v":"Audited\noutcome"},{"$f":"Hist_year1Audited","v":"Audited\noutcome"},{"$f":"Cur_YearBudgEst","v":"Budget\nestimate"},{"$f":"Cur_YearApprovedBudg","v":"Approved budget"},{"$f":"Cur_YearChangeFrRevBudg","v":"Changes from \nbudget estimate"},{"$f":"MTEF1BudgEst","v":"Budget\nestimate"},{"$f":"MTEF1RevBudgEst","v":"Revised\nbudget\nestimate"},{"$f":"MTEF1_ChangeFrBudgEst","v":"Changes from budget estimate"},{"$f":"MTEF2BudgEst","v":"Budget\nestimate"},{"$f":"MTEF2RevBudgEst","v":"Revised\nbudget\nestimate"},{"$f":"MTEF2_ChangeFrBudgEst","v":"Changes from budget estimate"},{"$f":"MTEF3PlanBudgetEst","v":"Planning\nbudget \nestimate"},"Long term planning"]
["ID",null,null,null,null,1,"Mega projects (over R400 million per year for a minimum of three years, or at least R1 billion total project cost over the MTEF)",null,null,null,null,null,null,null,{"$f":"SUM(O11:O610)","v":0},{"$f":"SUM(P11:P610)","v":0},0,0,0,{"$f":"SUM(T11:T610)","v":0},{"$f":"SUM(U11:U610)","v":0},0,0,0,0,0,0,0,0,0,0,{"$f":"SUM(AF11:AF610)","v":0},0,0]
[{"$f":"IF(SUM(O11:AH11),1,0)","v":0},null,null,null,null,null,0,0,0,0,0,0,0,0,0,0,0,0,0,0,{"$f":"SUM(T11-S11)","v":0},0,0,{"$f":"SUM(W11-V11)","v":0},0,0,{"$f":"SUM(Z11-Y11)","v":0},0,0,0,0,0,0]
[{"$f":"IF(SUM(O12:AH12),1,0)","v":0},null,null,null,null,null,0,0,0,0,0,0,0,0,0,0,0,0,0,0,{"$f":"SUM(T12-S12)","v":0},0,0,{"$f":"SUM(W12-V12)","v":0},0,0,{"$f":"SUM(Z12-Y12)","v":0},0,0,0,0,0,0]
[0,null,null,null,null,null,0,0,0,0,0,0,0,0,0,0,0,0,0,0,0,0,0,0,0,0,0,0,0,0,0,0,0]
[0,null,null,null,null,null,0,0,0,0,0,0,0,0,0,0,0,0,0,0,0,0,0,0,0,0,0,0,0,0,0,0,0]
[0,null,null,null,null,null,0,0,0,0,0,0,0,0,0,0,0,0,0,0,0,0,0,0,0,0,0,0,0,0,0,0,0]
[0,null,null,null,null,null,0,0,0,0,0,0,0,0,0,0,0,0,0,0,0,0,0,0,0,0,0,0,0,0,0,0,0]
[0,null,null,null,null,null,0,0,0,0,0,0,0,0,0,0,0,0,0,0,0,0,0,0,0,0,0,0,0,0,0,0,0]
[0,null,null,null,null,null,0,0,0,0,0,0,0,0,0,0,0,0,0,0,0,0,0,0,0,0,0,0,0,0,0,0,0]
[0,null,null,null,null,null,0,0,0,0,0,0,0,0,0,0,0,0,0,0,0,0,0,0,0,0,0,0,0,0,0,0,0]
[0,null,null,null,null,null,0,0,0,0,0,0,0,0,0,0,0,0,0,0,0,0,0,0,0,0,0,0,0,0,0,0,0]
[0,null,null,null,null,null,0,0,0,0,0,0,0,0,0,0,0,0,0,0,0,0,0,0,0,0,0,0,0,0,0,0,0]
[0,null,null,null,null,null,0,0,0,0,0,0,0,0,0,0,0,0,0,0,0,0,0,0,0,0,0,0,0,0,0,0,0]
[0,null,null,null,null,null,0,0,0,0,0,0,0,0,0,0,0,0,0,0,0,0,0,0,0,0,0,0,0,0,0,0,0]
[0,null,null,null,null,null,0,0,0,0,0,0,0,0,0,0,0,0,0,0,0,0,0,0,0,0,0,0,0,0,0,0,0]
[0,null,null,null,null,null,0,0,0,0,0,0,0,0,0,0,0,0,0,0,0,0,0,0,0,0,0,0,0,0,0,0,0]
[0,null,null,null,null,null,0,0,0,0,0,0,0,0,0,0,0,0,0,0,0,0,0,0,0,0,0,0,0,0,0,0,0]
[0,null,null,null,null,null,0,0,0,0,0,0,0,0,0,0,0,0,0,0,0,0,0,0,0,0,0,0,0,0,0,0,0]
[0,null,null,null,null,null,0,0,0,0,0,0,0,0,0,0,0,0,0,0,0,0,0,0,0,0,0,0,0,0,0,0,0]
[0,null,null,null,null,null,0,0,0,0,0,0,0,0,0,0,0,0,0,0,0,0,0,0,0,0,0,0,0,0,0,0,0]
[0,null,null,null,null,null,0,0,0,0,0,0,0,0,0,0,0,0,0,0,0,0,0,0,0,0,0,0,0,0,0,0,0]
[0,null,null,null,null,null,0,0,0,0,0,0,0,0,0,0,0,0,0,0,0,0,0,0,0,0,0,0,0,0,0,0,0]
[0,null,null,null,null,null,0,0,0,0,0,0,0,0,0,0,0,0,0,0,0,0,0,0,0,0,0,0,0,0,0,0,0]
[0,null,null,null,null,null,0,0,0,0,0,0,0,0,0,0,0,0,0,0,0,0,0,0,0,0,0,0,0,0,0,0,0]
[0,null,null,null,null,null,0,0,0,0,0,0,0,0,0,0,0,0,0,0,0,0,0,0,0,0,0,0,0,0,0,0,0]
[0,null,null,null,null,null,0,0,0,0,0,0,0,0,0,0,0,0,0,0,0,0,0,0,0,0,0,0,0,0,0,0,0]
[0,null,null,null,null,null,0,0,0,0,0,0,0,0,0,0,0,0,0,0,0,0,0,0,0,0,0,0,0,0,0,0,0]
[0,null,null,null,null,null,0,0,0,0,0,0,0,0,0,0,0,0,0,0,0,0,0,0,0,0,0,0,0,0,0,0,0]
[0,null,null,null,null,null,0,0,0,0,0,0,0,0,0,0,0,0,0,0,0,0,0,0,0,0,0,0,0,0,0,0,0]
[0,null,null,null,null,null,0,0,0,0,0,0,0,0,0,0,0,0,0,0,0,0,0,0,0,0,0,0,0,0,0,0,0]
[0,null,null,null,null,null,0,0,0,0,0,0,0,0,0,0,0,0,0,0,0,0,0,0,0,0,0,0,0,0,0,0,0]
[0,null,null,null,null,null,0,0,0,0,0,0,0,0,0,0,0,0,0,0,0,0,0,0,0,0,0,0,0,0,0,0,0]
[0,null,null,null,null,null,0,0,0,0,0,0,0,0,0,0,0,0,0,0,0,0,0,0,0,0,0,0,0,0,0,0,0]
[0,null,null,null,null,null,0,0,0,0,0,0,0,0,0,0,0,0,0,0,0,0,0,0,0,0,0,0,0,0,0,0,0]
[0,null,null,null,null,null,0,0,0,0,0,0,0,0,0,0,0,0,0,0,0,0,0,0,0,0,0,0,0,0,0,0,0]
[0,null,null,null,null,null,0,0,0,0,0,0,0,0,0,0,0,0,0,0,0,0,0,0,0,0,0,0,0,0,0,0,0]
[0,null,null,null,null,null,0,0,0,0,0,0,0,0,0,0,0,0,0,0,0,0,0,0,0,0,0,0,0,0,0,0,0]
[0,null,null,null,null,null,0,0,0,0,0,0,0,0,0,0,0,0,0,0,0,0,0,0,0,0,0,0,0,0,0,0,0]
[0,null,null,null,null,null,0,0,0,0,0,0,0,0,0,0,0,0,0,0,0,0,0,0,0,0,0,0,0,0,0,0,0]
[0,null,null,null,null,null,0,0,0,0,0,0,0,0,0,0,0,0,0,0,0,0,0,0,0,0,0,0,0,0,0,0,0]
[0,null,null,null,null,null,0,0,0,0,0,0,0,0,0,0,0,0,0,0,0,0,0,0,0,0,0,0,0,0,0,0,0]
[0,null,null,null,null,null,0,0,0,0,0,0,0,0,0,0,0,0,0,0,0,0,0,0,0,0,0,0,0,0,0,0,0]
[0,null,null,null,null,null,0,0,0,0,0,0,0,0,0,0,0,0,0,0,0,0,0,0,0,0,0,0,0,0,0,0,0]
[0,null,null,null,null,null,0,0,0,0,0,0,0,0,0,0,0,0,0,0,0,0,0,0,0,0,0,0,0,0,0,0,0]
[0,null,null,null,null,null,0,0,0,0,0,0,0,0,0,0,0,0,0,0,0,0,0,0,0,0,0,0,0,0,0,0,0]
[0,null,null,null,null,null,0,0,0,0,0,0,0,0,0,0,0,0,0,0,0,0,0,0,0,0,0,0,0,0,0,0,0]
[0,null,null,null,null,null,0,0,0,0,0,0,0,0,0,0,0,0,0,0,0,0,0,0,0,0,0,0,0,0,0,0,0]
[0,null,null,null,null,null,0,0,0,0,0,0,0,0,0,0,0,0,0,0,0,0,0,0,0,0,0,0,0,0,0,0,0]
[0,null,null,null,null,null,0,0,0,0,0,0,0,0,0,0,0,0,0,0,0,0,0,0,0,0,0,0,0,0,0,0,0]
[0,null,null,null,null,null,0,0,0,0,0,0,0,0,0,0,0,0,0,0,0,0,0,0,0,0,0,0,0,0,0,0,0]
[0,null,null,null,null,null,0,0,0,0,0,0,0,0,0,0,0,0,0,0,0,0,0,0,0,0,0,0,0,0,0,0,0]
[0,null,null,null,null,null,0,0,0,0,0,0,0,0,0,0,0,0,0,0,0,0,0,0,0,0,0,0,0,0,0,0,0]
[0,null,null,null,null,null,0,0,0,0,0,0,0,0,0,0,0,0,0,0,0,0,0,0,0,0,0,0,0,0,0,0,0]
[0,null,null,null,null,null,0,0,0,0,0,0,0,0,0,0,0,0,0,0,0,0,0,0,0,0,0,0,0,0,0,0,0]
[0,null,null,null,null,null,0,0,0,0,0,0,0,0,0,0,0,0,0,0,0,0,0,0,0,0,0,0,0,0,0,0,0]
[0,null,null,null,null,null,0,0,0,0,0,0,0,0,0,0,0,0,0,0,0,0,0,0,0,0,0,0,0,0,0,0,0]
[0,null,null,null,null,null,0,0,0,0,0,0,0,0,0,0,0,0,0,0,0,0,0,0,0,0,0,0,0,0,0,0,0]
[0,null,null,null,null,null,0,0,0,0,0,0,0,0,0,0,0,0,0,0,0,0,0,0,0,0,0,0,0,0,0,0,0]
[0,null,null,null,null,null,0,0,0,0,0,0,0,0,0,0,0,0,0,0,0,0,0,0,0,0,0,0,0,0,0,0,0]
[0,null,null,null,null,null,0,0,0,0,0,0,0,0,0,0,0,0,0,0,0,0,0,0,0,0,0,0,0,0,0,0,0]
[0,null,null,null,null,null,0,0,0,0,0,0,0,0,0,0,0,0,0,0,0,0,0,0,0,0,0,0,0,0,0,0,0]
[0,null,null,null,null,null,0,0,0,0,0,0,0,0,0,0,0,0,0,0,0,0,0,0,0,0,0,0,0,0,0,0,0]
[0,null,null,null,null,null,0,0,0,0,0,0,0,0,0,0,0,0,0,0,0,0,0,0,0,0,0,0,0,0,0,0,0]
[0,null,null,null,null,null,0,0,0,0,0,0,0,0,0,0,0,0,0,0,0,0,0,0,0,0,0,0,0,0,0,0,0]
[0,null,null,null,null,null,0,0,0,0,0,0,0,0,0,0,0,0,0,0,0,0,0,0,0,0,0,0,0,0,0,0,0]
[0,null,null,null,null,null,0,0,0,0,0,0,0,0,0,0,0,0,0,0,0,0,0,0,0,0,0,0,0,0,0,0,0]
[{"$f":"IF(SUM(O76:AH76),1,0)","v":0},null,null,null,null,null,0,0,0,0,0,0,0,0,0,0,0,0,0,0,{"$f":"SUM(T76-S76)","v":0},0,0,{"$f":"SUM(W76-V76)","v":0},0,0,{"$f":"SUM(Z76-Y76)","v":0},0,0,0,0,0,0]
[0,null,null,null,null,null,0,0,0,0,0,0,0,0,0,0,0,0,0,0,0,0,0,0,0,0,0,0,0,0,0,0,0]
[0,null,null,null,null,null,0,0,0,0,0,0,0,0,0,0,0,0,0,0,0,0,0,0,0,0,0,0,0,0,0,0,0]
[0,null,null,null,null,null,0,0,0,0,0,0,0,0,0,0,0,0,0,0,0,0,0,0,0,0,0,0,0,0,0,0,0]
[0,null,null,null,null,null,0,0,0,0,0,0,0,0,0,0,0,0,0,0,0,0,0,0,0,0,0,0,0,0,0,0,0]
[0,null,null,null,null,null,0,0,0,0,0,0,0,0,0,0,0,0,0,0,0,0,0,0,0,0,0,0,0,0,0,0,0]
[0,null,null,null,null,null,0,0,0,0,0,0,0,0,0,0,0,0,0,0,0,0,0,0,0,0,0,0,0,0,0,0,0]
[0,null,null,null,null,null,0,0,0,0,0,0,0,0,0,0,0,0,0,0,0,0,0,0,0,0,0,0,0,0,0,0,0]
[0,null,null,null,null,null,0,0,0,0,0,0,0,0,0,0,0,0,0,0,0,0,0,0,0,0,0,0,0,0,0,0,0]
[0,null,null,null,null,null,0,0,0,0,0,0,0,0,0,0,0,0,0,0,0,0,0,0,0,0,0,0,0,0,0,0,0]
[0,null,null,null,null,null,0,0,0,0,0,0,0,0,0,0,0,0,0,0,0,0,0,0,0,0,0,0,0,0,0,0,0]
[0,null,null,null,null,null,0,0,0,0,0,0,0,0,0,0,0,0,0,0,0,0,0,0,0,0,0,0,0,0,0,0,0]
[0,null,null,null,null,null,0,0,0,0,0,0,0,0,0,0,0,0,0,0,0,0,0,0,0,0,0,0,0,0,0,0,0]
[0,null,null,null,null,null,0,0,0,0,0,0,0,0,0,0,0,0,0,0,0,0,0,0,0,0,0,0,0,0,0,0,0]
[0,null,null,null,null,null,0,0,0,0,0,0,0,0,0,0,0,0,0,0,0,0,0,0,0,0,0,0,0,0,0,0,0]
[0,null,null,null,null,null,0,0,0,0,0,0,0,0,0,0,0,0,0,0,0,0,0,0,0,0,0,0,0,0,0,0,0]
[0,null,null,null,null,null,0,0,0,0,0,0,0,0,0,0,0,0,0,0,0,0,0,0,0,0,0,0,0,0,0,0,0]
[0,null,null,null,null,null,0,0,0,0,0,0,0,0,0,0,0,0,0,0,0,0,0,0,0,0,0,0,0,0,0,0,0]
[0,null,null,null,null,null,0,0,0,0,0,0,0,0,0,0,0,0,0,0,0,0,0,0,0,0,0,0,0,0,0,0,0]
[0,null,null,null,null,null,0,0,0,0,0,0,0,0,0,0,0,0,0,0,0,0,0,0,0,0,0,0,0,0,0,0,0]
[0,null,null,null,null,null,0,0,0,0,0,0,0,0,0,0,0,0,0,0,0,0,0,0,0,0,0,0,0,0,0,0,0]
[0,null,null,null,null,null,0,0,0,0,0,0,0,0,0,0,0,0,0,0,0,0,0,0,0,0,0,0,0,0,0,0,0]
[0,null,null,null,null,null,0,0,0,0,0,0,0,0,0,0,0,0,0,0,0,0,0,0,0,0,0,0,0,0,0,0,0]
[0,null,null,null,null,null,0,0,0,0,0,0,0,0,0,0,0,0,0,0,0,0,0,0,0,0,0,0,0,0,0,0,0]
[0,null,null,null,null,null,0,0,0,0,0,0,0,0,0,0,0,0,0,0,0,0,0,0,0,0,0,0,0,0,0,0,0]
[0,null,null,null,null,null,0,0,0,0,0,0,0,0,0,0,0,0,0,0,0,0,0,0,0,0,0,0,0,0,0,0,0]
[0,null,null,null,null,null,0,0,0,0,0,0,0,0,0,0,0,0,0,0,0,0,0,0,0,0,0,0,0,0,0,0,0]
[0,null,null,null,null,null,0,0,0,0,0,0,0,0,0,0,0,0,0,0,0,0,0,0,0,0,0,0,0,0,0,0,0]
[0,null,null,null,null,null,0,0,0,0,0,0,0,0,0,0,0,0,0,0,0,0,0,0,0,0,0,0,0,0,0,0,0]
[0,null,null,null,null,null,0,0,0,0,0,0,0,0,0,0,0,0,0,0,0,0,0,0,0,0,0,0,0,0,0,0,0]
[0,null,null,null,null,null,0,0,0,0,0,0,0,0,0,0,0,0,0,0,0,0,0,0,0,0,0,0,0,0,0,0,0]
[0,null,null,null,null,null,0,0,0,0,0,0,0,0,0,0,0,0,0,0,0,0,0,0,0,0,0,0,0,0,0,0,0]
[0,null,null,null,null,null,0,0,0,0,0,0,0,0,0,0,0,0,0,0,0,0,0,0,0,0,0,0,0,0,0,0,0]
[0,null,null,null,null,null,0,0,0,0,0,0,0,0,0,0,0,0,0,0,0,0,0,0,0,0,0,0,0,0,0,0,0]
[0,null,null,null,null,null,0,0,0,0,0,0,0,0,0,0,0,0,0,0,0,0,0,0,0,0,0,0,0,0,0,0,0]
[0,null,null,null,null,null,0,0,0,0,0,0,0,0,0,0,0,0,0,0,0,0,0,0,0,0,0,0,0,0,0,0,0]
[0,null,null,null,null,null,0,0,0,0,0,0,0,0,0,0,0,0,0,0,0,0,0,0,0,0,0,0,0,0,0,0,0]
[0,null,null,null,null,null,0,0,0,0,0,0,0,0,0,0,0,0,0,0,0,0,0,0,0,0,0,0,0,0,0,0,0]
[0,null,null,null,null,null,0,0,0,0,0,0,0,0,0,0,0,0,0,0,0,0,0,0,0,0,0,0,0,0,0,0,0]
[0,null,null,null,null,null,0,0,0,0,0,0,0,0,0,0,0,0,0,0,0,0,0,0,0,0,0,0,0,0,0,0,0]
[0,null,null,null,null,null,0,0,0,0,0,0,0,0,0,0,0,0,0,0,0,0,0,0,0,0,0,0,0,0,0,0,0]
[0,null,null,null,null,null,0,0,0,0,0,0,0,0,0,0,0,0,0,0,0,0,0,0,0,0,0,0,0,0,0,0,0]
[0,null,null,null,null,null,0,0,0,0,0,0,0,0,0,0,0,0,0,0,0,0,0,0,0,0,0,0,0,0,0,0,0]
[0,null,null,null,null,null,0,0,0,0,0,0,0,0,0,0,0,0,0,0,0,0,0,0,0,0,0,0,0,0,0,0,0]
[0,null,null,null,null,null,0,0,0,0,0,0,0,0,0,0,0,0,0,0,0,0,0,0,0,0,0,0,0,0,0,0,0]
[0,null,null,null,null,null,0,0,0,0,0,0,0,0,0,0,0,0,0,0,0,0,0,0,0,0,0,0,0,0,0,0,0]
[0,null,null,null,null,null,0,0,0,0,0,0,0,0,0,0,0,0,0,0,0,0,0,0,0,0,0,0,0,0,0,0,0]
[0,null,null,null,null,null,0,0,0,0,0,0,0,0,0,0,0,0,0,0,0,0,0,0,0,0,0,0,0,0,0,0,0]
[0,null,null,null,null,null,0,0,0,0,0,0,0,0,0,0,0,0,0,0,0,0,0,0,0,0,0,0,0,0,0,0,0]
[0,null,null,null,null,null,0,0,0,0,0,0,0,0,0,0,0,0,0,0,0,0,0,0,0,0,0,0,0,0,0,0,0]
[0,null,null,null,null,null,0,0,0,0,0,0,0,0,0,0,0,0,0,0,0,0,0,0,0,0,0,0,0,0,0,0,0]
[0,null,null,null,null,null,0,0,0,0,0,0,0,0,0,0,0,0,0,0,0,0,0,0,0,0,0,0,0,0,0,0,0]
[0,null,null,null,null,null,0,0,0,0,0,0,0,0,0,0,0,0,0,0,0,0,0,0,0,0,0,0,0,0,0,0,0]
[0,null,null,null,null,null,0,0,0,0,0,0,0,0,0,0,0,0,0,0,0,0,0,0,0,0,0,0,0,0,0,0,0]
[0,null,null,null,null,null,0,0,0,0,0,0,0,0,0,0,0,0,0,0,0,0,0,0,0,0,0,0,0,0,0,0,0]
[0,null,null,null,null,null,0,0,0,0,0,0,0,0,0,0,0,0,0,0,0,0,0,0,0,0,0,0,0,0,0,0,0]
[0,null,null,null,null,null,0,0,0,0,0,0,0,0,0,0,0,0,0,0,0,0,0,0,0,0,0,0,0,0,0,0,0]
[0,null,null,null,null,null,0,0,0,0,0,0,0,0,0,0,0,0,0,0,0,0,0,0,0,0,0,0,0,0,0,0,0]
[0,null,null,null,null,null,0,0,0,0,0,0,0,0,0,0,0,0,0,0,0,0,0,0,0,0,0,0,0,0,0,0,0]
[0,null,null,null,null,null,0,0,0,0,0,0,0,0,0,0,0,0,0,0,0,0,0,0,0,0,0,0,0,0,0,0,0]
[0,null,null,null,null,null,0,0,0,0,0,0,0,0,0,0,0,0,0,0,0,0,0,0,0,0,0,0,0,0,0,0,0]
[0,null,null,null,null,null,0,0,0,0,0,0,0,0,0,0,0,0,0,0,0,0,0,0,0,0,0,0,0,0,0,0,0]
[0,null,null,null,null,null,0,0,0,0,0,0,0,0,0,0,0,0,0,0,0,0,0,0,0,0,0,0,0,0,0,0,0]
[0,null,null,null,null,null,0,0,0,0,0,0,0,0,0,0,0,0,0,0,0,0,0,0,0,0,0,0,0,0,0,0,0]
[{"$f":"IF(SUM(O140:AH140),1,0)","v":0},null,null,null,null,null,0,0,0,0,0,0,0,0,0,0,0,0,0,0,{"$f":"SUM(T140-S140)","v":0},0,0,{"$f":"SUM(W140-V140)","v":0},0,0,{"$f":"SUM(Z140-Y140)","v":0},0,0,0,0,0,0]
[0,null,null,null,null,null,0,0,0,0,0,0,0,0,0,0,0,0,0,0,0,0,0,0,0,0,0,0,0,0,0,0,0]
[0,null,null,null,null,null,0,0,0,0,0,0,0,0,0,0,0,0,0,0,0,0,0,0,0,0,0,0,0,0,0,0,0]
[0,null,null,null,null,null,0,0,0,0,0,0,0,0,0,0,0,0,0,0,0,0,0,0,0,0,0,0,0,0,0,0,0]
[0,null,null,null,null,null,0,0,0,0,0,0,0,0,0,0,0,0,0,0,0,0,0,0,0,0,0,0,0,0,0,0,0]
[0,null,null,null,null,null,0,0,0,0,0,0,0,0,0,0,0,0,0,0,0,0,0,0,0,0,0,0,0,0,0,0,0]
[0,null,null,null,null,null,0,0,0,0,0,0,0,0,0,0,0,0,0,0,0,0,0,0,0,0,0,0,0,0,0,0,0]
[0,null,null,null,null,null,0,0,0,0,0,0,0,0,0,0,0,0,0,0,0,0,0,0,0,0,0,0,0,0,0,0,0]
[0,null,null,null,null,null,0,0,0,0,0,0,0,0,0,0,0,0,0,0,0,0,0,0,0,0,0,0,0,0,0,0,0]
[0,null,null,null,null,null,0,0,0,0,0,0,0,0,0,0,0,0,0,0,0,0,0,0,0,0,0,0,0,0,0,0,0]
[0,null,null,null,null,null,0,0,0,0,0,0,0,0,0,0,0,0,0,0,0,0,0,0,0,0,0,0,0,0,0,0,0]
[0,null,null,null,null,null,0,0,0,0,0,0,0,0,0,0,0,0,0,0,0,0,0,0,0,0,0,0,0,0,0,0,0]
[0,null,null,null,null,null,0,0,0,0,0,0,0,0,0,0,0,0,0,0,0,0,0,0,0,0,0,0,0,0,0,0,0]
[0,null,null,null,null,null,0,0,0,0,0,0,0,0,0,0,0,0,0,0,0,0,0,0,0,0,0,0,0,0,0,0,0]
[0,null,null,null,null,null,0,0,0,0,0,0,0,0,0,0,0,0,0,0,0,0,0,0,0,0,0,0,0,0,0,0,0]
[0,null,null,null,null,null,0,0,0,0,0,0,0,0,0,0,0,0,0,0,0,0,0,0,0,0,0,0,0,0,0,0,0]
[0,null,null,null,null,null,0,0,0,0,0,0,0,0,0,0,0,0,0,0,0,0,0,0,0,0,0,0,0,0,0,0,0]
[0,null,null,null,null,null,0,0,0,0,0,0,0,0,0,0,0,0,0,0,0,0,0,0,0,0,0,0,0,0,0,0,0]
[0,null,null,null,null,null,0,0,0,0,0,0,0,0,0,0,0,0,0,0,0,0,0,0,0,0,0,0,0,0,0,0,0]
[0,null,null,null,null,null,0,0,0,0,0,0,0,0,0,0,0,0,0,0,0,0,0,0,0,0,0,0,0,0,0,0,0]
[0,null,null,null,null,null,0,0,0,0,0,0,0,0,0,0,0,0,0,0,0,0,0,0,0,0,0,0,0,0,0,0,0]
[0,null,null,null,null,null,0,0,0,0,0,0,0,0,0,0,0,0,0,0,0,0,0,0,0,0,0,0,0,0,0,0,0]
[0,null,null,null,null,null,0,0,0,0,0,0,0,0,0,0,0,0,0,0,0,0,0,0,0,0,0,0,0,0,0,0,0]
[0,null,null,null,null,null,0,0,0,0,0,0,0,0,0,0,0,0,0,0,0,0,0,0,0,0,0,0,0,0,0,0,0]
[0,null,null,null,null,null,0,0,0,0,0,0,0,0,0,0,0,0,0,0,0,0,0,0,0,0,0,0,0,0,0,0,0]
[0,null,null,null,null,null,0,0,0,0,0,0,0,0,0,0,0,0,0,0,0,0,0,0,0,0,0,0,0,0,0,0,0]
[0,null,null,null,null,null,0,0,0,0,0,0,0,0,0,0,0,0,0,0,0,0,0,0,0,0,0,0,0,0,0,0,0]
[0,null,null,null,null,null,0,0,0,0,0,0,0,0,0,0,0,0,0,0,0,0,0,0,0,0,0,0,0,0,0,0,0]
[0,null,null,null,null,null,0,0,0,0,0,0,0,0,0,0,0,0,0,0,0,0,0,0,0,0,0,0,0,0,0,0,0]
[0,null,null,null,null,null,0,0,0,0,0,0,0,0,0,0,0,0,0,0,0,0,0,0,0,0,0,0,0,0,0,0,0]
[0,null,null,null,null,null,0,0,0,0,0,0,0,0,0,0,0,0,0,0,0,0,0,0,0,0,0,0,0,0,0,0,0]
[0,null,null,null,null,null,0,0,0,0,0,0,0,0,0,0,0,0,0,0,0,0,0,0,0,0,0,0,0,0,0,0,0]
[0,null,null,null,null,null,0,0,0,0,0,0,0,0,0,0,0,0,0,0,0,0,0,0,0,0,0,0,0,0,0,0,0]
[0,null,null,null,null,null,0,0,0,0,0,0,0,0,0,0,0,0,0,0,0,0,0,0,0,0,0,0,0,0,0,0,0]
[0,null,null,null,null,null,0,0,0,0,0,0,0,0,0,0,0,0,0,0,0,0,0,0,0,0,0,0,0,0,0,0,0]
[0,null,null,null,null,null,0,0,0,0,0,0,0,0,0,0,0,0,0,0,0,0,0,0,0,0,0,0,0,0,0,0,0]
[0,null,null,null,null,null,0,0,0,0,0,0,0,0,0,0,0,0,0,0,0,0,0,0,0,0,0,0,0,0,0,0,0]
[0,null,null,null,null,null,0,0,0,0,0,0,0,0,0,0,0,0,0,0,0,0,0,0,0,0,0,0,0,0,0,0,0]
[0,null,null,null,null,null,0,0,0,0,0,0,0,0,0,0,0,0,0,0,0,0,0,0,0,0,0,0,0,0,0,0,0]
[0,null,null,null,null,null,0,0,0,0,0,0,0,0,0,0,0,0,0,0,0,0,0,0,0,0,0,0,0,0,0,0,0]
[0,null,null,null,null,null,0,0,0,0,0,0,0,0,0,0,0,0,0,0,0,0,0,0,0,0,0,0,0,0,0,0,0]
[0,null,null,null,null,null,0,0,0,0,0,0,0,0,0,0,0,0,0,0,0,0,0,0,0,0,0,0,0,0,0,0,0]
[0,null,null,null,null,null,0,0,0,0,0,0,0,0,0,0,0,0,0,0,0,0,0,0,0,0,0,0,0,0,0,0,0]
[0,null,null,null,null,null,0,0,0,0,0,0,0,0,0,0,0,0,0,0,0,0,0,0,0,0,0,0,0,0,0,0,0]
[0,null,null,null,null,null,0,0,0,0,0,0,0,0,0,0,0,0,0,0,0,0,0,0,0,0,0,0,0,0,0,0,0]
[0,null,null,null,null,null,0,0,0,0,0,0,0,0,0,0,0,0,0,0,0,0,0,0,0,0,0,0,0,0,0,0,0]
[0,null,null,null,null,null,0,0,0,0,0,0,0,0,0,0,0,0,0,0,0,0,0,0,0,0,0,0,0,0,0,0,0]
[0,null,null,null,null,null,0,0,0,0,0,0,0,0,0,0,0,0,0,0,0,0,0,0,0,0,0,0,0,0,0,0,0]
[0,null,null,null,null,null,0,0,0,0,0,0,0,0,0,0,0,0,0,0,0,0,0,0,0,0,0,0,0,0,0,0,0]
[0,null,null,null,null,null,0,0,0,0,0,0,0,0,0,0,0,0,0,0,0,0,0,0,0,0,0,0,0,0,0,0,0]
[0,null,null,null,null,null,0,0,0,0,0,0,0,0,0,0,0,0,0,0,0,0,0,0,0,0,0,0,0,0,0,0,0]
[0,null,null,null,null,null,0,0,0,0,0,0,0,0,0,0,0,0,0,0,0,0,0,0,0,0,0,0,0,0,0,0,0]
[0,null,null,null,null,null,0,0,0,0,0,0,0,0,0,0,0,0,0,0,0,0,0,0,0,0,0,0,0,0,0,0,0]
[0,null,null,null,null,null,0,0,0,0,0,0,0,0,0,0,0,0,0,0,0,0,0,0,0,0,0,0,0,0,0,0,0]
[0,null,null,null,null,null,0,0,0,0,0,0,0,0,0,0,0,0,0,0,0,0,0,0,0,0,0,0,0,0,0,0,0]
[0,null,null,null,null,null,0,0,0,0,0,0,0,0,0,0,0,0,0,0,0,0,0,0,0,0,0,0,0,0,0,0,0]
[0,null,null,null,null,null,0,0,0,0,0,0,0,0,0,0,0,0,0,0,0,0,0,0,0,0,0,0,0,0,0,0,0]
[0,null,null,null,null,null,0,0,0,0,0,0,0,0,0,0,0,0,0,0,0,0,0,0,0,0,0,0,0,0,0,0,0]
[0,null,null,null,null,null,0,0,0,0,0,0,0,0,0,0,0,0,0,0,0,0,0,0,0,0,0,0,0,0,0,0,0]
[0,null,null,null,null,null,0,0,0,0,0,0,0,0,0,0,0,0,0,0,0,0,0,0,0,0,0,0,0,0,0,0,0]
[0,null,null,null,null,null,0,0,0,0,0,0,0,0,0,0,0,0,0,0,0,0,0,0,0,0,0,0,0,0,0,0,0]
[0,null,null,null,null,null,0,0,0,0,0,0,0,0,0,0,0,0,0,0,0,0,0,0,0,0,0,0,0,0,0,0,0]
[0,null,null,null,null,null,0,0,0,0,0,0,0,0,0,0,0,0,0,0,0,0,0,0,0,0,0,0,0,0,0,0,0]
[0,null,null,null,null,null,0,0,0,0,0,0,0,0,0,0,0,0,0,0,0,0,0,0,0,0,0,0,0,0,0,0,0]
[{"$f":"IF(SUM(O204:AH204),1,0)","v":0},null,null,null,null,null,0,0,0,0,0,0,0,0,0,0,0,0,0,0,{"$f":"SUM(T204-S204)","v":0},0,0,{"$f":"SUM(W204-V204)","v":0},0,0,{"$f":"SUM(Z204-Y204)","v":0},0,0,0,0,0,0]
[0,null,null,null,null,null,0,0,0,0,0,0,0,0,0,0,0,0,0,0,0,0,0,0,0,0,0,0,0,0,0,0,0]
[0,null,null,null,null,null,0,0,0,0,0,0,0,0,0,0,0,0,0,0,0,0,0,0,0,0,0,0,0,0,0,0,0]
[0,null,null,null,null,null,0,0,0,0,0,0,0,0,0,0,0,0,0,0,0,0,0,0,0,0,0,0,0,0,0,0,0]
[0,null,null,null,null,null,0,0,0,0,0,0,0,0,0,0,0,0,0,0,0,0,0,0,0,0,0,0,0,0,0,0,0]
[0,null,null,null,null,null,0,0,0,0,0,0,0,0,0,0,0,0,0,0,0,0,0,0,0,0,0,0,0,0,0,0,0]
[0,null,null,null,null,null,0,0,0,0,0,0,0,0,0,0,0,0,0,0,0,0,0,0,0,0,0,0,0,0,0,0,0]
[0,null,null,null,null,null,0,0,0,0,0,0,0,0,0,0,0,0,0,0,0,0,0,0,0,0,0,0,0,0,0,0,0]
[0,null,null,null,null,null,0,0,0,0,0,0,0,0,0,0,0,0,0,0,0,0,0,0,0,0,0,0,0,0,0,0,0]
[0,null,null,null,null,null,0,0,0,0,0,0,0,0,0,0,0,0,0,0,0,0,0,0,0,0,0,0,0,0,0,0,0]
[0,null,null,null,null,null,0,0,0,0,0,0,0,0,0,0,0,0,0,0,0,0,0,0,0,0,0,0,0,0,0,0,0]
[0,null,null,null,null,null,0,0,0,0,0,0,0,0,0,0,0,0,0,0,0,0,0,0,0,0,0,0,0,0,0,0,0]
[0,null,null,null,null,null,0,0,0,0,0,0,0,0,0,0,0,0,0,0,0,0,0,0,0,0,0,0,0,0,0,0,0]
[0,null,null,null,null,null,0,0,0,0,0,0,0,0,0,0,0,0,0,0,0,0,0,0,0,0,0,0,0,0,0,0,0]
[0,null,null,null,null,null,0,0,0,0,0,0,0,0,0,0,0,0,0,0,0,0,0,0,0,0,0,0,0,0,0,0,0]
[0,null,null,null,null,null,0,0,0,0,0,0,0,0,0,0,0,0,0,0,0,0,0,0,0,0,0,0,0,0,0,0,0]
[0,null,null,null,null,null,0,0,0,0,0,0,0,0,0,0,0,0,0,0,0,0,0,0,0,0,0,0,0,0,0,0,0]
[0,null,null,null,null,null,0,0,0,0,0,0,0,0,0,0,0,0,0,0,0,0,0,0,0,0,0,0,0,0,0,0,0]
[0,null,null,null,null,null,0,0,0,0,0,0,0,0,0,0,0,0,0,0,0,0,0,0,0,0,0,0,0,0,0,0,0]
[0,null,null,null,null,null,0,0,0,0,0,0,0,0,0,0,0,0,0,0,0,0,0,0,0,0,0,0,0,0,0,0,0]
[0,null,null,null,null,null,0,0,0,0,0,0,0,0,0,0,0,0,0,0,0,0,0,0,0,0,0,0,0,0,0,0,0]
[0,null,null,null,null,null,0,0,0,0,0,0,0,0,0,0,0,0,0,0,0,0,0,0,0,0,0,0,0,0,0,0,0]
[0,null,null,null,null,null,0,0,0,0,0,0,0,0,0,0,0,0,0,0,0,0,0,0,0,0,0,0,0,0,0,0,0]
[0,null,null,null,null,null,0,0,0,0,0,0,0,0,0,0,0,0,0,0,0,0,0,0,0,0,0,0,0,0,0,0,0]
[0,null,null,null,null,null,0,0,0,0,0,0,0,0,0,0,0,0,0,0,0,0,0,0,0,0,0,0,0,0,0,0,0]
[0,null,null,null,null,null,0,0,0,0,0,0,0,0,0,0,0,0,0,0,0,0,0,0,0,0,0,0,0,0,0,0,0]
[0,null,null,null,null,null,0,0,0,0,0,0,0,0,0,0,0,0,0,0,0,0,0,0,0,0,0,0,0,0,0,0,0]
[0,null,null,null,null,null,0,0,0,0,0,0,0,0,0,0,0,0,0,0,0,0,0,0,0,0,0,0,0,0,0,0,0]
[0,null,null,null,null,null,0,0,0,0,0,0,0,0,0,0,0,0,0,0,0,0,0,0,0,0,0,0,0,0,0,0,0]
[0,null,null,null,null,null,0,0,0,0,0,0,0,0,0,0,0,0,0,0,0,0,0,0,0,0,0,0,0,0,0,0,0]
[0,null,null,null,null,null,0,0,0,0,0,0,0,0,0,0,0,0,0,0,0,0,0,0,0,0,0,0,0,0,0,0,0]
[0,null,null,null,null,null,0,0,0,0,0,0,0,0,0,0,0,0,0,0,0,0,0,0,0,0,0,0,0,0,0,0,0]
[0,null,null,null,null,null,0,0,0,0,0,0,0,0,0,0,0,0,0,0,0,0,0,0,0,0,0,0,0,0,0,0,0]
[0,null,null,null,null,null,0,0,0,0,0,0,0,0,0,0,0,0,0,0,0,0,0,0,0,0,0,0,0,0,0,0,0]
[0,null,null,null,null,null,0,0,0,0,0,0,0,0,0,0,0,0,0,0,0,0,0,0,0,0,0,0,0,0,0,0,0]
[0,null,null,null,null,null,0,0,0,0,0,0,0,0,0,0,0,0,0,0,0,0,0,0,0,0,0,0,0,0,0,0,0]
[0,null,null,null,null,null,0,0,0,0,0,0,0,0,0,0,0,0,0,0,0,0,0,0,0,0,0,0,0,0,0,0,0]
[0,null,null,null,null,null,0,0,0,0,0,0,0,0,0,0,0,0,0,0,0,0,0,0,0,0,0,0,0,0,0,0,0]
[0,null,null,null,null,null,0,0,0,0,0,0,0,0,0,0,0,0,0,0,0,0,0,0,0,0,0,0,0,0,0,0,0]
[0,null,null,null,null,null,0,0,0,0,0,0,0,0,0,0,0,0,0,0,0,0,0,0,0,0,0,0,0,0,0,0,0]
[0,null,null,null,null,null,0,0,0,0,0,0,0,0,0,0,0,0,0,0,0,0,0,0,0,0,0,0,0,0,0,0,0]
[0,null,null,null,null,null,0,0,0,0,0,0,0,0,0,0,0,0,0,0,0,0,0,0,0,0,0,0,0,0,0,0,0]
[0,null,null,null,null,null,0,0,0,0,0,0,0,0,0,0,0,0,0,0,0,0,0,0,0,0,0,0,0,0,0,0,0]
[0,null,null,null,null,null,0,0,0,0,0,0,0,0,0,0,0,0,0,0,0,0,0,0,0,0,0,0,0,0,0,0,0]
[0,null,null,null,null,null,0,0,0,0,0,0,0,0,0,0,0,0,0,0,0,0,0,0,0,0,0,0,0,0,0,0,0]
[0,null,null,null,null,null,0,0,0,0,0,0,0,0,0,0,0,0,0,0,0,0,0,0,0,0,0,0,0,0,0,0,0]
[0,null,null,null,null,null,0,0,0,0,0,0,0,0,0,0,0,0,0,0,0,0,0,0,0,0,0,0,0,0,0,0,0]
[0,null,null,null,null,null,0,0,0,0,0,0,0,0,0,0,0,0,0,0,0,0,0,0,0,0,0,0,0,0,0,0,0]
[0,null,null,null,null,null,0,0,0,0,0,0,0,0,0,0,0,0,0,0,0,0,0,0,0,0,0,0,0,0,0,0,0]
[0,null,null,null,null,null,0,0,0,0,0,0,0,0,0,0,0,0,0,0,0,0,0,0,0,0,0,0,0,0,0,0,0]
[0,null,null,null,null,null,0,0,0,0,0,0,0,0,0,0,0,0,0,0,0,0,0,0,0,0,0,0,0,0,0,0,0]
[0,null,null,null,null,null,0,0,0,0,0,0,0,0,0,0,0,0,0,0,0,0,0,0,0,0,0,0,0,0,0,0,0]
[0,null,null,null,null,null,0,0,0,0,0,0,0,0,0,0,0,0,0,0,0,0,0,0,0,0,0,0,0,0,0,0,0]
[0,null,null,null,null,null,0,0,0,0,0,0,0,0,0,0,0,0,0,0,0,0,0,0,0,0,0,0,0,0,0,0,0]
[0,null,null,null,null,null,0,0,0,0,0,0,0,0,0,0,0,0,0,0,0,0,0,0,0,0,0,0,0,0,0,0,0]
[0,null,null,null,null,null,0,0,0,0,0,0,0,0,0,0,0,0,0,0,0,0,0,0,0,0,0,0,0,0,0,0,0]
[0,null,null,null,null,null,0,0,0,0,0,0,0,0,0,0,0,0,0,0,0,0,0,0,0,0,0,0,0,0,0,0,0]
[0,null,null,null,null,null,0,0,0,0,0,0,0,0,0,0,0,0,0,0,0,0,0,0,0,0,0,0,0,0,0,0,0]
[0,null,null,null,null,null,0,0,0,0,0,0,0,0,0,0,0,0,0,0,0,0,0,0,0,0,0,0,0,0,0,0,0]
[0,null,null,null,null,null,0,0,0,0,0,0,0,0,0,0,0,0,0,0,0,0,0,0,0,0,0,0,0,0,0,0,0]
[0,null,null,null,null,null,0,0,0,0,0,0,0,0,0,0,0,0,0,0,0,0,0,0,0,0,0,0,0,0,0,0,0]
[0,null,null,null,null,null,0,0,0,0,0,0,0,0,0,0,0,0,0,0,0,0,0,0,0,0,0,0,0,0,0,0,0]
[0,null,null,null,null,null,0,0,0,0,0,0,0,0,0,0,0,0,0,0,0,0,0,0,0,0,0,0,0,0,0,0,0]
[0,null,null,null,null,null,0,0,0,0,0,0,0,0,0,0,0,0,0,0,0,0,0,0,0,0,0,0,0,0,0,0,0]
[{"$f":"IF(SUM(O268:AH268),1,0)","v":0},null,null,null,null,null,0,0,0,0,0,0,0,0,0,0,0,0,0,0,{"$f":"SUM(T268-S268)","v":0},0,0,{"$f":"SUM(W268-V268)","v":0},0,0,{"$f":"SUM(Z268-Y268)","v":0},0,0,0,0,0,0]
[0,null,null,null,null,null,0,0,0,0,0,0,0,0,0,0,0,0,0,0,0,0,0,0,0,0,0,0,0,0,0,0,0]
[0,null,null,null,null,null,0,0,0,0,0,0,0,0,0,0,0,0,0,0,0,0,0,0,0,0,0,0,0,0,0,0,0]
[0,null,null,null,null,null,0,0,0,0,0,0,0,0,0,0,0,0,0,0,0,0,0,0,0,0,0,0,0,0,0,0,0]
[0,null,null,null,null,null,0,0,0,0,0,0,0,0,0,0,0,0,0,0,0,0,0,0,0,0,0,0,0,0,0,0,0]
[0,null,null,null,null,null,0,0,0,0,0,0,0,0,0,0,0,0,0,0,0,0,0,0,0,0,0,0,0,0,0,0,0]
[0,null,null,null,null,null,0,0,0,0,0,0,0,0,0,0,0,0,0,0,0,0,0,0,0,0,0,0,0,0,0,0,0]
[0,null,null,null,null,null,0,0,0,0,0,0,0,0,0,0,0,0,0,0,0,0,0,0,0,0,0,0,0,0,0,0,0]
[0,null,null,null,null,null,0,0,0,0,0,0,0,0,0,0,0,0,0,0,0,0,0,0,0,0,0,0,0,0,0,0,0]
[0,null,null,null,null,null,0,0,0,0,0,0,0,0,0,0,0,0,0,0,0,0,0,0,0,0,0,0,0,0,0,0,0]
[0,null,null,null,null,null,0,0,0,0,0,0,0,0,0,0,0,0,0,0,0,0,0,0,0,0,0,0,0,0,0,0,0]
[0,null,null,null,null,null,0,0,0,0,0,0,0,0,0,0,0,0,0,0,0,0,0,0,0,0,0,0,0,0,0,0,0]
[0,null,null,null,null,null,0,0,0,0,0,0,0,0,0,0,0,0,0,0,0,0,0,0,0,0,0,0,0,0,0,0,0]
[0,null,null,null,null,null,0,0,0,0,0,0,0,0,0,0,0,0,0,0,0,0,0,0,0,0,0,0,0,0,0,0,0]
[0,null,null,null,null,null,0,0,0,0,0,0,0,0,0,0,0,0,0,0,0,0,0,0,0,0,0,0,0,0,0,0,0]
[0,null,null,null,null,null,0,0,0,0,0,0,0,0,0,0,0,0,0,0,0,0,0,0,0,0,0,0,0,0,0,0,0]
[0,null,null,null,null,null,0,0,0,0,0,0,0,0,0,0,0,0,0,0,0,0,0,0,0,0,0,0,0,0,0,0,0]
[0,null,null,null,null,null,0,0,0,0,0,0,0,0,0,0,0,0,0,0,0,0,0,0,0,0,0,0,0,0,0,0,0]
[0,null,null,null,null,null,0,0,0,0,0,0,0,0,0,0,0,0,0,0,0,0,0,0,0,0,0,0,0,0,0,0,0]
[0,null,null,null,null,null,0,0,0,0,0,0,0,0,0,0,0,0,0,0,0,0,0,0,0,0,0,0,0,0,0,0,0]
[0,null,null,null,null,null,0,0,0,0,0,0,0,0,0,0,0,0,0,0,0,0,0,0,0,0,0,0,0,0,0,0,0]
[0,null,null,null,null,null,0,0,0,0,0,0,0,0,0,0,0,0,0,0,0,0,0,0,0,0,0,0,0,0,0,0,0]
[0,null,null,null,null,null,0,0,0,0,0,0,0,0,0,0,0,0,0,0,0,0,0,0,0,0,0,0,0,0,0,0,0]
[0,null,null,null,null,null,0,0,0,0,0,0,0,0,0,0,0,0,0,0,0,0,0,0,0,0,0,0,0,0,0,0,0]
[0,null,null,null,null,null,0,0,0,0,0,0,0,0,0,0,0,0,0,0,0,0,0,0,0,0,0,0,0,0,0,0,0]
[0,null,null,null,null,null,0,0,0,0,0,0,0,0,0,0,0,0,0,0,0,0,0,0,0,0,0,0,0,0,0,0,0]
[0,null,null,null,null,null,0,0,0,0,0,0,0,0,0,0,0,0,0,0,0,0,0,0,0,0,0,0,0,0,0,0,0]
[0,null,null,null,null,null,0,0,0,0,0,0,0,0,0,0,0,0,0,0,0,0,0,0,0,0,0,0,0,0,0,0,0]
[0,null,null,null,null,null,0,0,0,0,0,0,0,0,0,0,0,0,0,0,0,0,0,0,0,0,0,0,0,0,0,0,0]
[0,null,null,null,null,null,0,0,0,0,0,0,0,0,0,0,0,0,0,0,0,0,0,0,0,0,0,0,0,0,0,0,0]
[0,null,null,null,null,null,0,0,0,0,0,0,0,0,0,0,0,0,0,0,0,0,0,0,0,0,0,0,0,0,0,0,0]
[0,null,null,null,null,null,0,0,0,0,0,0,0,0,0,0,0,0,0,0,0,0,0,0,0,0,0,0,0,0,0,0,0]
[0,null,null,null,null,null,0,0,0,0,0,0,0,0,0,0,0,0,0,0,0,0,0,0,0,0,0,0,0,0,0,0,0]
[0,null,null,null,null,null,0,0,0,0,0,0,0,0,0,0,0,0,0,0,0,0,0,0,0,0,0,0,0,0,0,0,0]
[0,null,null,null,null,null,0,0,0,0,0,0,0,0,0,0,0,0,0,0,0,0,0,0,0,0,0,0,0,0,0,0,0]
[0,null,null,null,null,null,0,0,0,0,0,0,0,0,0,0,0,0,0,0,0,0,0,0,0,0,0,0,0,0,0,0,0]
[0,null,null,null,null,null,0,0,0,0,0,0,0,0,0,0,0,0,0,0,0,0,0,0,0,0,0,0,0,0,0,0,0]
[0,null,null,null,null,null,0,0,0,0,0,0,0,0,0,0,0,0,0,0,0,0,0,0,0,0,0,0,0,0,0,0,0]
[0,null,null,null,null,null,0,0,0,0,0,0,0,0,0,0,0,0,0,0,0,0,0,0,0,0,0,0,0,0,0,0,0]
[0,null,null,null,null,null,0,0,0,0,0,0,0,0,0,0,0,0,0,0,0,0,0,0,0,0,0,0,0,0,0,0,0]
[0,null,null,null,null,null,0,0,0,0,0,0,0,0,0,0,0,0,0,0,0,0,0,0,0,0,0,0,0,0,0,0,0]
[0,null,null,null,null,null,0,0,0,0,0,0,0,0,0,0,0,0,0,0,0,0,0,0,0,0,0,0,0,0,0,0,0]
[0,null,null,null,null,null,0,0,0,0,0,0,0,0,0,0,0,0,0,0,0,0,0,0,0,0,0,0,0,0,0,0,0]
[0,null,null,null,null,null,0,0,0,0,0,0,0,0,0,0,0,0,0,0,0,0,0,0,0,0,0,0,0,0,0,0,0]
[0,null,null,null,null,null,0,0,0,0,0,0,0,0,0,0,0,0,0,0,0,0,0,0,0,0,0,0,0,0,0,0,0]
[0,null,null,null,null,null,0,0,0,0,0,0,0,0,0,0,0,0,0,0,0,0,0,0,0,0,0,0,0,0,0,0,0]
[0,null,null,null,null,null,0,0,0,0,0,0,0,0,0,0,0,0,0,0,0,0,0,0,0,0,0,0,0,0,0,0,0]
[0,null,null,null,null,null,0,0,0,0,0,0,0,0,0,0,0,0,0,0,0,0,0,0,0,0,0,0,0,0,0,0,0]
[0,null,null,null,null,null,0,0,0,0,0,0,0,0,0,0,0,0,0,0,0,0,0,0,0,0,0,0,0,0,0,0,0]
[0,null,null,null,null,null,0,0,0,0,0,0,0,0,0,0,0,0,0,0,0,0,0,0,0,0,0,0,0,0,0,0,0]
[0,null,null,null,null,null,0,0,0,0,0,0,0,0,0,0,0,0,0,0,0,0,0,0,0,0,0,0,0,0,0,0,0]
[0,null,null,null,null,null,0,0,0,0,0,0,0,0,0,0,0,0,0,0,0,0,0,0,0,0,0,0,0,0,0,0,0]
[0,null,null,null,null,null,0,0,0,0,0,0,0,0,0,0,0,0,0,0,0,0,0,0,0,0,0,0,0,0,0,0,0]
[0,null,null,null,null,null,0,0,0,0,0,0,0,0,0,0,0,0,0,0,0,0,0,0,0,0,0,0,0,0,0,0,0]
[0,null,null,null,null,null,0,0,0,0,0,0,0,0,0,0,0,0,0,0,0,0,0,0,0,0,0,0,0,0,0,0,0]
[0,null,null,null,null,null,0,0,0,0,0,0,0,0,0,0,0,0,0,0,0,0,0,0,0,0,0,0,0,0,0,0,0]
[0,null,null,null,null,null,0,0,0,0,0,0,0,0,0,0,0,0,0,0,0,0,0,0,0,0,0,0,0,0,0,0,0]
[0,null,null,null,null,null,0,0,0,0,0,0,0,0,0,0,0,0,0,0,0,0,0,0,0,0,0,0,0,0,0,0,0]
[0,null,null,null,null,null,0,0,0,0,0,0,0,0,0,0,0,0,0,0,0,0,0,0,0,0,0,0,0,0,0,0,0]
[0,null,null,null,null,null,0,0,0,0,0,0,0,0,0,0,0,0,0,0,0,0,0,0,0,0,0,0,0,0,0,0,0]
[0,null,null,null,null,null,0,0,0,0,0,0,0,0,0,0,0,0,0,0,0,0,0,0,0,0,0,0,0,0,0,0,0]
[0,null,null,null,null,null,0,0,0,0,0,0,0,0,0,0,0,0,0,0,0,0,0,0,0,0,0,0,0,0,0,0,0]
[0,null,null,null,null,null,0,0,0,0,0,0,0,0,0,0,0,0,0,0,0,0,0,0,0,0,0,0,0,0,0,0,0]
[0,null,null,null,null,null,0,0,0,0,0,0,0,0,0,0,0,0,0,0,0,0,0,0,0,0,0,0,0,0,0,0,0]
[{"$f":"IF(SUM(O332:AH332),1,0)","v":0},null,null,null,null,null,0,0,0,0,0,0,0,0,0,0,0,0,0,0,{"$f":"SUM(T332-S332)","v":0},0,0,{"$f":"SUM(W332-V332)","v":0},0,0,{"$f":"SUM(Z332-Y332)","v":0},0,0,0,0,0,0]
[0,null,null,null,null,null,0,0,0,0,0,0,0,0,0,0,0,0,0,0,0,0,0,0,0,0,0,0,0,0,0,0,0]
[0,null,null,null,null,null,0,0,0,0,0,0,0,0,0,0,0,0,0,0,0,0,0,0,0,0,0,0,0,0,0,0,0]
[0,null,null,null,null,null,0,0,0,0,0,0,0,0,0,0,0,0,0,0,0,0,0,0,0,0,0,0,0,0,0,0,0]
[0,null,null,null,null,null,0,0,0,0,0,0,0,0,0,0,0,0,0,0,0,0,0,0,0,0,0,0,0,0,0,0,0]
[0,null,null,null,null,null,0,0,0,0,0,0,0,0,0,0,0,0,0,0,0,0,0,0,0,0,0,0,0,0,0,0,0]
[0,null,null,null,null,null,0,0,0,0,0,0,0,0,0,0,0,0,0,0,0,0,0,0,0,0,0,0,0,0,0,0,0]
[0,null,null,null,null,null,0,0,0,0,0,0,0,0,0,0,0,0,0,0,0,0,0,0,0,0,0,0,0,0,0,0,0]
[0,null,null,null,null,null,0,0,0,0,0,0,0,0,0,0,0,0,0,0,0,0,0,0,0,0,0,0,0,0,0,0,0]
[0,null,null,null,null,null,0,0,0,0,0,0,0,0,0,0,0,0,0,0,0,0,0,0,0,0,0,0,0,0,0,0,0]
[0,null,null,null,null,null,0,0,0,0,0,0,0,0,0,0,0,0,0,0,0,0,0,0,0,0,0,0,0,0,0,0,0]
[0,null,null,null,null,null,0,0,0,0,0,0,0,0,0,0,0,0,0,0,0,0,0,0,0,0,0,0,0,0,0,0,0]
[0,null,null,null,null,null,0,0,0,0,0,0,0,0,0,0,0,0,0,0,0,0,0,0,0,0,0,0,0,0,0,0,0]
[0,null,null,null,null,null,0,0,0,0,0,0,0,0,0,0,0,0,0,0,0,0,0,0,0,0,0,0,0,0,0,0,0]
[0,null,null,null,null,null,0,0,0,0,0,0,0,0,0,0,0,0,0,0,0,0,0,0,0,0,0,0,0,0,0,0,0]
[0,null,null,null,null,null,0,0,0,0,0,0,0,0,0,0,0,0,0,0,0,0,0,0,0,0,0,0,0,0,0,0,0]
[0,null,null,null,null,null,0,0,0,0,0,0,0,0,0,0,0,0,0,0,0,0,0,0,0,0,0,0,0,0,0,0,0]
[0,null,null,null,null,null,0,0,0,0,0,0,0,0,0,0,0,0,0,0,0,0,0,0,0,0,0,0,0,0,0,0,0]
[0,null,null,null,null,null,0,0,0,0,0,0,0,0,0,0,0,0,0,0,0,0,0,0,0,0,0,0,0,0,0,0,0]
[0,null,null,null,null,null,0,0,0,0,0,0,0,0,0,0,0,0,0,0,0,0,0,0,0,0,0,0,0,0,0,0,0]
[0,null,null,null,null,null,0,0,0,0,0,0,0,0,0,0,0,0,0,0,0,0,0,0,0,0,0,0,0,0,0,0,0]
[0,null,null,null,null,null,0,0,0,0,0,0,0,0,0,0,0,0,0,0,0,0,0,0,0,0,0,0,0,0,0,0,0]
[0,null,null,null,null,null,0,0,0,0,0,0,0,0,0,0,0,0,0,0,0,0,0,0,0,0,0,0,0,0,0,0,0]
[0,null,null,null,null,null,0,0,0,0,0,0,0,0,0,0,0,0,0,0,0,0,0,0,0,0,0,0,0,0,0,0,0]
[0,null,null,null,null,null,0,0,0,0,0,0,0,0,0,0,0,0,0,0,0,0,0,0,0,0,0,0,0,0,0,0,0]
[0,null,null,null,null,null,0,0,0,0,0,0,0,0,0,0,0,0,0,0,0,0,0,0,0,0,0,0,0,0,0,0,0]
[0,null,null,null,null,null,0,0,0,0,0,0,0,0,0,0,0,0,0,0,0,0,0,0,0,0,0,0,0,0,0,0,0]
[0,null,null,null,null,null,0,0,0,0,0,0,0,0,0,0,0,0,0,0,0,0,0,0,0,0,0,0,0,0,0,0,0]
[0,null,null,null,null,null,0,0,0,0,0,0,0,0,0,0,0,0,0,0,0,0,0,0,0,0,0,0,0,0,0,0,0]
[0,null,null,null,null,null,0,0,0,0,0,0,0,0,0,0,0,0,0,0,0,0,0,0,0,0,0,0,0,0,0,0,0]
[0,null,null,null,null,null,0,0,0,0,0,0,0,0,0,0,0,0,0,0,0,0,0,0,0,0,0,0,0,0,0,0,0]
[0,null,null,null,null,null,0,0,0,0,0,0,0,0,0,0,0,0,0,0,0,0,0,0,0,0,0,0,0,0,0,0,0]
[0,null,null,null,null,null,0,0,0,0,0,0,0,0,0,0,0,0,0,0,0,0,0,0,0,0,0,0,0,0,0,0,0]
[0,null,null,null,null,null,0,0,0,0,0,0,0,0,0,0,0,0,0,0,0,0,0,0,0,0,0,0,0,0,0,0,0]
[0,null,null,null,null,null,0,0,0,0,0,0,0,0,0,0,0,0,0,0,0,0,0,0,0,0,0,0,0,0,0,0,0]
[0,null,null,null,null,null,0,0,0,0,0,0,0,0,0,0,0,0,0,0,0,0,0,0,0,0,0,0,0,0,0,0,0]
[0,null,null,null,null,null,0,0,0,0,0,0,0,0,0,0,0,0,0,0,0,0,0,0,0,0,0,0,0,0,0,0,0]
[0,null,null,null,null,null,0,0,0,0,0,0,0,0,0,0,0,0,0,0,0,0,0,0,0,0,0,0,0,0,0,0,0]
[0,null,null,null,null,null,0,0,0,0,0,0,0,0,0,0,0,0,0,0,0,0,0,0,0,0,0,0,0,0,0,0,0]
[0,null,null,null,null,null,0,0,0,0,0,0,0,0,0,0,0,0,0,0,0,0,0,0,0,0,0,0,0,0,0,0,0]
[0,null,null,null,null,null,0,0,0,0,0,0,0,0,0,0,0,0,0,0,0,0,0,0,0,0,0,0,0,0,0,0,0]
[0,null,null,null,null,null,0,0,0,0,0,0,0,0,0,0,0,0,0,0,0,0,0,0,0,0,0,0,0,0,0,0,0]
[0,null,null,null,null,null,0,0,0,0,0,0,0,0,0,0,0,0,0,0,0,0,0,0,0,0,0,0,0,0,0,0,0]
[0,null,null,null,null,null,0,0,0,0,0,0,0,0,0,0,0,0,0,0,0,0,0,0,0,0,0,0,0,0,0,0,0]
[0,null,null,null,null,null,0,0,0,0,0,0,0,0,0,0,0,0,0,0,0,0,0,0,0,0,0,0,0,0,0,0,0]
[0,null,null,null,null,null,0,0,0,0,0,0,0,0,0,0,0,0,0,0,0,0,0,0,0,0,0,0,0,0,0,0,0]
[0,null,null,null,null,null,0,0,0,0,0,0,0,0,0,0,0,0,0,0,0,0,0,0,0,0,0,0,0,0,0,0,0]
[0,null,null,null,null,null,0,0,0,0,0,0,0,0,0,0,0,0,0,0,0,0,0,0,0,0,0,0,0,0,0,0,0]
[0,null,null,null,null,null,0,0,0,0,0,0,0,0,0,0,0,0,0,0,0,0,0,0,0,0,0,0,0,0,0,0,0]
[0,null,null,null,null,null,0,0,0,0,0,0,0,0,0,0,0,0,0,0,0,0,0,0,0,0,0,0,0,0,0,0,0]
[0,null,null,null,null,null,0,0,0,0,0,0,0,0,0,0,0,0,0,0,0,0,0,0,0,0,0,0,0,0,0,0,0]
[0,null,null,null,null,null,0,0,0,0,0,0,0,0,0,0,0,0,0,0,0,0,0,0,0,0,0,0,0,0,0,0,0]
[0,null,null,null,null,null,0,0,0,0,0,0,0,0,0,0,0,0,0,0,0,0,0,0,0,0,0,0,0,0,0,0,0]
[0,null,null,null,null,null,0,0,0,0,0,0,0,0,0,0,0,0,0,0,0,0,0,0,0,0,0,0,0,0,0,0,0]
[0,null,null,null,null,null,0,0,0,0,0,0,0,0,0,0,0,0,0,0,0,0,0,0,0,0,0,0,0,0,0,0,0]
[0,null,null,null,null,null,0,0,0,0,0,0,0,0,0,0,0,0,0,0,0,0,0,0,0,0,0,0,0,0,0,0,0]
[0,null,null,null,null,null,0,0,0,0,0,0,0,0,0,0,0,0,0,0,0,0,0,0,0,0,0,0,0,0,0,0,0]
[0,null,null,null,null,null,0,0,0,0,0,0,0,0,0,0,0,0,0,0,0,0,0,0,0,0,0,0,0,0,0,0,0]
[0,null,null,null,null,null,0,0,0,0,0,0,0,0,0,0,0,0,0,0,0,0,0,0,0,0,0,0,0,0,0,0,0]
[0,null,null,null,null,null,0,0,0,0,0,0,0,0,0,0,0,0,0,0,0,0,0,0,0,0,0,0,0,0,0,0,0]
[0,null,null,null,null,null,0,0,0,0,0,0,0,0,0,0,0,0,0,0,0,0,0,0,0,0,0,0,0,0,0,0,0]
[0,null,null,null,null,null,0,0,0,0,0,0,0,0,0,0,0,0,0,0,0,0,0,0,0,0,0,0,0,0,0,0,0]
[0,null,null,null,null,null,0,0,0,0,0,0,0,0,0,0,0,0,0,0,0,0,0,0,0,0,0,0,0,0,0,0,0]
[0,null,null,null,null,null,0,0,0,0,0,0,0,0,0,0,0,0,0,0,0,0,0,0,0,0,0,0,0,0,0,0,0]
[{"$f":"IF(SUM(O396:AH396),1,0)","v":0},null,null,null,null,null,0,0,0,0,0,0,0,0,0,0,0,0,0,0,{"$f":"SUM(T396-S396)","v":0},0,0,{"$f":"SUM(W396-V396)","v":0},0,0,{"$f":"SUM(Z396-Y396)","v":0},0,0,0,0,0,0]
[0,null,null,null,null,null,0,0,0,0,0,0,0,0,0,0,0,0,0,0,0,0,0,0,0,0,0,0,0,0,0,0,0]
[0,null,null,null,null,null,0,0,0,0,0,0,0,0,0,0,0,0,0,0,0,0,0,0,0,0,0,0,0,0,0,0,0]
[0,null,null,null,null,null,0,0,0,0,0,0,0,0,0,0,0,0,0,0,0,0,0,0,0,0,0,0,0,0,0,0,0]
[0,null,null,null,null,null,0,0,0,0,0,0,0,0,0,0,0,0,0,0,0,0,0,0,0,0,0,0,0,0,0,0,0]
[0,null,null,null,null,null,0,0,0,0,0,0,0,0,0,0,0,0,0,0,0,0,0,0,0,0,0,0,0,0,0,0,0]
[0,null,null,null,null,null,0,0,0,0,0,0,0,0,0,0,0,0,0,0,0,0,0,0,0,0,0,0,0,0,0,0,0]
[0,null,null,null,null,null,0,0,0,0,0,0,0,0,0,0,0,0,0,0,0,0,0,0,0,0,0,0,0,0,0,0,0]
[0,null,null,null,null,null,0,0,0,0,0,0,0,0,0,0,0,0,0,0,0,0,0,0,0,0,0,0,0,0,0,0,0]
[0,null,null,null,null,null,0,0,0,0,0,0,0,0,0,0,0,0,0,0,0,0,0,0,0,0,0,0,0,0,0,0,0]
[0,null,null,null,null,null,0,0,0,0,0,0,0,0,0,0,0,0,0,0,0,0,0,0,0,0,0,0,0,0,0,0,0]
[0,null,null,null,null,null,0,0,0,0,0,0,0,0,0,0,0,0,0,0,0,0,0,0,0,0,0,0,0,0,0,0,0]
[0,null,null,null,null,null,0,0,0,0,0,0,0,0,0,0,0,0,0,0,0,0,0,0,0,0,0,0,0,0,0,0,0]
[0,null,null,null,null,null,0,0,0,0,0,0,0,0,0,0,0,0,0,0,0,0,0,0,0,0,0,0,0,0,0,0,0]
[0,null,null,null,null,null,0,0,0,0,0,0,0,0,0,0,0,0,0,0,0,0,0,0,0,0,0,0,0,0,0,0,0]
[0,null,null,null,null,null,0,0,0,0,0,0,0,0,0,0,0,0,0,0,0,0,0,0,0,0,0,0,0,0,0,0,0]
[0,null,null,null,null,null,0,0,0,0,0,0,0,0,0,0,0,0,0,0,0,0,0,0,0,0,0,0,0,0,0,0,0]
[0,null,null,null,null,null,0,0,0,0,0,0,0,0,0,0,0,0,0,0,0,0,0,0,0,0,0,0,0,0,0,0,0]
[0,null,null,null,null,null,0,0,0,0,0,0,0,0,0,0,0,0,0,0,0,0,0,0,0,0,0,0,0,0,0,0,0]
[0,null,null,null,null,null,0,0,0,0,0,0,0,0,0,0,0,0,0,0,0,0,0,0,0,0,0,0,0,0,0,0,0]
[0,null,null,null,null,null,0,0,0,0,0,0,0,0,0,0,0,0,0,0,0,0,0,0,0,0,0,0,0,0,0,0,0]
[0,null,null,null,null,null,0,0,0,0,0,0,0,0,0,0,0,0,0,0,0,0,0,0,0,0,0,0,0,0,0,0,0]
[0,null,null,null,null,null,0,0,0,0,0,0,0,0,0,0,0,0,0,0,0,0,0,0,0,0,0,0,0,0,0,0,0]
[0,null,null,null,null,null,0,0,0,0,0,0,0,0,0,0,0,0,0,0,0,0,0,0,0,0,0,0,0,0,0,0,0]
[0,null,null,null,null,null,0,0,0,0,0,0,0,0,0,0,0,0,0,0,0,0,0,0,0,0,0,0,0,0,0,0,0]
[0,null,null,null,null,null,0,0,0,0,0,0,0,0,0,0,0,0,0,0,0,0,0,0,0,0,0,0,0,0,0,0,0]
[0,null,null,null,null,null,0,0,0,0,0,0,0,0,0,0,0,0,0,0,0,0,0,0,0,0,0,0,0,0,0,0,0]
[0,null,null,null,null,null,0,0,0,0,0,0,0,0,0,0,0,0,0,0,0,0,0,0,0,0,0,0,0,0,0,0,0]
[0,null,null,null,null,null,0,0,0,0,0,0,0,0,0,0,0,0,0,0,0,0,0,0,0,0,0,0,0,0,0,0,0]
[0,null,null,null,null,null,0,0,0,0,0,0,0,0,0,0,0,0,0,0,0,0,0,0,0,0,0,0,0,0,0,0,0]
[0,null,null,null,null,null,0,0,0,0,0,0,0,0,0,0,0,0,0,0,0,0,0,0,0,0,0,0,0,0,0,0,0]
[0,null,null,null,null,null,0,0,0,0,0,0,0,0,0,0,0,0,0,0,0,0,0,0,0,0,0,0,0,0,0,0,0]
[0,null,null,null,null,null,0,0,0,0,0,0,0,0,0,0,0,0,0,0,0,0,0,0,0,0,0,0,0,0,0,0,0]
[0,null,null,null,null,null,0,0,0,0,0,0,0,0,0,0,0,0,0,0,0,0,0,0,0,0,0,0,0,0,0,0,0]
[0,null,null,null,null,null,0,0,0,0,0,0,0,0,0,0,0,0,0,0,0,0,0,0,0,0,0,0,0,0,0,0,0]
[0,null,null,null,null,null,0,0,0,0,0,0,0,0,0,0,0,0,0,0,0,0,0,0,0,0,0,0,0,0,0,0,0]
[0,null,null,null,null,null,0,0,0,0,0,0,0,0,0,0,0,0,0,0,0,0,0,0,0,0,0,0,0,0,0,0,0]
[0,null,null,null,null,null,0,0,0,0,0,0,0,0,0,0,0,0,0,0,0,0,0,0,0,0,0,0,0,0,0,0,0]
[0,null,null,null,null,null,0,0,0,0,0,0,0,0,0,0,0,0,0,0,0,0,0,0,0,0,0,0,0,0,0,0,0]
[0,null,null,null,null,null,0,0,0,0,0,0,0,0,0,0,0,0,0,0,0,0,0,0,0,0,0,0,0,0,0,0,0]
[0,null,null,null,null,null,0,0,0,0,0,0,0,0,0,0,0,0,0,0,0,0,0,0,0,0,0,0,0,0,0,0,0]
[0,null,null,null,null,null,0,0,0,0,0,0,0,0,0,0,0,0,0,0,0,0,0,0,0,0,0,0,0,0,0,0,0]
[0,null,null,null,null,null,0,0,0,0,0,0,0,0,0,0,0,0,0,0,0,0,0,0,0,0,0,0,0,0,0,0,0]
[0,null,null,null,null,null,0,0,0,0,0,0,0,0,0,0,0,0,0,0,0,0,0,0,0,0,0,0,0,0,0,0,0]
[0,null,null,null,null,null,0,0,0,0,0,0,0,0,0,0,0,0,0,0,0,0,0,0,0,0,0,0,0,0,0,0,0]
[0,null,null,null,null,null,0,0,0,0,0,0,0,0,0,0,0,0,0,0,0,0,0,0,0,0,0,0,0,0,0,0,0]
[0,null,null,null,null,null,0,0,0,0,0,0,0,0,0,0,0,0,0,0,0,0,0,0,0,0,0,0,0,0,0,0,0]
[0,null,null,null,null,null,0,0,0,0,0,0,0,0,0,0,0,0,0,0,0,0,0,0,0,0,0,0,0,0,0,0,0]
[0,null,null,null,null,null,0,0,0,0,0,0,0,0,0,0,0,0,0,0,0,0,0,0,0,0,0,0,0,0,0,0,0]
[0,null,null,null,null,null,0,0,0,0,0,0,0,0,0,0,0,0,0,0,0,0,0,0,0,0,0,0,0,0,0,0,0]
[0,null,null,null,null,null,0,0,0,0,0,0,0,0,0,0,0,0,0,0,0,0,0,0,0,0,0,0,0,0,0,0,0]
[0,null,null,null,null,null,0,0,0,0,0,0,0,0,0,0,0,0,0,0,0,0,0,0,0,0,0,0,0,0,0,0,0]
[0,null,null,null,null,null,0,0,0,0,0,0,0,0,0,0,0,0,0,0,0,0,0,0,0,0,0,0,0,0,0,0,0]
[0,null,null,null,null,null,0,0,0,0,0,0,0,0,0,0,0,0,0,0,0,0,0,0,0,0,0,0,0,0,0,0,0]
[0,null,null,null,null,null,0,0,0,0,0,0,0,0,0,0,0,0,0,0,0,0,0,0,0,0,0,0,0,0,0,0,0]
[0,null,null,null,null,null,0,0,0,0,0,0,0,0,0,0,0,0,0,0,0,0,0,0,0,0,0,0,0,0,0,0,0]
[0,null,null,null,null,null,0,0,0,0,0,0,0,0,0,0,0,0,0,0,0,0,0,0,0,0,0,0,0,0,0,0,0]
[0,null,null,null,null,null,0,0,0,0,0,0,0,0,0,0,0,0,0,0,0,0,0,0,0,0,0,0,0,0,0,0,0]
[0,null,null,null,null,null,0,0,0,0,0,0,0,0,0,0,0,0,0,0,0,0,0,0,0,0,0,0,0,0,0,0,0]
[0,null,null,null,null,null,0,0,0,0,0,0,0,0,0,0,0,0,0,0,0,0,0,0,0,0,0,0,0,0,0,0,0]
[0,null,null,null,null,null,0,0,0,0,0,0,0,0,0,0,0,0,0,0,0,0,0,0,0,0,0,0,0,0,0,0,0]
[0,null,null,null,null,null,0,0,0,0,0,0,0,0,0,0,0,0,0,0,0,0,0,0,0,0,0,0,0,0,0,0,0]
[0,null,null,null,null,null,0,0,0,0,0,0,0,0,0,0,0,0,0,0,0,0,0,0,0,0,0,0,0,0,0,0,0]
[0,null,null,null,null,null,0,0,0,0,0,0,0,0,0,0,0,0,0,0,0,0,0,0,0,0,0,0,0,0,0,0,0]
[{"$f":"IF(SUM(O460:AH460),1,0)","v":0},null,null,null,null,null,0,0,0,0,0,0,0,0,0,0,0,0,0,0,{"$f":"SUM(T460-S460)","v":0},0,0,{"$f":"SUM(W460-V460)","v":0},0,0,{"$f":"SUM(Z460-Y460)","v":0},0,0,0,0,0,0]
[0,null,null,null,null,null,0,0,0,0,0,0,0,0,0,0,0,0,0,0,0,0,0,0,0,0,0,0,0,0,0,0,0]
[0,null,null,null,null,null,0,0,0,0,0,0,0,0,0,0,0,0,0,0,0,0,0,0,0,0,0,0,0,0,0,0,0]
[0,null,null,null,null,null,0,0,0,0,0,0,0,0,0,0,0,0,0,0,0,0,0,0,0,0,0,0,0,0,0,0,0]
[0,null,null,null,null,null,0,0,0,0,0,0,0,0,0,0,0,0,0,0,0,0,0,0,0,0,0,0,0,0,0,0,0]
[0,null,null,null,null,null,0,0,0,0,0,0,0,0,0,0,0,0,0,0,0,0,0,0,0,0,0,0,0,0,0,0,0]
[0,null,null,null,null,null,0,0,0,0,0,0,0,0,0,0,0,0,0,0,0,0,0,0,0,0,0,0,0,0,0,0,0]
[0,null,null,null,null,null,0,0,0,0,0,0,0,0,0,0,0,0,0,0,0,0,0,0,0,0,0,0,0,0,0,0,0]
[0,null,null,null,null,null,0,0,0,0,0,0,0,0,0,0,0,0,0,0,0,0,0,0,0,0,0,0,0,0,0,0,0]
[0,null,null,null,null,null,0,0,0,0,0,0,0,0,0,0,0,0,0,0,0,0,0,0,0,0,0,0,0,0,0,0,0]
[0,null,null,null,null,null,0,0,0,0,0,0,0,0,0,0,0,0,0,0,0,0,0,0,0,0,0,0,0,0,0,0,0]
[0,null,null,null,null,null,0,0,0,0,0,0,0,0,0,0,0,0,0,0,0,0,0,0,0,0,0,0,0,0,0,0,0]
[0,null,null,null,null,null,0,0,0,0,0,0,0,0,0,0,0,0,0,0,0,0,0,0,0,0,0,0,0,0,0,0,0]
[0,null,null,null,null,null,0,0,0,0,0,0,0,0,0,0,0,0,0,0,0,0,0,0,0,0,0,0,0,0,0,0,0]
[0,null,null,null,null,null,0,0,0,0,0,0,0,0,0,0,0,0,0,0,0,0,0,0,0,0,0,0,0,0,0,0,0]
[0,null,null,null,null,null,0,0,0,0,0,0,0,0,0,0,0,0,0,0,0,0,0,0,0,0,0,0,0,0,0,0,0]
[0,null,null,null,null,null,0,0,0,0,0,0,0,0,0,0,0,0,0,0,0,0,0,0,0,0,0,0,0,0,0,0,0]
[0,null,null,null,null,null,0,0,0,0,0,0,0,0,0,0,0,0,0,0,0,0,0,0,0,0,0,0,0,0,0,0,0]
[0,null,null,null,null,null,0,0,0,0,0,0,0,0,0,0,0,0,0,0,0,0,0,0,0,0,0,0,0,0,0,0,0]
[0,null,null,null,null,null,0,0,0,0,0,0,0,0,0,0,0,0,0,0,0,0,0,0,0,0,0,0,0,0,0,0,0]
[0,null,null,null,null,null,0,0,0,0,0,0,0,0,0,0,0,0,0,0,0,0,0,0,0,0,0,0,0,0,0,0,0]
[0,null,null,null,null,null,0,0,0,0,0,0,0,0,0,0,0,0,0,0,0,0,0,0,0,0,0,0,0,0,0,0,0]
[0,null,null,null,null,null,0,0,0,0,0,0,0,0,0,0,0,0,0,0,0,0,0,0,0,0,0,0,0,0,0,0,0]
[0,null,null,null,null,null,0,0,0,0,0,0,0,0,0,0,0,0,0,0,0,0,0,0,0,0,0,0,0,0,0,0,0]
[0,null,null,null,null,null,0,0,0,0,0,0,0,0,0,0,0,0,0,0,0,0,0,0,0,0,0,0,0,0,0,0,0]
[0,null,null,null,null,null,0,0,0,0,0,0,0,0,0,0,0,0,0,0,0,0,0,0,0,0,0,0,0,0,0,0,0]
[0,null,null,null,null,null,0,0,0,0,0,0,0,0,0,0,0,0,0,0,0,0,0,0,0,0,0,0,0,0,0,0,0]
[0,null,null,null,null,null,0,0,0,0,0,0,0,0,0,0,0,0,0,0,0,0,0,0,0,0,0,0,0,0,0,0,0]
[0,null,null,null,null,null,0,0,0,0,0,0,0,0,0,0,0,0,0,0,0,0,0,0,0,0,0,0,0,0,0,0,0]
[0,null,null,null,null,null,0,0,0,0,0,0,0,0,0,0,0,0,0,0,0,0,0,0,0,0,0,0,0,0,0,0,0]
[0,null,null,null,null,null,0,0,0,0,0,0,0,0,0,0,0,0,0,0,0,0,0,0,0,0,0,0,0,0,0,0,0]
[0,null,null,null,null,null,0,0,0,0,0,0,0,0,0,0,0,0,0,0,0,0,0,0,0,0,0,0,0,0,0,0,0]
[0,null,null,null,null,null,0,0,0,0,0,0,0,0,0,0,0,0,0,0,0,0,0,0,0,0,0,0,0,0,0,0,0]
[0,null,null,null,null,null,0,0,0,0,0,0,0,0,0,0,0,0,0,0,0,0,0,0,0,0,0,0,0,0,0,0,0]
[0,null,null,null,null,null,0,0,0,0,0,0,0,0,0,0,0,0,0,0,0,0,0,0,0,0,0,0,0,0,0,0,0]
[0,null,null,null,null,null,0,0,0,0,0,0,0,0,0,0,0,0,0,0,0,0,0,0,0,0,0,0,0,0,0,0,0]
[0,null,null,null,null,null,0,0,0,0,0,0,0,0,0,0,0,0,0,0,0,0,0,0,0,0,0,0,0,0,0,0,0]
[0,null,null,null,null,null,0,0,0,0,0,0,0,0,0,0,0,0,0,0,0,0,0,0,0,0,0,0,0,0,0,0,0]
[0,null,null,null,null,null,0,0,0,0,0,0,0,0,0,0,0,0,0,0,0,0,0,0,0,0,0,0,0,0,0,0,0]
[0,null,null,null,null,null,0,0,0,0,0,0,0,0,0,0,0,0,0,0,0,0,0,0,0,0,0,0,0,0,0,0,0]
[0,null,null,null,null,null,0,0,0,0,0,0,0,0,0,0,0,0,0,0,0,0,0,0,0,0,0,0,0,0,0,0,0]
[0,null,null,null,null,null,0,0,0,0,0,0,0,0,0,0,0,0,0,0,0,0,0,0,0,0,0,0,0,0,0,0,0]
[0,null,null,null,null,null,0,0,0,0,0,0,0,0,0,0,0,0,0,0,0,0,0,0,0,0,0,0,0,0,0,0,0]
[0,null,null,null,null,null,0,0,0,0,0,0,0,0,0,0,0,0,0,0,0,0,0,0,0,0,0,0,0,0,0,0,0]
[0,null,null,null,null,null,0,0,0,0,0,0,0,0,0,0,0,0,0,0,0,0,0,0,0,0,0,0,0,0,0,0,0]
[0,null,null,null,null,null,0,0,0,0,0,0,0,0,0,0,0,0,0,0,0,0,0,0,0,0,0,0,0,0,0,0,0]
[0,null,null,null,null,null,0,0,0,0,0,0,0,0,0,0,0,0,0,0,0,0,0,0,0,0,0,0,0,0,0,0,0]
[0,null,null,null,null,null,0,0,0,0,0,0,0,0,0,0,0,0,0,0,0,0,0,0,0,0,0,0,0,0,0,0,0]
[0,null,null,null,null,null,0,0,0,0,0,0,0,0,0,0,0,0,0,0,0,0,0,0,0,0,0,0,0,0,0,0,0]
[0,null,null,null,null,null,0,0,0,0,0,0,0,0,0,0,0,0,0,0,0,0,0,0,0,0,0,0,0,0,0,0,0]
[0,null,null,null,null,null,0,0,0,0,0,0,0,0,0,0,0,0,0,0,0,0,0,0,0,0,0,0,0,0,0,0,0]
[0,null,null,null,null,null,0,0,0,0,0,0,0,0,0,0,0,0,0,0,0,0,0,0,0,0,0,0,0,0,0,0,0]
[0,null,null,null,null,null,0,0,0,0,0,0,0,0,0,0,0,0,0,0,0,0,0,0,0,0,0,0,0,0,0,0,0]
[0,null,null,null,null,null,0,0,0,0,0,0,0,0,0,0,0,0,0,0,0,0,0,0,0,0,0,0,0,0,0,0,0]
[0,null,null,null,null,null,0,0,0,0,0,0,0,0,0,0,0,0,0,0,0,0,0,0,0,0,0,0,0,0,0,0,0]
[0,null,null,null,null,null,0,0,0,0,0,0,0,0,0,0,0,0,0,0,0,0,0,0,0,0,0,0,0,0,0,0,0]
[0,null,null,null,null,null,0,0,0,0,0,0,0,0,0,0,0,0,0,0,0,0,0,0,0,0,0,0,0,0,0,0,0]
[0,null,null,null,null,null,0,0,0,0,0,0,0,0,0,0,0,0,0,0,0,0,0,0,0,0,0,0,0,0,0,0,0]
[0,null,null,null,null,null,0,0,0,0,0,0,0,0,0,0,0,0,0,0,0,0,0,0,0,0,0,0,0,0,0,0,0]
[0,null,null,null,null,null,0,0,0,0,0,0,0,0,0,0,0,0,0,0,0,0,0,0,0,0,0,0,0,0,0,0,0]
[0,null,null,null,null,null,0,0,0,0,0,0,0,0,0,0,0,0,0,0,0,0,0,0,0,0,0,0,0,0,0,0,0]
[0,null,null,null,null,null,0,0,0,0,0,0,0,0,0,0,0,0,0,0,0,0,0,0,0,0,0,0,0,0,0,0,0]
[0,null,null,null,null,null,0,0,0,0,0,0,0,0,0,0,0,0,0,0,0,0,0,0,0,0,0,0,0,0,0,0,0]
[0,null,null,null,null,null,0,0,0,0,0,0,0,0,0,0,0,0,0,0,0,0,0,0,0,0,0,0,0,0,0,0,0]
[{"$f":"IF(SUM(O524:AH524),1,0)","v":0},null,null,null,null,null,0,0,0,0,0,0,0,0,0,0,0,0,0,0,{"$f":"SUM(T524-S524)","v":0},0,0,{"$f":"SUM(W524-V524)","v":0},0,0,{"$f":"SUM(Z524-Y524)","v":0},0,0,0,0,0,0]
[0,null,null,null,null,null,0,0,0,0,0,0,0,0,0,0,0,0,0,0,0,0,0,0,0,0,0,0,0,0,0,0,0]
[0,null,null,null,null,null,0,0,0,0,0,0,0,0,0,0,0,0,0,0,0,0,0,0,0,0,0,0,0,0,0,0,0]
[0,null,null,null,null,null,0,0,0,0,0,0,0,0,0,0,0,0,0,0,0,0,0,0,0,0,0,0,0,0,0,0,0]
[0,null,null,null,null,null,0,0,0,0,0,0,0,0,0,0,0,0,0,0,0,0,0,0,0,0,0,0,0,0,0,0,0]
[0,null,null,null,null,null,0,0,0,0,0,0,0,0,0,0,0,0,0,0,0,0,0,0,0,0,0,0,0,0,0,0,0]
[0,null,null,null,null,null,0,0,0,0,0,0,0,0,0,0,0,0,0,0,0,0,0,0,0,0,0,0,0,0,0,0,0]
[0,null,null,null,null,null,0,0,0,0,0,0,0,0,0,0,0,0,0,0,0,0,0,0,0,0,0,0,0,0,0,0,0]
[0,null,null,null,null,null,0,0,0,0,0,0,0,0,0,0,0,0,0,0,0,0,0,0,0,0,0,0,0,0,0,0,0]
[0,null,null,null,null,null,0,0,0,0,0,0,0,0,0,0,0,0,0,0,0,0,0,0,0,0,0,0,0,0,0,0,0]
[0,null,null,null,null,null,0,0,0,0,0,0,0,0,0,0,0,0,0,0,0,0,0,0,0,0,0,0,0,0,0,0,0]
[0,null,null,null,null,null,0,0,0,0,0,0,0,0,0,0,0,0,0,0,0,0,0,0,0,0,0,0,0,0,0,0,0]
[0,null,null,null,null,null,0,0,0,0,0,0,0,0,0,0,0,0,0,0,0,0,0,0,0,0,0,0,0,0,0,0,0]
[0,null,null,null,null,null,0,0,0,0,0,0,0,0,0,0,0,0,0,0,0,0,0,0,0,0,0,0,0,0,0,0,0]
[0,null,null,null,null,null,0,0,0,0,0,0,0,0,0,0,0,0,0,0,0,0,0,0,0,0,0,0,0,0,0,0,0]
[0,null,null,null,null,null,0,0,0,0,0,0,0,0,0,0,0,0,0,0,0,0,0,0,0,0,0,0,0,0,0,0,0]
[0,null,null,null,null,null,0,0,0,0,0,0,0,0,0,0,0,0,0,0,0,0,0,0,0,0,0,0,0,0,0,0,0]
[0,null,null,null,null,null,0,0,0,0,0,0,0,0,0,0,0,0,0,0,0,0,0,0,0,0,0,0,0,0,0,0,0]
[0,null,null,null,null,null,0,0,0,0,0,0,0,0,0,0,0,0,0,0,0,0,0,0,0,0,0,0,0,0,0,0,0]
[0,null,null,null,null,null,0,0,0,0,0,0,0,0,0,0,0,0,0,0,0,0,0,0,0,0,0,0,0,0,0,0,0]
[0,null,null,null,null,null,0,0,0,0,0,0,0,0,0,0,0,0,0,0,0,0,0,0,0,0,0,0,0,0,0,0,0]
[0,null,null,null,null,null,0,0,0,0,0,0,0,0,0,0,0,0,0,0,0,0,0,0,0,0,0,0,0,0,0,0,0]
[0,null,null,null,null,null,0,0,0,0,0,0,0,0,0,0,0,0,0,0,0,0,0,0,0,0,0,0,0,0,0,0,0]
[0,null,null,null,null,null,0,0,0,0,0,0,0,0,0,0,0,0,0,0,0,0,0,0,0,0,0,0,0,0,0,0,0]
[0,null,null,null,null,null,0,0,0,0,0,0,0,0,0,0,0,0,0,0,0,0,0,0,0,0,0,0,0,0,0,0,0]
[0,null,null,null,null,null,0,0,0,0,0,0,0,0,0,0,0,0,0,0,0,0,0,0,0,0,0,0,0,0,0,0,0]
[0,null,null,null,null,null,0,0,0,0,0,0,0,0,0,0,0,0,0,0,0,0,0,0,0,0,0,0,0,0,0,0,0]
[0,null,null,null,null,null,0,0,0,0,0,0,0,0,0,0,0,0,0,0,0,0,0,0,0,0,0,0,0,0,0,0,0]
[0,null,null,null,null,null,0,0,0,0,0,0,0,0,0,0,0,0,0,0,0,0,0,0,0,0,0,0,0,0,0,0,0]
[0,null,null,null,null,null,0,0,0,0,0,0,0,0,0,0,0,0,0,0,0,0,0,0,0,0,0,0,0,0,0,0,0]
[0,null,null,null,null,null,0,0,0,0,0,0,0,0,0,0,0,0,0,0,0,0,0,0,0,0,0,0,0,0,0,0,0]
[0,null,null,null,null,null,0,0,0,0,0,0,0,0,0,0,0,0,0,0,0,0,0,0,0,0,0,0,0,0,0,0,0]
[0,null,null,null,null,null,0,0,0,0,0,0,0,0,0,0,0,0,0,0,0,0,0,0,0,0,0,0,0,0,0,0,0]
[0,null,null,null,null,null,0,0,0,0,0,0,0,0,0,0,0,0,0,0,0,0,0,0,0,0,0,0,0,0,0,0,0]
[0,null,null,null,null,null,0,0,0,0,0,0,0,0,0,0,0,0,0,0,0,0,0,0,0,0,0,0,0,0,0,0,0]
[0,null,null,null,null,null,0,0,0,0,0,0,0,0,0,0,0,0,0,0,0,0,0,0,0,0,0,0,0,0,0,0,0]
[0,null,null,null,null,null,0,0,0,0,0,0,0,0,0,0,0,0,0,0,0,0,0,0,0,0,0,0,0,0,0,0,0]
[0,null,null,null,null,null,0,0,0,0,0,0,0,0,0,0,0,0,0,0,0,0,0,0,0,0,0,0,0,0,0,0,0]
[0,null,null,null,null,null,0,0,0,0,0,0,0,0,0,0,0,0,0,0,0,0,0,0,0,0,0,0,0,0,0,0,0]
[0,null,null,null,null,null,0,0,0,0,0,0,0,0,0,0,0,0,0,0,0,0,0,0,0,0,0,0,0,0,0,0,0]
[0,null,null,null,null,null,0,0,0,0,0,0,0,0,0,0,0,0,0,0,0,0,0,0,0,0,0,0,0,0,0,0,0]
[0,null,null,null,null,null,0,0,0,0,0,0,0,0,0,0,0,0,0,0,0,0,0,0,0,0,0,0,0,0,0,0,0]
[0,null,null,null,null,null,0,0,0,0,0,0,0,0,0,0,0,0,0,0,0,0,0,0,0,0,0,0,0,0,0,0,0]
[0,null,null,null,null,null,0,0,0,0,0,0,0,0,0,0,0,0,0,0,0,0,0,0,0,0,0,0,0,0,0,0,0]
[0,null,null,null,null,null,0,0,0,0,0,0,0,0,0,0,0,0,0,0,0,0,0,0,0,0,0,0,0,0,0,0,0]
[0,null,null,null,null,null,0,0,0,0,0,0,0,0,0,0,0,0,0,0,0,0,0,0,0,0,0,0,0,0,0,0,0]
[0,null,null,null,null,null,0,0,0,0,0,0,0,0,0,0,0,0,0,0,0,0,0,0,0,0,0,0,0,0,0,0,0]
[0,null,null,null,null,null,0,0,0,0,0,0,0,0,0,0,0,0,0,0,0,0,0,0,0,0,0,0,0,0,0,0,0]
[0,null,null,null,null,null,0,0,0,0,0,0,0,0,0,0,0,0,0,0,0,0,0,0,0,0,0,0,0,0,0,0,0]
[0,null,null,null,null,null,0,0,0,0,0,0,0,0,0,0,0,0,0,0,0,0,0,0,0,0,0,0,0,0,0,0,0]
[0,null,null,null,null,null,0,0,0,0,0,0,0,0,0,0,0,0,0,0,0,0,0,0,0,0,0,0,0,0,0,0,0]
[0,null,null,null,null,null,0,0,0,0,0,0,0,0,0,0,0,0,0,0,0,0,0,0,0,0,0,0,0,0,0,0,0]
[0,null,null,null,null,null,0,0,0,0,0,0,0,0,0,0,0,0,0,0,0,0,0,0,0,0,0,0,0,0,0,0,0]
[0,null,null,null,null,null,0,0,0,0,0,0,0,0,0,0,0,0,0,0,0,0,0,0,0,0,0,0,0,0,0,0,0]
[0,null,null,null,null,null,0,0,0,0,0,0,0,0,0,0,0,0,0,0,0,0,0,0,0,0,0,0,0,0,0,0,0]
[0,null,null,null,null,null,0,0,0,0,0,0,0,0,0,0,0,0,0,0,0,0,0,0,0,0,0,0,0,0,0,0,0]
[0,null,null,null,null,null,0,0,0,0,0,0,0,0,0,0,0,0,0,0,0,0,0,0,0,0,0,0,0,0,0,0,0]
[0,null,null,null,null,null,0,0,0,0,0,0,0,0,0,0,0,0,0,0,0,0,0,0,0,0,0,0,0,0,0,0,0]
[0,null,null,null,null,null,0,0,0,0,0,0,0,0,0,0,0,0,0,0,0,0,0,0,0,0,0,0,0,0,0,0,0]
[0,null,null,null,null,null,0,0,0,0,0,0,0,0,0,0,0,0,0,0,0,0,0,0,0,0,0,0,0,0,0,0,0]
[0,null,null,null,null,null,0,0,0,0,0,0,0,0,0,0,0,0,0,0,0,0,0,0,0,0,0,0,0,0,0,0,0]
[0,null,null,null,null,null,0,0,0,0,0,0,0,0,0,0,0,0,0,0,0,0,0,0,0,0,0,0,0,0,0,0,0]
[0,null,null,null,null,null,0,0,0,0,0,0,0,0,0,0,0,0,0,0,0,0,0,0,0,0,0,0,0,0,0,0,0]
[0,null,null,null,null,null,0,0,0,0,0,0,0,0,0,0,0,0,0,0,0,0,0,0,0,0,0,0,0,0,0,0,0]
[{"$f":"IF(SUM(O588:AH588),1,0)","v":0},null,null,null,null,null,0,0,0,0,0,0,0,0,0,0,0,0,0,0,{"$f":"SUM(T588-S588)","v":0},0,0,{"$f":"SUM(W588-V588)","v":0},0,0,{"$f":"SUM(Z588-Y588)","v":0},0,0,0,0,0,0]
[0,null,null,null,null,null,0,0,0,0,0,0,0,0,0,0,0,0,0,0,0,0,0,0,0,0,0,0,0,0,0,0,0]
[0,null,null,null,null,null,0,0,0,0,0,0,0,0,0,0,0,0,0,0,0,0,0,0,0,0,0,0,0,0,0,0,0]
[0,null,null,null,null,null,0,0,0,0,0,0,0,0,0,0,0,0,0,0,0,0,0,0,0,0,0,0,0,0,0,0,0]
[0,null,null,null,null,null,0,0,0,0,0,0,0,0,0,0,0,0,0,0,0,0,0,0,0,0,0,0,0,0,0,0,0]
[0,null,null,null,null,null,0,0,0,0,0,0,0,0,0,0,0,0,0,0,0,0,0,0,0,0,0,0,0,0,0,0,0]
[0,null,null,null,null,null,0,0,0,0,0,0,0,0,0,0,0,0,0,0,0,0,0,0,0,0,0,0,0,0,0,0,0]
[0,null,null,null,null,null,0,0,0,0,0,0,0,0,0,0,0,0,0,0,0,0,0,0,0,0,0,0,0,0,0,0,0]
[0,null,null,null,null,null,0,0,0,0,0,0,0,0,0,0,0,0,0,0,0,0,0,0,0,0,0,0,0,0,0,0,0]
[0,null,null,null,null,null,0,0,0,0,0,0,0,0,0,0,0,0,0,0,0,0,0,0,0,0,0,0,0,0,0,0,0]
[0,null,null,null,null,null,0,0,0,0,0,0,0,0,0,0,0,0,0,0,0,0,0,0,0,0,0,0,0,0,0,0,0]
[0,null,null,null,null,null,0,0,0,0,0,0,0,0,0,0,0,0,0,0,0,0,0,0,0,0,0,0,0,0,0,0,0]
[0,null,null,null,null,null,0,0,0,0,0,0,0,0,0,0,0,0,0,0,0,0,0,0,0,0,0,0,0,0,0,0,0]
[0,null,null,null,null,null,0,0,0,0,0,0,0,0,0,0,0,0,0,0,0,0,0,0,0,0,0,0,0,0,0,0,0]
[0,null,null,null,null,null,0,0,0,0,0,0,0,0,0,0,0,0,0,0,0,0,0,0,0,0,0,0,0,0,0,0,0]
[0,null,null,null,null,null,0,0,0,0,0,0,0,0,0,0,0,0,0,0,0,0,0,0,0,0,0,0,0,0,0,0,0]
[0,null,null,null,null,null,0,0,0,0,0,0,0,0,0,0,0,0,0,0,0,0,0,0,0,0,0,0,0,0,0,0,0]
[0,null,null,null,null,null,0,0,0,0,0,0,0,0,0,0,0,0,0,0,0,0,0,0,0,0,0,0,0,0,0,0,0]
[0,null,null,null,null,null,0,0,0,0,0,0,0,0,0,0,0,0,0,0,0,0,0,0,0,0,0,0,0,0,0,0,0]
[0,null,null,null,null,null,0,0,0,0,0,0,0,0,0,0,0,0,0,0,0,0,0,0,0,0,0,0,0,0,0,0,0]
[0,null,null,null,null,null,0,0,0,0,0,0,0,0,0,0,0,0,0,0,0,0,0,0,0,0,0,0,0,0,0,0,0]
[0,null,null,null,null,null,0,0,0,0,0,0,0,0,0,0,0,0,0,0,0,0,0,0,0,0,0,0,0,0,0,0,0]
[0,null,null,null,null,null,0,0,0,0,0,0,0,0,0,0,0,0,0,0,0,0,0,0,0,0,0,0,0,0,0,0,0]
[0]
[{"$f":"IF(G612<>\"\",1,0)","v":1},null,null,null,null,2,"Large projects (cost between R90 and R400 million per year -Totalling at least R250 million but less than R1 billion over the MTEF)",null,null,null,null,null,null,null,{"$f":"SUM(O613:O1212)","v":0},{"$f":"SUM(P613:P1212)","v":0},0,0,0,0,0,0,0,0,0,0,0,0,0,0,0,0,0,0]
[0,null,null,null,null,null,0,0,0,0,0,0,0,0,0,0,0,0,0,0,{"$f":"SUM(T613-S613)","v":0},0,0,{"$f":"SUM(W613-V613)","v":0},0,0,{"$f":"SUM(Z613-Y613)","v":0},0,0,0,0,0,0]
[0,null,null,null,null,null,0,0,0,0,0,0,0,0,0,0,0,0,0,0,0,0,0,0,0,0,0,0,0,0,0,0,0]
[0,null,null,null,null,null,0,0,0,0,0,0,0,0,0,0,0,0,0,0,0,0,0,0,0,0,0,0,0,0,0,0,0]
[0,null,null,null,null,null,0,0,0,0,0,0,0,0,0,0,0,0,0,0,0,0,0,0,0,0,0,0,0,0,0,0,0]
[0,null,null,null,null,null,0,0,0,0,0,0,0,0,0,0,0,0,0,0,0,0,0,0,0,0,0,0,0,0,0,0,0]
[0,null,null,null,null,null,0,0,0,0,0,0,0,0,0,0,0,0,0,0,0,0,0,0,0,0,0,0,0,0,0,0,0]
[0,null,null,null,null,null,0,0,0,0,0,0,0,0,0,0,0,0,0,0,0,0,0,0,0,0,0,0,0,0,0,0,0]
[0,null,null,null,null,null,0,0,0,0,0,0,0,0,0,0,0,0,0,0,0,0,0,0,0,0,0,0,0,0,0,0,0]
[0,null,null,null,null,null,0,0,0,0,0,0,0,0,0,0,0,0,0,0,0,0,0,0,0,0,0,0,0,0,0,0,0]
[0,null,null,null,null,null,0,0,0,0,0,0,0,0,0,0,0,0,0,0,0,0,0,0,0,0,0,0,0,0,0,0,0]
[0,null,null,null,null,null,0,0,0,0,0,0,0,0,0,0,0,0,0,0,0,0,0,0,0,0,0,0,0,0,0,0,0]
[0,null,null,null,null,null,0,0,0,0,0,0,0,0,0,0,0,0,0,0,0,0,0,0,0,0,0,0,0,0,0,0,0]
[0,null,null,null,null,null,0,0,0,0,0,0,0,0,0,0,0,0,0,0,0,0,0,0,0,0,0,0,0,0,0,0,0]
[0,null,null,null,null,null,0,0,0,0,0,0,0,0,0,0,0,0,0,0,0,0,0,0,0,0,0,0,0,0,0,0,0]
[0,null,null,null,null,null,0,0,0,0,0,0,0,0,0,0,0,0,0,0,0,0,0,0,0,0,0,0,0,0,0,0,0]
[0,null,null,null,null,null,0,0,0,0,0,0,0,0,0,0,0,0,0,0,0,0,0,0,0,0,0,0,0,0,0,0,0]
[0,null,null,null,null,null,0,0,0,0,0,0,0,0,0,0,0,0,0,0,0,0,0,0,0,0,0,0,0,0,0,0,0]
[0,null,null,null,null,null,0,0,0,0,0,0,0,0,0,0,0,0,0,0,0,0,0,0,0,0,0,0,0,0,0,0,0]
[0,null,null,null,null,null,0,0,0,0,0,0,0,0,0,0,0,0,0,0,0,0,0,0,0,0,0,0,0,0,0,0,0]
[0,null,null,null,null,null,0,0,0,0,0,0,0,0,0,0,0,0,0,0,0,0,0,0,0,0,0,0,0,0,0,0,0]
[0,null,null,null,null,null,0,0,0,0,0,0,0,0,0,0,0,0,0,0,0,0,0,0,0,0,0,0,0,0,0,0,0]
[0,null,null,null,null,null,0,0,0,0,0,0,0,0,0,0,0,0,0,0,0,0,0,0,0,0,0,0,0,0,0,0,0]
[0,null,null,null,null,null,0,0,0,0,0,0,0,0,0,0,0,0,0,0,0,0,0,0,0,0,0,0,0,0,0,0,0]
[0,null,null,null,null,null,0,0,0,0,0,0,0,0,0,0,0,0,0,0,0,0,0,0,0,0,0,0,0,0,0,0,0]
[0,null,null,null,null,null,0,0,0,0,0,0,0,0,0,0,0,0,0,0,0,0,0,0,0,0,0,0,0,0,0,0,0]
[0,null,null,null,null,null,0,0,0,0,0,0,0,0,0,0,0,0,0,0,0,0,0,0,0,0,0,0,0,0,0,0,0]
[0,null,null,null,null,null,0,0,0,0,0,0,0,0,0,0,0,0,0,0,0,0,0,0,0,0,0,0,0,0,0,0,0]
[0,null,null,null,null,null,0,0,0,0,0,0,0,0,0,0,0,0,0,0,0,0,0,0,0,0,0,0,0,0,0,0,0]
[0,null,null,null,null,null,0,0,0,0,0,0,0,0,0,0,0,0,0,0,0,0,0,0,0,0,0,0,0,0,0,0,0]
[0,null,null,null,null,null,0,0,0,0,0,0,0,0,0,0,0,0,0,0,0,0,0,0,0,0,0,0,0,0,0,0,0]
[0,null,null,null,null,null,0,0,0,0,0,0,0,0,0,0,0,0,0,0,0,0,0,0,0,0,0,0,0,0,0,0,0]
[0,null,null,null,null,null,0,0,0,0,0,0,0,0,0,0,0,0,0,0,0,0,0,0,0,0,0,0,0,0,0,0,0]
[0,null,null,null,null,null,0,0,0,0,0,0,0,0,0,0,0,0,0,0,0,0,0,0,0,0,0,0,0,0,0,0,0]
[0,null,null,null,null,null,0,0,0,0,0,0,0,0,0,0,0,0,0,0,0,0,0,0,0,0,0,0,0,0,0,0,0]
[0,null,null,null,null,null,0,0,0,0,0,0,0,0,0,0,0,0,0,0,0,0,0,0,0,0,0,0,0,0,0,0,0]
[0,null,null,null,null,null,0,0,0,0,0,0,0,0,0,0,0,0,0,0,0,0,0,0,0,0,0,0,0,0,0,0,0]
[0,null,null,null,null,null,0,0,0,0,0,0,0,0,0,0,0,0,0,0,0,0,0,0,0,0,0,0,0,0,0,0,0]
[0,null,null,null,null,null,0,0,0,0,0,0,0,0,0,0,0,0,0,0,0,0,0,0,0,0,0,0,0,0,0,0,0]
[0,null,null,null,null,null,0,0,0,0,0,0,0,0,0,0,0,0,0,0,0,0,0,0,0,0,0,0,0,0,0,0,0]
[{"$f":"IF(SUM(O652:AH652),1,0)","v":0},null,null,null,null,null,0,0,0,0,0,0,0,0,0,0,0,0,0,0,0,0,0,0,0,0,0,0,0,0,0,0,0]
[0,null,null,null,null,null,0,0,0,0,0,0,0,0,0,0,0,0,0,0,0,0,0,0,0,0,0,0,0,0,0,0,0]
[0,null,null,null,null,null,0,0,0,0,0,0,0,0,0,0,0,0,0,0,0,0,0,0,0,0,0,0,0,0,0,0,0]
[0,null,null,null,null,null,0,0,0,0,0,0,0,0,0,0,0,0,0,0,0,0,0,0,0,0,0,0,0,0,0,0,0]
[0,null,null,null,null,null,0,0,0,0,0,0,0,0,0,0,0,0,0,0,0,0,0,0,0,0,0,0,0,0,0,0,0]
[0,null,null,null,null,null,0,0,0,0,0,0,0,0,0,0,0,0,0,0,0,0,0,0,0,0,0,0,0,0,0,0,0]
[0,null,null,null,null,null,0,0,0,0,0,0,0,0,0,0,0,0,0,0,0,0,0,0,0,0,0,0,0,0,0,0,0]
[0,null,null,null,null,null,0,0,0,0,0,0,0,0,0,0,0,0,0,0,0,0,0,0,0,0,0,0,0,0,0,0,0]
[0,null,null,null,null,null,0,0,0,0,0,0,0,0,0,0,0,0,0,0,0,0,0,0,0,0,0,0,0,0,0,0,0]
[0,null,null,null,null,null,0,0,0,0,0,0,0,0,0,0,0,0,0,0,0,0,0,0,0,0,0,0,0,0,0,0,0]
[0,null,null,null,null,null,0,0,0,0,0,0,0,0,0,0,0,0,0,0,0,0,0,0,0,0,0,0,0,0,0,0,0]
[0,null,null,null,null,null,0,0,0,0,0,0,0,0,0,0,0,0,0,0,0,0,0,0,0,0,0,0,0,0,0,0,0]
[0,null,null,null,null,null,0,0,0,0,0,0,0,0,0,0,0,0,0,0,0,0,0,0,0,0,0,0,0,0,0,0,0]
[0,null,null,null,null,null,0,0,0,0,0,0,0,0,0,0,0,0,0,0,0,0,0,0,0,0,0,0,0,0,0,0,0]
[0,null,null,null,null,null,0,0,0,0,0,0,0,0,0,0,0,0,0,0,0,0,0,0,0,0,0,0,0,0,0,0,0]
[0,null,null,null,null,null,0,0,0,0,0,0,0,0,0,0,0,0,0,0,0,0,0,0,0,0,0,0,0,0,0,0,0]
[0,null,null,null,null,null,0,0,0,0,0,0,0,0,0,0,0,0,0,0,0,0,0,0,0,0,0,0,0,0,0,0,0]
[0,null,null,null,null,null,0,0,0,0,0,0,0,0,0,0,0,0,0,0,0,0,0,0,0,0,0,0,0,0,0,0,0]
[0,null,null,null,null,null,0,0,0,0,0,0,0,0,0,0,0,0,0,0,0,0,0,0,0,0,0,0,0,0,0,0,0]
[0,null,null,null,null,null,0,0,0,0,0,0,0,0,0,0,0,0,0,0,0,0,0,0,0,0,0,0,0,0,0,0,0]
[0,null,null,null,null,null,0,0,0,0,0,0,0,0,0,0,0,0,0,0,0,0,0,0,0,0,0,0,0,0,0,0,0]
[0,null,null,null,null,null,0,0,0,0,0,0,0,0,0,0,0,0,0,0,0,0,0,0,0,0,0,0,0,0,0,0,0]
[0,null,null,null,null,null,0,0,0,0,0,0,0,0,0,0,0,0,0,0,0,0,0,0,0,0,0,0,0,0,0,0,0]
[0,null,null,null,null,null,0,0,0,0,0,0,0,0,0,0,0,0,0,0,0,0,0,0,0,0,0,0,0,0,0,0,0]
[0,null,null,null,null,null,0,0,0,0,0,0,0,0,0,0,0,0,0,0,0,0,0,0,0,0,0,0,0,0,0,0,0]
[0,null,null,null,null,null,0,0,0,0,0,0,0,0,0,0,0,0,0,0,{"$f":"SUM(T677-S677)","v":0},0,0,{"$f":"SUM(W677-V677)","v":0},0,0,{"$f":"SUM(Z677-Y677)","v":0},0,0,0,0,0,0]
[0,null,null,null,null,null,0,0,0,0,0,0,0,0,0,0,0,0,0,0,0,0,0,0,0,0,0,0,0,0,0,0,0]
[0,null,null,null,null,null,0,0,0,0,0,0,0,0,0,0,0,0,0,0,0,0,0,0,0,0,0,0,0,0,0,0,0]
[0,null,null,null,null,null,0,0,0,0,0,0,0,0,0,0,0,0,0,0,0,0,0,0,0,0,0,0,0,0,0,0,0]
[0,null,null,null,null,null,0,0,0,0,0,0,0,0,0,0,0,0,0,0,0,0,0,0,0,0,0,0,0,0,0,0,0]
[0,null,null,null,null,null,0,0,0,0,0,0,0,0,0,0,0,0,0,0,0,0,0,0,0,0,0,0,0,0,0,0,0]
[0,null,null,null,null,null,0,0,0,0,0,0,0,0,0,0,0,0,0,0,0,0,0,0,0,0,0,0,0,0,0,0,0]
[0,null,null,null,null,null,0,0,0,0,0,0,0,0,0,0,0,0,0,0,0,0,0,0,0,0,0,0,0,0,0,0,0]
[0,null,null,null,null,null,0,0,0,0,0,0,0,0,0,0,0,0,0,0,0,0,0,0,0,0,0,0,0,0,0,0,0]
[0,null,null,null,null,null,0,0,0,0,0,0,0,0,0,0,0,0,0,0,0,0,0,0,0,0,0,0,0,0,0,0,0]
[0,null,null,null,null,null,0,0,0,0,0,0,0,0,0,0,0,0,0,0,0,0,0,0,0,0,0,0,0,0,0,0,0]
[0,null,null,null,null,null,0,0,0,0,0,0,0,0,0,0,0,0,0,0,0,0,0,0,0,0,0,0,0,0,0,0,0]
[0,null,null,null,null,null,0,0,0,0,0,0,0,0,0,0,0,0,0,0,0,0,0,0,0,0,0,0,0,0,0,0,0]
[0,null,null,null,null,null,0,0,0,0,0,0,0,0,0,0,0,0,0,0,0,0,0,0,0,0,0,0,0,0,0,0,0]
[0,null,null,null,null,null,0,0,0,0,0,0,0,0,0,0,0,0,0,0,0,0,0,0,0,0,0,0,0,0,0,0,0]
[0,null,null,null,null,null,0,0,0,0,0,0,0,0,0,0,0,0,0,0,0,0,0,0,0,0,0,0,0,0,0,0,0]
[0,null,null,null,null,null,0,0,0,0,0,0,0,0,0,0,0,0,0,0,0,0,0,0,0,0,0,0,0,0,0,0,0]
[0,null,null,null,null,null,0,0,0,0,0,0,0,0,0,0,0,0,0,0,0,0,0,0,0,0,0,0,0,0,0,0,0]
[0,null,null,null,null,null,0,0,0,0,0,0,0,0,0,0,0,0,0,0,0,0,0,0,0,0,0,0,0,0,0,0,0]
[0,null,null,null,null,null,0,0,0,0,0,0,0,0,0,0,0,0,0,0,0,0,0,0,0,0,0,0,0,0,0,0,0]
[0,null,null,null,null,null,0,0,0,0,0,0,0,0,0,0,0,0,0,0,0,0,0,0,0,0,0,0,0,0,0,0,0]
[0,null,null,null,null,null,0,0,0,0,0,0,0,0,0,0,0,0,0,0,0,0,0,0,0,0,0,0,0,0,0,0,0]
[0,null,null,null,null,null,0,0,0,0,0,0,0,0,0,0,0,0,0,0,0,0,0,0,0,0,0,0,0,0,0,0,0]
[0,null,null,null,null,null,0,0,0,0,0,0,0,0,0,0,0,0,0,0,0,0,0,0,0,0,0,0,0,0,0,0,0]
[0,null,null,null,null,null,0,0,0,0,0,0,0,0,0,0,0,0,0,0,0,0,0,0,0,0,0,0,0,0,0,0,0]
[0,null,null,null,null,null,0,0,0,0,0,0,0,0,0,0,0,0,0,0,0,0,0,0,0,0,0,0,0,0,0,0,0]
[0,null,null,null,null,null,0,0,0,0,0,0,0,0,0,0,0,0,0,0,0,0,0,0,0,0,0,0,0,0,0,0,0]
[0,null,null,null,null,null,0,0,0,0,0,0,0,0,0,0,0,0,0,0,0,0,0,0,0,0,0,0,0,0,0,0,0]
[0,null,null,null,null,null,0,0,0,0,0,0,0,0,0,0,0,0,0,0,0,0,0,0,0,0,0,0,0,0,0,0,0]
[0,null,null,null,null,null,0,0,0,0,0,0,0,0,0,0,0,0,0,0,0,0,0,0,0,0,0,0,0,0,0,0,0]
[0,null,null,null,null,null,0,0,0,0,0,0,0,0,0,0,0,0,0,0,0,0,0,0,0,0,0,0,0,0,0,0,0]
[0,null,null,null,null,null,0,0,0,0,0,0,0,0,0,0,0,0,0,0,0,0,0,0,0,0,0,0,0,0,0,0,0]
[0,null,null,null,null,null,0,0,0,0,0,0,0,0,0,0,0,0,0,0,0,0,0,0,0,0,0,0,0,0,0,0,0]
[0,null,null,null,null,null,0,0,0,0,0,0,0,0,0,0,0,0,0,0,0,0,0,0,0,0,0,0,0,0,0,0,0]
[0,null,null,null,null,null,0,0,0,0,0,0,0,0,0,0,0,0,0,0,0,0,0,0,0,0,0,0,0,0,0,0,0]
[0,null,null,null,null,null,0,0,0,0,0,0,0,0,0,0,0,0,0,0,0,0,0,0,0,0,0,0,0,0,0,0,0]
[0,null,null,null,null,null,0,0,0,0,0,0,0,0,0,0,0,0,0,0,0,0,0,0,0,0,0,0,0,0,0,0,0]
[0,null,null,null,null,null,0,0,0,0,0,0,0,0,0,0,0,0,0,0,0,0,0,0,0,0,0,0,0,0,0,0,0]
[0,null,null,null,null,null,0,0,0,0,0,0,0,0,0,0,0,0,0,0,0,0,0,0,0,0,0,0,0,0,0,0,0]
[{"$f":"IF(SUM(O716:AH716),1,0)","v":0},null,null,null,null,null,0,0,0,0,0,0,0,0,0,0,0,0,0,0,0,0,0,0,0,0,0,0,0,0,0,0,0]
[0,null,null,null,null,null,0,0,0,0,0,0,0,0,0,0,0,0,0,0,0,0,0,0,0,0,0,0,0,0,0,0,0]
[0,null,null,null,null,null,0,0,0,0,0,0,0,0,0,0,0,0,0,0,0,0,0,0,0,0,0,0,0,0,0,0,0]
[0,null,null,null,null,null,0,0,0,0,0,0,0,0,0,0,0,0,0,0,0,0,0,0,0,0,0,0,0,0,0,0,0]
[0,null,null,null,null,null,0,0,0,0,0,0,0,0,0,0,0,0,0,0,0,0,0,0,0,0,0,0,0,0,0,0,0]
[0,null,null,null,null,null,0,0,0,0,0,0,0,0,0,0,0,0,0,0,0,0,0,0,0,0,0,0,0,0,0,0,0]
[0,null,null,null,null,null,0,0,0,0,0,0,0,0,0,0,0,0,0,0,0,0,0,0,0,0,0,0,0,0,0,0,0]
[0,null,null,null,null,null,0,0,0,0,0,0,0,0,0,0,0,0,0,0,0,0,0,0,0,0,0,0,0,0,0,0,0]
[0,null,null,null,null,null,0,0,0,0,0,0,0,0,0,0,0,0,0,0,0,0,0,0,0,0,0,0,0,0,0,0,0]
[0,null,null,null,null,null,0,0,0,0,0,0,0,0,0,0,0,0,0,0,0,0,0,0,0,0,0,0,0,0,0,0,0]
[0,null,null,null,null,null,0,0,0,0,0,0,0,0,0,0,0,0,0,0,0,0,0,0,0,0,0,0,0,0,0,0,0]
[0,null,null,null,null,null,0,0,0,0,0,0,0,0,0,0,0,0,0,0,0,0,0,0,0,0,0,0,0,0,0,0,0]
[0,null,null,null,null,null,0,0,0,0,0,0,0,0,0,0,0,0,0,0,0,0,0,0,0,0,0,0,0,0,0,0,0]
[0,null,null,null,null,null,0,0,0,0,0,0,0,0,0,0,0,0,0,0,0,0,0,0,0,0,0,0,0,0,0,0,0]
[0,null,null,null,null,null,0,0,0,0,0,0,0,0,0,0,0,0,0,0,0,0,0,0,0,0,0,0,0,0,0,0,0]
[0,null,null,null,null,null,0,0,0,0,0,0,0,0,0,0,0,0,0,0,0,0,0,0,0,0,0,0,0,0,0,0,0]
[0,null,null,null,null,null,0,0,0,0,0,0,0,0,0,0,0,0,0,0,0,0,0,0,0,0,0,0,0,0,0,0,0]
[0,null,null,null,null,null,0,0,0,0,0,0,0,0,0,0,0,0,0,0,0,0,0,0,0,0,0,0,0,0,0,0,0]
[0,null,null,null,null,null,0,0,0,0,0,0,0,0,0,0,0,0,0,0,0,0,0,0,0,0,0,0,0,0,0,0,0]
[0,null,null,null,null,null,0,0,0,0,0,0,0,0,0,0,0,0,0,0,0,0,0,0,0,0,0,0,0,0,0,0,0]
[0,null,null,null,null,null,0,0,0,0,0,0,0,0,0,0,0,0,0,0,0,0,0,0,0,0,0,0,0,0,0,0,0]
[0,null,null,null,null,null,0,0,0,0,0,0,0,0,0,0,0,0,0,0,0,0,0,0,0,0,0,0,0,0,0,0,0]
[0,null,null,null,null,null,0,0,0,0,0,0,0,0,0,0,0,0,0,0,0,0,0,0,0,0,0,0,0,0,0,0,0]
[0,null,null,null,null,null,0,0,0,0,0,0,0,0,0,0,0,0,0,0,0,0,0,0,0,0,0,0,0,0,0,0,0]
[0,null,null,null,null,null,0,0,0,0,0,0,0,0,0,0,0,0,0,0,0,0,0,0,0,0,0,0,0,0,0,0,0]
[0,null,null,null,null,null,0,0,0,0,0,0,0,0,0,0,0,0,0,0,{"$f":"SUM(T741-S741)","v":0},0,0,{"$f":"SUM(W741-V741)","v":0},0,0,{"$f":"SUM(Z741-Y741)","v":0},0,0,0,0,0,0]
[0,null,null,null,null,null,0,0,0,0,0,0,0,0,0,0,0,0,0,0,0,0,0,0,0,0,0,0,0,0,0,0,0]
[0,null,null,null,null,null,0,0,0,0,0,0,0,0,0,0,0,0,0,0,0,0,0,0,0,0,0,0,0,0,0,0,0]
[0,null,null,null,null,null,0,0,0,0,0,0,0,0,0,0,0,0,0,0,0,0,0,0,0,0,0,0,0,0,0,0,0]
[0,null,null,null,null,null,0,0,0,0,0,0,0,0,0,0,0,0,0,0,0,0,0,0,0,0,0,0,0,0,0,0,0]
[0,null,null,null,null,null,0,0,0,0,0,0,0,0,0,0,0,0,0,0,0,0,0,0,0,0,0,0,0,0,0,0,0]
[0,null,null,null,null,null,0,0,0,0,0,0,0,0,0,0,0,0,0,0,0,0,0,0,0,0,0,0,0,0,0,0,0]
[0,null,null,null,null,null,0,0,0,0,0,0,0,0,0,0,0,0,0,0,0,0,0,0,0,0,0,0,0,0,0,0,0]
[0,null,null,null,null,null,0,0,0,0,0,0,0,0,0,0,0,0,0,0,0,0,0,0,0,0,0,0,0,0,0,0,0]
[0,null,null,null,null,null,0,0,0,0,0,0,0,0,0,0,0,0,0,0,0,0,0,0,0,0,0,0,0,0,0,0,0]
[0,null,null,null,null,null,0,0,0,0,0,0,0,0,0,0,0,0,0,0,0,0,0,0,0,0,0,0,0,0,0,0,0]
[0,null,null,null,null,null,0,0,0,0,0,0,0,0,0,0,0,0,0,0,0,0,0,0,0,0,0,0,0,0,0,0,0]
[0,null,null,null,null,null,0,0,0,0,0,0,0,0,0,0,0,0,0,0,0,0,0,0,0,0,0,0,0,0,0,0,0]
[0,null,null,null,null,null,0,0,0,0,0,0,0,0,0,0,0,0,0,0,0,0,0,0,0,0,0,0,0,0,0,0,0]
[0,null,null,null,null,null,0,0,0,0,0,0,0,0,0,0,0,0,0,0,0,0,0,0,0,0,0,0,0,0,0,0,0]
[0,null,null,null,null,null,0,0,0,0,0,0,0,0,0,0,0,0,0,0,0,0,0,0,0,0,0,0,0,0,0,0,0]
[0,null,null,null,null,null,0,0,0,0,0,0,0,0,0,0,0,0,0,0,0,0,0,0,0,0,0,0,0,0,0,0,0]
[0,null,null,null,null,null,0,0,0,0,0,0,0,0,0,0,0,0,0,0,0,0,0,0,0,0,0,0,0,0,0,0,0]
[0,null,null,null,null,null,0,0,0,0,0,0,0,0,0,0,0,0,0,0,0,0,0,0,0,0,0,0,0,0,0,0,0]
[0,null,null,null,null,null,0,0,0,0,0,0,0,0,0,0,0,0,0,0,0,0,0,0,0,0,0,0,0,0,0,0,0]
[0,null,null,null,null,null,0,0,0,0,0,0,0,0,0,0,0,0,0,0,0,0,0,0,0,0,0,0,0,0,0,0,0]
[0,null,null,null,null,null,0,0,0,0,0,0,0,0,0,0,0,0,0,0,0,0,0,0,0,0,0,0,0,0,0,0,0]
[0,null,null,null,null,null,0,0,0,0,0,0,0,0,0,0,0,0,0,0,0,0,0,0,0,0,0,0,0,0,0,0,0]
[0,null,null,null,null,null,0,0,0,0,0,0,0,0,0,0,0,0,0,0,0,0,0,0,0,0,0,0,0,0,0,0,0]
[0,null,null,null,null,null,0,0,0,0,0,0,0,0,0,0,0,0,0,0,0,0,0,0,0,0,0,0,0,0,0,0,0]
[0,null,null,null,null,null,0,0,0,0,0,0,0,0,0,0,0,0,0,0,0,0,0,0,0,0,0,0,0,0,0,0,0]
[0,null,null,null,null,null,0,0,0,0,0,0,0,0,0,0,0,0,0,0,0,0,0,0,0,0,0,0,0,0,0,0,0]
[0,null,null,null,null,null,0,0,0,0,0,0,0,0,0,0,0,0,0,0,0,0,0,0,0,0,0,0,0,0,0,0,0]
[0,null,null,null,null,null,0,0,0,0,0,0,0,0,0,0,0,0,0,0,0,0,0,0,0,0,0,0,0,0,0,0,0]
[0,null,null,null,null,null,0,0,0,0,0,0,0,0,0,0,0,0,0,0,0,0,0,0,0,0,0,0,0,0,0,0,0]
[0,null,null,null,null,null,0,0,0,0,0,0,0,0,0,0,0,0,0,0,0,0,0,0,0,0,0,0,0,0,0,0,0]
[0,null,null,null,null,null,0,0,0,0,0,0,0,0,0,0,0,0,0,0,0,0,0,0,0,0,0,0,0,0,0,0,0]
[0,null,null,null,null,null,0,0,0,0,0,0,0,0,0,0,0,0,0,0,0,0,0,0,0,0,0,0,0,0,0,0,0]
[0,null,null,null,null,null,0,0,0,0,0,0,0,0,0,0,0,0,0,0,0,0,0,0,0,0,0,0,0,0,0,0,0]
[0,null,null,null,null,null,0,0,0,0,0,0,0,0,0,0,0,0,0,0,0,0,0,0,0,0,0,0,0,0,0,0,0]
[0,null,null,null,null,null,0,0,0,0,0,0,0,0,0,0,0,0,0,0,0,0,0,0,0,0,0,0,0,0,0,0,0]
[0,null,null,null,null,null,0,0,0,0,0,0,0,0,0,0,0,0,0,0,0,0,0,0,0,0,0,0,0,0,0,0,0]
[0,null,null,null,null,null,0,0,0,0,0,0,0,0,0,0,0,0,0,0,0,0,0,0,0,0,0,0,0,0,0,0,0]
[0,null,null,null,null,null,0,0,0,0,0,0,0,0,0,0,0,0,0,0,0,0,0,0,0,0,0,0,0,0,0,0,0]
[{"$f":"IF(SUM(O780:AH780),1,0)","v":0},null,null,null,null,null,0,0,0,0,0,0,0,0,0,0,0,0,0,0,0,0,0,0,0,0,0,0,0,0,0,0,0]
[0,null,null,null,null,null,0,0,0,0,0,0,0,0,0,0,0,0,0,0,0,0,0,0,0,0,0,0,0,0,0,0,0]
[0,null,null,null,null,null,0,0,0,0,0,0,0,0,0,0,0,0,0,0,0,0,0,0,0,0,0,0,0,0,0,0,0]
[0,null,null,null,null,null,0,0,0,0,0,0,0,0,0,0,0,0,0,0,0,0,0,0,0,0,0,0,0,0,0,0,0]
[0,null,null,null,null,null,0,0,0,0,0,0,0,0,0,0,0,0,0,0,0,0,0,0,0,0,0,0,0,0,0,0,0]
[0,null,null,null,null,null,0,0,0,0,0,0,0,0,0,0,0,0,0,0,0,0,0,0,0,0,0,0,0,0,0,0,0]
[0,null,null,null,null,null,0,0,0,0,0,0,0,0,0,0,0,0,0,0,0,0,0,0,0,0,0,0,0,0,0,0,0]
[0,null,null,null,null,null,0,0,0,0,0,0,0,0,0,0,0,0,0,0,0,0,0,0,0,0,0,0,0,0,0,0,0]
[0,null,null,null,null,null,0,0,0,0,0,0,0,0,0,0,0,0,0,0,0,0,0,0,0,0,0,0,0,0,0,0,0]
[0,null,null,null,null,null,0,0,0,0,0,0,0,0,0,0,0,0,0,0,0,0,0,0,0,0,0,0,0,0,0,0,0]
[0,null,null,null,null,null,0,0,0,0,0,0,0,0,0,0,0,0,0,0,0,0,0,0,0,0,0,0,0,0,0,0,0]
[0,null,null,null,null,null,0,0,0,0,0,0,0,0,0,0,0,0,0,0,0,0,0,0,0,0,0,0,0,0,0,0,0]
[0,null,null,null,null,null,0,0,0,0,0,0,0,0,0,0,0,0,0,0,0,0,0,0,0,0,0,0,0,0,0,0,0]
[0,null,null,null,null,null,0,0,0,0,0,0,0,0,0,0,0,0,0,0,0,0,0,0,0,0,0,0,0,0,0,0,0]
[0,null,null,null,null,null,0,0,0,0,0,0,0,0,0,0,0,0,0,0,0,0,0,0,0,0,0,0,0,0,0,0,0]
[0,null,null,null,null,null,0,0,0,0,0,0,0,0,0,0,0,0,0,0,0,0,0,0,0,0,0,0,0,0,0,0,0]
[0,null,null,null,null,null,0,0,0,0,0,0,0,0,0,0,0,0,0,0,0,0,0,0,0,0,0,0,0,0,0,0,0]
[0,null,null,null,null,null,0,0,0,0,0,0,0,0,0,0,0,0,0,0,0,0,0,0,0,0,0,0,0,0,0,0,0]
[0,null,null,null,null,null,0,0,0,0,0,0,0,0,0,0,0,0,0,0,0,0,0,0,0,0,0,0,0,0,0,0,0]
[0,null,null,null,null,null,0,0,0,0,0,0,0,0,0,0,0,0,0,0,0,0,0,0,0,0,0,0,0,0,0,0,0]
[0,null,null,null,null,null,0,0,0,0,0,0,0,0,0,0,0,0,0,0,0,0,0,0,0,0,0,0,0,0,0,0,0]
[0,null,null,null,null,null,0,0,0,0,0,0,0,0,0,0,0,0,0,0,0,0,0,0,0,0,0,0,0,0,0,0,0]
[0,null,null,null,null,null,0,0,0,0,0,0,0,0,0,0,0,0,0,0,0,0,0,0,0,0,0,0,0,0,0,0,0]
[0,null,null,null,null,null,0,0,0,0,0,0,0,0,0,0,0,0,0,0,0,0,0,0,0,0,0,0,0,0,0,0,0]
[0,null,null,null,null,null,0,0,0,0,0,0,0,0,0,0,0,0,0,0,0,0,0,0,0,0,0,0,0,0,0,0,0]
[0,null,null,null,null,null,0,0,0,0,0,0,0,0,0,0,0,0,0,0,{"$f":"SUM(T805-S805)","v":0},0,0,{"$f":"SUM(W805-V805)","v":0},0,0,{"$f":"SUM(Z805-Y805)","v":0},0,0,0,0,0,0]
[0,null,null,null,null,null,0,0,0,0,0,0,0,0,0,0,0,0,0,0,0,0,0,0,0,0,0,0,0,0,0,0,0]
[0,null,null,null,null,null,0,0,0,0,0,0,0,0,0,0,0,0,0,0,0,0,0,0,0,0,0,0,0,0,0,0,0]
[0,null,null,null,null,null,0,0,0,0,0,0,0,0,0,0,0,0,0,0,0,0,0,0,0,0,0,0,0,0,0,0,0]
[0,null,null,null,null,null,0,0,0,0,0,0,0,0,0,0,0,0,0,0,0,0,0,0,0,0,0,0,0,0,0,0,0]
[0,null,null,null,null,null,0,0,0,0,0,0,0,0,0,0,0,0,0,0,0,0,0,0,0,0,0,0,0,0,0,0,0]
[0,null,null,null,null,null,0,0,0,0,0,0,0,0,0,0,0,0,0,0,0,0,0,0,0,0,0,0,0,0,0,0,0]
[0,null,null,null,null,null,0,0,0,0,0,0,0,0,0,0,0,0,0,0,0,0,0,0,0,0,0,0,0,0,0,0,0]
[0,null,null,null,null,null,0,0,0,0,0,0,0,0,0,0,0,0,0,0,0,0,0,0,0,0,0,0,0,0,0,0,0]
[0,null,null,null,null,null,0,0,0,0,0,0,0,0,0,0,0,0,0,0,0,0,0,0,0,0,0,0,0,0,0,0,0]
[0,null,null,null,null,null,0,0,0,0,0,0,0,0,0,0,0,0,0,0,0,0,0,0,0,0,0,0,0,0,0,0,0]
[0,null,null,null,null,null,0,0,0,0,0,0,0,0,0,0,0,0,0,0,0,0,0,0,0,0,0,0,0,0,0,0,0]
[0,null,null,null,null,null,0,0,0,0,0,0,0,0,0,0,0,0,0,0,0,0,0,0,0,0,0,0,0,0,0,0,0]
[0,null,null,null,null,null,0,0,0,0,0,0,0,0,0,0,0,0,0,0,0,0,0,0,0,0,0,0,0,0,0,0,0]
[0,null,null,null,null,null,0,0,0,0,0,0,0,0,0,0,0,0,0,0,0,0,0,0,0,0,0,0,0,0,0,0,0]
[0,null,null,null,null,null,0,0,0,0,0,0,0,0,0,0,0,0,0,0,0,0,0,0,0,0,0,0,0,0,0,0,0]
[0,null,null,null,null,null,0,0,0,0,0,0,0,0,0,0,0,0,0,0,0,0,0,0,0,0,0,0,0,0,0,0,0]
[0,null,null,null,null,null,0,0,0,0,0,0,0,0,0,0,0,0,0,0,0,0,0,0,0,0,0,0,0,0,0,0,0]
[0,null,null,null,null,null,0,0,0,0,0,0,0,0,0,0,0,0,0,0,0,0,0,0,0,0,0,0,0,0,0,0,0]
[0,null,null,null,null,null,0,0,0,0,0,0,0,0,0,0,0,0,0,0,0,0,0,0,0,0,0,0,0,0,0,0,0]
[0,null,null,null,null,null,0,0,0,0,0,0,0,0,0,0,0,0,0,0,0,0,0,0,0,0,0,0,0,0,0,0,0]
[0,null,null,null,null,null,0,0,0,0,0,0,0,0,0,0,0,0,0,0,0,0,0,0,0,0,0,0,0,0,0,0,0]
[0,null,null,null,null,null,0,0,0,0,0,0,0,0,0,0,0,0,0,0,0,0,0,0,0,0,0,0,0,0,0,0,0]
[0,null,null,null,null,null,0,0,0,0,0,0,0,0,0,0,0,0,0,0,0,0,0,0,0,0,0,0,0,0,0,0,0]
[0,null,null,null,null,null,0,0,0,0,0,0,0,0,0,0,0,0,0,0,0,0,0,0,0,0,0,0,0,0,0,0,0]
[0,null,null,null,null,null,0,0,0,0,0,0,0,0,0,0,0,0,0,0,0,0,0,0,0,0,0,0,0,0,0,0,0]
[0,null,null,null,null,null,0,0,0,0,0,0,0,0,0,0,0,0,0,0,0,0,0,0,0,0,0,0,0,0,0,0,0]
[0,null,null,null,null,null,0,0,0,0,0,0,0,0,0,0,0,0,0,0,0,0,0,0,0,0,0,0,0,0,0,0,0]
[0,null,null,null,null,null,0,0,0,0,0,0,0,0,0,0,0,0,0,0,0,0,0,0,0,0,0,0,0,0,0,0,0]
[0,null,null,null,null,null,0,0,0,0,0,0,0,0,0,0,0,0,0,0,0,0,0,0,0,0,0,0,0,0,0,0,0]
[0,null,null,null,null,null,0,0,0,0,0,0,0,0,0,0,0,0,0,0,0,0,0,0,0,0,0,0,0,0,0,0,0]
[0,null,null,null,null,null,0,0,0,0,0,0,0,0,0,0,0,0,0,0,0,0,0,0,0,0,0,0,0,0,0,0,0]
[0,null,null,null,null,null,0,0,0,0,0,0,0,0,0,0,0,0,0,0,0,0,0,0,0,0,0,0,0,0,0,0,0]
[0,null,null,null,null,null,0,0,0,0,0,0,0,0,0,0,0,0,0,0,0,0,0,0,0,0,0,0,0,0,0,0,0]
[0,null,null,null,null,null,0,0,0,0,0,0,0,0,0,0,0,0,0,0,0,0,0,0,0,0,0,0,0,0,0,0,0]
[0,null,null,null,null,null,0,0,0,0,0,0,0,0,0,0,0,0,0,0,0,0,0,0,0,0,0,0,0,0,0,0,0]
[0,null,null,null,null,null,0,0,0,0,0,0,0,0,0,0,0,0,0,0,0,0,0,0,0,0,0,0,0,0,0,0,0]
[0,null,null,null,null,null,0,0,0,0,0,0,0,0,0,0,0,0,0,0,0,0,0,0,0,0,0,0,0,0,0,0,0]
[0,null,null,null,null,null,0,0,0,0,0,0,0,0,0,0,0,0,0,0,0,0,0,0,0,0,0,0,0,0,0,0,0]
[{"$f":"IF(SUM(O844:AH844),1,0)","v":0},null,null,null,null,null,0,0,0,0,0,0,0,0,0,0,0,0,0,0,0,0,0,0,0,0,0,0,0,0,0,0,0]
[0,null,null,null,null,null,0,0,0,0,0,0,0,0,0,0,0,0,0,0,0,0,0,0,0,0,0,0,0,0,0,0,0]
[0,null,null,null,null,null,0,0,0,0,0,0,0,0,0,0,0,0,0,0,0,0,0,0,0,0,0,0,0,0,0,0,0]
[0,null,null,null,null,null,0,0,0,0,0,0,0,0,0,0,0,0,0,0,0,0,0,0,0,0,0,0,0,0,0,0,0]
[0,null,null,null,null,null,0,0,0,0,0,0,0,0,0,0,0,0,0,0,0,0,0,0,0,0,0,0,0,0,0,0,0]
[0,null,null,null,null,null,0,0,0,0,0,0,0,0,0,0,0,0,0,0,0,0,0,0,0,0,0,0,0,0,0,0,0]
[0,null,null,null,null,null,0,0,0,0,0,0,0,0,0,0,0,0,0,0,0,0,0,0,0,0,0,0,0,0,0,0,0]
[0,null,null,null,null,null,0,0,0,0,0,0,0,0,0,0,0,0,0,0,0,0,0,0,0,0,0,0,0,0,0,0,0]
[0,null,null,null,null,null,0,0,0,0,0,0,0,0,0,0,0,0,0,0,0,0,0,0,0,0,0,0,0,0,0,0,0]
[0,null,null,null,null,null,0,0,0,0,0,0,0,0,0,0,0,0,0,0,0,0,0,0,0,0,0,0,0,0,0,0,0]
[0,null,null,null,null,null,0,0,0,0,0,0,0,0,0,0,0,0,0,0,0,0,0,0,0,0,0,0,0,0,0,0,0]
[0,null,null,null,null,null,0,0,0,0,0,0,0,0,0,0,0,0,0,0,0,0,0,0,0,0,0,0,0,0,0,0,0]
[0,null,null,null,null,null,0,0,0,0,0,0,0,0,0,0,0,0,0,0,0,0,0,0,0,0,0,0,0,0,0,0,0]
[0,null,null,null,null,null,0,0,0,0,0,0,0,0,0,0,0,0,0,0,0,0,0,0,0,0,0,0,0,0,0,0,0]
[0,null,null,null,null,null,0,0,0,0,0,0,0,0,0,0,0,0,0,0,0,0,0,0,0,0,0,0,0,0,0,0,0]
[0,null,null,null,null,null,0,0,0,0,0,0,0,0,0,0,0,0,0,0,0,0,0,0,0,0,0,0,0,0,0,0,0]
[0,null,null,null,null,null,0,0,0,0,0,0,0,0,0,0,0,0,0,0,0,0,0,0,0,0,0,0,0,0,0,0,0]
[0,null,null,null,null,null,0,0,0,0,0,0,0,0,0,0,0,0,0,0,0,0,0,0,0,0,0,0,0,0,0,0,0]
[0,null,null,null,null,null,0,0,0,0,0,0,0,0,0,0,0,0,0,0,0,0,0,0,0,0,0,0,0,0,0,0,0]
[0,null,null,null,null,null,0,0,0,0,0,0,0,0,0,0,0,0,0,0,0,0,0,0,0,0,0,0,0,0,0,0,0]
[0,null,null,null,null,null,0,0,0,0,0,0,0,0,0,0,0,0,0,0,0,0,0,0,0,0,0,0,0,0,0,0,0]
[0,null,null,null,null,null,0,0,0,0,0,0,0,0,0,0,0,0,0,0,0,0,0,0,0,0,0,0,0,0,0,0,0]
[0,null,null,null,null,null,0,0,0,0,0,0,0,0,0,0,0,0,0,0,0,0,0,0,0,0,0,0,0,0,0,0,0]
[0,null,null,null,null,null,0,0,0,0,0,0,0,0,0,0,0,0,0,0,0,0,0,0,0,0,0,0,0,0,0,0,0]
[0,null,null,null,null,null,0,0,0,0,0,0,0,0,0,0,0,0,0,0,0,0,0,0,0,0,0,0,0,0,0,0,0]
[0,null,null,null,null,null,0,0,0,0,0,0,0,0,0,0,0,0,0,0,{"$f":"SUM(T869-S869)","v":0},0,0,{"$f":"SUM(W869-V869)","v":0},0,0,{"$f":"SUM(Z869-Y869)","v":0},0,0,0,0,0,0]
[0,null,null,null,null,null,0,0,0,0,0,0,0,0,0,0,0,0,0,0,0,0,0,0,0,0,0,0,0,0,0,0,0]
[0,null,null,null,null,null,0,0,0,0,0,0,0,0,0,0,0,0,0,0,0,0,0,0,0,0,0,0,0,0,0,0,0]
[0,null,null,null,null,null,0,0,0,0,0,0,0,0,0,0,0,0,0,0,0,0,0,0,0,0,0,0,0,0,0,0,0]
[0,null,null,null,null,null,0,0,0,0,0,0,0,0,0,0,0,0,0,0,0,0,0,0,0,0,0,0,0,0,0,0,0]
[0,null,null,null,null,null,0,0,0,0,0,0,0,0,0,0,0,0,0,0,0,0,0,0,0,0,0,0,0,0,0,0,0]
[0,null,null,null,null,null,0,0,0,0,0,0,0,0,0,0,0,0,0,0,0,0,0,0,0,0,0,0,0,0,0,0,0]
[0,null,null,null,null,null,0,0,0,0,0,0,0,0,0,0,0,0,0,0,0,0,0,0,0,0,0,0,0,0,0,0,0]
[0,null,null,null,null,null,0,0,0,0,0,0,0,0,0,0,0,0,0,0,0,0,0,0,0,0,0,0,0,0,0,0,0]
[0,null,null,null,null,null,0,0,0,0,0,0,0,0,0,0,0,0,0,0,0,0,0,0,0,0,0,0,0,0,0,0,0]
[0,null,null,null,null,null,0,0,0,0,0,0,0,0,0,0,0,0,0,0,0,0,0,0,0,0,0,0,0,0,0,0,0]
[0,null,null,null,null,null,0,0,0,0,0,0,0,0,0,0,0,0,0,0,0,0,0,0,0,0,0,0,0,0,0,0,0]
[0,null,null,null,null,null,0,0,0,0,0,0,0,0,0,0,0,0,0,0,0,0,0,0,0,0,0,0,0,0,0,0,0]
[0,null,null,null,null,null,0,0,0,0,0,0,0,0,0,0,0,0,0,0,0,0,0,0,0,0,0,0,0,0,0,0,0]
[0,null,null,null,null,null,0,0,0,0,0,0,0,0,0,0,0,0,0,0,0,0,0,0,0,0,0,0,0,0,0,0,0]
[0,null,null,null,null,null,0,0,0,0,0,0,0,0,0,0,0,0,0,0,0,0,0,0,0,0,0,0,0,0,0,0,0]
[0,null,null,null,null,null,0,0,0,0,0,0,0,0,0,0,0,0,0,0,0,0,0,0,0,0,0,0,0,0,0,0,0]
[0,null,null,null,null,null,0,0,0,0,0,0,0,0,0,0,0,0,0,0,0,0,0,0,0,0,0,0,0,0,0,0,0]
[0,null,null,null,null,null,0,0,0,0,0,0,0,0,0,0,0,0,0,0,0,0,0,0,0,0,0,0,0,0,0,0,0]
[0,null,null,null,null,null,0,0,0,0,0,0,0,0,0,0,0,0,0,0,0,0,0,0,0,0,0,0,0,0,0,0,0]
[0,null,null,null,null,null,0,0,0,0,0,0,0,0,0,0,0,0,0,0,0,0,0,0,0,0,0,0,0,0,0,0,0]
[0,null,null,null,null,null,0,0,0,0,0,0,0,0,0,0,0,0,0,0,0,0,0,0,0,0,0,0,0,0,0,0,0]
[0,null,null,null,null,null,0,0,0,0,0,0,0,0,0,0,0,0,0,0,0,0,0,0,0,0,0,0,0,0,0,0,0]
[0,null,null,null,null,null,0,0,0,0,0,0,0,0,0,0,0,0,0,0,0,0,0,0,0,0,0,0,0,0,0,0,0]
[0,null,null,null,null,null,0,0,0,0,0,0,0,0,0,0,0,0,0,0,0,0,0,0,0,0,0,0,0,0,0,0,0]
[0,null,null,null,null,null,0,0,0,0,0,0,0,0,0,0,0,0,0,0,0,0,0,0,0,0,0,0,0,0,0,0,0]
[0,null,null,null,null,null,0,0,0,0,0,0,0,0,0,0,0,0,0,0,0,0,0,0,0,0,0,0,0,0,0,0,0]
[0,null,null,null,null,null,0,0,0,0,0,0,0,0,0,0,0,0,0,0,0,0,0,0,0,0,0,0,0,0,0,0,0]
[0,null,null,null,null,null,0,0,0,0,0,0,0,0,0,0,0,0,0,0,0,0,0,0,0,0,0,0,0,0,0,0,0]
[0,null,null,null,null,null,0,0,0,0,0,0,0,0,0,0,0,0,0,0,0,0,0,0,0,0,0,0,0,0,0,0,0]
[0,null,null,null,null,null,0,0,0,0,0,0,0,0,0,0,0,0,0,0,0,0,0,0,0,0,0,0,0,0,0,0,0]
[0,null,null,null,null,null,0,0,0,0,0,0,0,0,0,0,0,0,0,0,0,0,0,0,0,0,0,0,0,0,0,0,0]
[0,null,null,null,null,null,0,0,0,0,0,0,0,0,0,0,0,0,0,0,0,0,0,0,0,0,0,0,0,0,0,0,0]
[0,null,null,null,null,null,0,0,0,0,0,0,0,0,0,0,0,0,0,0,0,0,0,0,0,0,0,0,0,0,0,0,0]
[0,null,null,null,null,null,0,0,0,0,0,0,0,0,0,0,0,0,0,0,0,0,0,0,0,0,0,0,0,0,0,0,0]
[0,null,null,null,null,null,0,0,0,0,0,0,0,0,0,0,0,0,0,0,0,0,0,0,0,0,0,0,0,0,0,0,0]
[0,null,null,null,null,null,0,0,0,0,0,0,0,0,0,0,0,0,0,0,0,0,0,0,0,0,0,0,0,0,0,0,0]
[0,null,null,null,null,null,0,0,0,0,0,0,0,0,0,0,0,0,0,0,0,0,0,0,0,0,0,0,0,0,0,0,0]
[0,null,null,null,null,null,0,0,0,0,0,0,0,0,0,0,0,0,0,0,0,0,0,0,0,0,0,0,0,0,0,0,0]
[{"$f":"IF(SUM(O908:AH908),1,0)","v":0},null,null,null,null,null,0,0,0,0,0,0,0,0,0,0,0,0,0,0,0,0,0,0,0,0,0,0,0,0,0,0,0]
[0,null,null,null,null,null,0,0,0,0,0,0,0,0,0,0,0,0,0,0,0,0,0,0,0,0,0,0,0,0,0,0,0]
[0,null,null,null,null,null,0,0,0,0,0,0,0,0,0,0,0,0,0,0,0,0,0,0,0,0,0,0,0,0,0,0,0]
[0,null,null,null,null,null,0,0,0,0,0,0,0,0,0,0,0,0,0,0,0,0,0,0,0,0,0,0,0,0,0,0,0]
[0,null,null,null,null,null,0,0,0,0,0,0,0,0,0,0,0,0,0,0,0,0,0,0,0,0,0,0,0,0,0,0,0]
[0,null,null,null,null,null,0,0,0,0,0,0,0,0,0,0,0,0,0,0,0,0,0,0,0,0,0,0,0,0,0,0,0]
[0,null,null,null,null,null,0,0,0,0,0,0,0,0,0,0,0,0,0,0,0,0,0,0,0,0,0,0,0,0,0,0,0]
[0,null,null,null,null,null,0,0,0,0,0,0,0,0,0,0,0,0,0,0,0,0,0,0,0,0,0,0,0,0,0,0,0]
[0,null,null,null,null,null,0,0,0,0,0,0,0,0,0,0,0,0,0,0,0,0,0,0,0,0,0,0,0,0,0,0,0]
[0,null,null,null,null,null,0,0,0,0,0,0,0,0,0,0,0,0,0,0,0,0,0,0,0,0,0,0,0,0,0,0,0]
[0,null,null,null,null,null,0,0,0,0,0,0,0,0,0,0,0,0,0,0,0,0,0,0,0,0,0,0,0,0,0,0,0]
[0,null,null,null,null,null,0,0,0,0,0,0,0,0,0,0,0,0,0,0,0,0,0,0,0,0,0,0,0,0,0,0,0]
[0,null,null,null,null,null,0,0,0,0,0,0,0,0,0,0,0,0,0,0,0,0,0,0,0,0,0,0,0,0,0,0,0]
[0,null,null,null,null,null,0,0,0,0,0,0,0,0,0,0,0,0,0,0,0,0,0,0,0,0,0,0,0,0,0,0,0]
[0,null,null,null,null,null,0,0,0,0,0,0,0,0,0,0,0,0,0,0,0,0,0,0,0,0,0,0,0,0,0,0,0]
[0,null,null,null,null,null,0,0,0,0,0,0,0,0,0,0,0,0,0,0,0,0,0,0,0,0,0,0,0,0,0,0,0]
[0,null,null,null,null,null,0,0,0,0,0,0,0,0,0,0,0,0,0,0,0,0,0,0,0,0,0,0,0,0,0,0,0]
[0,null,null,null,null,null,0,0,0,0,0,0,0,0,0,0,0,0,0,0,0,0,0,0,0,0,0,0,0,0,0,0,0]
[0,null,null,null,null,null,0,0,0,0,0,0,0,0,0,0,0,0,0,0,0,0,0,0,0,0,0,0,0,0,0,0,0]
[0,null,null,null,null,null,0,0,0,0,0,0,0,0,0,0,0,0,0,0,0,0,0,0,0,0,0,0,0,0,0,0,0]
[0,null,null,null,null,null,0,0,0,0,0,0,0,0,0,0,0,0,0,0,0,0,0,0,0,0,0,0,0,0,0,0,0]
[0,null,null,null,null,null,0,0,0,0,0,0,0,0,0,0,0,0,0,0,0,0,0,0,0,0,0,0,0,0,0,0,0]
[0,null,null,null,null,null,0,0,0,0,0,0,0,0,0,0,0,0,0,0,0,0,0,0,0,0,0,0,0,0,0,0,0]
[0,null,null,null,null,null,0,0,0,0,0,0,0,0,0,0,0,0,0,0,0,0,0,0,0,0,0,0,0,0,0,0,0]
[0,null,null,null,null,null,0,0,0,0,0,0,0,0,0,0,0,0,0,0,0,0,0,0,0,0,0,0,0,0,0,0,0]
[0,null,null,null,null,null,0,0,0,0,0,0,0,0,0,0,0,0,0,0,{"$f":"SUM(T933-S933)","v":0},0,0,{"$f":"SUM(W933-V933)","v":0},0,0,{"$f":"SUM(Z933-Y933)","v":0},0,0,0,0,0,0]
[0,null,null,null,null,null,0,0,0,0,0,0,0,0,0,0,0,0,0,0,0,0,0,0,0,0,0,0,0,0,0,0,0]
[0,null,null,null,null,null,0,0,0,0,0,0,0,0,0,0,0,0,0,0,0,0,0,0,0,0,0,0,0,0,0,0,0]
[0,null,null,null,null,null,0,0,0,0,0,0,0,0,0,0,0,0,0,0,0,0,0,0,0,0,0,0,0,0,0,0,0]
[0,null,null,null,null,null,0,0,0,0,0,0,0,0,0,0,0,0,0,0,0,0,0,0,0,0,0,0,0,0,0,0,0]
[0,null,null,null,null,null,0,0,0,0,0,0,0,0,0,0,0,0,0,0,0,0,0,0,0,0,0,0,0,0,0,0,0]
[0,null,null,null,null,null,0,0,0,0,0,0,0,0,0,0,0,0,0,0,0,0,0,0,0,0,0,0,0,0,0,0,0]
[0,null,null,null,null,null,0,0,0,0,0,0,0,0,0,0,0,0,0,0,0,0,0,0,0,0,0,0,0,0,0,0,0]
[0,null,null,null,null,null,0,0,0,0,0,0,0,0,0,0,0,0,0,0,0,0,0,0,0,0,0,0,0,0,0,0,0]
[0,null,null,null,null,null,0,0,0,0,0,0,0,0,0,0,0,0,0,0,0,0,0,0,0,0,0,0,0,0,0,0,0]
[0,null,null,null,null,null,0,0,0,0,0,0,0,0,0,0,0,0,0,0,0,0,0,0,0,0,0,0,0,0,0,0,0]
[0,null,null,null,null,null,0,0,0,0,0,0,0,0,0,0,0,0,0,0,0,0,0,0,0,0,0,0,0,0,0,0,0]
[0,null,null,null,null,null,0,0,0,0,0,0,0,0,0,0,0,0,0,0,0,0,0,0,0,0,0,0,0,0,0,0,0]
[0,null,null,null,null,null,0,0,0,0,0,0,0,0,0,0,0,0,0,0,0,0,0,0,0,0,0,0,0,0,0,0,0]
[0,null,null,null,null,null,0,0,0,0,0,0,0,0,0,0,0,0,0,0,0,0,0,0,0,0,0,0,0,0,0,0,0]
[0,null,null,null,null,null,0,0,0,0,0,0,0,0,0,0,0,0,0,0,0,0,0,0,0,0,0,0,0,0,0,0,0]
[0,null,null,null,null,null,0,0,0,0,0,0,0,0,0,0,0,0,0,0,0,0,0,0,0,0,0,0,0,0,0,0,0]
[0,null,null,null,null,null,0,0,0,0,0,0,0,0,0,0,0,0,0,0,0,0,0,0,0,0,0,0,0,0,0,0,0]
[0,null,null,null,null,null,0,0,0,0,0,0,0,0,0,0,0,0,0,0,0,0,0,0,0,0,0,0,0,0,0,0,0]
[0,null,null,null,null,null,0,0,0,0,0,0,0,0,0,0,0,0,0,0,0,0,0,0,0,0,0,0,0,0,0,0,0]
[0,null,null,null,null,null,0,0,0,0,0,0,0,0,0,0,0,0,0,0,0,0,0,0,0,0,0,0,0,0,0,0,0]
[0,null,null,null,null,null,0,0,0,0,0,0,0,0,0,0,0,0,0,0,0,0,0,0,0,0,0,0,0,0,0,0,0]
[0,null,null,null,null,null,0,0,0,0,0,0,0,0,0,0,0,0,0,0,0,0,0,0,0,0,0,0,0,0,0,0,0]
[0,null,null,null,null,null,0,0,0,0,0,0,0,0,0,0,0,0,0,0,0,0,0,0,0,0,0,0,0,0,0,0,0]
[0,null,null,null,null,null,0,0,0,0,0,0,0,0,0,0,0,0,0,0,0,0,0,0,0,0,0,0,0,0,0,0,0]
[0,null,null,null,null,null,0,0,0,0,0,0,0,0,0,0,0,0,0,0,0,0,0,0,0,0,0,0,0,0,0,0,0]
[0,null,null,null,null,null,0,0,0,0,0,0,0,0,0,0,0,0,0,0,0,0,0,0,0,0,0,0,0,0,0,0,0]
[0,null,null,null,null,null,0,0,0,0,0,0,0,0,0,0,0,0,0,0,0,0,0,0,0,0,0,0,0,0,0,0,0]
[0,null,null,null,null,null,0,0,0,0,0,0,0,0,0,0,0,0,0,0,0,0,0,0,0,0,0,0,0,0,0,0,0]
[0,null,null,null,null,null,0,0,0,0,0,0,0,0,0,0,0,0,0,0,0,0,0,0,0,0,0,0,0,0,0,0,0]
[0,null,null,null,null,null,0,0,0,0,0,0,0,0,0,0,0,0,0,0,0,0,0,0,0,0,0,0,0,0,0,0,0]
[0,null,null,null,null,null,0,0,0,0,0,0,0,0,0,0,0,0,0,0,0,0,0,0,0,0,0,0,0,0,0,0,0]
[0,null,null,null,null,null,0,0,0,0,0,0,0,0,0,0,0,0,0,0,0,0,0,0,0,0,0,0,0,0,0,0,0]
[0,null,null,null,null,null,0,0,0,0,0,0,0,0,0,0,0,0,0,0,0,0,0,0,0,0,0,0,0,0,0,0,0]
[0,null,null,null,null,null,0,0,0,0,0,0,0,0,0,0,0,0,0,0,0,0,0,0,0,0,0,0,0,0,0,0,0]
[0,null,null,null,null,null,0,0,0,0,0,0,0,0,0,0,0,0,0,0,0,0,0,0,0,0,0,0,0,0,0,0,0]
[0,null,null,null,null,null,0,0,0,0,0,0,0,0,0,0,0,0,0,0,0,0,0,0,0,0,0,0,0,0,0,0,0]
[0,null,null,null,null,null,0,0,0,0,0,0,0,0,0,0,0,0,0,0,0,0,0,0,0,0,0,0,0,0,0,0,0]
[0,null,null,null,null,null,0,0,0,0,0,0,0,0,0,0,0,0,0,0,0,0,0,0,0,0,0,0,0,0,0,0,0]
[{"$f":"IF(SUM(O972:AH972),1,0)","v":0},null,null,null,null,null,0,0,0,0,0,0,0,0,0,0,0,0,0,0,0,0,0,0,0,0,0,0,0,0,0,0,0]
[0,null,null,null,null,null,0,0,0,0,0,0,0,0,0,0,0,0,0,0,0,0,0,0,0,0,0,0,0,0,0,0,0]
[0,null,null,null,null,null,0,0,0,0,0,0,0,0,0,0,0,0,0,0,0,0,0,0,0,0,0,0,0,0,0,0,0]
[0,null,null,null,null,null,0,0,0,0,0,0,0,0,0,0,0,0,0,0,0,0,0,0,0,0,0,0,0,0,0,0,0]
[0,null,null,null,null,null,0,0,0,0,0,0,0,0,0,0,0,0,0,0,0,0,0,0,0,0,0,0,0,0,0,0,0]
[0,null,null,null,null,null,0,0,0,0,0,0,0,0,0,0,0,0,0,0,0,0,0,0,0,0,0,0,0,0,0,0,0]
[0,null,null,null,null,null,0,0,0,0,0,0,0,0,0,0,0,0,0,0,0,0,0,0,0,0,0,0,0,0,0,0,0]
[0,null,null,null,null,null,0,0,0,0,0,0,0,0,0,0,0,0,0,0,0,0,0,0,0,0,0,0,0,0,0,0,0]
[0,null,null,null,null,null,0,0,0,0,0,0,0,0,0,0,0,0,0,0,0,0,0,0,0,0,0,0,0,0,0,0,0]
[0,null,null,null,null,null,0,0,0,0,0,0,0,0,0,0,0,0,0,0,0,0,0,0,0,0,0,0,0,0,0,0,0]
[0,null,null,null,null,null,0,0,0,0,0,0,0,0,0,0,0,0,0,0,0,0,0,0,0,0,0,0,0,0,0,0,0]
[0,null,null,null,null,null,0,0,0,0,0,0,0,0,0,0,0,0,0,0,0,0,0,0,0,0,0,0,0,0,0,0,0]
[0,null,null,null,null,null,0,0,0,0,0,0,0,0,0,0,0,0,0,0,0,0,0,0,0,0,0,0,0,0,0,0,0]
[0,null,null,null,null,null,0,0,0,0,0,0,0,0,0,0,0,0,0,0,0,0,0,0,0,0,0,0,0,0,0,0,0]
[0,null,null,null,null,null,0,0,0,0,0,0,0,0,0,0,0,0,0,0,0,0,0,0,0,0,0,0,0,0,0,0,0]
[0,null,null,null,null,null,0,0,0,0,0,0,0,0,0,0,0,0,0,0,0,0,0,0,0,0,0,0,0,0,0,0,0]
[0,null,null,null,null,null,0,0,0,0,0,0,0,0,0,0,0,0,0,0,0,0,0,0,0,0,0,0,0,0,0,0,0]
[0,null,null,null,null,null,0,0,0,0,0,0,0,0,0,0,0,0,0,0,0,0,0,0,0,0,0,0,0,0,0,0,0]
[0,null,null,null,null,null,0,0,0,0,0,0,0,0,0,0,0,0,0,0,0,0,0,0,0,0,0,0,0,0,0,0,0]
[0,null,null,null,null,null,0,0,0,0,0,0,0,0,0,0,0,0,0,0,0,0,0,0,0,0,0,0,0,0,0,0,0]
[0,null,null,null,null,null,0,0,0,0,0,0,0,0,0,0,0,0,0,0,0,0,0,0,0,0,0,0,0,0,0,0,0]
[0,null,null,null,null,null,0,0,0,0,0,0,0,0,0,0,0,0,0,0,0,0,0,0,0,0,0,0,0,0,0,0,0]
[0,null,null,null,null,null,0,0,0,0,0,0,0,0,0,0,0,0,0,0,0,0,0,0,0,0,0,0,0,0,0,0,0]
[0,null,null,null,null,null,0,0,0,0,0,0,0,0,0,0,0,0,0,0,0,0,0,0,0,0,0,0,0,0,0,0,0]
[0,null,null,null,null,null,0,0,0,0,0,0,0,0,0,0,0,0,0,0,0,0,0,0,0,0,0,0,0,0,0,0,0]
[0,null,null,null,null,null,0,0,0,0,0,0,0,0,0,0,0,0,0,0,{"$f":"SUM(T997-S997)","v":0},0,0,{"$f":"SUM(W997-V997)","v":0},0,0,{"$f":"SUM(Z997-Y997)","v":0},0,0,0,0,0,0]
[0,null,null,null,null,null,0,0,0,0,0,0,0,0,0,0,0,0,0,0,0,0,0,0,0,0,0,0,0,0,0,0,0]
[0,null,null,null,null,null,0,0,0,0,0,0,0,0,0,0,0,0,0,0,0,0,0,0,0,0,0,0,0,0,0,0,0]
[0,null,null,null,null,null,0,0,0,0,0,0,0,0,0,0,0,0,0,0,0,0,0,0,0,0,0,0,0,0,0,0,0]
[0,null,null,null,null,null,0,0,0,0,0,0,0,0,0,0,0,0,0,0,0,0,0,0,0,0,0,0,0,0,0,0,0]
[0,null,null,null,null,null,0,0,0,0,0,0,0,0,0,0,0,0,0,0,0,0,0,0,0,0,0,0,0,0,0,0,0]
[0,null,null,null,null,null,0,0,0,0,0,0,0,0,0,0,0,0,0,0,0,0,0,0,0,0,0,0,0,0,0,0,0]
[0,null,null,null,null,null,0,0,0,0,0,0,0,0,0,0,0,0,0,0,0,0,0,0,0,0,0,0,0,0,0,0,0]
[0,null,null,null,null,null,0,0,0,0,0,0,0,0,0,0,0,0,0,0,0,0,0,0,0,0,0,0,0,0,0,0,0]
[0,null,null,null,null,null,0,0,0,0,0,0,0,0,0,0,0,0,0,0,0,0,0,0,0,0,0,0,0,0,0,0,0]
[0,null,null,null,null,null,0,0,0,0,0,0,0,0,0,0,0,0,0,0,0,0,0,0,0,0,0,0,0,0,0,0,0]
[0,null,null,null,null,null,0,0,0,0,0,0,0,0,0,0,0,0,0,0,0,0,0,0,0,0,0,0,0,0,0,0,0]
[0,null,null,null,null,null,0,0,0,0,0,0,0,0,0,0,0,0,0,0,0,0,0,0,0,0,0,0,0,0,0,0,0]
[0,null,null,null,null,null,0,0,0,0,0,0,0,0,0,0,0,0,0,0,0,0,0,0,0,0,0,0,0,0,0,0,0]
[0,null,null,null,null,null,0,0,0,0,0,0,0,0,0,0,0,0,0,0,0,0,0,0,0,0,0,0,0,0,0,0,0]
[0,null,null,null,null,null,0,0,0,0,0,0,0,0,0,0,0,0,0,0,0,0,0,0,0,0,0,0,0,0,0,0,0]
[0,null,null,null,null,null,0,0,0,0,0,0,0,0,0,0,0,0,0,0,0,0,0,0,0,0,0,0,0,0,0,0,0]
[0,null,null,null,null,null,0,0,0,0,0,0,0,0,0,0,0,0,0,0,0,0,0,0,0,0,0,0,0,0,0,0,0]
[0,null,null,null,null,null,0,0,0,0,0,0,0,0,0,0,0,0,0,0,0,0,0,0,0,0,0,0,0,0,0,0,0]
[0,null,null,null,null,null,0,0,0,0,0,0,0,0,0,0,0,0,0,0,0,0,0,0,0,0,0,0,0,0,0,0,0]
[0,null,null,null,null,null,0,0,0,0,0,0,0,0,0,0,0,0,0,0,0,0,0,0,0,0,0,0,0,0,0,0,0]
[0,null,null,null,null,null,0,0,0,0,0,0,0,0,0,0,0,0,0,0,0,0,0,0,0,0,0,0,0,0,0,0,0]
[0,null,null,null,null,null,0,0,0,0,0,0,0,0,0,0,0,0,0,0,0,0,0,0,0,0,0,0,0,0,0,0,0]
[0,null,null,null,null,null,0,0,0,0,0,0,0,0,0,0,0,0,0,0,0,0,0,0,0,0,0,0,0,0,0,0,0]
[0,null,null,null,null,null,0,0,0,0,0,0,0,0,0,0,0,0,0,0,0,0,0,0,0,0,0,0,0,0,0,0,0]
[0,null,null,null,null,null,0,0,0,0,0,0,0,0,0,0,0,0,0,0,0,0,0,0,0,0,0,0,0,0,0,0,0]
[0,null,null,null,null,null,0,0,0,0,0,0,0,0,0,0,0,0,0,0,0,0,0,0,0,0,0,0,0,0,0,0,0]
[0,null,null,null,null,null,0,0,0,0,0,0,0,0,0,0,0,0,0,0,0,0,0,0,0,0,0,0,0,0,0,0,0]
[0,null,null,null,null,null,0,0,0,0,0,0,0,0,0,0,0,0,0,0,0,0,0,0,0,0,0,0,0,0,0,0,0]
[0,null,null,null,null,null,0,0,0,0,0,0,0,0,0,0,0,0,0,0,0,0,0,0,0,0,0,0,0,0,0,0,0]
[0,null,null,null,null,null,0,0,0,0,0,0,0,0,0,0,0,0,0,0,0,0,0,0,0,0,0,0,0,0,0,0,0]
[0,null,null,null,null,null,0,0,0,0,0,0,0,0,0,0,0,0,0,0,0,0,0,0,0,0,0,0,0,0,0,0,0]
[0,null,null,null,null,null,0,0,0,0,0,0,0,0,0,0,0,0,0,0,0,0,0,0,0,0,0,0,0,0,0,0,0]
[0,null,null,null,null,null,0,0,0,0,0,0,0,0,0,0,0,0,0,0,0,0,0,0,0,0,0,0,0,0,0,0,0]
[0,null,null,null,null,null,0,0,0,0,0,0,0,0,0,0,0,0,0,0,0,0,0,0,0,0,0,0,0,0,0,0,0]
[0,null,null,null,null,null,0,0,0,0,0,0,0,0,0,0,0,0,0,0,0,0,0,0,0,0,0,0,0,0,0,0,0]
[0,null,null,null,null,null,0,0,0,0,0,0,0,0,0,0,0,0,0,0,0,0,0,0,0,0,0,0,0,0,0,0,0]
[0,null,null,null,null,null,0,0,0,0,0,0,0,0,0,0,0,0,0,0,0,0,0,0,0,0,0,0,0,0,0,0,0]
[0,null,null,null,null,null,0,0,0,0,0,0,0,0,0,0,0,0,0,0,0,0,0,0,0,0,0,0,0,0,0,0,0]
[{"$f":"IF(SUM(O1036:AH1036),1,0)","v":0},null,null,null,null,null,0,0,0,0,0,0,0,0,0,0,0,0,0,0,0,0,0,0,0,0,0,0,0,0,0,0,0]
[0,null,null,null,null,null,0,0,0,0,0,0,0,0,0,0,0,0,0,0,0,0,0,0,0,0,0,0,0,0,0,0,0]
[0,null,null,null,null,null,0,0,0,0,0,0,0,0,0,0,0,0,0,0,0,0,0,0,0,0,0,0,0,0,0,0,0]
[0,null,null,null,null,null,0,0,0,0,0,0,0,0,0,0,0,0,0,0,0,0,0,0,0,0,0,0,0,0,0,0,0]
[0,null,null,null,null,null,0,0,0,0,0,0,0,0,0,0,0,0,0,0,0,0,0,0,0,0,0,0,0,0,0,0,0]
[0,null,null,null,null,null,0,0,0,0,0,0,0,0,0,0,0,0,0,0,0,0,0,0,0,0,0,0,0,0,0,0,0]
[0,null,null,null,null,null,0,0,0,0,0,0,0,0,0,0,0,0,0,0,0,0,0,0,0,0,0,0,0,0,0,0,0]
[0,null,null,null,null,null,0,0,0,0,0,0,0,0,0,0,0,0,0,0,0,0,0,0,0,0,0,0,0,0,0,0,0]
[0,null,null,null,null,null,0,0,0,0,0,0,0,0,0,0,0,0,0,0,0,0,0,0,0,0,0,0,0,0,0,0,0]
[0,null,null,null,null,null,0,0,0,0,0,0,0,0,0,0,0,0,0,0,0,0,0,0,0,0,0,0,0,0,0,0,0]
[0,null,null,null,null,null,0,0,0,0,0,0,0,0,0,0,0,0,0,0,0,0,0,0,0,0,0,0,0,0,0,0,0]
[0,null,null,null,null,null,0,0,0,0,0,0,0,0,0,0,0,0,0,0,0,0,0,0,0,0,0,0,0,0,0,0,0]
[0,null,null,null,null,null,0,0,0,0,0,0,0,0,0,0,0,0,0,0,0,0,0,0,0,0,0,0,0,0,0,0,0]
[0,null,null,null,null,null,0,0,0,0,0,0,0,0,0,0,0,0,0,0,0,0,0,0,0,0,0,0,0,0,0,0,0]
[0,null,null,null,null,null,0,0,0,0,0,0,0,0,0,0,0,0,0,0,0,0,0,0,0,0,0,0,0,0,0,0,0]
[0,null,null,null,null,null,0,0,0,0,0,0,0,0,0,0,0,0,0,0,0,0,0,0,0,0,0,0,0,0,0,0,0]
[0,null,null,null,null,null,0,0,0,0,0,0,0,0,0,0,0,0,0,0,0,0,0,0,0,0,0,0,0,0,0,0,0]
[0,null,null,null,null,null,0,0,0,0,0,0,0,0,0,0,0,0,0,0,0,0,0,0,0,0,0,0,0,0,0,0,0]
[0,null,null,null,null,null,0,0,0,0,0,0,0,0,0,0,0,0,0,0,0,0,0,0,0,0,0,0,0,0,0,0,0]
[0,null,null,null,null,null,0,0,0,0,0,0,0,0,0,0,0,0,0,0,0,0,0,0,0,0,0,0,0,0,0,0,0]
[0,null,null,null,null,null,0,0,0,0,0,0,0,0,0,0,0,0,0,0,0,0,0,0,0,0,0,0,0,0,0,0,0]
[0,null,null,null,null,null,0,0,0,0,0,0,0,0,0,0,0,0,0,0,0,0,0,0,0,0,0,0,0,0,0,0,0]
[0,null,null,null,null,null,0,0,0,0,0,0,0,0,0,0,0,0,0,0,0,0,0,0,0,0,0,0,0,0,0,0,0]
[0,null,null,null,null,null,0,0,0,0,0,0,0,0,0,0,0,0,0,0,0,0,0,0,0,0,0,0,0,0,0,0,0]
[0,null,null,null,null,null,0,0,0,0,0,0,0,0,0,0,0,0,0,0,0,0,0,0,0,0,0,0,0,0,0,0,0]
[0,null,null,null,null,null,0,0,0,0,0,0,0,0,0,0,0,0,0,0,{"$f":"SUM(T1061-S1061)","v":0},0,0,{"$f":"SUM(W1061-V1061)","v":0},0,0,{"$f":"SUM(Z1061-Y1061)","v":0},0,0,0,0,0,0]
[0,null,null,null,null,null,0,0,0,0,0,0,0,0,0,0,0,0,0,0,0,0,0,0,0,0,0,0,0,0,0,0,0]
[0,null,null,null,null,null,0,0,0,0,0,0,0,0,0,0,0,0,0,0,0,0,0,0,0,0,0,0,0,0,0,0,0]
[0,null,null,null,null,null,0,0,0,0,0,0,0,0,0,0,0,0,0,0,0,0,0,0,0,0,0,0,0,0,0,0,0]
[0,null,null,null,null,null,0,0,0,0,0,0,0,0,0,0,0,0,0,0,0,0,0,0,0,0,0,0,0,0,0,0,0]
[0,null,null,null,null,null,0,0,0,0,0,0,0,0,0,0,0,0,0,0,0,0,0,0,0,0,0,0,0,0,0,0,0]
[0,null,null,null,null,null,0,0,0,0,0,0,0,0,0,0,0,0,0,0,0,0,0,0,0,0,0,0,0,0,0,0,0]
[0,null,null,null,null,null,0,0,0,0,0,0,0,0,0,0,0,0,0,0,0,0,0,0,0,0,0,0,0,0,0,0,0]
[0,null,null,null,null,null,0,0,0,0,0,0,0,0,0,0,0,0,0,0,0,0,0,0,0,0,0,0,0,0,0,0,0]
[0,null,null,null,null,null,0,0,0,0,0,0,0,0,0,0,0,0,0,0,0,0,0,0,0,0,0,0,0,0,0,0,0]
[0,null,null,null,null,null,0,0,0,0,0,0,0,0,0,0,0,0,0,0,0,0,0,0,0,0,0,0,0,0,0,0,0]
[0,null,null,null,null,null,0,0,0,0,0,0,0,0,0,0,0,0,0,0,0,0,0,0,0,0,0,0,0,0,0,0,0]
[0,null,null,null,null,null,0,0,0,0,0,0,0,0,0,0,0,0,0,0,0,0,0,0,0,0,0,0,0,0,0,0,0]
[0,null,null,null,null,null,0,0,0,0,0,0,0,0,0,0,0,0,0,0,0,0,0,0,0,0,0,0,0,0,0,0,0]
[0,null,null,null,null,null,0,0,0,0,0,0,0,0,0,0,0,0,0,0,0,0,0,0,0,0,0,0,0,0,0,0,0]
[0,null,null,null,null,null,0,0,0,0,0,0,0,0,0,0,0,0,0,0,0,0,0,0,0,0,0,0,0,0,0,0,0]
[0,null,null,null,null,null,0,0,0,0,0,0,0,0,0,0,0,0,0,0,0,0,0,0,0,0,0,0,0,0,0,0,0]
[0,null,null,null,null,null,0,0,0,0,0,0,0,0,0,0,0,0,0,0,0,0,0,0,0,0,0,0,0,0,0,0,0]
[0,null,null,null,null,null,0,0,0,0,0,0,0,0,0,0,0,0,0,0,0,0,0,0,0,0,0,0,0,0,0,0,0]
[0,null,null,null,null,null,0,0,0,0,0,0,0,0,0,0,0,0,0,0,0,0,0,0,0,0,0,0,0,0,0,0,0]
[0,null,null,null,null,null,0,0,0,0,0,0,0,0,0,0,0,0,0,0,0,0,0,0,0,0,0,0,0,0,0,0,0]
[0,null,null,null,null,null,0,0,0,0,0,0,0,0,0,0,0,0,0,0,0,0,0,0,0,0,0,0,0,0,0,0,0]
[0,null,null,null,null,null,0,0,0,0,0,0,0,0,0,0,0,0,0,0,0,0,0,0,0,0,0,0,0,0,0,0,0]
[0,null,null,null,null,null,0,0,0,0,0,0,0,0,0,0,0,0,0,0,0,0,0,0,0,0,0,0,0,0,0,0,0]
[0,null,null,null,null,null,0,0,0,0,0,0,0,0,0,0,0,0,0,0,0,0,0,0,0,0,0,0,0,0,0,0,0]
[0,null,null,null,null,null,0,0,0,0,0,0,0,0,0,0,0,0,0,0,0,0,0,0,0,0,0,0,0,0,0,0,0]
[0,null,null,null,null,null,0,0,0,0,0,0,0,0,0,0,0,0,0,0,0,0,0,0,0,0,0,0,0,0,0,0,0]
[0,null,null,null,null,null,0,0,0,0,0,0,0,0,0,0,0,0,0,0,0,0,0,0,0,0,0,0,0,0,0,0,0]
[0,null,null,null,null,null,0,0,0,0,0,0,0,0,0,0,0,0,0,0,0,0,0,0,0,0,0,0,0,0,0,0,0]
[0,null,null,null,null,null,0,0,0,0,0,0,0,0,0,0,0,0,0,0,0,0,0,0,0,0,0,0,0,0,0,0,0]
[0,null,null,null,null,null,0,0,0,0,0,0,0,0,0,0,0,0,0,0,0,0,0,0,0,0,0,0,0,0,0,0,0]
[0,null,null,null,null,null,0,0,0,0,0,0,0,0,0,0,0,0,0,0,0,0,0,0,0,0,0,0,0,0,0,0,0]
[0,null,null,null,null,null,0,0,0,0,0,0,0,0,0,0,0,0,0,0,0,0,0,0,0,0,0,0,0,0,0,0,0]
[0,null,null,null,null,null,0,0,0,0,0,0,0,0,0,0,0,0,0,0,0,0,0,0,0,0,0,0,0,0,0,0,0]
[0,null,null,null,null,null,0,0,0,0,0,0,0,0,0,0,0,0,0,0,0,0,0,0,0,0,0,0,0,0,0,0,0]
[0,null,null,null,null,null,0,0,0,0,0,0,0,0,0,0,0,0,0,0,0,0,0,0,0,0,0,0,0,0,0,0,0]
[0,null,null,null,null,null,0,0,0,0,0,0,0,0,0,0,0,0,0,0,0,0,0,0,0,0,0,0,0,0,0,0,0]
[0,null,null,null,null,null,0,0,0,0,0,0,0,0,0,0,0,0,0,0,0,0,0,0,0,0,0,0,0,0,0,0,0]
[0,null,null,null,null,null,0,0,0,0,0,0,0,0,0,0,0,0,0,0,0,0,0,0,0,0,0,0,0,0,0,0,0]
[{"$f":"IF(SUM(O1100:AH1100),1,0)","v":0},null,null,null,null,null,0,0,0,0,0,0,0,0,0,0,0,0,0,0,0,0,0,0,0,0,0,0,0,0,0,0,0]
[0,null,null,null,null,null,0,0,0,0,0,0,0,0,0,0,0,0,0,0,0,0,0,0,0,0,0,0,0,0,0,0,0]
[0,null,null,null,null,null,0,0,0,0,0,0,0,0,0,0,0,0,0,0,0,0,0,0,0,0,0,0,0,0,0,0,0]
[0,null,null,null,null,null,0,0,0,0,0,0,0,0,0,0,0,0,0,0,0,0,0,0,0,0,0,0,0,0,0,0,0]
[0,null,null,null,null,null,0,0,0,0,0,0,0,0,0,0,0,0,0,0,0,0,0,0,0,0,0,0,0,0,0,0,0]
[0,null,null,null,null,null,0,0,0,0,0,0,0,0,0,0,0,0,0,0,0,0,0,0,0,0,0,0,0,0,0,0,0]
[0,null,null,null,null,null,0,0,0,0,0,0,0,0,0,0,0,0,0,0,0,0,0,0,0,0,0,0,0,0,0,0,0]
[0,null,null,null,null,null,0,0,0,0,0,0,0,0,0,0,0,0,0,0,0,0,0,0,0,0,0,0,0,0,0,0,0]
[0,null,null,null,null,null,0,0,0,0,0,0,0,0,0,0,0,0,0,0,0,0,0,0,0,0,0,0,0,0,0,0,0]
[0,null,null,null,null,null,0,0,0,0,0,0,0,0,0,0,0,0,0,0,0,0,0,0,0,0,0,0,0,0,0,0,0]
[0,null,null,null,null,null,0,0,0,0,0,0,0,0,0,0,0,0,0,0,0,0,0,0,0,0,0,0,0,0,0,0,0]
[0,null,null,null,null,null,0,0,0,0,0,0,0,0,0,0,0,0,0,0,0,0,0,0,0,0,0,0,0,0,0,0,0]
[0,null,null,null,null,null,0,0,0,0,0,0,0,0,0,0,0,0,0,0,0,0,0,0,0,0,0,0,0,0,0,0,0]
[0,null,null,null,null,null,0,0,0,0,0,0,0,0,0,0,0,0,0,0,0,0,0,0,0,0,0,0,0,0,0,0,0]
[0,null,null,null,null,null,0,0,0,0,0,0,0,0,0,0,0,0,0,0,0,0,0,0,0,0,0,0,0,0,0,0,0]
[0,null,null,null,null,null,0,0,0,0,0,0,0,0,0,0,0,0,0,0,0,0,0,0,0,0,0,0,0,0,0,0,0]
[0,null,null,null,null,null,0,0,0,0,0,0,0,0,0,0,0,0,0,0,0,0,0,0,0,0,0,0,0,0,0,0,0]
[0,null,null,null,null,null,0,0,0,0,0,0,0,0,0,0,0,0,0,0,0,0,0,0,0,0,0,0,0,0,0,0,0]
[0,null,null,null,null,null,0,0,0,0,0,0,0,0,0,0,0,0,0,0,0,0,0,0,0,0,0,0,0,0,0,0,0]
[0,null,null,null,null,null,0,0,0,0,0,0,0,0,0,0,0,0,0,0,0,0,0,0,0,0,0,0,0,0,0,0,0]
[0,null,null,null,null,null,0,0,0,0,0,0,0,0,0,0,0,0,0,0,0,0,0,0,0,0,0,0,0,0,0,0,0]
[0,null,null,null,null,null,0,0,0,0,0,0,0,0,0,0,0,0,0,0,0,0,0,0,0,0,0,0,0,0,0,0,0]
[0,null,null,null,null,null,0,0,0,0,0,0,0,0,0,0,0,0,0,0,0,0,0,0,0,0,0,0,0,0,0,0,0]
[0,null,null,null,null,null,0,0,0,0,0,0,0,0,0,0,0,0,0,0,0,0,0,0,0,0,0,0,0,0,0,0,0]
[0,null,null,null,null,null,0,0,0,0,0,0,0,0,0,0,0,0,0,0,0,0,0,0,0,0,0,0,0,0,0,0,0]
[0,null,null,null,null,null,0,0,0,0,0,0,0,0,0,0,0,0,0,0,{"$f":"SUM(T1125-S1125)","v":0},0,0,{"$f":"SUM(W1125-V1125)","v":0},0,0,{"$f":"SUM(Z1125-Y1125)","v":0},0,0,0,0,0,0]
[0,null,null,null,null,null,0,0,0,0,0,0,0,0,0,0,0,0,0,0,0,0,0,0,0,0,0,0,0,0,0,0,0]
[0,null,null,null,null,null,0,0,0,0,0,0,0,0,0,0,0,0,0,0,0,0,0,0,0,0,0,0,0,0,0,0,0]
[0,null,null,null,null,null,0,0,0,0,0,0,0,0,0,0,0,0,0,0,0,0,0,0,0,0,0,0,0,0,0,0,0]
[0,null,null,null,null,null,0,0,0,0,0,0,0,0,0,0,0,0,0,0,0,0,0,0,0,0,0,0,0,0,0,0,0]
[0,null,null,null,null,null,0,0,0,0,0,0,0,0,0,0,0,0,0,0,0,0,0,0,0,0,0,0,0,0,0,0,0]
[0,null,null,null,null,null,0,0,0,0,0,0,0,0,0,0,0,0,0,0,0,0,0,0,0,0,0,0,0,0,0,0,0]
[0,null,null,null,null,null,0,0,0,0,0,0,0,0,0,0,0,0,0,0,0,0,0,0,0,0,0,0,0,0,0,0,0]
[0,null,null,null,null,null,0,0,0,0,0,0,0,0,0,0,0,0,0,0,0,0,0,0,0,0,0,0,0,0,0,0,0]
[0,null,null,null,null,null,0,0,0,0,0,0,0,0,0,0,0,0,0,0,0,0,0,0,0,0,0,0,0,0,0,0,0]
[0,null,null,null,null,null,0,0,0,0,0,0,0,0,0,0,0,0,0,0,0,0,0,0,0,0,0,0,0,0,0,0,0]
[0,null,null,null,null,null,0,0,0,0,0,0,0,0,0,0,0,0,0,0,0,0,0,0,0,0,0,0,0,0,0,0,0]
[0,null,null,null,null,null,0,0,0,0,0,0,0,0,0,0,0,0,0,0,0,0,0,0,0,0,0,0,0,0,0,0,0]
[0,null,null,null,null,null,0,0,0,0,0,0,0,0,0,0,0,0,0,0,0,0,0,0,0,0,0,0,0,0,0,0,0]
[0,null,null,null,null,null,0,0,0,0,0,0,0,0,0,0,0,0,0,0,0,0,0,0,0,0,0,0,0,0,0,0,0]
[0,null,null,null,null,null,0,0,0,0,0,0,0,0,0,0,0,0,0,0,0,0,0,0,0,0,0,0,0,0,0,0,0]
[0,null,null,null,null,null,0,0,0,0,0,0,0,0,0,0,0,0,0,0,0,0,0,0,0,0,0,0,0,0,0,0,0]
[0,null,null,null,null,null,0,0,0,0,0,0,0,0,0,0,0,0,0,0,0,0,0,0,0,0,0,0,0,0,0,0,0]
[0,null,null,null,null,null,0,0,0,0,0,0,0,0,0,0,0,0,0,0,0,0,0,0,0,0,0,0,0,0,0,0,0]
[0,null,null,null,null,null,0,0,0,0,0,0,0,0,0,0,0,0,0,0,0,0,0,0,0,0,0,0,0,0,0,0,0]
[0,null,null,null,null,null,0,0,0,0,0,0,0,0,0,0,0,0,0,0,0,0,0,0,0,0,0,0,0,0,0,0,0]
[0,null,null,null,null,null,0,0,0,0,0,0,0,0,0,0,0,0,0,0,0,0,0,0,0,0,0,0,0,0,0,0,0]
[0,null,null,null,null,null,0,0,0,0,0,0,0,0,0,0,0,0,0,0,0,0,0,0,0,0,0,0,0,0,0,0,0]
[0,null,null,null,null,null,0,0,0,0,0,0,0,0,0,0,0,0,0,0,0,0,0,0,0,0,0,0,0,0,0,0,0]
[0,null,null,null,null,null,0,0,0,0,0,0,0,0,0,0,0,0,0,0,0,0,0,0,0,0,0,0,0,0,0,0,0]
[0,null,null,null,null,null,0,0,0,0,0,0,0,0,0,0,0,0,0,0,0,0,0,0,0,0,0,0,0,0,0,0,0]
[0,null,null,null,null,null,0,0,0,0,0,0,0,0,0,0,0,0,0,0,0,0,0,0,0,0,0,0,0,0,0,0,0]
[0,null,null,null,null,null,0,0,0,0,0,0,0,0,0,0,0,0,0,0,0,0,0,0,0,0,0,0,0,0,0,0,0]
[0,null,null,null,null,null,0,0,0,0,0,0,0,0,0,0,0,0,0,0,0,0,0,0,0,0,0,0,0,0,0,0,0]
[0,null,null,null,null,null,0,0,0,0,0,0,0,0,0,0,0,0,0,0,0,0,0,0,0,0,0,0,0,0,0,0,0]
[0,null,null,null,null,null,0,0,0,0,0,0,0,0,0,0,0,0,0,0,0,0,0,0,0,0,0,0,0,0,0,0,0]
[0,null,null,null,null,null,0,0,0,0,0,0,0,0,0,0,0,0,0,0,0,0,0,0,0,0,0,0,0,0,0,0,0]
[0,null,null,null,null,null,0,0,0,0,0,0,0,0,0,0,0,0,0,0,0,0,0,0,0,0,0,0,0,0,0,0,0]
[0,null,null,null,null,null,0,0,0,0,0,0,0,0,0,0,0,0,0,0,0,0,0,0,0,0,0,0,0,0,0,0,0]
[0,null,null,null,null,null,0,0,0,0,0,0,0,0,0,0,0,0,0,0,0,0,0,0,0,0,0,0,0,0,0,0,0]
[0,null,null,null,null,null,0,0,0,0,0,0,0,0,0,0,0,0,0,0,0,0,0,0,0,0,0,0,0,0,0,0,0]
[0,null,null,null,null,null,0,0,0,0,0,0,0,0,0,0,0,0,0,0,0,0,0,0,0,0,0,0,0,0,0,0,0]
[0,null,null,null,null,null,0,0,0,0,0,0,0,0,0,0,0,0,0,0,0,0,0,0,0,0,0,0,0,0,0,0,0]
[0,null,null,null,null,null,0,0,0,0,0,0,0,0,0,0,0,0,0,0,0,0,0,0,0,0,0,0,0,0,0,0,0]
[{"$f":"IF(SUM(O1164:AH1164),1,0)","v":0},null,null,null,null,null,0,0,0,0,0,0,0,0,0,0,0,0,0,0,0,0,0,0,0,0,0,0,0,0,0,0,0]
[0,null,null,null,null,null,0,0,0,0,0,0,0,0,0,0,0,0,0,0,0,0,0,0,0,0,0,0,0,0,0,0,0]
[0,null,null,null,null,null,0,0,0,0,0,0,0,0,0,0,0,0,0,0,0,0,0,0,0,0,0,0,0,0,0,0,0]
[0,null,null,null,null,null,0,0,0,0,0,0,0,0,0,0,0,0,0,0,0,0,0,0,0,0,0,0,0,0,0,0,0]
[0,null,null,null,null,null,0,0,0,0,0,0,0,0,0,0,0,0,0,0,0,0,0,0,0,0,0,0,0,0,0,0,0]
[0,null,null,null,null,null,0,0,0,0,0,0,0,0,0,0,0,0,0,0,0,0,0,0,0,0,0,0,0,0,0,0,0]
[0,null,null,null,null,null,0,0,0,0,0,0,0,0,0,0,0,0,0,0,0,0,0,0,0,0,0,0,0,0,0,0,0]
[0,null,null,null,null,null,0,0,0,0,0,0,0,0,0,0,0,0,0,0,0,0,0,0,0,0,0,0,0,0,0,0,0]
[0,null,null,null,null,null,0,0,0,0,0,0,0,0,0,0,0,0,0,0,0,0,0,0,0,0,0,0,0,0,0,0,0]
[0,null,null,null,null,null,0,0,0,0,0,0,0,0,0,0,0,0,0,0,0,0,0,0,0,0,0,0,0,0,0,0,0]
[0,null,null,null,null,null,0,0,0,0,0,0,0,0,0,0,0,0,0,0,0,0,0,0,0,0,0,0,0,0,0,0,0]
[0,null,null,null,null,null,0,0,0,0,0,0,0,0,0,0,0,0,0,0,0,0,0,0,0,0,0,0,0,0,0,0,0]
[0,null,null,null,null,null,0,0,0,0,0,0,0,0,0,0,0,0,0,0,0,0,0,0,0,0,0,0,0,0,0,0,0]
[0,null,null,null,null,null,0,0,0,0,0,0,0,0,0,0,0,0,0,0,0,0,0,0,0,0,0,0,0,0,0,0,0]
[0,null,null,null,null,null,0,0,0,0,0,0,0,0,0,0,0,0,0,0,0,0,0,0,0,0,0,0,0,0,0,0,0]
[0,null,null,null,null,null,0,0,0,0,0,0,0,0,0,0,0,0,0,0,0,0,0,0,0,0,0,0,0,0,0,0,0]
[0,null,null,null,null,null,0,0,0,0,0,0,0,0,0,0,0,0,0,0,0,0,0,0,0,0,0,0,0,0,0,0,0]
[0,null,null,null,null,null,0,0,0,0,0,0,0,0,0,0,0,0,0,0,0,0,0,0,0,0,0,0,0,0,0,0,0]
[0,null,null,null,null,null,0,0,0,0,0,0,0,0,0,0,0,0,0,0,0,0,0,0,0,0,0,0,0,0,0,0,0]
[0,null,null,null,null,null,0,0,0,0,0,0,0,0,0,0,0,0,0,0,0,0,0,0,0,0,0,0,0,0,0,0,0]
[0,null,null,null,null,null,0,0,0,0,0,0,0,0,0,0,0,0,0,0,0,0,0,0,0,0,0,0,0,0,0,0,0]
[0,null,null,null,null,null,0,0,0,0,0,0,0,0,0,0,0,0,0,0,0,0,0,0,0,0,0,0,0,0,0,0,0]
[0,null,null,null,null,null,0,0,0,0,0,0,0,0,0,0,0,0,0,0,0,0,0,0,0,0,0,0,0,0,0,0,0]
[0,null,null,null,null,null,0,0,0,0,0,0,0,0,0,0,0,0,0,0,0,0,0,0,0,0,0,0,0,0,0,0,0]
[0,null,null,null,null,null,0,0,0,0,0,0,0,0,0,0,0,0,0,0,0,0,0,0,0,0,0,0,0,0,0,0,0]
[0,null,null,null,null,null,0,0,0,0,0,0,0,0,0,0,0,0,0,0,{"$f":"SUM(T1189-S1189)","v":0},0,0,{"$f":"SUM(W1189-V1189)","v":0},0,0,{"$f":"SUM(Z1189-Y1189)","v":0},0,0,0,0,0,0]
[0,null,null,null,null,null,0,0,0,0,0,0,0,0,0,0,0,0,0,0,0,0,0,0,0,0,0,0,0,0,0,0,0]
[0,null,null,null,null,null,0,0,0,0,0,0,0,0,0,0,0,0,0,0,0,0,0,0,0,0,0,0,0,0,0,0,0]
[0,null,null,null,null,null,0,0,0,0,0,0,0,0,0,0,0,0,0,0,0,0,0,0,0,0,0,0,0,0,0,0,0]
[0,null,null,null,null,null,0,0,0,0,0,0,0,0,0,0,0,0,0,0,0,0,0,0,0,0,0,0,0,0,0,0,0]
[0,null,null,null,null,null,0,0,0,0,0,0,0,0,0,0,0,0,0,0,0,0,0,0,0,0,0,0,0,0,0,0,0]
[0,null,null,null,null,null,0,0,0,0,0,0,0,0,0,0,0,0,0,0,0,0,0,0,0,0,0,0,0,0,0,0,0]
[0,null,null,null,null,null,0,0,0,0,0,0,0,0,0,0,0,0,0,0,0,0,0,0,0,0,0,0,0,0,0,0,0]
[0,null,null,null,null,null,0,0,0,0,0,0,0,0,0,0,0,0,0,0,0,0,0,0,0,0,0,0,0,0,0,0,0]
[0,null,null,null,null,null,0,0,0,0,0,0,0,0,0,0,0,0,0,0,0,0,0,0,0,0,0,0,0,0,0,0,0]
[0,null,null,null,null,null,0,0,0,0,0,0,0,0,0,0,0,0,0,0,0,0,0,0,0,0,0,0,0,0,0,0,0]
[0,null,null,null,null,null,0,0,0,0,0,0,0,0,0,0,0,0,0,0,0,0,0,0,0,0,0,0,0,0,0,0,0]
[0,null,null,null,null,null,0,0,0,0,0,0,0,0,0,0,0,0,0,0,0,0,0,0,0,0,0,0,0,0,0,0,0]
[0,null,null,null,null,null,0,0,0,0,0,0,0,0,0,0,0,0,0,0,0,0,0,0,0,0,0,0,0,0,0,0,0]
[0,null,null,null,null,null,0,0,0,0,0,0,0,0,0,0,0,0,0,0,0,0,0,0,0,0,0,0,0,0,0,0,0]
[0,null,null,null,null,null,0,0,0,0,0,0,0,0,0,0,0,0,0,0,0,0,0,0,0,0,0,0,0,0,0,0,0]
[0,null,null,null,null,null,0,0,0,0,0,0,0,0,0,0,0,0,0,0,0,0,0,0,0,0,0,0,0,0,0,0,0]
[0,null,null,null,null,null,0,0,0,0,0,0,0,0,0,0,0,0,0,0,0,0,0,0,0,0,0,0,0,0,0,0,0]
[0,null,null,null,null,null,0,0,0,0,0,0,0,0,0,0,0,0,0,0,0,0,0,0,0,0,0,0,0,0,0,0,0]
[0,null,null,null,null,null,0,0,0,0,0,0,0,0,0,0,0,0,0,0,0,0,0,0,0,0,0,0,0,0,0,0,0]
[0,null,null,null,null,null,0,0,0,0,0,0,0,0,0,0,0,0,0,0,0,0,0,0,0,0,0,0,0,0,0,0,0]
[0,null,null,null,null,null,0,0,0,0,0,0,0,0,0,0,0,0,0,0,0,0,0,0,0,0,0,0,0,0,0,0,0]
[0,null,null,null,null,null,0,0,0,0,0,0,0,0,0,0,0,0,0,0,0,0,0,0,0,0,0,0,0,0,0,0,0]
[0,null,null,null,null,null,0,0,0,0,0,0,0,0,0,0,0,0,0,0,0,0,0,0,0,0,0,0,0,0,0,0,0]
[0]
[{"$f":"IF(G1214<>\"\",1,0)","v":1},null,null,null,null,3,"Small projects (cost less than R90 million per annum and not more than R250 million over the MTEF)",null,null,null,null,null,null,null,{"$f":"SUM(O1215:O1814)","v":0},{"$f":"SUM(P1215:P1814)","v":0},0,0,0,0,0,0,0,0,0,0,0,0,0,0,0,0,0,0]
[0,null,null,null,null,null,"Aircon & fencing",0,0,0,"Upgrading and additions","Feasibility","Other fixed structures",0,0,0,0,0,0,0,{"$f":"SUM(T1215-S1215)","v":0},0,0,{"$f":"SUM(W1215-V1215)","v":0},0,0,{"$f":"SUM(Z1215-Y1215)","v":0},0,0,0,0,0,0]
[0,null,null,null,null,null,"Furniture & Fittings",0,0,0,"Upgrading and additions","Feasibility","Other fixed structures",0,0,0,0,0,0,0,0,0,0,0,0,0,0,0,0,0,0,0,0]
[0,null,null,null,null,null,"Airport equipment",0,0,0,"Upgrading and additions","Feasibility","Other fixed structures",0,0,0,0,0,0,0,0,0,0,0,0,0,0,0,0,0,0,0,0]
[0,null,null,null,null,null,"Electrical & parking",0,0,0,"Upgrading and additions","Feasibility","Other fixed structures",0,0,0,0,0,0,0,0,0,0,0,0,0,0,0,0,0,0,0,0]
[0,null,null,null,null,null,"Fencing, lifts, travelators",0,0,0,"Upgrading and additions","Feasibility","Other fixed structures",0,0,0,0,0,0,0,0,0,0,0,0,0,0,0,0,0,0,0,0]
[0,null,null,null,null,null,"Refurbishment of aprons and roads",0,0,0,"Rehabilitation and refurbishment","Feasibility","Other fixed structures",0,0,0,0,0,0,0,0,0,0,0,0,0,0,0,0,0,0,0,0]
[0,null,null,null,null,null,"Land",0,0,0,"Upgrading and additions","Feasibility","Other fixed structures",0,0,0,0,0,0,0,0,0,0,0,0,0,0,0,0,0,0,0,0]
[0,null,null,null,null,null,"WIP",0,0,0,"Upgrading and additions","Feasibility","Other fixed structures",0,0,0,0,0,0,0,0,0,0,0,0,0,0,0,0,0,0,0,0]
[0,null,null,null,null,null,0,0,0,0,0,0,0,0,0,0,0,0,0,0,0,0,0,0,0,0,0,0,0,0,0,0,0]
[0,null,null,null,null,null,0,0,0,0,0,0,0,0,0,0,0,0,0,0,0,0,0,0,0,0,0,0,0,0,0,0,0]
[0,null,null,null,null,null,0,0,0,0,0,0,0,0,0,0,0,0,0,0,0,0,0,0,0,0,0,0,0,0,0,0,0]
[0,null,null,null,null,null,0,0,0,0,0,0,0,0,0,0,0,0,0,0,0,0,0,0,0,0,0,0,0,0,0,0,0]
[0,null,null,null,null,null,0,0,0,0,0,0,0,0,0,0,0,0,0,0,0,0,0,0,0,0,0,0,0,0,0,0,0]
[{"$f":"IF(SUM(O1228:AH1228),1,0)","v":0},null,null,null,null,null,0,0,0,0,0,0,0,0,0,0,0,0,0,0,0,0,0,0,0,0,0,0,0,0,0,0,0]
[0,null,null,null,null,null,0,0,0,0,0,0,0,0,0,0,0,0,0,0,0,0,0,0,0,0,0,0,0,0,0,0,0]
[0,null,null,null,null,null,0,0,0,0,0,0,0,0,0,0,0,0,0,0,0,0,0,0,0,0,0,0,0,0,0,0,0]
[0,null,null,null,null,null,0,0,0,0,0,0,0,0,0,0,0,0,0,0,0,0,0,0,0,0,0,0,0,0,0,0,0]
[0,null,null,null,null,null,0,0,0,0,0,0,0,0,0,0,0,0,0,0,0,0,0,0,0,0,0,0,0,0,0,0,0]
[0,null,null,null,null,null,0,0,0,0,0,0,0,0,0,0,0,0,0,0,0,0,0,0,0,0,0,0,0,0,0,0,0]
[0,null,null,null,null,null,0,0,0,0,0,0,0,0,0,0,0,0,0,0,0,0,0,0,0,0,0,0,0,0,0,0,0]
[0,null,null,null,null,null,0,0,0,0,0,0,0,0,0,0,0,0,0,0,0,0,0,0,0,0,0,0,0,0,0,0,0]
[0,null,null,null,null,null,0,0,0,0,0,0,0,0,0,0,0,0,0,0,0,0,0,0,0,0,0,0,0,0,0,0,0]
[0,null,null,null,null,null,0,0,0,0,0,0,0,0,0,0,0,0,0,0,0,0,0,0,0,0,0,0,0,0,0,0,0]
[0,null,null,null,null,null,0,0,0,0,0,0,0,0,0,0,0,0,0,0,0,0,0,0,0,0,0,0,0,0,0,0,0]
[0,null,null,null,null,null,0,0,0,0,0,0,0,0,0,0,0,0,0,0,0,0,0,0,0,0,0,0,0,0,0,0,0]
[0,null,null,null,null,null,0,0,0,0,0,0,0,0,0,0,0,0,0,0,0,0,0,0,0,0,0,0,0,0,0,0,0]
[0,null,null,null,null,null,0,0,0,0,0,0,0,0,0,0,0,0,0,0,0,0,0,0,0,0,0,0,0,0,0,0,0]
[0,null,null,null,null,null,0,0,0,0,0,0,0,0,0,0,0,0,0,0,0,0,0,0,0,0,0,0,0,0,0,0,0]
[0,null,null,null,null,null,0,0,0,0,0,0,0,0,0,0,0,0,0,0,0,0,0,0,0,0,0,0,0,0,0,0,0]
[0,null,null,null,null,null,0,0,0,0,0,0,0,0,0,0,0,0,0,0,0,0,0,0,0,0,0,0,0,0,0,0,0]
[0,null,null,null,null,null,0,0,0,0,0,0,0,0,0,0,0,0,0,0,0,0,0,0,0,0,0,0,0,0,0,0,0]
[0,null,null,null,null,null,0,0,0,0,0,0,0,0,0,0,0,0,0,0,0,0,0,0,0,0,0,0,0,0,0,0,0]
[0,null,null,null,null,null,0,0,0,0,0,0,0,0,0,0,0,0,0,0,0,0,0,0,0,0,0,0,0,0,0,0,0]
[0,null,null,null,null,null,0,0,0,0,0,0,0,0,0,0,0,0,0,0,0,0,0,0,0,0,0,0,0,0,0,0,0]
[0,null,null,null,null,null,0,0,0,0,0,0,0,0,0,0,0,0,0,0,0,0,0,0,0,0,0,0,0,0,0,0,0]
[0,null,null,null,null,null,0,0,0,0,0,0,0,0,0,0,0,0,0,0,0,0,0,0,0,0,0,0,0,0,0,0,0]
[0,null,null,null,null,null,0,0,0,0,0,0,0,0,0,0,0,0,0,0,0,0,0,0,0,0,0,0,0,0,0,0,0]
[0,null,null,null,null,null,0,0,0,0,0,0,0,0,0,0,0,0,0,0,0,0,0,0,0,0,0,0,0,0,0,0,0]
[0,null,null,null,null,null,0,0,0,0,0,0,0,0,0,0,0,0,0,0,0,0,0,0,0,0,0,0,0,0,0,0,0]
[0,null,null,null,null,null,0,0,0,0,0,0,0,0,0,0,0,0,0,0,0,0,0,0,0,0,0,0,0,0,0,0,0]
[0,null,null,null,null,null,0,0,0,0,0,0,0,0,0,0,0,0,0,0,0,0,0,0,0,0,0,0,0,0,0,0,0]
[0,null,null,null,null,null,0,0,0,0,0,0,0,0,0,0,0,0,0,0,0,0,0,0,0,0,0,0,0,0,0,0,0]
[0,null,null,null,null,null,0,0,0,0,0,0,0,0,0,0,0,0,0,0,0,0,0,0,0,0,0,0,0,0,0,0,0]
[0,null,null,null,null,null,0,0,0,0,0,0,0,0,0,0,0,0,0,0,0,0,0,0,0,0,0,0,0,0,0,0,0]
[0,null,null,null,null,null,0,0,0,0,0,0,0,0,0,0,0,0,0,0,0,0,0,0,0,0,0,0,0,0,0,0,0]
[0,null,null,null,null,null,0,0,0,0,0,0,0,0,0,0,0,0,0,0,0,0,0,0,0,0,0,0,0,0,0,0,0]
[0,null,null,null,null,null,0,0,0,0,0,0,0,0,0,0,0,0,0,0,0,0,0,0,0,0,0,0,0,0,0,0,0]
[0,null,null,null,null,null,0,0,0,0,0,0,0,0,0,0,0,0,0,0,0,0,0,0,0,0,0,0,0,0,0,0,0]
[0,null,null,null,null,null,0,0,0,0,0,0,0,0,0,0,0,0,0,0,0,0,0,0,0,0,0,0,0,0,0,0,0]
[0,null,null,null,null,null,0,0,0,0,0,0,0,0,0,0,0,0,0,0,0,0,0,0,0,0,0,0,0,0,0,0,0]
[0,null,null,null,null,null,0,0,0,0,0,0,0,0,0,0,0,0,0,0,0,0,0,0,0,0,0,0,0,0,0,0,0]
[0,null,null,null,null,null,0,0,0,0,0,0,0,0,0,0,0,0,0,0,0,0,0,0,0,0,0,0,0,0,0,0,0]
[0,null,null,null,null,null,0,0,0,0,0,0,0,0,0,0,0,0,0,0,0,0,0,0,0,0,0,0,0,0,0,0,0]
[0,null,null,null,null,null,0,0,0,0,0,0,0,0,0,0,0,0,0,0,0,0,0,0,0,0,0,0,0,0,0,0,0]
[0,null,null,null,null,null,0,0,0,0,0,0,0,0,0,0,0,0,0,0,0,0,0,0,0,0,0,0,0,0,0,0,0]
[0,null,null,null,null,null,0,0,0,0,0,0,0,0,0,0,0,0,0,0,0,0,0,0,0,0,0,0,0,0,0,0,0]
[0,null,null,null,null,null,0,0,0,0,0,0,0,0,0,0,0,0,0,0,0,0,0,0,0,0,0,0,0,0,0,0,0]
[0,null,null,null,null,null,0,0,0,0,0,0,0,0,0,0,0,0,0,0,0,0,0,0,0,0,0,0,0,0,0,0,0]
[0,null,null,null,null,null,0,0,0,0,0,0,0,0,0,0,0,0,0,0,0,0,0,0,0,0,0,0,0,0,0,0,0]
[0,null,null,null,null,null,0,0,0,0,0,0,0,0,0,0,0,0,0,0,0,0,0,0,0,0,0,0,0,0,0,0,0]
[0,null,null,null,null,null,0,0,0,0,0,0,0,0,0,0,0,0,0,0,0,0,0,0,0,0,0,0,0,0,0,0,0]
[0,null,null,null,null,null,0,0,0,0,0,0,0,0,0,0,0,0,0,0,0,0,0,0,0,0,0,0,0,0,0,0,0]
[0,null,null,null,null,null,0,0,0,0,0,0,0,0,0,0,0,0,0,0,0,0,0,0,0,0,0,0,0,0,0,0,0]
[0,null,null,null,null,null,0,0,0,0,0,0,0,0,0,0,0,0,0,0,0,0,0,0,0,0,0,0,0,0,0,0,0]
[0,null,null,null,null,null,0,0,0,0,0,0,0,0,0,0,0,0,0,0,{"$f":"SUM(T1279-S1279)","v":0},0,0,{"$f":"SUM(W1279-V1279)","v":0},0,0,{"$f":"SUM(Z1279-Y1279)","v":0},0,0,0,0,0,0]
[0,null,null,null,null,null,0,0,0,0,0,0,0,0,0,0,0,0,0,0,0,0,0,0,0,0,0,0,0,0,0,0,0]
[0,null,null,null,null,null,0,0,0,0,0,0,0,0,0,0,0,0,0,0,0,0,0,0,0,0,0,0,0,0,0,0,0]
[0,null,null,null,null,null,0,0,0,0,0,0,0,0,0,0,0,0,0,0,0,0,0,0,0,0,0,0,0,0,0,0,0]
[0,null,null,null,null,null,0,0,0,0,0,0,0,0,0,0,0,0,0,0,0,0,0,0,0,0,0,0,0,0,0,0,0]
[0,null,null,null,null,null,0,0,0,0,0,0,0,0,0,0,0,0,0,0,0,0,0,0,0,0,0,0,0,0,0,0,0]
[0,null,null,null,null,null,0,0,0,0,0,0,0,0,0,0,0,0,0,0,0,0,0,0,0,0,0,0,0,0,0,0,0]
[0,null,null,null,null,null,0,0,0,0,0,0,0,0,0,0,0,0,0,0,0,0,0,0,0,0,0,0,0,0,0,0,0]
[0,null,null,null,null,null,0,0,0,0,0,0,0,0,0,0,0,0,0,0,0,0,0,0,0,0,0,0,0,0,0,0,0]
[0,null,null,null,null,null,0,0,0,0,0,0,0,0,0,0,0,0,0,0,0,0,0,0,0,0,0,0,0,0,0,0,0]
[0,null,null,null,null,null,0,0,0,0,0,0,0,0,0,0,0,0,0,0,0,0,0,0,0,0,0,0,0,0,0,0,0]
[0,null,null,null,null,null,0,0,0,0,0,0,0,0,0,0,0,0,0,0,0,0,0,0,0,0,0,0,0,0,0,0,0]
[0,null,null,null,null,null,0,0,0,0,0,0,0,0,0,0,0,0,0,0,0,0,0,0,0,0,0,0,0,0,0,0,0]
[{"$f":"IF(SUM(O1292:AH1292),1,0)","v":0},null,null,null,null,null,0,0,0,0,0,0,0,0,0,0,0,0,0,0,0,0,0,0,0,0,0,0,0,0,0,0,0]
[0,null,null,null,null,null,0,0,0,0,0,0,0,0,0,0,0,0,0,0,0,0,0,0,0,0,0,0,0,0,0,0,0]
[0,null,null,null,null,null,0,0,0,0,0,0,0,0,0,0,0,0,0,0,0,0,0,0,0,0,0,0,0,0,0,0,0]
[0,null,null,null,null,null,0,0,0,0,0,0,0,0,0,0,0,0,0,0,0,0,0,0,0,0,0,0,0,0,0,0,0]
[0,null,null,null,null,null,0,0,0,0,0,0,0,0,0,0,0,0,0,0,0,0,0,0,0,0,0,0,0,0,0,0,0]
[0,null,null,null,null,null,0,0,0,0,0,0,0,0,0,0,0,0,0,0,0,0,0,0,0,0,0,0,0,0,0,0,0]
[0,null,null,null,null,null,0,0,0,0,0,0,0,0,0,0,0,0,0,0,0,0,0,0,0,0,0,0,0,0,0,0,0]
[0,null,null,null,null,null,0,0,0,0,0,0,0,0,0,0,0,0,0,0,0,0,0,0,0,0,0,0,0,0,0,0,0]
[0,null,null,null,null,null,0,0,0,0,0,0,0,0,0,0,0,0,0,0,0,0,0,0,0,0,0,0,0,0,0,0,0]
[0,null,null,null,null,null,0,0,0,0,0,0,0,0,0,0,0,0,0,0,0,0,0,0,0,0,0,0,0,0,0,0,0]
[0,null,null,null,null,null,0,0,0,0,0,0,0,0,0,0,0,0,0,0,0,0,0,0,0,0,0,0,0,0,0,0,0]
[0,null,null,null,null,null,0,0,0,0,0,0,0,0,0,0,0,0,0,0,0,0,0,0,0,0,0,0,0,0,0,0,0]
[0,null,null,null,null,null,0,0,0,0,0,0,0,0,0,0,0,0,0,0,0,0,0,0,0,0,0,0,0,0,0,0,0]
[0,null,null,null,null,null,0,0,0,0,0,0,0,0,0,0,0,0,0,0,0,0,0,0,0,0,0,0,0,0,0,0,0]
[0,null,null,null,null,null,0,0,0,0,0,0,0,0,0,0,0,0,0,0,0,0,0,0,0,0,0,0,0,0,0,0,0]
[0,null,null,null,null,null,0,0,0,0,0,0,0,0,0,0,0,0,0,0,0,0,0,0,0,0,0,0,0,0,0,0,0]
[0,null,null,null,null,null,0,0,0,0,0,0,0,0,0,0,0,0,0,0,0,0,0,0,0,0,0,0,0,0,0,0,0]
[0,null,null,null,null,null,0,0,0,0,0,0,0,0,0,0,0,0,0,0,0,0,0,0,0,0,0,0,0,0,0,0,0]
[0,null,null,null,null,null,0,0,0,0,0,0,0,0,0,0,0,0,0,0,0,0,0,0,0,0,0,0,0,0,0,0,0]
[0,null,null,null,null,null,0,0,0,0,0,0,0,0,0,0,0,0,0,0,0,0,0,0,0,0,0,0,0,0,0,0,0]
[0,null,null,null,null,null,0,0,0,0,0,0,0,0,0,0,0,0,0,0,0,0,0,0,0,0,0,0,0,0,0,0,0]
[0,null,null,null,null,null,0,0,0,0,0,0,0,0,0,0,0,0,0,0,0,0,0,0,0,0,0,0,0,0,0,0,0]
[0,null,null,null,null,null,0,0,0,0,0,0,0,0,0,0,0,0,0,0,0,0,0,0,0,0,0,0,0,0,0,0,0]
[0,null,null,null,null,null,0,0,0,0,0,0,0,0,0,0,0,0,0,0,0,0,0,0,0,0,0,0,0,0,0,0,0]
[0,null,null,null,null,null,0,0,0,0,0,0,0,0,0,0,0,0,0,0,0,0,0,0,0,0,0,0,0,0,0,0,0]
[0,null,null,null,null,null,0,0,0,0,0,0,0,0,0,0,0,0,0,0,0,0,0,0,0,0,0,0,0,0,0,0,0]
[0,null,null,null,null,null,0,0,0,0,0,0,0,0,0,0,0,0,0,0,0,0,0,0,0,0,0,0,0,0,0,0,0]
[0,null,null,null,null,null,0,0,0,0,0,0,0,0,0,0,0,0,0,0,0,0,0,0,0,0,0,0,0,0,0,0,0]
[0,null,null,null,null,null,0,0,0,0,0,0,0,0,0,0,0,0,0,0,0,0,0,0,0,0,0,0,0,0,0,0,0]
[0,null,null,null,null,null,0,0,0,0,0,0,0,0,0,0,0,0,0,0,0,0,0,0,0,0,0,0,0,0,0,0,0]
[0,null,null,null,null,null,0,0,0,0,0,0,0,0,0,0,0,0,0,0,0,0,0,0,0,0,0,0,0,0,0,0,0]
[0,null,null,null,null,null,0,0,0,0,0,0,0,0,0,0,0,0,0,0,0,0,0,0,0,0,0,0,0,0,0,0,0]
[0,null,null,null,null,null,0,0,0,0,0,0,0,0,0,0,0,0,0,0,0,0,0,0,0,0,0,0,0,0,0,0,0]
[0,null,null,null,null,null,0,0,0,0,0,0,0,0,0,0,0,0,0,0,0,0,0,0,0,0,0,0,0,0,0,0,0]
[0,null,null,null,null,null,0,0,0,0,0,0,0,0,0,0,0,0,0,0,0,0,0,0,0,0,0,0,0,0,0,0,0]
[0,null,null,null,null,null,0,0,0,0,0,0,0,0,0,0,0,0,0,0,0,0,0,0,0,0,0,0,0,0,0,0,0]
[0,null,null,null,null,null,0,0,0,0,0,0,0,0,0,0,0,0,0,0,0,0,0,0,0,0,0,0,0,0,0,0,0]
[0,null,null,null,null,null,0,0,0,0,0,0,0,0,0,0,0,0,0,0,0,0,0,0,0,0,0,0,0,0,0,0,0]
[0,null,null,null,null,null,0,0,0,0,0,0,0,0,0,0,0,0,0,0,0,0,0,0,0,0,0,0,0,0,0,0,0]
[0,null,null,null,null,null,0,0,0,0,0,0,0,0,0,0,0,0,0,0,0,0,0,0,0,0,0,0,0,0,0,0,0]
[0,null,null,null,null,null,0,0,0,0,0,0,0,0,0,0,0,0,0,0,0,0,0,0,0,0,0,0,0,0,0,0,0]
[0,null,null,null,null,null,0,0,0,0,0,0,0,0,0,0,0,0,0,0,0,0,0,0,0,0,0,0,0,0,0,0,0]
[0,null,null,null,null,null,0,0,0,0,0,0,0,0,0,0,0,0,0,0,0,0,0,0,0,0,0,0,0,0,0,0,0]
[0,null,null,null,null,null,0,0,0,0,0,0,0,0,0,0,0,0,0,0,0,0,0,0,0,0,0,0,0,0,0,0,0]
[0,null,null,null,null,null,0,0,0,0,0,0,0,0,0,0,0,0,0,0,0,0,0,0,0,0,0,0,0,0,0,0,0]
[0,null,null,null,null,null,0,0,0,0,0,0,0,0,0,0,0,0,0,0,0,0,0,0,0,0,0,0,0,0,0,0,0]
[0,null,null,null,null,null,0,0,0,0,0,0,0,0,0,0,0,0,0,0,0,0,0,0,0,0,0,0,0,0,0,0,0]
[0,null,null,null,null,null,0,0,0,0,0,0,0,0,0,0,0,0,0,0,0,0,0,0,0,0,0,0,0,0,0,0,0]
[0,null,null,null,null,null,0,0,0,0,0,0,0,0,0,0,0,0,0,0,0,0,0,0,0,0,0,0,0,0,0,0,0]
[0,null,null,null,null,null,0,0,0,0,0,0,0,0,0,0,0,0,0,0,0,0,0,0,0,0,0,0,0,0,0,0,0]
[0,null,null,null,null,null,0,0,0,0,0,0,0,0,0,0,0,0,0,0,0,0,0,0,0,0,0,0,0,0,0,0,0]
[0,null,null,null,null,null,0,0,0,0,0,0,0,0,0,0,0,0,0,0,{"$f":"SUM(T1343-S1343)","v":0},0,0,{"$f":"SUM(W1343-V1343)","v":0},0,0,{"$f":"SUM(Z1343-Y1343)","v":0},0,0,0,0,0,0]
[0,null,null,null,null,null,0,0,0,0,0,0,0,0,0,0,0,0,0,0,0,0,0,0,0,0,0,0,0,0,0,0,0]
[0,null,null,null,null,null,0,0,0,0,0,0,0,0,0,0,0,0,0,0,0,0,0,0,0,0,0,0,0,0,0,0,0]
[0,null,null,null,null,null,0,0,0,0,0,0,0,0,0,0,0,0,0,0,0,0,0,0,0,0,0,0,0,0,0,0,0]
[0,null,null,null,null,null,0,0,0,0,0,0,0,0,0,0,0,0,0,0,0,0,0,0,0,0,0,0,0,0,0,0,0]
[0,null,null,null,null,null,0,0,0,0,0,0,0,0,0,0,0,0,0,0,0,0,0,0,0,0,0,0,0,0,0,0,0]
[0,null,null,null,null,null,0,0,0,0,0,0,0,0,0,0,0,0,0,0,0,0,0,0,0,0,0,0,0,0,0,0,0]
[0,null,null,null,null,null,0,0,0,0,0,0,0,0,0,0,0,0,0,0,0,0,0,0,0,0,0,0,0,0,0,0,0]
[0,null,null,null,null,null,0,0,0,0,0,0,0,0,0,0,0,0,0,0,0,0,0,0,0,0,0,0,0,0,0,0,0]
[0,null,null,null,null,null,0,0,0,0,0,0,0,0,0,0,0,0,0,0,0,0,0,0,0,0,0,0,0,0,0,0,0]
[0,null,null,null,null,null,0,0,0,0,0,0,0,0,0,0,0,0,0,0,0,0,0,0,0,0,0,0,0,0,0,0,0]
[0,null,null,null,null,null,0,0,0,0,0,0,0,0,0,0,0,0,0,0,0,0,0,0,0,0,0,0,0,0,0,0,0]
[0,null,null,null,null,null,0,0,0,0,0,0,0,0,0,0,0,0,0,0,0,0,0,0,0,0,0,0,0,0,0,0,0]
[{"$f":"IF(SUM(O1356:AH1356),1,0)","v":0},null,null,null,null,null,0,0,0,0,0,0,0,0,0,0,0,0,0,0,0,0,0,0,0,0,0,0,0,0,0,0,0]
[0,null,null,null,null,null,0,0,0,0,0,0,0,0,0,0,0,0,0,0,0,0,0,0,0,0,0,0,0,0,0,0,0]
[0,null,null,null,null,null,0,0,0,0,0,0,0,0,0,0,0,0,0,0,0,0,0,0,0,0,0,0,0,0,0,0,0]
[0,null,null,null,null,null,0,0,0,0,0,0,0,0,0,0,0,0,0,0,0,0,0,0,0,0,0,0,0,0,0,0,0]
[0,null,null,null,null,null,0,0,0,0,0,0,0,0,0,0,0,0,0,0,0,0,0,0,0,0,0,0,0,0,0,0,0]
[0,null,null,null,null,null,0,0,0,0,0,0,0,0,0,0,0,0,0,0,0,0,0,0,0,0,0,0,0,0,0,0,0]
[0,null,null,null,null,null,0,0,0,0,0,0,0,0,0,0,0,0,0,0,0,0,0,0,0,0,0,0,0,0,0,0,0]
[0,null,null,null,null,null,0,0,0,0,0,0,0,0,0,0,0,0,0,0,0,0,0,0,0,0,0,0,0,0,0,0,0]
[0,null,null,null,null,null,0,0,0,0,0,0,0,0,0,0,0,0,0,0,0,0,0,0,0,0,0,0,0,0,0,0,0]
[0,null,null,null,null,null,0,0,0,0,0,0,0,0,0,0,0,0,0,0,0,0,0,0,0,0,0,0,0,0,0,0,0]
[0,null,null,null,null,null,0,0,0,0,0,0,0,0,0,0,0,0,0,0,0,0,0,0,0,0,0,0,0,0,0,0,0]
[0,null,null,null,null,null,0,0,0,0,0,0,0,0,0,0,0,0,0,0,0,0,0,0,0,0,0,0,0,0,0,0,0]
[0,null,null,null,null,null,0,0,0,0,0,0,0,0,0,0,0,0,0,0,0,0,0,0,0,0,0,0,0,0,0,0,0]
[0,null,null,null,null,null,0,0,0,0,0,0,0,0,0,0,0,0,0,0,0,0,0,0,0,0,0,0,0,0,0,0,0]
[0,null,null,null,null,null,0,0,0,0,0,0,0,0,0,0,0,0,0,0,0,0,0,0,0,0,0,0,0,0,0,0,0]
[0,null,null,null,null,null,0,0,0,0,0,0,0,0,0,0,0,0,0,0,0,0,0,0,0,0,0,0,0,0,0,0,0]
[0,null,null,null,null,null,0,0,0,0,0,0,0,0,0,0,0,0,0,0,0,0,0,0,0,0,0,0,0,0,0,0,0]
[0,null,null,null,null,null,0,0,0,0,0,0,0,0,0,0,0,0,0,0,0,0,0,0,0,0,0,0,0,0,0,0,0]
[0,null,null,null,null,null,0,0,0,0,0,0,0,0,0,0,0,0,0,0,0,0,0,0,0,0,0,0,0,0,0,0,0]
[0,null,null,null,null,null,0,0,0,0,0,0,0,0,0,0,0,0,0,0,0,0,0,0,0,0,0,0,0,0,0,0,0]
[0,null,null,null,null,null,0,0,0,0,0,0,0,0,0,0,0,0,0,0,0,0,0,0,0,0,0,0,0,0,0,0,0]
[0,null,null,null,null,null,0,0,0,0,0,0,0,0,0,0,0,0,0,0,0,0,0,0,0,0,0,0,0,0,0,0,0]
[0,null,null,null,null,null,0,0,0,0,0,0,0,0,0,0,0,0,0,0,0,0,0,0,0,0,0,0,0,0,0,0,0]
[0,null,null,null,null,null,0,0,0,0,0,0,0,0,0,0,0,0,0,0,0,0,0,0,0,0,0,0,0,0,0,0,0]
[0,null,null,null,null,null,0,0,0,0,0,0,0,0,0,0,0,0,0,0,0,0,0,0,0,0,0,0,0,0,0,0,0]
[0,null,null,null,null,null,0,0,0,0,0,0,0,0,0,0,0,0,0,0,0,0,0,0,0,0,0,0,0,0,0,0,0]
[0,null,null,null,null,null,0,0,0,0,0,0,0,0,0,0,0,0,0,0,0,0,0,0,0,0,0,0,0,0,0,0,0]
[0,null,null,null,null,null,0,0,0,0,0,0,0,0,0,0,0,0,0,0,0,0,0,0,0,0,0,0,0,0,0,0,0]
[0,null,null,null,null,null,0,0,0,0,0,0,0,0,0,0,0,0,0,0,0,0,0,0,0,0,0,0,0,0,0,0,0]
[0,null,null,null,null,null,0,0,0,0,0,0,0,0,0,0,0,0,0,0,0,0,0,0,0,0,0,0,0,0,0,0,0]
[0,null,null,null,null,null,0,0,0,0,0,0,0,0,0,0,0,0,0,0,0,0,0,0,0,0,0,0,0,0,0,0,0]
[0,null,null,null,null,null,0,0,0,0,0,0,0,0,0,0,0,0,0,0,0,0,0,0,0,0,0,0,0,0,0,0,0]
[0,null,null,null,null,null,0,0,0,0,0,0,0,0,0,0,0,0,0,0,0,0,0,0,0,0,0,0,0,0,0,0,0]
[0,null,null,null,null,null,0,0,0,0,0,0,0,0,0,0,0,0,0,0,0,0,0,0,0,0,0,0,0,0,0,0,0]
[0,null,null,null,null,null,0,0,0,0,0,0,0,0,0,0,0,0,0,0,0,0,0,0,0,0,0,0,0,0,0,0,0]
[0,null,null,null,null,null,0,0,0,0,0,0,0,0,0,0,0,0,0,0,0,0,0,0,0,0,0,0,0,0,0,0,0]
[0,null,null,null,null,null,0,0,0,0,0,0,0,0,0,0,0,0,0,0,0,0,0,0,0,0,0,0,0,0,0,0,0]
[0,null,null,null,null,null,0,0,0,0,0,0,0,0,0,0,0,0,0,0,0,0,0,0,0,0,0,0,0,0,0,0,0]
[0,null,null,null,null,null,0,0,0,0,0,0,0,0,0,0,0,0,0,0,0,0,0,0,0,0,0,0,0,0,0,0,0]
[0,null,null,null,null,null,0,0,0,0,0,0,0,0,0,0,0,0,0,0,0,0,0,0,0,0,0,0,0,0,0,0,0]
[0,null,null,null,null,null,0,0,0,0,0,0,0,0,0,0,0,0,0,0,0,0,0,0,0,0,0,0,0,0,0,0,0]
[0,null,null,null,null,null,0,0,0,0,0,0,0,0,0,0,0,0,0,0,0,0,0,0,0,0,0,0,0,0,0,0,0]
[0,null,null,null,null,null,0,0,0,0,0,0,0,0,0,0,0,0,0,0,0,0,0,0,0,0,0,0,0,0,0,0,0]
[0,null,null,null,null,null,0,0,0,0,0,0,0,0,0,0,0,0,0,0,0,0,0,0,0,0,0,0,0,0,0,0,0]
[0,null,null,null,null,null,0,0,0,0,0,0,0,0,0,0,0,0,0,0,0,0,0,0,0,0,0,0,0,0,0,0,0]
[0,null,null,null,null,null,0,0,0,0,0,0,0,0,0,0,0,0,0,0,0,0,0,0,0,0,0,0,0,0,0,0,0]
[0,null,null,null,null,null,0,0,0,0,0,0,0,0,0,0,0,0,0,0,0,0,0,0,0,0,0,0,0,0,0,0,0]
[0,null,null,null,null,null,0,0,0,0,0,0,0,0,0,0,0,0,0,0,0,0,0,0,0,0,0,0,0,0,0,0,0]
[0,null,null,null,null,null,0,0,0,0,0,0,0,0,0,0,0,0,0,0,0,0,0,0,0,0,0,0,0,0,0,0,0]
[0,null,null,null,null,null,0,0,0,0,0,0,0,0,0,0,0,0,0,0,0,0,0,0,0,0,0,0,0,0,0,0,0]
[0,null,null,null,null,null,0,0,0,0,0,0,0,0,0,0,0,0,0,0,0,0,0,0,0,0,0,0,0,0,0,0,0]
[0,null,null,null,null,null,0,0,0,0,0,0,0,0,0,0,0,0,0,0,{"$f":"SUM(T1407-S1407)","v":0},0,0,{"$f":"SUM(W1407-V1407)","v":0},0,0,{"$f":"SUM(Z1407-Y1407)","v":0},0,0,0,0,0,0]
[0,null,null,null,null,null,0,0,0,0,0,0,0,0,0,0,0,0,0,0,0,0,0,0,0,0,0,0,0,0,0,0,0]
[0,null,null,null,null,null,0,0,0,0,0,0,0,0,0,0,0,0,0,0,0,0,0,0,0,0,0,0,0,0,0,0,0]
[0,null,null,null,null,null,0,0,0,0,0,0,0,0,0,0,0,0,0,0,0,0,0,0,0,0,0,0,0,0,0,0,0]
[0,null,null,null,null,null,0,0,0,0,0,0,0,0,0,0,0,0,0,0,0,0,0,0,0,0,0,0,0,0,0,0,0]
[0,null,null,null,null,null,0,0,0,0,0,0,0,0,0,0,0,0,0,0,0,0,0,0,0,0,0,0,0,0,0,0,0]
[0,null,null,null,null,null,0,0,0,0,0,0,0,0,0,0,0,0,0,0,0,0,0,0,0,0,0,0,0,0,0,0,0]
[0,null,null,null,null,null,0,0,0,0,0,0,0,0,0,0,0,0,0,0,0,0,0,0,0,0,0,0,0,0,0,0,0]
[0,null,null,null,null,null,0,0,0,0,0,0,0,0,0,0,0,0,0,0,0,0,0,0,0,0,0,0,0,0,0,0,0]
[0,null,null,null,null,null,0,0,0,0,0,0,0,0,0,0,0,0,0,0,0,0,0,0,0,0,0,0,0,0,0,0,0]
[0,null,null,null,null,null,0,0,0,0,0,0,0,0,0,0,0,0,0,0,0,0,0,0,0,0,0,0,0,0,0,0,0]
[0,null,null,null,null,null,0,0,0,0,0,0,0,0,0,0,0,0,0,0,0,0,0,0,0,0,0,0,0,0,0,0,0]
[0,null,null,null,null,null,0,0,0,0,0,0,0,0,0,0,0,0,0,0,0,0,0,0,0,0,0,0,0,0,0,0,0]
[{"$f":"IF(SUM(O1420:AH1420),1,0)","v":0},null,null,null,null,null,0,0,0,0,0,0,0,0,0,0,0,0,0,0,0,0,0,0,0,0,0,0,0,0,0,0,0]
[0,null,null,null,null,null,0,0,0,0,0,0,0,0,0,0,0,0,0,0,0,0,0,0,0,0,0,0,0,0,0,0,0]
[0,null,null,null,null,null,0,0,0,0,0,0,0,0,0,0,0,0,0,0,0,0,0,0,0,0,0,0,0,0,0,0,0]
[0,null,null,null,null,null,0,0,0,0,0,0,0,0,0,0,0,0,0,0,0,0,0,0,0,0,0,0,0,0,0,0,0]
[0,null,null,null,null,null,0,0,0,0,0,0,0,0,0,0,0,0,0,0,0,0,0,0,0,0,0,0,0,0,0,0,0]
[0,null,null,null,null,null,0,0,0,0,0,0,0,0,0,0,0,0,0,0,0,0,0,0,0,0,0,0,0,0,0,0,0]
[0,null,null,null,null,null,0,0,0,0,0,0,0,0,0,0,0,0,0,0,0,0,0,0,0,0,0,0,0,0,0,0,0]
[0,null,null,null,null,null,0,0,0,0,0,0,0,0,0,0,0,0,0,0,0,0,0,0,0,0,0,0,0,0,0,0,0]
[0,null,null,null,null,null,0,0,0,0,0,0,0,0,0,0,0,0,0,0,0,0,0,0,0,0,0,0,0,0,0,0,0]
[0,null,null,null,null,null,0,0,0,0,0,0,0,0,0,0,0,0,0,0,0,0,0,0,0,0,0,0,0,0,0,0,0]
[0,null,null,null,null,null,0,0,0,0,0,0,0,0,0,0,0,0,0,0,0,0,0,0,0,0,0,0,0,0,0,0,0]
[0,null,null,null,null,null,0,0,0,0,0,0,0,0,0,0,0,0,0,0,0,0,0,0,0,0,0,0,0,0,0,0,0]
[0,null,null,null,null,null,0,0,0,0,0,0,0,0,0,0,0,0,0,0,0,0,0,0,0,0,0,0,0,0,0,0,0]
[0,null,null,null,null,null,0,0,0,0,0,0,0,0,0,0,0,0,0,0,0,0,0,0,0,0,0,0,0,0,0,0,0]
[0,null,null,null,null,null,0,0,0,0,0,0,0,0,0,0,0,0,0,0,0,0,0,0,0,0,0,0,0,0,0,0,0]
[0,null,null,null,null,null,0,0,0,0,0,0,0,0,0,0,0,0,0,0,0,0,0,0,0,0,0,0,0,0,0,0,0]
[0,null,null,null,null,null,0,0,0,0,0,0,0,0,0,0,0,0,0,0,0,0,0,0,0,0,0,0,0,0,0,0,0]
[0,null,null,null,null,null,0,0,0,0,0,0,0,0,0,0,0,0,0,0,0,0,0,0,0,0,0,0,0,0,0,0,0]
[0,null,null,null,null,null,0,0,0,0,0,0,0,0,0,0,0,0,0,0,0,0,0,0,0,0,0,0,0,0,0,0,0]
[0,null,null,null,null,null,0,0,0,0,0,0,0,0,0,0,0,0,0,0,0,0,0,0,0,0,0,0,0,0,0,0,0]
[0,null,null,null,null,null,0,0,0,0,0,0,0,0,0,0,0,0,0,0,0,0,0,0,0,0,0,0,0,0,0,0,0]
[0,null,null,null,null,null,0,0,0,0,0,0,0,0,0,0,0,0,0,0,0,0,0,0,0,0,0,0,0,0,0,0,0]
[0,null,null,null,null,null,0,0,0,0,0,0,0,0,0,0,0,0,0,0,0,0,0,0,0,0,0,0,0,0,0,0,0]
[0,null,null,null,null,null,0,0,0,0,0,0,0,0,0,0,0,0,0,0,0,0,0,0,0,0,0,0,0,0,0,0,0]
[0,null,null,null,null,null,0,0,0,0,0,0,0,0,0,0,0,0,0,0,0,0,0,0,0,0,0,0,0,0,0,0,0]
[0,null,null,null,null,null,0,0,0,0,0,0,0,0,0,0,0,0,0,0,0,0,0,0,0,0,0,0,0,0,0,0,0]
[0,null,null,null,null,null,0,0,0,0,0,0,0,0,0,0,0,0,0,0,0,0,0,0,0,0,0,0,0,0,0,0,0]
[0,null,null,null,null,null,0,0,0,0,0,0,0,0,0,0,0,0,0,0,0,0,0,0,0,0,0,0,0,0,0,0,0]
[0,null,null,null,null,null,0,0,0,0,0,0,0,0,0,0,0,0,0,0,0,0,0,0,0,0,0,0,0,0,0,0,0]
[0,null,null,null,null,null,0,0,0,0,0,0,0,0,0,0,0,0,0,0,0,0,0,0,0,0,0,0,0,0,0,0,0]
[0,null,null,null,null,null,0,0,0,0,0,0,0,0,0,0,0,0,0,0,0,0,0,0,0,0,0,0,0,0,0,0,0]
[0,null,null,null,null,null,0,0,0,0,0,0,0,0,0,0,0,0,0,0,0,0,0,0,0,0,0,0,0,0,0,0,0]
[0,null,null,null,null,null,0,0,0,0,0,0,0,0,0,0,0,0,0,0,0,0,0,0,0,0,0,0,0,0,0,0,0]
[0,null,null,null,null,null,0,0,0,0,0,0,0,0,0,0,0,0,0,0,0,0,0,0,0,0,0,0,0,0,0,0,0]
[0,null,null,null,null,null,0,0,0,0,0,0,0,0,0,0,0,0,0,0,0,0,0,0,0,0,0,0,0,0,0,0,0]
[0,null,null,null,null,null,0,0,0,0,0,0,0,0,0,0,0,0,0,0,0,0,0,0,0,0,0,0,0,0,0,0,0]
[0,null,null,null,null,null,0,0,0,0,0,0,0,0,0,0,0,0,0,0,0,0,0,0,0,0,0,0,0,0,0,0,0]
[0,null,null,null,null,null,0,0,0,0,0,0,0,0,0,0,0,0,0,0,0,0,0,0,0,0,0,0,0,0,0,0,0]
[0,null,null,null,null,null,0,0,0,0,0,0,0,0,0,0,0,0,0,0,0,0,0,0,0,0,0,0,0,0,0,0,0]
[0,null,null,null,null,null,0,0,0,0,0,0,0,0,0,0,0,0,0,0,0,0,0,0,0,0,0,0,0,0,0,0,0]
[0,null,null,null,null,null,0,0,0,0,0,0,0,0,0,0,0,0,0,0,0,0,0,0,0,0,0,0,0,0,0,0,0]
[0,null,null,null,null,null,0,0,0,0,0,0,0,0,0,0,0,0,0,0,0,0,0,0,0,0,0,0,0,0,0,0,0]
[0,null,null,null,null,null,0,0,0,0,0,0,0,0,0,0,0,0,0,0,0,0,0,0,0,0,0,0,0,0,0,0,0]
[0,null,null,null,null,null,0,0,0,0,0,0,0,0,0,0,0,0,0,0,0,0,0,0,0,0,0,0,0,0,0,0,0]
[0,null,null,null,null,null,0,0,0,0,0,0,0,0,0,0,0,0,0,0,0,0,0,0,0,0,0,0,0,0,0,0,0]
[0,null,null,null,null,null,0,0,0,0,0,0,0,0,0,0,0,0,0,0,0,0,0,0,0,0,0,0,0,0,0,0,0]
[0,null,null,null,null,null,0,0,0,0,0,0,0,0,0,0,0,0,0,0,0,0,0,0,0,0,0,0,0,0,0,0,0]
[0,null,null,null,null,null,0,0,0,0,0,0,0,0,0,0,0,0,0,0,0,0,0,0,0,0,0,0,0,0,0,0,0]
[0,null,null,null,null,null,0,0,0,0,0,0,0,0,0,0,0,0,0,0,0,0,0,0,0,0,0,0,0,0,0,0,0]
[0,null,null,null,null,null,0,0,0,0,0,0,0,0,0,0,0,0,0,0,0,0,0,0,0,0,0,0,0,0,0,0,0]
[0,null,null,null,null,null,0,0,0,0,0,0,0,0,0,0,0,0,0,0,0,0,0,0,0,0,0,0,0,0,0,0,0]
[0,null,null,null,null,null,0,0,0,0,0,0,0,0,0,0,0,0,0,0,{"$f":"SUM(T1471-S1471)","v":0},0,0,{"$f":"SUM(W1471-V1471)","v":0},0,0,{"$f":"SUM(Z1471-Y1471)","v":0},0,0,0,0,0,0]
[0,null,null,null,null,null,0,0,0,0,0,0,0,0,0,0,0,0,0,0,0,0,0,0,0,0,0,0,0,0,0,0,0]
[0,null,null,null,null,null,0,0,0,0,0,0,0,0,0,0,0,0,0,0,0,0,0,0,0,0,0,0,0,0,0,0,0]
[0,null,null,null,null,null,0,0,0,0,0,0,0,0,0,0,0,0,0,0,0,0,0,0,0,0,0,0,0,0,0,0,0]
[0,null,null,null,null,null,0,0,0,0,0,0,0,0,0,0,0,0,0,0,0,0,0,0,0,0,0,0,0,0,0,0,0]
[0,null,null,null,null,null,0,0,0,0,0,0,0,0,0,0,0,0,0,0,0,0,0,0,0,0,0,0,0,0,0,0,0]
[0,null,null,null,null,null,0,0,0,0,0,0,0,0,0,0,0,0,0,0,0,0,0,0,0,0,0,0,0,0,0,0,0]
[0,null,null,null,null,null,0,0,0,0,0,0,0,0,0,0,0,0,0,0,0,0,0,0,0,0,0,0,0,0,0,0,0]
[0,null,null,null,null,null,0,0,0,0,0,0,0,0,0,0,0,0,0,0,0,0,0,0,0,0,0,0,0,0,0,0,0]
[0,null,null,null,null,null,0,0,0,0,0,0,0,0,0,0,0,0,0,0,0,0,0,0,0,0,0,0,0,0,0,0,0]
[0,null,null,null,null,null,0,0,0,0,0,0,0,0,0,0,0,0,0,0,0,0,0,0,0,0,0,0,0,0,0,0,0]
[0,null,null,null,null,null,0,0,0,0,0,0,0,0,0,0,0,0,0,0,0,0,0,0,0,0,0,0,0,0,0,0,0]
[0,null,null,null,null,null,0,0,0,0,0,0,0,0,0,0,0,0,0,0,0,0,0,0,0,0,0,0,0,0,0,0,0]
[{"$f":"IF(SUM(O1484:AH1484),1,0)","v":0},null,null,null,null,null,0,0,0,0,0,0,0,0,0,0,0,0,0,0,0,0,0,0,0,0,0,0,0,0,0,0,0]
[0,null,null,null,null,null,0,0,0,0,0,0,0,0,0,0,0,0,0,0,0,0,0,0,0,0,0,0,0,0,0,0,0]
[0,null,null,null,null,null,0,0,0,0,0,0,0,0,0,0,0,0,0,0,0,0,0,0,0,0,0,0,0,0,0,0,0]
[0,null,null,null,null,null,0,0,0,0,0,0,0,0,0,0,0,0,0,0,0,0,0,0,0,0,0,0,0,0,0,0,0]
[0,null,null,null,null,null,0,0,0,0,0,0,0,0,0,0,0,0,0,0,0,0,0,0,0,0,0,0,0,0,0,0,0]
[0,null,null,null,null,null,0,0,0,0,0,0,0,0,0,0,0,0,0,0,0,0,0,0,0,0,0,0,0,0,0,0,0]
[0,null,null,null,null,null,0,0,0,0,0,0,0,0,0,0,0,0,0,0,0,0,0,0,0,0,0,0,0,0,0,0,0]
[0,null,null,null,null,null,0,0,0,0,0,0,0,0,0,0,0,0,0,0,0,0,0,0,0,0,0,0,0,0,0,0,0]
[0,null,null,null,null,null,0,0,0,0,0,0,0,0,0,0,0,0,0,0,0,0,0,0,0,0,0,0,0,0,0,0,0]
[0,null,null,null,null,null,0,0,0,0,0,0,0,0,0,0,0,0,0,0,0,0,0,0,0,0,0,0,0,0,0,0,0]
[0,null,null,null,null,null,0,0,0,0,0,0,0,0,0,0,0,0,0,0,0,0,0,0,0,0,0,0,0,0,0,0,0]
[0,null,null,null,null,null,0,0,0,0,0,0,0,0,0,0,0,0,0,0,0,0,0,0,0,0,0,0,0,0,0,0,0]
[0,null,null,null,null,null,0,0,0,0,0,0,0,0,0,0,0,0,0,0,0,0,0,0,0,0,0,0,0,0,0,0,0]
[0,null,null,null,null,null,0,0,0,0,0,0,0,0,0,0,0,0,0,0,0,0,0,0,0,0,0,0,0,0,0,0,0]
[0,null,null,null,null,null,0,0,0,0,0,0,0,0,0,0,0,0,0,0,0,0,0,0,0,0,0,0,0,0,0,0,0]
[0,null,null,null,null,null,0,0,0,0,0,0,0,0,0,0,0,0,0,0,0,0,0,0,0,0,0,0,0,0,0,0,0]
[0,null,null,null,null,null,0,0,0,0,0,0,0,0,0,0,0,0,0,0,0,0,0,0,0,0,0,0,0,0,0,0,0]
[0,null,null,null,null,null,0,0,0,0,0,0,0,0,0,0,0,0,0,0,0,0,0,0,0,0,0,0,0,0,0,0,0]
[0,null,null,null,null,null,0,0,0,0,0,0,0,0,0,0,0,0,0,0,0,0,0,0,0,0,0,0,0,0,0,0,0]
[0,null,null,null,null,null,0,0,0,0,0,0,0,0,0,0,0,0,0,0,0,0,0,0,0,0,0,0,0,0,0,0,0]
[0,null,null,null,null,null,0,0,0,0,0,0,0,0,0,0,0,0,0,0,0,0,0,0,0,0,0,0,0,0,0,0,0]
[0,null,null,null,null,null,0,0,0,0,0,0,0,0,0,0,0,0,0,0,0,0,0,0,0,0,0,0,0,0,0,0,0]
[0,null,null,null,null,null,0,0,0,0,0,0,0,0,0,0,0,0,0,0,0,0,0,0,0,0,0,0,0,0,0,0,0]
[0,null,null,null,null,null,0,0,0,0,0,0,0,0,0,0,0,0,0,0,0,0,0,0,0,0,0,0,0,0,0,0,0]
[0,null,null,null,null,null,0,0,0,0,0,0,0,0,0,0,0,0,0,0,0,0,0,0,0,0,0,0,0,0,0,0,0]
[0,null,null,null,null,null,0,0,0,0,0,0,0,0,0,0,0,0,0,0,0,0,0,0,0,0,0,0,0,0,0,0,0]
[0,null,null,null,null,null,0,0,0,0,0,0,0,0,0,0,0,0,0,0,0,0,0,0,0,0,0,0,0,0,0,0,0]
[0,null,null,null,null,null,0,0,0,0,0,0,0,0,0,0,0,0,0,0,0,0,0,0,0,0,0,0,0,0,0,0,0]
[0,null,null,null,null,null,0,0,0,0,0,0,0,0,0,0,0,0,0,0,0,0,0,0,0,0,0,0,0,0,0,0,0]
[0,null,null,null,null,null,0,0,0,0,0,0,0,0,0,0,0,0,0,0,0,0,0,0,0,0,0,0,0,0,0,0,0]
[0,null,null,null,null,null,0,0,0,0,0,0,0,0,0,0,0,0,0,0,0,0,0,0,0,0,0,0,0,0,0,0,0]
[0,null,null,null,null,null,0,0,0,0,0,0,0,0,0,0,0,0,0,0,0,0,0,0,0,0,0,0,0,0,0,0,0]
[0,null,null,null,null,null,0,0,0,0,0,0,0,0,0,0,0,0,0,0,0,0,0,0,0,0,0,0,0,0,0,0,0]
[0,null,null,null,null,null,0,0,0,0,0,0,0,0,0,0,0,0,0,0,0,0,0,0,0,0,0,0,0,0,0,0,0]
[0,null,null,null,null,null,0,0,0,0,0,0,0,0,0,0,0,0,0,0,0,0,0,0,0,0,0,0,0,0,0,0,0]
[0,null,null,null,null,null,0,0,0,0,0,0,0,0,0,0,0,0,0,0,0,0,0,0,0,0,0,0,0,0,0,0,0]
[0,null,null,null,null,null,0,0,0,0,0,0,0,0,0,0,0,0,0,0,0,0,0,0,0,0,0,0,0,0,0,0,0]
[0,null,null,null,null,null,0,0,0,0,0,0,0,0,0,0,0,0,0,0,0,0,0,0,0,0,0,0,0,0,0,0,0]
[0,null,null,null,null,null,0,0,0,0,0,0,0,0,0,0,0,0,0,0,0,0,0,0,0,0,0,0,0,0,0,0,0]
[0,null,null,null,null,null,0,0,0,0,0,0,0,0,0,0,0,0,0,0,0,0,0,0,0,0,0,0,0,0,0,0,0]
[0,null,null,null,null,null,0,0,0,0,0,0,0,0,0,0,0,0,0,0,0,0,0,0,0,0,0,0,0,0,0,0,0]
[0,null,null,null,null,null,0,0,0,0,0,0,0,0,0,0,0,0,0,0,0,0,0,0,0,0,0,0,0,0,0,0,0]
[0,null,null,null,null,null,0,0,0,0,0,0,0,0,0,0,0,0,0,0,0,0,0,0,0,0,0,0,0,0,0,0,0]
[0,null,null,null,null,null,0,0,0,0,0,0,0,0,0,0,0,0,0,0,0,0,0,0,0,0,0,0,0,0,0,0,0]
[0,null,null,null,null,null,0,0,0,0,0,0,0,0,0,0,0,0,0,0,0,0,0,0,0,0,0,0,0,0,0,0,0]
[0,null,null,null,null,null,0,0,0,0,0,0,0,0,0,0,0,0,0,0,0,0,0,0,0,0,0,0,0,0,0,0,0]
[0,null,null,null,null,null,0,0,0,0,0,0,0,0,0,0,0,0,0,0,0,0,0,0,0,0,0,0,0,0,0,0,0]
[0,null,null,null,null,null,0,0,0,0,0,0,0,0,0,0,0,0,0,0,0,0,0,0,0,0,0,0,0,0,0,0,0]
[0,null,null,null,null,null,0,0,0,0,0,0,0,0,0,0,0,0,0,0,0,0,0,0,0,0,0,0,0,0,0,0,0]
[0,null,null,null,null,null,0,0,0,0,0,0,0,0,0,0,0,0,0,0,0,0,0,0,0,0,0,0,0,0,0,0,0]
[0,null,null,null,null,null,0,0,0,0,0,0,0,0,0,0,0,0,0,0,0,0,0,0,0,0,0,0,0,0,0,0,0]
[0,null,null,null,null,null,0,0,0,0,0,0,0,0,0,0,0,0,0,0,{"$f":"SUM(T1535-S1535)","v":0},0,0,{"$f":"SUM(W1535-V1535)","v":0},0,0,{"$f":"SUM(Z1535-Y1535)","v":0},0,0,0,0,0,0]
[0,null,null,null,null,null,0,0,0,0,0,0,0,0,0,0,0,0,0,0,0,0,0,0,0,0,0,0,0,0,0,0,0]
[0,null,null,null,null,null,0,0,0,0,0,0,0,0,0,0,0,0,0,0,0,0,0,0,0,0,0,0,0,0,0,0,0]
[0,null,null,null,null,null,0,0,0,0,0,0,0,0,0,0,0,0,0,0,0,0,0,0,0,0,0,0,0,0,0,0,0]
[0,null,null,null,null,null,0,0,0,0,0,0,0,0,0,0,0,0,0,0,0,0,0,0,0,0,0,0,0,0,0,0,0]
[0,null,null,null,null,null,0,0,0,0,0,0,0,0,0,0,0,0,0,0,0,0,0,0,0,0,0,0,0,0,0,0,0]
[0,null,null,null,null,null,0,0,0,0,0,0,0,0,0,0,0,0,0,0,0,0,0,0,0,0,0,0,0,0,0,0,0]
[0,null,null,null,null,null,0,0,0,0,0,0,0,0,0,0,0,0,0,0,0,0,0,0,0,0,0,0,0,0,0,0,0]
[0,null,null,null,null,null,0,0,0,0,0,0,0,0,0,0,0,0,0,0,0,0,0,0,0,0,0,0,0,0,0,0,0]
[0,null,null,null,null,null,0,0,0,0,0,0,0,0,0,0,0,0,0,0,0,0,0,0,0,0,0,0,0,0,0,0,0]
[0,null,null,null,null,null,0,0,0,0,0,0,0,0,0,0,0,0,0,0,0,0,0,0,0,0,0,0,0,0,0,0,0]
[0,null,null,null,null,null,0,0,0,0,0,0,0,0,0,0,0,0,0,0,0,0,0,0,0,0,0,0,0,0,0,0,0]
[0,null,null,null,null,null,0,0,0,0,0,0,0,0,0,0,0,0,0,0,0,0,0,0,0,0,0,0,0,0,0,0,0]
[{"$f":"IF(SUM(O1548:AH1548),1,0)","v":0},null,null,null,null,null,0,0,0,0,0,0,0,0,0,0,0,0,0,0,0,0,0,0,0,0,0,0,0,0,0,0,0]
[0,null,null,null,null,null,0,0,0,0,0,0,0,0,0,0,0,0,0,0,0,0,0,0,0,0,0,0,0,0,0,0,0]
[0,null,null,null,null,null,0,0,0,0,0,0,0,0,0,0,0,0,0,0,0,0,0,0,0,0,0,0,0,0,0,0,0]
[0,null,null,null,null,null,0,0,0,0,0,0,0,0,0,0,0,0,0,0,0,0,0,0,0,0,0,0,0,0,0,0,0]
[0,null,null,null,null,null,0,0,0,0,0,0,0,0,0,0,0,0,0,0,0,0,0,0,0,0,0,0,0,0,0,0,0]
[0,null,null,null,null,null,0,0,0,0,0,0,0,0,0,0,0,0,0,0,0,0,0,0,0,0,0,0,0,0,0,0,0]
[0,null,null,null,null,null,0,0,0,0,0,0,0,0,0,0,0,0,0,0,0,0,0,0,0,0,0,0,0,0,0,0,0]
[0,null,null,null,null,null,0,0,0,0,0,0,0,0,0,0,0,0,0,0,0,0,0,0,0,0,0,0,0,0,0,0,0]
[0,null,null,null,null,null,0,0,0,0,0,0,0,0,0,0,0,0,0,0,0,0,0,0,0,0,0,0,0,0,0,0,0]
[0,null,null,null,null,null,0,0,0,0,0,0,0,0,0,0,0,0,0,0,0,0,0,0,0,0,0,0,0,0,0,0,0]
[0,null,null,null,null,null,0,0,0,0,0,0,0,0,0,0,0,0,0,0,0,0,0,0,0,0,0,0,0,0,0,0,0]
[0,null,null,null,null,null,0,0,0,0,0,0,0,0,0,0,0,0,0,0,0,0,0,0,0,0,0,0,0,0,0,0,0]
[0,null,null,null,null,null,0,0,0,0,0,0,0,0,0,0,0,0,0,0,0,0,0,0,0,0,0,0,0,0,0,0,0]
[0,null,null,null,null,null,0,0,0,0,0,0,0,0,0,0,0,0,0,0,0,0,0,0,0,0,0,0,0,0,0,0,0]
[0,null,null,null,null,null,0,0,0,0,0,0,0,0,0,0,0,0,0,0,0,0,0,0,0,0,0,0,0,0,0,0,0]
[0,null,null,null,null,null,0,0,0,0,0,0,0,0,0,0,0,0,0,0,0,0,0,0,0,0,0,0,0,0,0,0,0]
[0,null,null,null,null,null,0,0,0,0,0,0,0,0,0,0,0,0,0,0,0,0,0,0,0,0,0,0,0,0,0,0,0]
[0,null,null,null,null,null,0,0,0,0,0,0,0,0,0,0,0,0,0,0,0,0,0,0,0,0,0,0,0,0,0,0,0]
[0,null,null,null,null,null,0,0,0,0,0,0,0,0,0,0,0,0,0,0,0,0,0,0,0,0,0,0,0,0,0,0,0]
[0,null,null,null,null,null,0,0,0,0,0,0,0,0,0,0,0,0,0,0,0,0,0,0,0,0,0,0,0,0,0,0,0]
[0,null,null,null,null,null,0,0,0,0,0,0,0,0,0,0,0,0,0,0,0,0,0,0,0,0,0,0,0,0,0,0,0]
[0,null,null,null,null,null,0,0,0,0,0,0,0,0,0,0,0,0,0,0,0,0,0,0,0,0,0,0,0,0,0,0,0]
[0,null,null,null,null,null,0,0,0,0,0,0,0,0,0,0,0,0,0,0,0,0,0,0,0,0,0,0,0,0,0,0,0]
[0,null,null,null,null,null,0,0,0,0,0,0,0,0,0,0,0,0,0,0,0,0,0,0,0,0,0,0,0,0,0,0,0]
[0,null,null,null,null,null,0,0,0,0,0,0,0,0,0,0,0,0,0,0,0,0,0,0,0,0,0,0,0,0,0,0,0]
[0,null,null,null,null,null,0,0,0,0,0,0,0,0,0,0,0,0,0,0,0,0,0,0,0,0,0,0,0,0,0,0,0]
[0,null,null,null,null,null,0,0,0,0,0,0,0,0,0,0,0,0,0,0,0,0,0,0,0,0,0,0,0,0,0,0,0]
[0,null,null,null,null,null,0,0,0,0,0,0,0,0,0,0,0,0,0,0,0,0,0,0,0,0,0,0,0,0,0,0,0]
[0,null,null,null,null,null,0,0,0,0,0,0,0,0,0,0,0,0,0,0,0,0,0,0,0,0,0,0,0,0,0,0,0]
[0,null,null,null,null,null,0,0,0,0,0,0,0,0,0,0,0,0,0,0,0,0,0,0,0,0,0,0,0,0,0,0,0]
[0,null,null,null,null,null,0,0,0,0,0,0,0,0,0,0,0,0,0,0,0,0,0,0,0,0,0,0,0,0,0,0,0]
[0,null,null,null,null,null,0,0,0,0,0,0,0,0,0,0,0,0,0,0,0,0,0,0,0,0,0,0,0,0,0,0,0]
[0,null,null,null,null,null,0,0,0,0,0,0,0,0,0,0,0,0,0,0,0,0,0,0,0,0,0,0,0,0,0,0,0]
[0,null,null,null,null,null,0,0,0,0,0,0,0,0,0,0,0,0,0,0,0,0,0,0,0,0,0,0,0,0,0,0,0]
[0,null,null,null,null,null,0,0,0,0,0,0,0,0,0,0,0,0,0,0,0,0,0,0,0,0,0,0,0,0,0,0,0]
[0,null,null,null,null,null,0,0,0,0,0,0,0,0,0,0,0,0,0,0,0,0,0,0,0,0,0,0,0,0,0,0,0]
[0,null,null,null,null,null,0,0,0,0,0,0,0,0,0,0,0,0,0,0,0,0,0,0,0,0,0,0,0,0,0,0,0]
[0,null,null,null,null,null,0,0,0,0,0,0,0,0,0,0,0,0,0,0,0,0,0,0,0,0,0,0,0,0,0,0,0]
[0,null,null,null,null,null,0,0,0,0,0,0,0,0,0,0,0,0,0,0,0,0,0,0,0,0,0,0,0,0,0,0,0]
[0,null,null,null,null,null,0,0,0,0,0,0,0,0,0,0,0,0,0,0,0,0,0,0,0,0,0,0,0,0,0,0,0]
[0,null,null,null,null,null,0,0,0,0,0,0,0,0,0,0,0,0,0,0,0,0,0,0,0,0,0,0,0,0,0,0,0]
[0,null,null,null,null,null,0,0,0,0,0,0,0,0,0,0,0,0,0,0,0,0,0,0,0,0,0,0,0,0,0,0,0]
[0,null,null,null,null,null,0,0,0,0,0,0,0,0,0,0,0,0,0,0,0,0,0,0,0,0,0,0,0,0,0,0,0]
[0,null,null,null,null,null,0,0,0,0,0,0,0,0,0,0,0,0,0,0,0,0,0,0,0,0,0,0,0,0,0,0,0]
[0,null,null,null,null,null,0,0,0,0,0,0,0,0,0,0,0,0,0,0,0,0,0,0,0,0,0,0,0,0,0,0,0]
[0,null,null,null,null,null,0,0,0,0,0,0,0,0,0,0,0,0,0,0,0,0,0,0,0,0,0,0,0,0,0,0,0]
[0,null,null,null,null,null,0,0,0,0,0,0,0,0,0,0,0,0,0,0,0,0,0,0,0,0,0,0,0,0,0,0,0]
[0,null,null,null,null,null,0,0,0,0,0,0,0,0,0,0,0,0,0,0,0,0,0,0,0,0,0,0,0,0,0,0,0]
[0,null,null,null,null,null,0,0,0,0,0,0,0,0,0,0,0,0,0,0,0,0,0,0,0,0,0,0,0,0,0,0,0]
[0,null,null,null,null,null,0,0,0,0,0,0,0,0,0,0,0,0,0,0,0,0,0,0,0,0,0,0,0,0,0,0,0]
[0,null,null,null,null,null,0,0,0,0,0,0,0,0,0,0,0,0,0,0,0,0,0,0,0,0,0,0,0,0,0,0,0]
[0,null,null,null,null,null,0,0,0,0,0,0,0,0,0,0,0,0,0,0,{"$f":"SUM(T1599-S1599)","v":0},0,0,{"$f":"SUM(W1599-V1599)","v":0},0,0,{"$f":"SUM(Z1599-Y1599)","v":0},0,0,0,0,0,0]
[0,null,null,null,null,null,0,0,0,0,0,0,0,0,0,0,0,0,0,0,0,0,0,0,0,0,0,0,0,0,0,0,0]
[0,null,null,null,null,null,0,0,0,0,0,0,0,0,0,0,0,0,0,0,0,0,0,0,0,0,0,0,0,0,0,0,0]
[0,null,null,null,null,null,0,0,0,0,0,0,0,0,0,0,0,0,0,0,0,0,0,0,0,0,0,0,0,0,0,0,0]
[0,null,null,null,null,null,0,0,0,0,0,0,0,0,0,0,0,0,0,0,0,0,0,0,0,0,0,0,0,0,0,0,0]
[0,null,null,null,null,null,0,0,0,0,0,0,0,0,0,0,0,0,0,0,0,0,0,0,0,0,0,0,0,0,0,0,0]
[0,null,null,null,null,null,0,0,0,0,0,0,0,0,0,0,0,0,0,0,0,0,0,0,0,0,0,0,0,0,0,0,0]
[0,null,null,null,null,null,0,0,0,0,0,0,0,0,0,0,0,0,0,0,0,0,0,0,0,0,0,0,0,0,0,0,0]
[0,null,null,null,null,null,0,0,0,0,0,0,0,0,0,0,0,0,0,0,0,0,0,0,0,0,0,0,0,0,0,0,0]
[0,null,null,null,null,null,0,0,0,0,0,0,0,0,0,0,0,0,0,0,0,0,0,0,0,0,0,0,0,0,0,0,0]
[0,null,null,null,null,null,0,0,0,0,0,0,0,0,0,0,0,0,0,0,0,0,0,0,0,0,0,0,0,0,0,0,0]
[0,null,null,null,null,null,0,0,0,0,0,0,0,0,0,0,0,0,0,0,0,0,0,0,0,0,0,0,0,0,0,0,0]
[0,null,null,null,null,null,0,0,0,0,0,0,0,0,0,0,0,0,0,0,0,0,0,0,0,0,0,0,0,0,0,0,0]
[{"$f":"IF(SUM(O1612:AH1612),1,0)","v":0},null,null,null,null,null,0,0,0,0,0,0,0,0,0,0,0,0,0,0,0,0,0,0,0,0,0,0,0,0,0,0,0]
[0,null,null,null,null,null,0,0,0,0,0,0,0,0,0,0,0,0,0,0,0,0,0,0,0,0,0,0,0,0,0,0,0]
[0,null,null,null,null,null,0,0,0,0,0,0,0,0,0,0,0,0,0,0,0,0,0,0,0,0,0,0,0,0,0,0,0]
[0,null,null,null,null,null,0,0,0,0,0,0,0,0,0,0,0,0,0,0,0,0,0,0,0,0,0,0,0,0,0,0,0]
[0,null,null,null,null,null,0,0,0,0,0,0,0,0,0,0,0,0,0,0,0,0,0,0,0,0,0,0,0,0,0,0,0]
[0,null,null,null,null,null,0,0,0,0,0,0,0,0,0,0,0,0,0,0,0,0,0,0,0,0,0,0,0,0,0,0,0]
[0,null,null,null,null,null,0,0,0,0,0,0,0,0,0,0,0,0,0,0,0,0,0,0,0,0,0,0,0,0,0,0,0]
[0,null,null,null,null,null,0,0,0,0,0,0,0,0,0,0,0,0,0,0,0,0,0,0,0,0,0,0,0,0,0,0,0]
[0,null,null,null,null,null,0,0,0,0,0,0,0,0,0,0,0,0,0,0,0,0,0,0,0,0,0,0,0,0,0,0,0]
[0,null,null,null,null,null,0,0,0,0,0,0,0,0,0,0,0,0,0,0,0,0,0,0,0,0,0,0,0,0,0,0,0]
[0,null,null,null,null,null,0,0,0,0,0,0,0,0,0,0,0,0,0,0,0,0,0,0,0,0,0,0,0,0,0,0,0]
[0,null,null,null,null,null,0,0,0,0,0,0,0,0,0,0,0,0,0,0,0,0,0,0,0,0,0,0,0,0,0,0,0]
[0,null,null,null,null,null,0,0,0,0,0,0,0,0,0,0,0,0,0,0,0,0,0,0,0,0,0,0,0,0,0,0,0]
[0,null,null,null,null,null,0,0,0,0,0,0,0,0,0,0,0,0,0,0,0,0,0,0,0,0,0,0,0,0,0,0,0]
[0,null,null,null,null,null,0,0,0,0,0,0,0,0,0,0,0,0,0,0,0,0,0,0,0,0,0,0,0,0,0,0,0]
[0,null,null,null,null,null,0,0,0,0,0,0,0,0,0,0,0,0,0,0,0,0,0,0,0,0,0,0,0,0,0,0,0]
[0,null,null,null,null,null,0,0,0,0,0,0,0,0,0,0,0,0,0,0,0,0,0,0,0,0,0,0,0,0,0,0,0]
[0,null,null,null,null,null,0,0,0,0,0,0,0,0,0,0,0,0,0,0,0,0,0,0,0,0,0,0,0,0,0,0,0]
[0,null,null,null,null,null,0,0,0,0,0,0,0,0,0,0,0,0,0,0,0,0,0,0,0,0,0,0,0,0,0,0,0]
[0,null,null,null,null,null,0,0,0,0,0,0,0,0,0,0,0,0,0,0,0,0,0,0,0,0,0,0,0,0,0,0,0]
[0,null,null,null,null,null,0,0,0,0,0,0,0,0,0,0,0,0,0,0,0,0,0,0,0,0,0,0,0,0,0,0,0]
[0,null,null,null,null,null,0,0,0,0,0,0,0,0,0,0,0,0,0,0,0,0,0,0,0,0,0,0,0,0,0,0,0]
[0,null,null,null,null,null,0,0,0,0,0,0,0,0,0,0,0,0,0,0,0,0,0,0,0,0,0,0,0,0,0,0,0]
[0,null,null,null,null,null,0,0,0,0,0,0,0,0,0,0,0,0,0,0,0,0,0,0,0,0,0,0,0,0,0,0,0]
[0,null,null,null,null,null,0,0,0,0,0,0,0,0,0,0,0,0,0,0,0,0,0,0,0,0,0,0,0,0,0,0,0]
[0,null,null,null,null,null,0,0,0,0,0,0,0,0,0,0,0,0,0,0,0,0,0,0,0,0,0,0,0,0,0,0,0]
[0,null,null,null,null,null,0,0,0,0,0,0,0,0,0,0,0,0,0,0,0,0,0,0,0,0,0,0,0,0,0,0,0]
[0,null,null,null,null,null,0,0,0,0,0,0,0,0,0,0,0,0,0,0,0,0,0,0,0,0,0,0,0,0,0,0,0]
[0,null,null,null,null,null,0,0,0,0,0,0,0,0,0,0,0,0,0,0,0,0,0,0,0,0,0,0,0,0,0,0,0]
[0,null,null,null,null,null,0,0,0,0,0,0,0,0,0,0,0,0,0,0,0,0,0,0,0,0,0,0,0,0,0,0,0]
[0,null,null,null,null,null,0,0,0,0,0,0,0,0,0,0,0,0,0,0,0,0,0,0,0,0,0,0,0,0,0,0,0]
[0,null,null,null,null,null,0,0,0,0,0,0,0,0,0,0,0,0,0,0,0,0,0,0,0,0,0,0,0,0,0,0,0]
[0,null,null,null,null,null,0,0,0,0,0,0,0,0,0,0,0,0,0,0,0,0,0,0,0,0,0,0,0,0,0,0,0]
[0,null,null,null,null,null,0,0,0,0,0,0,0,0,0,0,0,0,0,0,0,0,0,0,0,0,0,0,0,0,0,0,0]
[0,null,null,null,null,null,0,0,0,0,0,0,0,0,0,0,0,0,0,0,0,0,0,0,0,0,0,0,0,0,0,0,0]
[0,null,null,null,null,null,0,0,0,0,0,0,0,0,0,0,0,0,0,0,0,0,0,0,0,0,0,0,0,0,0,0,0]
[0,null,null,null,null,null,0,0,0,0,0,0,0,0,0,0,0,0,0,0,0,0,0,0,0,0,0,0,0,0,0,0,0]
[0,null,null,null,null,null,0,0,0,0,0,0,0,0,0,0,0,0,0,0,0,0,0,0,0,0,0,0,0,0,0,0,0]
[0,null,null,null,null,null,0,0,0,0,0,0,0,0,0,0,0,0,0,0,0,0,0,0,0,0,0,0,0,0,0,0,0]
[0,null,null,null,null,null,0,0,0,0,0,0,0,0,0,0,0,0,0,0,0,0,0,0,0,0,0,0,0,0,0,0,0]
[0,null,null,null,null,null,0,0,0,0,0,0,0,0,0,0,0,0,0,0,0,0,0,0,0,0,0,0,0,0,0,0,0]
[0,null,null,null,null,null,0,0,0,0,0,0,0,0,0,0,0,0,0,0,0,0,0,0,0,0,0,0,0,0,0,0,0]
[0,null,null,null,null,null,0,0,0,0,0,0,0,0,0,0,0,0,0,0,0,0,0,0,0,0,0,0,0,0,0,0,0]
[0,null,null,null,null,null,0,0,0,0,0,0,0,0,0,0,0,0,0,0,0,0,0,0,0,0,0,0,0,0,0,0,0]
[0,null,null,null,null,null,0,0,0,0,0,0,0,0,0,0,0,0,0,0,0,0,0,0,0,0,0,0,0,0,0,0,0]
[0,null,null,null,null,null,0,0,0,0,0,0,0,0,0,0,0,0,0,0,0,0,0,0,0,0,0,0,0,0,0,0,0]
[0,null,null,null,null,null,0,0,0,0,0,0,0,0,0,0,0,0,0,0,0,0,0,0,0,0,0,0,0,0,0,0,0]
[0,null,null,null,null,null,0,0,0,0,0,0,0,0,0,0,0,0,0,0,0,0,0,0,0,0,0,0,0,0,0,0,0]
[0,null,null,null,null,null,0,0,0,0,0,0,0,0,0,0,0,0,0,0,0,0,0,0,0,0,0,0,0,0,0,0,0]
[0,null,null,null,null,null,0,0,0,0,0,0,0,0,0,0,0,0,0,0,0,0,0,0,0,0,0,0,0,0,0,0,0]
[0,null,null,null,null,null,0,0,0,0,0,0,0,0,0,0,0,0,0,0,0,0,0,0,0,0,0,0,0,0,0,0,0]
[0,null,null,null,null,null,0,0,0,0,0,0,0,0,0,0,0,0,0,0,{"$f":"SUM(T1663-S1663)","v":0},0,0,{"$f":"SUM(W1663-V1663)","v":0},0,0,{"$f":"SUM(Z1663-Y1663)","v":0},0,0,0,0,0,0]
[0,null,null,null,null,null,0,0,0,0,0,0,0,0,0,0,0,0,0,0,0,0,0,0,0,0,0,0,0,0,0,0,0]
[0,null,null,null,null,null,0,0,0,0,0,0,0,0,0,0,0,0,0,0,0,0,0,0,0,0,0,0,0,0,0,0,0]
[0,null,null,null,null,null,0,0,0,0,0,0,0,0,0,0,0,0,0,0,0,0,0,0,0,0,0,0,0,0,0,0,0]
[0,null,null,null,null,null,0,0,0,0,0,0,0,0,0,0,0,0,0,0,0,0,0,0,0,0,0,0,0,0,0,0,0]
[0,null,null,null,null,null,0,0,0,0,0,0,0,0,0,0,0,0,0,0,0,0,0,0,0,0,0,0,0,0,0,0,0]
[0,null,null,null,null,null,0,0,0,0,0,0,0,0,0,0,0,0,0,0,0,0,0,0,0,0,0,0,0,0,0,0,0]
[0,null,null,null,null,null,0,0,0,0,0,0,0,0,0,0,0,0,0,0,0,0,0,0,0,0,0,0,0,0,0,0,0]
[0,null,null,null,null,null,0,0,0,0,0,0,0,0,0,0,0,0,0,0,0,0,0,0,0,0,0,0,0,0,0,0,0]
[0,null,null,null,null,null,0,0,0,0,0,0,0,0,0,0,0,0,0,0,0,0,0,0,0,0,0,0,0,0,0,0,0]
[0,null,null,null,null,null,0,0,0,0,0,0,0,0,0,0,0,0,0,0,0,0,0,0,0,0,0,0,0,0,0,0,0]
[0,null,null,null,null,null,0,0,0,0,0,0,0,0,0,0,0,0,0,0,0,0,0,0,0,0,0,0,0,0,0,0,0]
[0,null,null,null,null,null,0,0,0,0,0,0,0,0,0,0,0,0,0,0,0,0,0,0,0,0,0,0,0,0,0,0,0]
[{"$f":"IF(SUM(O1676:AH1676),1,0)","v":0},null,null,null,null,null,0,0,0,0,0,0,0,0,0,0,0,0,0,0,0,0,0,0,0,0,0,0,0,0,0,0,0]
[0,null,null,null,null,null,0,0,0,0,0,0,0,0,0,0,0,0,0,0,0,0,0,0,0,0,0,0,0,0,0,0,0]
[0,null,null,null,null,null,0,0,0,0,0,0,0,0,0,0,0,0,0,0,0,0,0,0,0,0,0,0,0,0,0,0,0]
[0,null,null,null,null,null,0,0,0,0,0,0,0,0,0,0,0,0,0,0,0,0,0,0,0,0,0,0,0,0,0,0,0]
[0,null,null,null,null,null,0,0,0,0,0,0,0,0,0,0,0,0,0,0,0,0,0,0,0,0,0,0,0,0,0,0,0]
[0,null,null,null,null,null,0,0,0,0,0,0,0,0,0,0,0,0,0,0,0,0,0,0,0,0,0,0,0,0,0,0,0]
[0,null,null,null,null,null,0,0,0,0,0,0,0,0,0,0,0,0,0,0,0,0,0,0,0,0,0,0,0,0,0,0,0]
[0,null,null,null,null,null,0,0,0,0,0,0,0,0,0,0,0,0,0,0,0,0,0,0,0,0,0,0,0,0,0,0,0]
[0,null,null,null,null,null,0,0,0,0,0,0,0,0,0,0,0,0,0,0,0,0,0,0,0,0,0,0,0,0,0,0,0]
[0,null,null,null,null,null,0,0,0,0,0,0,0,0,0,0,0,0,0,0,0,0,0,0,0,0,0,0,0,0,0,0,0]
[0,null,null,null,null,null,0,0,0,0,0,0,0,0,0,0,0,0,0,0,0,0,0,0,0,0,0,0,0,0,0,0,0]
[0,null,null,null,null,null,0,0,0,0,0,0,0,0,0,0,0,0,0,0,0,0,0,0,0,0,0,0,0,0,0,0,0]
[0,null,null,null,null,null,0,0,0,0,0,0,0,0,0,0,0,0,0,0,0,0,0,0,0,0,0,0,0,0,0,0,0]
[0,null,null,null,null,null,0,0,0,0,0,0,0,0,0,0,0,0,0,0,0,0,0,0,0,0,0,0,0,0,0,0,0]
[0,null,null,null,null,null,0,0,0,0,0,0,0,0,0,0,0,0,0,0,0,0,0,0,0,0,0,0,0,0,0,0,0]
[0,null,null,null,null,null,0,0,0,0,0,0,0,0,0,0,0,0,0,0,0,0,0,0,0,0,0,0,0,0,0,0,0]
[0,null,null,null,null,null,0,0,0,0,0,0,0,0,0,0,0,0,0,0,0,0,0,0,0,0,0,0,0,0,0,0,0]
[0,null,null,null,null,null,0,0,0,0,0,0,0,0,0,0,0,0,0,0,0,0,0,0,0,0,0,0,0,0,0,0,0]
[0,null,null,null,null,null,0,0,0,0,0,0,0,0,0,0,0,0,0,0,0,0,0,0,0,0,0,0,0,0,0,0,0]
[0,null,null,null,null,null,0,0,0,0,0,0,0,0,0,0,0,0,0,0,0,0,0,0,0,0,0,0,0,0,0,0,0]
[0,null,null,null,null,null,0,0,0,0,0,0,0,0,0,0,0,0,0,0,0,0,0,0,0,0,0,0,0,0,0,0,0]
[0,null,null,null,null,null,0,0,0,0,0,0,0,0,0,0,0,0,0,0,0,0,0,0,0,0,0,0,0,0,0,0,0]
[0,null,null,null,null,null,0,0,0,0,0,0,0,0,0,0,0,0,0,0,0,0,0,0,0,0,0,0,0,0,0,0,0]
[0,null,null,null,null,null,0,0,0,0,0,0,0,0,0,0,0,0,0,0,0,0,0,0,0,0,0,0,0,0,0,0,0]
[0,null,null,null,null,null,0,0,0,0,0,0,0,0,0,0,0,0,0,0,0,0,0,0,0,0,0,0,0,0,0,0,0]
[0,null,null,null,null,null,0,0,0,0,0,0,0,0,0,0,0,0,0,0,0,0,0,0,0,0,0,0,0,0,0,0,0]
[0,null,null,null,null,null,0,0,0,0,0,0,0,0,0,0,0,0,0,0,0,0,0,0,0,0,0,0,0,0,0,0,0]
[0,null,null,null,null,null,0,0,0,0,0,0,0,0,0,0,0,0,0,0,0,0,0,0,0,0,0,0,0,0,0,0,0]
[0,null,null,null,null,null,0,0,0,0,0,0,0,0,0,0,0,0,0,0,0,0,0,0,0,0,0,0,0,0,0,0,0]
[0,null,null,null,null,null,0,0,0,0,0,0,0,0,0,0,0,0,0,0,0,0,0,0,0,0,0,0,0,0,0,0,0]
[0,null,null,null,null,null,0,0,0,0,0,0,0,0,0,0,0,0,0,0,0,0,0,0,0,0,0,0,0,0,0,0,0]
[0,null,null,null,null,null,0,0,0,0,0,0,0,0,0,0,0,0,0,0,0,0,0,0,0,0,0,0,0,0,0,0,0]
[0,null,null,null,null,null,0,0,0,0,0,0,0,0,0,0,0,0,0,0,0,0,0,0,0,0,0,0,0,0,0,0,0]
[0,null,null,null,null,null,0,0,0,0,0,0,0,0,0,0,0,0,0,0,0,0,0,0,0,0,0,0,0,0,0,0,0]
[0,null,null,null,null,null,0,0,0,0,0,0,0,0,0,0,0,0,0,0,0,0,0,0,0,0,0,0,0,0,0,0,0]
[0,null,null,null,null,null,0,0,0,0,0,0,0,0,0,0,0,0,0,0,0,0,0,0,0,0,0,0,0,0,0,0,0]
[0,null,null,null,null,null,0,0,0,0,0,0,0,0,0,0,0,0,0,0,0,0,0,0,0,0,0,0,0,0,0,0,0]
[0,null,null,null,null,null,0,0,0,0,0,0,0,0,0,0,0,0,0,0,0,0,0,0,0,0,0,0,0,0,0,0,0]
[0,null,null,null,null,null,0,0,0,0,0,0,0,0,0,0,0,0,0,0,0,0,0,0,0,0,0,0,0,0,0,0,0]
[0,null,null,null,null,null,0,0,0,0,0,0,0,0,0,0,0,0,0,0,0,0,0,0,0,0,0,0,0,0,0,0,0]
[0,null,null,null,null,null,0,0,0,0,0,0,0,0,0,0,0,0,0,0,0,0,0,0,0,0,0,0,0,0,0,0,0]
[0,null,null,null,null,null,0,0,0,0,0,0,0,0,0,0,0,0,0,0,0,0,0,0,0,0,0,0,0,0,0,0,0]
[0,null,null,null,null,null,0,0,0,0,0,0,0,0,0,0,0,0,0,0,0,0,0,0,0,0,0,0,0,0,0,0,0]
[0,null,null,null,null,null,0,0,0,0,0,0,0,0,0,0,0,0,0,0,0,0,0,0,0,0,0,0,0,0,0,0,0]
[0,null,null,null,null,null,0,0,0,0,0,0,0,0,0,0,0,0,0,0,0,0,0,0,0,0,0,0,0,0,0,0,0]
[0,null,null,null,null,null,0,0,0,0,0,0,0,0,0,0,0,0,0,0,0,0,0,0,0,0,0,0,0,0,0,0,0]
[0,null,null,null,null,null,0,0,0,0,0,0,0,0,0,0,0,0,0,0,0,0,0,0,0,0,0,0,0,0,0,0,0]
[0,null,null,null,null,null,0,0,0,0,0,0,0,0,0,0,0,0,0,0,0,0,0,0,0,0,0,0,0,0,0,0,0]
[0,null,null,null,null,null,0,0,0,0,0,0,0,0,0,0,0,0,0,0,0,0,0,0,0,0,0,0,0,0,0,0,0]
[0,null,null,null,null,null,0,0,0,0,0,0,0,0,0,0,0,0,0,0,0,0,0,0,0,0,0,0,0,0,0,0,0]
[0,null,null,null,null,null,0,0,0,0,0,0,0,0,0,0,0,0,0,0,0,0,0,0,0,0,0,0,0,0,0,0,0]
[0,null,null,null,null,null,0,0,0,0,0,0,0,0,0,0,0,0,0,0,{"$f":"SUM(T1727-S1727)","v":0},0,0,{"$f":"SUM(W1727-V1727)","v":0},0,0,{"$f":"SUM(Z1727-Y1727)","v":0},0,0,0,0,0,0]
[0,null,null,null,null,null,0,0,0,0,0,0,0,0,0,0,0,0,0,0,0,0,0,0,0,0,0,0,0,0,0,0,0]
[0,null,null,null,null,null,0,0,0,0,0,0,0,0,0,0,0,0,0,0,0,0,0,0,0,0,0,0,0,0,0,0,0]
[0,null,null,null,null,null,0,0,0,0,0,0,0,0,0,0,0,0,0,0,0,0,0,0,0,0,0,0,0,0,0,0,0]
[0,null,null,null,null,null,0,0,0,0,0,0,0,0,0,0,0,0,0,0,0,0,0,0,0,0,0,0,0,0,0,0,0]
[0,null,null,null,null,null,0,0,0,0,0,0,0,0,0,0,0,0,0,0,0,0,0,0,0,0,0,0,0,0,0,0,0]
[0,null,null,null,null,null,0,0,0,0,0,0,0,0,0,0,0,0,0,0,0,0,0,0,0,0,0,0,0,0,0,0,0]
[0,null,null,null,null,null,0,0,0,0,0,0,0,0,0,0,0,0,0,0,0,0,0,0,0,0,0,0,0,0,0,0,0]
[0,null,null,null,null,null,0,0,0,0,0,0,0,0,0,0,0,0,0,0,0,0,0,0,0,0,0,0,0,0,0,0,0]
[0,null,null,null,null,null,0,0,0,0,0,0,0,0,0,0,0,0,0,0,0,0,0,0,0,0,0,0,0,0,0,0,0]
[0,null,null,null,null,null,0,0,0,0,0,0,0,0,0,0,0,0,0,0,0,0,0,0,0,0,0,0,0,0,0,0,0]
[0,null,null,null,null,null,0,0,0,0,0,0,0,0,0,0,0,0,0,0,0,0,0,0,0,0,0,0,0,0,0,0,0]
[0,null,null,null,null,null,0,0,0,0,0,0,0,0,0,0,0,0,0,0,0,0,0,0,0,0,0,0,0,0,0,0,0]
[{"$f":"IF(SUM(O1740:AH1740),1,0)","v":0},null,null,null,null,null,0,0,0,0,0,0,0,0,0,0,0,0,0,0,0,0,0,0,0,0,0,0,0,0,0,0,0]
[0,null,null,null,null,null,0,0,0,0,0,0,0,0,0,0,0,0,0,0,0,0,0,0,0,0,0,0,0,0,0,0,0]
[0,null,null,null,null,null,0,0,0,0,0,0,0,0,0,0,0,0,0,0,0,0,0,0,0,0,0,0,0,0,0,0,0]
[0,null,null,null,null,null,0,0,0,0,0,0,0,0,0,0,0,0,0,0,0,0,0,0,0,0,0,0,0,0,0,0,0]
[0,null,null,null,null,null,0,0,0,0,0,0,0,0,0,0,0,0,0,0,0,0,0,0,0,0,0,0,0,0,0,0,0]
[0,null,null,null,null,null,0,0,0,0,0,0,0,0,0,0,0,0,0,0,0,0,0,0,0,0,0,0,0,0,0,0,0]
[0,null,null,null,null,null,0,0,0,0,0,0,0,0,0,0,0,0,0,0,0,0,0,0,0,0,0,0,0,0,0,0,0]
[0,null,null,null,null,null,0,0,0,0,0,0,0,0,0,0,0,0,0,0,0,0,0,0,0,0,0,0,0,0,0,0,0]
[0,null,null,null,null,null,0,0,0,0,0,0,0,0,0,0,0,0,0,0,0,0,0,0,0,0,0,0,0,0,0,0,0]
[0,null,null,null,null,null,0,0,0,0,0,0,0,0,0,0,0,0,0,0,0,0,0,0,0,0,0,0,0,0,0,0,0]
[0,null,null,null,null,null,0,0,0,0,0,0,0,0,0,0,0,0,0,0,0,0,0,0,0,0,0,0,0,0,0,0,0]
[0,null,null,null,null,null,0,0,0,0,0,0,0,0,0,0,0,0,0,0,0,0,0,0,0,0,0,0,0,0,0,0,0]
[0,null,null,null,null,null,0,0,0,0,0,0,0,0,0,0,0,0,0,0,0,0,0,0,0,0,0,0,0,0,0,0,0]
[0,null,null,null,null,null,0,0,0,0,0,0,0,0,0,0,0,0,0,0,0,0,0,0,0,0,0,0,0,0,0,0,0]
[0,null,null,null,null,null,0,0,0,0,0,0,0,0,0,0,0,0,0,0,0,0,0,0,0,0,0,0,0,0,0,0,0]
[0,null,null,null,null,null,0,0,0,0,0,0,0,0,0,0,0,0,0,0,0,0,0,0,0,0,0,0,0,0,0,0,0]
[0,null,null,null,null,null,0,0,0,0,0,0,0,0,0,0,0,0,0,0,0,0,0,0,0,0,0,0,0,0,0,0,0]
[0,null,null,null,null,null,0,0,0,0,0,0,0,0,0,0,0,0,0,0,0,0,0,0,0,0,0,0,0,0,0,0,0]
[0,null,null,null,null,null,0,0,0,0,0,0,0,0,0,0,0,0,0,0,0,0,0,0,0,0,0,0,0,0,0,0,0]
[0,null,null,null,null,null,0,0,0,0,0,0,0,0,0,0,0,0,0,0,0,0,0,0,0,0,0,0,0,0,0,0,0]
[0,null,null,null,null,null,0,0,0,0,0,0,0,0,0,0,0,0,0,0,0,0,0,0,0,0,0,0,0,0,0,0,0]
[0,null,null,null,null,null,0,0,0,0,0,0,0,0,0,0,0,0,0,0,0,0,0,0,0,0,0,0,0,0,0,0,0]
[0,null,null,null,null,null,0,0,0,0,0,0,0,0,0,0,0,0,0,0,0,0,0,0,0,0,0,0,0,0,0,0,0]
[0,null,null,null,null,null,0,0,0,0,0,0,0,0,0,0,0,0,0,0,0,0,0,0,0,0,0,0,0,0,0,0,0]
[0,null,null,null,null,null,0,0,0,0,0,0,0,0,0,0,0,0,0,0,0,0,0,0,0,0,0,0,0,0,0,0,0]
[0,null,null,null,null,null,0,0,0,0,0,0,0,0,0,0,0,0,0,0,0,0,0,0,0,0,0,0,0,0,0,0,0]
[0,null,null,null,null,null,0,0,0,0,0,0,0,0,0,0,0,0,0,0,0,0,0,0,0,0,0,0,0,0,0,0,0]
[0,null,null,null,null,null,0,0,0,0,0,0,0,0,0,0,0,0,0,0,0,0,0,0,0,0,0,0,0,0,0,0,0]
[0,null,null,null,null,null,0,0,0,0,0,0,0,0,0,0,0,0,0,0,0,0,0,0,0,0,0,0,0,0,0,0,0]
[0,null,null,null,null,null,0,0,0,0,0,0,0,0,0,0,0,0,0,0,0,0,0,0,0,0,0,0,0,0,0,0,0]
[0,null,null,null,null,null,0,0,0,0,0,0,0,0,0,0,0,0,0,0,0,0,0,0,0,0,0,0,0,0,0,0,0]
[0,null,null,null,null,null,0,0,0,0,0,0,0,0,0,0,0,0,0,0,0,0,0,0,0,0,0,0,0,0,0,0,0]
[0,null,null,null,null,null,0,0,0,0,0,0,0,0,0,0,0,0,0,0,0,0,0,0,0,0,0,0,0,0,0,0,0]
[0,null,null,null,null,null,0,0,0,0,0,0,0,0,0,0,0,0,0,0,0,0,0,0,0,0,0,0,0,0,0,0,0]
[0,null,null,null,null,null,0,0,0,0,0,0,0,0,0,0,0,0,0,0,0,0,0,0,0,0,0,0,0,0,0,0,0]
[0,null,null,null,null,null,0,0,0,0,0,0,0,0,0,0,0,0,0,0,0,0,0,0,0,0,0,0,0,0,0,0,0]
[0,null,null,null,null,null,0,0,0,0,0,0,0,0,0,0,0,0,0,0,0,0,0,0,0,0,0,0,0,0,0,0,0]
[0,null,null,null,null,null,0,0,0,0,0,0,0,0,0,0,0,0,0,0,0,0,0,0,0,0,0,0,0,0,0,0,0]
[0,null,null,null,null,null,0,0,0,0,0,0,0,0,0,0,0,0,0,0,0,0,0,0,0,0,0,0,0,0,0,0,0]
[0,null,null,null,null,null,0,0,0,0,0,0,0,0,0,0,0,0,0,0,0,0,0,0,0,0,0,0,0,0,0,0,0]
[0,null,null,null,null,null,0,0,0,0,0,0,0,0,0,0,0,0,0,0,0,0,0,0,0,0,0,0,0,0,0,0,0]
[0,null,null,null,null,null,0,0,0,0,0,0,0,0,0,0,0,0,0,0,0,0,0,0,0,0,0,0,0,0,0,0,0]
[0,null,null,null,null,null,0,0,0,0,0,0,0,0,0,0,0,0,0,0,0,0,0,0,0,0,0,0,0,0,0,0,0]
[0,null,null,null,null,null,0,0,0,0,0,0,0,0,0,0,0,0,0,0,0,0,0,0,0,0,0,0,0,0,0,0,0]
[0,null,null,null,null,null,0,0,0,0,0,0,0,0,0,0,0,0,0,0,0,0,0,0,0,0,0,0,0,0,0,0,0]
[0,null,null,null,null,null,0,0,0,0,0,0,0,0,0,0,0,0,0,0,0,0,0,0,0,0,0,0,0,0,0,0,0]
[0,null,null,null,null,null,0,0,0,0,0,0,0,0,0,0,0,0,0,0,0,0,0,0,0,0,0,0,0,0,0,0,0]
[0,null,null,null,null,null,0,0,0,0,0,0,0,0,0,0,0,0,0,0,0,0,0,0,0,0,0,0,0,0,0,0,0]
[0,null,null,null,null,null,0,0,0,0,0,0,0,0,0,0,0,0,0,0,0,0,0,0,0,0,0,0,0,0,0,0,0]
[0,null,null,null,null,null,0,0,0,0,0,0,0,0,0,0,0,0,0,0,0,0,0,0,0,0,0,0,0,0,0,0,0]
[0,null,null,null,null,null,0,0,0,0,0,0,0,0,0,0,0,0,0,0,0,0,0,0,0,0,0,0,0,0,0,0,0]
[0,null,null,null,null,null,0,0,0,0,0,0,0,0,0,0,0,0,0,0,{"$f":"SUM(T1791-S1791)","v":0},0,0,{"$f":"SUM(W1791-V1791)","v":0},0,0,{"$f":"SUM(Z1791-Y1791)","v":0},0,0,0,0,0,0]
[0,null,null,null,null,null,0,0,0,0,0,0,0,0,0,0,0,0,0,0,0,0,0,0,0,0,0,0,0,0,0,0,0]
[0,null,null,null,null,null,0,0,0,0,0,0,0,0,0,0,0,0,0,0,0,0,0,0,0,0,0,0,0,0,0,0,0]
[0,null,null,null,null,null,0,0,0,0,0,0,0,0,0,0,0,0,0,0,0,0,0,0,0,0,0,0,0,0,0,0,0]
[0,null,null,null,null,null,0,0,0,0,0,0,0,0,0,0,0,0,0,0,0,0,0,0,0,0,0,0,0,0,0,0,0]
[0,null,null,null,null,null,0,0,0,0,0,0,0,0,0,0,0,0,0,0,0,0,0,0,0,0,0,0,0,0,0,0,0]
[0,null,null,null,null,null,0,0,0,0,0,0,0,0,0,0,0,0,0,0,0,0,0,0,0,0,0,0,0,0,0,0,0]
[0,null,null,null,null,null,0,0,0,0,0,0,0,0,0,0,0,0,0,0,0,0,0,0,0,0,0,0,0,0,0,0,0]
[0,null,null,null,null,null,0,0,0,0,0,0,0,0,0,0,0,0,0,0,0,0,0,0,0,0,0,0,0,0,0,0,0]
[0,null,null,null,null,null,0,0,0,0,0,0,0,0,0,0,0,0,0,0,0,0,0,0,0,0,0,0,0,0,0,0,0]
[0,null,null,null,null,null,0,0,0,0,0,0,0,0,0,0,0,0,0,0,0,0,0,0,0,0,0,0,0,0,0,0,0]
[0,null,null,null,null,null,0,0,0,0,0,0,0,0,0,0,0,0,0,0,0,0,0,0,0,0,0,0,0,0,0,0,0]
[0,null,null,null,null,null,0,0,0,0,0,0,0,0,0,0,0,0,0,0,0,0,0,0,0,0,0,0,0,0,0,0,0]
[{"$f":"IF(SUM(O1804:AH1804),1,0)","v":0},null,null,null,null,null,0,0,0,0,0,0,0,0,0,0,0,0,0,0,0,0,0,0,0,0,0,0,0,0,0,0,0]
[0,null,null,null,null,null,0,0,0,0,0,0,0,0,0,0,0,0,0,0,0,0,0,0,0,0,0,0,0,0,0,0,0]
[0,null,null,null,null,null,0,0,0,0,0,0,0,0,0,0,0,0,0,0,0,0,0,0,0,0,0,0,0,0,0,0,0]
[0,null,null,null,null,null,0,0,0,0,0,0,0,0,0,0,0,0,0,0,0,0,0,0,0,0,0,0,0,0,0,0,0]
[0,null,null,null,null,null,0,0,0,0,0,0,0,0,0,0,0,0,0,0,0,0,0,0,0,0,0,0,0,0,0,0,0]
[0,null,null,null,null,null,0,0,0,0,0,0,0,0,0,0,0,0,0,0,0,0,0,0,0,0,0,0,0,0,0,0,0]
[0,null,null,null,null,null,0,0,0,0,0,0,0,0,0,0,0,0,0,0,0,0,0,0,0,0,0,0,0,0,0,0,0]
[0,null,null,null,null,null,0,0,0,0,0,0,0,0,0,0,0,0,0,0,0,0,0,0,0,0,0,0,0,0,0,0,0]
[0,null,null,null,null,null,0,0,0,0,0,0,0,0,0,0,0,0,0,0,0,0,0,0,0,0,0,0,0,0,0,0,0]
[0,null,null,null,null,null,0,0,0,0,0,0,0,0,0,0,0,0,0,0,0,0,0,0,0,0,0,0,0,0,0,0,0]
[0,null,null,null,null,null,0,0,0,0,0,0,0,0,0,0,0,0,0,0,0,0,0,0,0,0,0,0,0,0,0,0,0]
[0]
[1,null,null,null,null,"Total",null,null,null,null,null,null,null,null,{"$f":"SUM(O10,O612,O1214)","v":0},{"$f":"SUM(P10,P612,P1214)","v":0},0,0,0,0,0,0,0,0,0,0,0,0,0,0,0,0,0,0]
[null,null,null,null,null,"1.","GPS coordinates can be obtained from google maps. Type the name or location of the project and right click on the map. Select what’s here option and GPS coordinates will be displayed."]
[null,null,null,null,null,"2.","Refers to the type of infrastructure being proposed, e.g. dam, strategic road, hospital, etc."]
[null,null,null,null,null,"3.","Refers to the asset being procurred or constructed, e.g. 50km of road or the number of beds a hospital can hold."]
[null,null,null,null,null,"4.","The project stage relates to the implementation readiness of the project, i.e. whether it is in the identification, feasibility, design, tender or construction phase."]

{"sheet":"ENESummary","index":27,"n_rows":144,"n_cols":86,"rows_kept":144,"cut":false,"hidden":false,"merged":[[134,6,134,8],[134,22,134,68],[134,19,134,21],[8,10,8,11],[29,6,29,7],[29,8,29,9],[29,10,29,11],[99,6,99,7],[99,8,99,9],[99,10,99,11],[56,10,56,11],[56,8,56,9],[56,6,56,7],[29,14,29,16],[29,12,29,13],[56,12,56,13]]}
[]
[null,null,null,null,null,null,null,null,null,null,null,null,null,"Legend"]
[null,null,null,null,null,null,null,null,null,null,null,null,null,"Red",null,"This colour signifies that the outer year Is not fully completed"]
[]
[]
[null,null,null,null,null,"PE No",{"$f":"Settings!$O$2","v":"PE196"},null,null,null,null,null,null,null,null,null,null,null,null,null,null,null,null,null,null,null,null,null,null,null,null,null,null,null,null,null,null,null,null,null,null,null,null,null,null,null,null,null,null,null,null,null,null,null,null,null,null,null,null,null,null,null,null,null,null,null,null,null,null,null,"South African Medical Research Council ",null,null,1,{"$f":"IF(BV6=1,\"R thousand\",\"R million\")","v":"R thousand"},"Selected performance and operations indicators",17.8,7,7,7,7.56,6.89,6.89,6.89,null,{"$f":"SUM(BY6:CF6)","v":67.03}]
[null,null,null,null,null,"Entity name",{"$f":"Settings!$D$2","v":"Transnet Limited"},null,null,null,null,null,null,null,null,null,null,null,null,null,null,null,null,null,null,null,null,null,null,null,null,null,null,null,null,null,null,null,null,null,null,null,null,null,null,null,null,null,null,null,null,null,null,null,null,null,null,null,null,null,null,null,null,null,null,null,null,null,null,null,null,null,null,{"$f":"IF(BV6=1,1,1000)","v":1}]
[null,null,null,null,null,null,{"$f":"Hist_year3RestatedAudited","v":"Audited\noutcome"},{"$f":"Hist_year2RestatedAudited","v":"Audited\noutcome"},{"$f":"Hist_year1Audited","v":"Audited\noutcome"},{"$f":"Cur_YearApprovedBudg","v":"Approved budget"},"Average\ngrowth\nrate\n(%)","Expen-\nditure/\ntotal:\nAverage\n(%)"," Medium-term estimate",null,null,"Average\ngrowth\nrate\n(%)","Expen-\nditure/\ntotal:\nAverage\n(%)"]
[null,null,null,null,null,{"$f":"BW6","v":"R thousand"},{"$f":"MyYearM3","v":"2019/20"},{"$f":"MyYearM2","v":"2020/21"},{"$f":"MyYearM1","v":"2021/22"},{"$f":"MyYear0","v":"2022/23"},{"$f":"MyYearM3&\"-\"&MyYear0","v":"2019/20-2022/23"},null,{"$f":"MyYearP1","v":"2023/24"},{"$f":"MyYearP2","v":"2024/25"},{"$f":"MyYearP3","v":"2025/26"},{"$f":"MyYear0&\" - \"&MyYearP3","v":"2022/23 - 2025/26"}]
[null,null,null,null,null,{"$f":"'Expend summary'!F21","v":"Administration"},{"$f":"'Expend summary'!J21","v":0},{"$f":"'Expend summary'!L21","v":0},{"$f":"'Expend summary'!N21","v":0},{"$f":"'Expend summary'!P21","v":0},{"$f":"IFERROR((J10/G10)^(1/3)-1,0)","v":0},{"$f":"IFERROR(AVERAGE(G10/$G$25,H10/$H$25,I10/$I$25,J10/$J$25),0)","v":0},{"$f":"'Expend summary'!S21","v":0},{"$f":"'Expend summary'!V21","v":0},{"$f":"'Expend summary'!X21","v":0},{"$f":"IFERROR((O10/J10)^(1/3)-1,0)","v":0},{"$f":"IFERROR(AVERAGE(J10/$J$25,M10/$M$25,N10/$N$25,O10/$O$25),0)","v":0}]
[null,null,null,null,null,{"$f":"'Expend summary'!F22","v":0},{"$f":"'Expend summary'!J22","v":0},{"$f":"'Expend summary'!L22","v":0},{"$f":"'Expend summary'!N22","v":0},{"$f":"'Expend summary'!P22","v":0},{"$f":"IFERROR((J11/G11)^(1/3)-1,0)","v":0},{"$f":"IFERROR(AVERAGE(G11/$G$25,H11/$H$25,I11/$I$25,J11/$J$25),0)","v":0},{"$f":"'Expend summary'!S22","v":0},{"$f":"'Expend summary'!V22","v":0},{"$f":"'Expend summary'!X22","v":0},{"$f":"IFERROR((O11/J11)^(1/3)-1,0)","v":0},{"$f":"IFERROR(AVERAGE(J11/$J$25,M11/$M$25,N11/$N$25,O11/$O$25),0)","v":0}]
[null,null,null,null,null,{"$f":"'Expend summary'!F23","v":0},{"$f":"'Expend summary'!J23","v":0},{"$f":"'Expend summary'!L23","v":0},{"$f":"'Expend summary'!N23","v":0},{"$f":"'Expend summary'!P23","v":0},0,{"$f":"IFERROR(AVERAGE(G12/$G$25,H12/$H$25,I12/$I$25,J12/$J$25),0)","v":0},{"$f":"'Expend summary'!S23","v":0},{"$f":"'Expend summary'!V23","v":0},{"$f":"'Expend summary'!X23","v":0},0,{"$f":"IFERROR(AVERAGE(J12/$J$25,M12/$M$25,N12/$N$25,O12/$O$25),0)","v":0}]
[null,null,null,null,null,{"$f":"'Expend summary'!F24","v":0},{"$f":"'Expend summary'!J24","v":0},{"$f":"'Expend summary'!L24","v":0},{"$f":"'Expend summary'!N24","v":0},{"$f":"'Expend summary'!P24","v":0},0,{"$f":"IFERROR(AVERAGE(G13/$G$25,H13/$H$25,I13/$I$25,J13/$J$25),0)","v":0},{"$f":"'Expend summary'!S24","v":0},{"$f":"'Expend summary'!V24","v":0},{"$f":"'Expend summary'!X24","v":0},0,{"$f":"IFERROR(AVERAGE(J13/$J$25,M13/$M$25,N13/$N$25,O13/$O$25),0)","v":0}]
[null,null,null,null,null,{"$f":"'Expend summary'!F25","v":0},{"$f":"'Expend summary'!J25","v":0},{"$f":"'Expend summary'!L25","v":0},{"$f":"'Expend summary'!N25","v":0},{"$f":"'Expend summary'!P25","v":0},0,{"$f":"IFERROR(AVERAGE(G14/$G$25,H14/$H$25,I14/$I$25,J14/$J$25),0)","v":0},{"$f":"'Expend summary'!S25","v":0},{"$f":"'Expend summary'!V25","v":0},{"$f":"'Expend summary'!X25","v":0},0,{"$f":"IFERROR(AVERAGE(J14/$J$25,M14/$M$25,N14/$N$25,O14/$O$25),0)","v":0}]
[null,null,null,null,null,{"$f":"'Expend summary'!F26","v":0},{"$f":"'Expend summary'!J26","v":0},{"$f":"'Expend summary'!L26","v":0},{"$f":"'Expend summary'!N26","v":0},{"$f":"'Expend summary'!P26","v":0},0,0,{"$f":"'Expend summary'!S26","v":0},{"$f":"'Expend summary'!V26","v":0},{"$f":"'Expend summary'!X26","v":0},0,0]
[null,null,null,null,null,{"$f":"'Expend summary'!F27","v":0},{"$f":"'Expend summary'!J27","v":0},{"$f":"'Expend summary'!L27","v":0},{"$f":"'Expend summary'!N27","v":0},{"$f":"'Expend summary'!P27","v":0},0,0,{"$f":"'Expend summary'!S27","v":0},{"$f":"'Expend summary'!V27","v":0},{"$f":"'Expend summary'!X27","v":0},0,0]
[null,null,null,null,null,{"$f":"'Expend summary'!F28","v":0},{"$f":"'Expend summary'!J28","v":0},{"$f":"'Expend summary'!L28","v":0},{"$f":"'Expend summary'!N28","v":0},{"$f":"'Expend summary'!P28","v":0},0,0,{"$f":"'Expend summary'!S28","v":0},{"$f":"'Expend summary'!V28","v":0},{"$f":"'Expend summary'!X28","v":0},0,0]
[null,null,null,null,null,{"$f":"'Expend summary'!F29","v":0},{"$f":"'Expend summary'!J29","v":0},{"$f":"'Expend summary'!L29","v":0},{"$f":"'Expend summary'!N29","v":0},{"$f":"'Expend summary'!P29","v":0},0,0,{"$f":"'Expend summary'!S29","v":0},{"$f":"'Expend summary'!V29","v":0},{"$f":"'Expend summary'!X29","v":0},0,0]
[null,null,null,null,null,{"$f":"'Expend summary'!F30","v":0},{"$f":"'Expend summary'!J30","v":0},{"$f":"'Expend summary'!L30","v":0},{"$f":"'Expend summary'!N30","v":0},{"$f":"'Expend summary'!P30","v":0},0,0,{"$f":"'Expend summary'!S30","v":0},{"$f":"'Expend summary'!V30","v":0},{"$f":"'Expend summary'!X30","v":0},0,0]
[null,null,null,null,null,{"$f":"'Expend summary'!F31","v":0},{"$f":"'Expend summary'!J31","v":0},{"$f":"'Expend summary'!L31","v":0},{"$f":"'Expend summary'!N31","v":0},{"$f":"'Expend summary'!P31","v":0},0,0,{"$f":"'Expend summary'!S31","v":0},{"$f":"'Expend summary'!V31","v":0},{"$f":"'Expend summary'!X31","v":0},0,0]
[null,null,null,null,null,{"$f":"'Expend summary'!F32","v":0},{"$f":"'Expend summary'!J32","v":0},{"$f":"'Expend summary'!L32","v":0},{"$f":"'Expend summary'!N32","v":0},{"$f":"'Expend summary'!P32","v":0},0,0,{"$f":"'Expend summary'!S32","v":0},{"$f":"'Expend summary'!V32","v":0},{"$f":"'Expend summary'!X32","v":0},0,0]
[null,null,null,null,null,{"$f":"'Expend summary'!F33","v":0},{"$f":"'Expend summary'!J33","v":0},{"$f":"'Expend summary'!L33","v":0},{"$f":"'Expend summary'!N33","v":0},{"$f":"'Expend summary'!P33","v":0},0,0,{"$f":"'Expend summary'!S33","v":0},{"$f":"'Expend summary'!V33","v":0},{"$f":"'Expend summary'!X33","v":0},0,0]
[null,null,null,null,null,{"$f":"'Expend summary'!F34","v":0},{"$f":"'Expend summary'!J34","v":0},{"$f":"'Expend summary'!L34","v":0},{"$f":"'Expend summary'!N34","v":0},{"$f":"'Expend summary'!P34","v":0},0,0,{"$f":"'Expend summary'!S34","v":0},{"$f":"'Expend summary'!V34","v":0},{"$f":"'Expend summary'!X34","v":0},0,0]
[null,null,null,null,null,{"$f":"'Expend summary'!F35","v":0},{"$f":"'Expend summary'!J35","v":0},{"$f":"'Expend summary'!L35","v":0},{"$f":"'Expend summary'!N35","v":0},{"$f":"'Expend summary'!P35","v":0},0,0,{"$f":"'Expend summary'!S35","v":0},{"$f":"'Expend summary'!V35","v":0},{"$f":"'Expend summary'!X35","v":0},0,0]
[null,null,null,null,null,"Total expense ",{"$f":"SUM(G10:G24)","v":0},{"$f":"SUM(H10:H24)","v":0},{"$f":"SUM(I10:I24)","v":0},{"$f":"SUM(J10:J24)","v":0},0,{"$f":"IFERROR(AVERAGE(G25/$G$25,H25/$H$25,I25/$I$25,J25/$J$25),0)","v":0},{"$f":"SUM(M10:M24)","v":0},{"$f":"SUM(N10:N24)","v":0},{"$f":"SUM(O10:O24)","v":0},0,{"$f":"SUBTOTAL(9,Q10:Q24)","v":0}]
[null,null,null,null,null,"Check expenditure",{"$f":"ROUND(IF(H51-G25>0,IF(H51-G25<1,0,H51-G25),H51-G25),0)","v":0},{"$f":"ROUND(IF(J51-H25>0,IF(J51-H25<1,0,J51-H25),J51-H25),0)","v":0},{"$f":"ROUND(IF(L51-I25>0,IF(L51-I25<1,0,L51-I25),L51-I25),0)","v":0},{"$f":"ROUND(IF(N51-J25>0,IF(N51-J25<1,0,N51-J25),N51-J25),0)","v":0},null,null,{"$f":"ROUND(IF(R51-M25>0,IF(R51-M25<1,0,R51-M25),R51-M25),0)","v":0},{"$f":"ROUND(IF(S51-N25>0,IF(S51-N25<1,0,S51-N25),S51-N25),0)","v":0},{"$f":"ROUND(IF(T51-O25>0,IF(T51-O25<1,0,T51-O25),T51-O25),0)","v":0}]
[]
[null,null,null,null,null,null,null,null,null,null,null,null,null,null,null,null,null,null,null,null,null,null,null,null,null,null,null,null,null,null,null,null,null,null,null,null,null,null,null,null,null,null,null,null,null,null,null,null,null,null,null,null,null,null,null,null,null,null,null,null,null,null,null,null,null,null,null,null,null,null,null,null,"Table number","A.3"]
[null,null,null,null,null,"Statement of financial perfomance",{"$f":"Hist_year3Audited","v":"Budget"},{"$f":"Hist_year3RestatedAudited","v":"Audited\noutcome"},{"$f":"Hist_year2Audited","v":"Budget"},{"$f":"Hist_year2RestatedAudited","v":"Audited\noutcome"},{"$f":"Hist_year1Budget","v":"Budget"},{"$f":"Hist_year1Audited","v":"Audited\noutcome"},{"$f":"Cur_YearBudgEst","v":"Budget\nestimate"},{"$f":"Cur_YearApprovedBudg","v":"Approved budget"},"Outcome/\nBudget \nAverage\n%","Average\ngrowth\nrate\n(%)","Expen-\nditure/\ntotal:\nAverage\n(%)"," Medium-term estimate",null,null,"Average\ngrowth\nrate\n(%)","Expen-\nditure/\ntotal:\nAverage\n(%)"]
[null,null,null,null,null,{"$f":"BW6","v":"R thousand"},{"$f":"MyYearM3","v":"2019/20"},null,{"$f":"MyYearM2","v":"2020/21"},null,{"$f":"MyYearM1","v":"2021/22"},null,{"$f":"MyYear0","v":"2022/23"},null,{"$f":"MyYearM3&\"-\"&MyYear0","v":"2019/20-2022/23"},null,null,{"$f":"MyYearP1","v":"2023/24"},{"$f":"MyYearP2","v":"2024/25"},{"$f":"MyYearP3","v":"2025/26"},{"$f":"MyYear0&\" - \"&MyYearP3","v":"2022/23 - 2025/26"}]
[null,null,null,null,null,"Revenue"]
[null,null,null,null,null,"Tax revenue",{"$f":"SUM(Revenue!I13)","v":0},{"$f":"SUM(Revenue!J13)","v":0},{"$f":"SUM(Revenue!K13)","v":0},{"$f":"SUM(Revenue!L13)","v":0},{"$f":"SUM(Revenue!M13)","v":0},{"$f":"SUM(Revenue!N13)","v":0},{"$f":"SUM(Revenue!O13)","v":0},{"$f":"SUM(Revenue!P13)","v":0},{"$f":"IFERROR((H32+J32+L32+N32)/(G32+I32+K32+M32),0)","v":0},{"$f":"IFERROR((N32/H32)^(1/3)-1,0)","v":0},{"$f":"IFERROR(AVERAGE($H$32/$H$43,$J$32/$J$43,$L$32/$L$43,$N$32/$N$43),0)","v":0},{"$f":"SUM(Revenue!R13)","v":0},{"$f":"SUM(Revenue!T13)","v":0},{"$f":"SUM(Revenue!U13)","v":0},{"$f":"IFERROR((T32/N32)^(1/3)-1,0)","v":0},{"$f":"IFERROR(AVERAGE(N32/$N$43,R32/$R$43,S32/$S$43,T32/$T$43),0)","v":0}]
[null,null,null,null,null,"Non-tax revenue",{"$f":"SUM(G34,G41)","v":0},{"$f":"SUM(H34,H41)","v":0},0,{"$f":"SUM(J34,J41)","v":0},0,0,0,0,{"$f":"IFERROR((H33+J33+L33+N33)/(G33+I33+K33+M33),0)","v":0},{"$f":"IFERROR((N33/H33)^(1/3)-1,0)","v":0},{"$f":"IFERROR(AVERAGE($H$33/$H$43,$J$33/$J$43,$L$33/$L$43,$N$33/$N$43),0)","v":0},{"$f":"SUM(R34,R41)","v":0},{"$f":"SUM(S34,S41)","v":0},{"$f":"SUM(T34,T41)","v":0},{"$f":"IFERROR((T33/N33)^(1/3)-1,0)","v":0},{"$f":"IFERROR(AVERAGE(N33/$N$43,R33/$R$43,S33/$S$43,T33/$T$43),0)","v":0}]
[null,null,null,null,null,"Sale of goods and services other than capital assets",{"$f":"SUM(G35,G40)","v":0},{"$f":"SUM(H35,H40)","v":0},0,0,0,0,0,0,{"$f":"IFERROR((H34+J34+L34+N34)/(G34+I34+K34+M34),0)","v":0},{"$f":"IFERROR((N34/H34)^(1/3)-1,0)","v":0},{"$f":"IFERROR(AVERAGE($H$34/$H$43,$J$34/$J$43,$L$34/$L$43,$N$34/$N$43),0)","v":0},{"$f":"SUM(R35,R40)","v":0},{"$f":"SUM(S35,S40)","v":0},{"$f":"SUM(T35,T40)","v":0},{"$f":"IFERROR((T34/N34)^(1/3)-1,0)","v":0},{"$f":"IFERROR(AVERAGE(N34/$N$43,R34/$R$43,S34/$S$43,T34/$T$43),0)","v":0}]
[null,null,null,null,null,"Sales of goods and services produced by entity",{"$f":"SUM(G37:G39)","v":0},{"$f":"SUM(H37:H39)","v":0},0,0,0,0,0,0,{"$f":"IFERROR((H35+J35+L35+N35)/(G35+I35+K35+M35),0)","v":0},{"$f":"IFERROR((N35/H35)^(1/3)-1,0)","v":0},{"$f":"IFERROR(AVERAGE($H$34/$H$43,$J$34/$J$43,$L$34/$L$43,$N$34/$N$43),0)","v":0},{"$f":"SUM(R37:R39)","v":0},{"$f":"SUM(S37:S39)","v":0},{"$f":"SUM(T37:T39)","v":0},{"$f":"IFERROR((T35/N35)^(1/3)-1,0)","v":0},{"$f":"IFERROR(AVERAGE(N35/$N$43,R35/$R$43,S35/$S$43,T35/$T$43),0)","v":0}]
[null,null,null,null,null,"of which:"]
[null,null,null,null,null,"Administrative fees",{"$f":"(Revenue!I16)","v":0},{"$f":"(Revenue!J16)","v":0},{"$f":"(Revenue!K16)","v":0},{"$f":"(Revenue!L16)","v":0},{"$f":"(Revenue!M16)","v":0},{"$f":"(Revenue!N16)","v":0},{"$f":"(Revenue!O16)","v":0},{"$f":"(Revenue!P16)","v":0},{"$f":"IFERROR((H37+J37+L37+N37)/(G37+I37+K37+M37),0)","v":0},{"$f":"IFERROR((N37/H37)^(1/3)-1,0)","v":0},{"$f":"IFERROR(AVERAGE($H$37/$H$43,$J$37/$J$43,$L$37/$L$43,$N$37/$N$43),0)","v":0},{"$f":"(Revenue!R16)","v":0},{"$f":"(Revenue!T16)","v":0},{"$f":"(Revenue!U16)","v":0},{"$f":"IFERROR((T37/N37)^(1/3)-1,0)","v":0},{"$f":"IFERROR(AVERAGE(N37/$N$43,R37/$R$43,S37/$S$43,T37/$T$43),0)","v":0}]
[null,null,null,null,null,"Sales by market establishment",{"$f":"(Revenue!I21)","v":0},{"$f":"(Revenue!J21)","v":0},{"$f":"(Revenue!K21)","v":0},{"$f":"(Revenue!L21)","v":0},{"$f":"(Revenue!M21)","v":0},{"$f":"(Revenue!N21)","v":0},{"$f":"(Revenue!O21)","v":0},{"$f":"(Revenue!P21)","v":0},0,0,{"$f":"IFERROR(AVERAGE($H$38/$H$43,$J$38/$J$43,$L$38/$L$43,$N$38/$N$43),0)","v":0},{"$f":"(Revenue!R21)","v":0},{"$f":"(Revenue!T21)","v":0},{"$f":"(Revenue!U21)","v":0},0,0]
[null,null,null,null,null,"Other sales",{"$f":"(Revenue!I26)","v":0},{"$f":"(Revenue!J26)","v":0},{"$f":"(Revenue!K26)","v":0},{"$f":"(Revenue!L26)","v":0},{"$f":"(Revenue!M26)","v":0},{"$f":"(Revenue!N26)","v":0},{"$f":"(Revenue!O26)","v":0},{"$f":"(Revenue!P26)","v":0},0,0,{"$f":"IFERROR(AVERAGE($H$39/$H$43,$J$39/$J$43,$L$39/$L$43,$N$39/$N$43),0)","v":0},{"$f":"(Revenue!R26)","v":0},{"$f":"(Revenue!T26)","v":0},{"$f":"(Revenue!U26)","v":0},0,0]
[null,null,null,null,null,"Sales of scrap, waste, arms and other used current goods",{"$f":"(Revenue!I29)","v":0},{"$f":"(Revenue!J29)","v":0},{"$f":"(Revenue!K29)","v":0},{"$f":"(Revenue!L29)","v":0},{"$f":"(Revenue!M29)","v":0},{"$f":"(Revenue!N29)","v":0},{"$f":"(Revenue!O29)","v":0},{"$f":"(Revenue!P29)","v":0},{"$f":"IFERROR((H40+J40+L40+N40)/(G40+I40+K40+M40),0)","v":0},{"$f":"IFERROR((N40/H40)^(1/3)-1,0)","v":0},{"$f":"IFERROR(AVERAGE($H$39/$H$43,$J$39/$J$43,$L$39/$L$43,$N$39/$N$43),0)","v":0},{"$f":"(Revenue!R29)","v":0},{"$f":"(Revenue!T29)","v":0},{"$f":"(Revenue!U29)","v":0},{"$f":"IFERROR((T40/N40)^(1/3)-1,0)","v":0},0]
[null,null,null,null,null,"Other non-tax revenue",{"$f":"SUM(Revenue!I30,Revenue!I64)","v":0},{"$f":"SUM(Revenue!J30,Revenue!J64)","v":0},{"$f":"SUM(Revenue!K30,Revenue!K64)","v":0},{"$f":"SUM(Revenue!L30,Revenue!L64)","v":0},{"$f":"SUM(Revenue!M30,Revenue!M64)","v":0},{"$f":"SUM(Revenue!N30,Revenue!N64)","v":0},{"$f":"SUM(Revenue!O30,Revenue!O64)","v":0},{"$f":"SUM(Revenue!P30,Revenue!P64)","v":0},0,0,{"$f":"IFERROR(AVERAGE($H$41/$H$43,$J$41/$J$43,$L$41/$L$43,$N$41/$N$43),0)","v":0},{"$f":"SUM(Revenue!R30,Revenue!R64)","v":0},{"$f":"SUM(Revenue!T30,Revenue!T64)","v":0},{"$f":"SUM(Revenue!U30,Revenue!U64)","v":0},0,0]
[null,null,null,null,null,"Transfers received",{"$f":"SUM(Revenue!I44,Revenue!I63)","v":0},{"$f":"SUM(Revenue!J44,Revenue!J63)","v":0},{"$f":"SUM(Revenue!K44,Revenue!K63)","v":0},{"$f":"SUM(Revenue!L44,Revenue!L63)","v":0},{"$f":"SUM(Revenue!M44,Revenue!M63)","v":0},{"$f":"SUM(Revenue!N44,Revenue!N63)","v":0},{"$f":"SUM(Revenue!O44,Revenue!O63)","v":0},{"$f":"SUM(Revenue!P44,Revenue!P63)","v":0},0,0,{"$f":"IFERROR(AVERAGE($H$42/$H$43,$J$42/$J$43,$L$42/$L$43,$N$42/$N$43),0)","v":0},{"$f":"SUM(Revenue!R44,Revenue!R63)","v":0},{"$f":"SUM(Revenue!T44,Revenue!T63)","v":0},{"$f":"SUM(Revenue!U44,Revenue!U63)","v":0},0,0]
[null,null,null,null,null,"Total revenue",{"$f":"SUM(G32,G33,G42:G42)","v":0},0,0,0,0,0,0,0,0,0,{"$f":"IFERROR(AVERAGE($H$43/$H$43,$J$43/$J$43,$L$43/$L$43,$N$43/$N$43),0)","v":0},{"$f":"SUM(R32,R33,R42:R42)","v":0},{"$f":"SUM(S32,S33,S42:S42)","v":0},{"$f":"SUM(T32,T33,T42:T42)","v":0},0,0]
[null,null,null,null,null,"Expenses",null,null,null,null,null,null,null,null,null,null,null,null,null,null,0]
[null,null,null,null,null,"Current expenses",{"$f":"SUM(G46:G49)","v":0},{"$f":"SUM(H46:H49)","v":0},0,0,0,0,0,0,0,0,{"$f":"IFERROR(AVERAGE($H$45/$H$51,$J$45/$J$51,$L$45/$L$51,$N$45/$N$51),0)","v":0},{"$f":"SUM(R46:R49)","v":0},{"$f":"SUM(S46:S49)","v":0},{"$f":"SUM(T46:T49)","v":0},0,{"$f":"IFERROR(AVERAGE(N45/$N$51,R45/$R$51,S45/$S$51,T45/$T$51),0)","v":0}]
[null,null,null,null,null,"Compensation of employees",{"$f":"SUM('Expend summary'!I40)","v":0},{"$f":"SUM('Expend summary'!J40)","v":0},{"$f":"SUM('Expend summary'!K40)","v":0},{"$f":"SUM('Expend summary'!L40)","v":0},{"$f":"SUM('Expend summary'!M40)","v":0},{"$f":"SUM('Expend summary'!N40)","v":0},{"$f":"SUM('Expend summary'!O40)","v":0},{"$f":"SUM('Expend summary'!P40)","v":0},0,0,{"$f":"IFERROR(AVERAGE($H$46/$H$51,$J$46/$J$51,$L$46/$L$51,$N$46/$N$51),0)","v":0},{"$f":"SUM('Expend summary'!S40)","v":0},{"$f":"SUM('Expend summary'!V40)","v":0},{"$f":"SUM('Expend summary'!X40)","v":0},0,0]
[null,null,null,null,null,"Goods and services",{"$f":"SUM('Expend summary'!I43,'Expend summary'!I99)","v":0},{"$f":"SUM('Expend summary'!J43,'Expend summary'!J99)","v":0},{"$f":"SUM('Expend summary'!K43,'Expend summary'!K99)","v":0},{"$f":"SUM('Expend summary'!L43,'Expend summary'!L99)","v":0},{"$f":"SUM('Expend summary'!M43,'Expend summary'!M99)","v":0},{"$f":"SUM('Expend summary'!N43,'Expend summary'!N99)","v":0},{"$f":"SUM('Expend summary'!O43,'Expend summary'!O99)","v":0},{"$f":"SUM('Expend summary'!P43,'Expend summary'!P99)","v":0},0,0,{"$f":"IFERROR(AVERAGE($H$47/$H$51,$J$47/$J$51,$L$47/$L$51,$N$47/$N$51),0)","v":0},{"$f":"SUM('Expend summary'!S43,'Expend summary'!S99)","v":0},{"$f":"SUM('Expend summary'!V43,'Expend summary'!V99)","v":0},{"$f":"SUM('Expend summary'!X43,'Expend summary'!X99)","v":0},0,0]
[null,null,null,null,null,"Depreciation",{"$f":"SUM('Expend summary'!I98)","v":0},{"$f":"SUM('Expend summary'!J98)","v":0},{"$f":"SUM('Expend summary'!K98)","v":0},{"$f":"SUM('Expend summary'!L98)","v":0},{"$f":"SUM('Expend summary'!M98)","v":0},{"$f":"SUM('Expend summary'!N98)","v":0},{"$f":"SUM('Expend summary'!O98)","v":0},{"$f":"SUM('Expend summary'!P98)","v":0},0,0,{"$f":"IFERROR(AVERAGE($H$48/$H$51,$J$48/$J$51,$L$48/$L$51,$N$48/$N$51),0)","v":0},{"$f":"SUM('Expend summary'!S98)","v":0},{"$f":"SUM('Expend summary'!V98)","v":0},{"$f":"SUM('Expend summary'!X98)","v":0},0,0]
[null,null,null,null,null,"Interest, dividends and rent on land",{"$f":"SUM('Expend summary'!I105,'Expend summary'!I139)","v":0},{"$f":"SUM('Expend summary'!J105,'Expend summary'!J139)","v":0},{"$f":"SUM('Expend summary'!K105,'Expend summary'!K139)","v":0},{"$f":"SUM('Expend summary'!L105,'Expend summary'!L139)","v":0},{"$f":"SUM('Expend summary'!M105,'Expend summary'!M139)","v":0},{"$f":"SUM('Expend summary'!N105,'Expend summary'!N139)","v":0},{"$f":"SUM('Expend summary'!O105,'Expend summary'!O139)","v":0},{"$f":"SUM('Expend summary'!P105,'Expend summary'!P139)","v":0},0,0,{"$f":"IFERROR(AVERAGE($H$49/$H$51,$J$49/$J$51,$L$49/$L$51,$N$49/$N$51),0)","v":0},{"$f":"SUM('Expend summary'!S105,'Expend summary'!S139)","v":0},{"$f":"SUM('Expend summary'!V105,'Expend summary'!V139)","v":0},{"$f":"SUM('Expend summary'!X105,'Expend summary'!X139)","v":0},0,0]
[null,null,null,null,null,"Transfers and subsidies",{"$f":"SUM('Expend summary'!I109,'Expend summary'!I138)","v":0},{"$f":"SUM('Expend summary'!J109,'Expend summary'!J138)","v":0},{"$f":"SUM('Expend summary'!K109,'Expend summary'!K138)","v":0},{"$f":"SUM('Expend summary'!L109,'Expend summary'!L138)","v":0},{"$f":"SUM('Expend summary'!M109,'Expend summary'!M138)","v":0},{"$f":"SUM('Expend summary'!N109,'Expend summary'!N138)","v":0},{"$f":"SUM('Expend summary'!O109,'Expend summary'!O138)","v":0},{"$f":"SUM('Expend summary'!P109,'Expend summary'!P138)","v":0},0,0,{"$f":"IFERROR(AVERAGE($H$50/$H$51,$J$50/$J$51,$L$50/$L$51,$N$50/$N$51),0)","v":0},{"$f":"SUM('Expend summary'!S109,'Expend summary'!S138)","v":0},{"$f":"SUM('Expend summary'!V109,'Expend summary'!V138)","v":0},{"$f":"SUM('Expend summary'!X109,'Expend summary'!X138)","v":0},0,0]
[null,null,null,null,null,"Total expenses",{"$f":"SUM(G45,G50:G50)","v":0},0,0,0,0,0,0,0,0,0,{"$f":"IFERROR(AVERAGE($H$51/$H$51,$J$51/$J$51,$L$51/$L$51,$N$51/$N$51),0)","v":0},{"$f":"SUM(R45,R50:R50)","v":0},{"$f":"SUM(S45,S50:S50)","v":0},{"$f":"SUM(T45,T50:T50)","v":0},0,0]
[null,null,null,null,null,"Surplus/(Deficit)",{"$f":"ROUND(IF(G43-G51>0,IF(G43-G51<1,0,G43-G51),G43-G51),0)","v":0},0,0,0,0,0,0,0,null,{"$f":"IFERROR((N52/H52)^(1/3)-1,0)","v":0},null,{"$f":"ROUND(IF(R43-R51>0,IF(R43-R51<1,0,R43-R51),R43-R51),0)","v":0},{"$f":"ROUND(IF(S43-S51>0,IF(S43-S51<1,0,S43-S51),S43-S51),0)","v":0},{"$f":"ROUND(IF(T43-T51>0,IF(T43-T51<1,0,T43-T51),T43-T51),0)","v":0},0]
[null,null,null,null,null,"Check",{"$f":"ROUND(G52-Revenue!I70,0)","v":0},{"$f":"ROUND(H52-Revenue!J70,0)","v":0},{"$f":"ROUND(I52-Revenue!K70,0)","v":0},{"$f":"ROUND(J52-Revenue!L70,0)","v":0},{"$f":"ROUND(K52-Revenue!M70,0)","v":0},{"$f":"ROUND(L52-Revenue!N70,0)","v":0},{"$f":"ROUND(M52-Revenue!O70,0)","v":0},{"$f":"ROUND(N52-Revenue!P70,0)","v":0},null,null,null,{"$f":"ROUND(R52-Revenue!R70,0)","v":0},{"$f":"ROUND(S52-Revenue!T70,0)","v":0},{"$f":"ROUND(T52-Revenue!U70,0)","v":0}]
[]
[]
[null,null,null,null,null,"Cash flow data",{"$f":"Hist_year3Audited","v":"Budget"},{"$f":"Hist_year3RestatedAudited","v":"Audited\noutcome"},{"$f":"Hist_year2Audited","v":"Budget"},{"$f":"Hist_year2RestatedAudited","v":"Audited\noutcome"},{"$f":"Hist_year1Budget","v":"Budget"},{"$f":"Hist_year1Audited","v":"Audited\noutcome"},{"$f":"Cur_YearBudgEst","v":"Budget\nestimate"},{"$f":"Cur_YearApprovedBudg","v":"Approved budget"},"Outcome/\nBudget \nAverage\n%","Average\ngrowth\nrate\n(%)","Expen-\nditure/\ntotal:\nAverage\n(%)"," Medium-term estimate",null,null,"Average\ngrowth\nrate\n(%)","Expen-\nditure/\ntotal:\nAverage\n(%)"]
[null,null,null,null,null,{"$f":"BW6","v":"R thousand"},{"$f":"MyYearM3","v":"2019/20"},null,{"$f":"MyYearM2","v":"2020/21"},null,{"$f":"MyYearM1","v":"2021/22"},null,{"$f":"MyYear0","v":"2022/23"},null,{"$f":"MyYearM2& \" - \" &MyYear0","v":"2020/21 - 2022/23"},{"$f":"MyYearM3&\" - \"&MyYearM1","v":"2019/20 - 2021/22"},null,{"$f":"MyYearP1","v":"2023/24"},{"$f":"MyYearP2","v":"2024/25"},{"$f":"MyYearP3","v":"2025/26"},{"$f":"MyYear0&\" - \"&MyYearP3","v":"2022/23 - 2025/26"}]
[null,null,null,null,null,"Cash flow from operating activities",{"$f":"G72-G80","v":0},0,0,0,0,0,0,0,{"$f":"IFERROR((H58+J58+L58+N58)/(G58+I58+K58+M58),0)","v":0},{"$f":"IFERROR((N58/H58)^(1/3)-1,0)","v":0},{"$f":"IFERROR(AVERAGE(H58/$L$58,J58/$H$58,L58/$J$58,N58/N58),0)","v":0},{"$f":"R72-R80","v":0},{"$f":"S72-S80","v":0},{"$f":"T72-T80","v":0},{"$f":"IFERROR((T58/N58)^(1/3)-1,0)","v":0},{"$f":"IFERROR(AVERAGE(N58/$N$58,R58/$R$58,S58/$S$58,T58/$T$58),0)","v":0}]
[null,null,null,null,null,"Receipts"]
[null,null,null,null,null,"Tax receipts",{"$f":"CashFlow!I13","v":0},{"$f":"CashFlow!J13","v":0},{"$f":"CashFlow!K13","v":0},{"$f":"CashFlow!L13","v":0},{"$f":"CashFlow!M13","v":0},{"$f":"CashFlow!N13","v":0},{"$f":"CashFlow!O13","v":0},{"$f":"CashFlow!P13","v":0},{"$f":"IFERROR((H60+J60+L60+N60)/(G60+I60+K60+M60),0)","v":0},{"$f":"IFERROR((N60/H60)^(1/3)-1,0)","v":0},{"$f":"IFERROR(AVERAGE(H60/$H$72,J60/$J$72,L60/$L$72,N60/$N$72),0)","v":0},{"$f":"CashFlow!R13","v":0},{"$f":"CashFlow!T13","v":0},{"$f":"CashFlow!U13","v":0},{"$f":"IFERROR((T60/N60)^(1/3)-1,0)","v":0},{"$f":"IFERROR(AVERAGE(N60/$N$72,R60/$R$72,S60/$S$72,T60/$T$72),0)","v":0}]
[null,null,null,null,null,"Non-tax receipts",{"$f":"SUM(G62,G69)","v":0},{"$f":"SUM(H62,H69)","v":0},0,0,0,0,0,0,0,0,{"$f":"IFERROR(AVERAGE(H61/$H$72,J61/$J$72,L61/$L$72,N61/$N$72),0)","v":0},{"$f":"SUM(R62,R69)","v":0},{"$f":"SUM(S62,S69)","v":0},{"$f":"SUM(T62,T69)","v":0},0,{"$f":"IFERROR(AVERAGE(N61/$N$72,R61/$R$72,S61/$S$72,T61/$T$72),0)","v":0}]
[null,null,null,null,null,"Sales of goods and services other than capital assets",{"$f":"SUM(G63,G68)","v":0},{"$f":"SUM(H63,H68)","v":0},0,0,0,0,0,0,0,0,{"$f":"IFERROR(AVERAGE(H62/$H$72,J62/$J$72,L62/$L$72,N62/$N$72),0)","v":0},{"$f":"SUM(R63,R68)","v":0},{"$f":"SUM(S63,S68)","v":0},{"$f":"SUM(T63,T68)","v":0},0,{"$f":"IFERROR(AVERAGE(N62/$N$72,R62/$R$72,S62/$S$72,T62/$T$72),0)","v":0}]
[null,null,null,null,null,"Sales of goods and services produced by entity (excl. capital assets)",{"$f":"SUM(G65:G67)","v":0},{"$f":"SUM(H65:H67)","v":0},0,0,0,0,0,0,{"$f":"IFERROR((H63+J63+L63+N63)/(G63+I63+K63+M63),0)","v":0},{"$f":"IFERROR((N63/H63)^(1/3)-1,0)","v":0},{"$f":"IFERROR(AVERAGE(H63/$H$72,J63/$J$72,L63/$L$72,N63/$N$72),0)","v":0},{"$f":"SUM(R65:R67)","v":0},{"$f":"SUM(S65:S67)","v":0},{"$f":"SUM(T65:T67)","v":0},{"$f":"IFERROR((T63/N63)^(1/3)-1,0)","v":0},{"$f":"IFERROR(AVERAGE(N63/$N$72,R63/$R$72,S63/$S$72,T63/$T$72),0)","v":0}]
[null,null,null,null,null,"of which:"]
[null,null,null,null,null,"Administrative fees",{"$f":"CashFlow!I16","v":0},{"$f":"CashFlow!J16","v":0},{"$f":"CashFlow!K16","v":0},{"$f":"CashFlow!L16","v":0},{"$f":"CashFlow!M16","v":0},{"$f":"CashFlow!N16","v":0},{"$f":"CashFlow!O16","v":0},{"$f":"CashFlow!P16","v":0},0,0,{"$f":"IFERROR(AVERAGE(H65/$H$72,J65/$J$72,L65/$L$72,N65/$N$72),0)","v":0},{"$f":"CashFlow!R16","v":0},{"$f":"CashFlow!T16","v":0},{"$f":"CashFlow!U16","v":0},0,{"$f":"IFERROR(AVERAGE(N65/$N$72,R65/$R$72,S65/$S$72,T65/$T$72),0)","v":0}]
[null,null,null,null,null,"Sales by market establishment",{"$f":"CashFlow!I21","v":0},{"$f":"CashFlow!J21","v":0},{"$f":"CashFlow!K21","v":0},{"$f":"CashFlow!L21","v":0},{"$f":"CashFlow!M21","v":0},{"$f":"CashFlow!N21","v":0},{"$f":"CashFlow!O21","v":0},{"$f":"CashFlow!P21","v":0},0,0,0,{"$f":"CashFlow!R21","v":0},{"$f":"CashFlow!T21","v":0},{"$f":"CashFlow!U21","v":0},0,0]
[null,null,null,null,null,"Other sales",{"$f":"CashFlow!I26","v":0},{"$f":"CashFlow!J26","v":0},{"$f":"CashFlow!K26","v":0},{"$f":"CashFlow!L26","v":0},{"$f":"CashFlow!M26","v":0},{"$f":"CashFlow!N26","v":0},{"$f":"CashFlow!O26","v":0},{"$f":"CashFlow!P26","v":0},0,0,0,{"$f":"CashFlow!R26","v":0},{"$f":"CashFlow!T26","v":0},{"$f":"CashFlow!U26","v":0},0,0]
[null,null,null,null,null,"Sales of scrap, waste, arms and other used current goods (excl capital assets)",{"$f":"CashFlow!I29","v":0},{"$f":"CashFlow!J29","v":0},{"$f":"CashFlow!K29","v":0},{"$f":"CashFlow!L29","v":0},{"$f":"CashFlow!M29","v":0},{"$f":"CashFlow!N29","v":0},{"$f":"CashFlow!O29","v":0},{"$f":"CashFlow!P29","v":0},{"$f":"IFERROR((H68+J68+L68+N68)/(G68+I68+K68+M68),0)","v":0},{"$f":"IFERROR((N68/H68)^(1/3)-1,0)","v":0},0,{"$f":"CashFlow!R29","v":0},{"$f":"CashFlow!T29","v":0},{"$f":"CashFlow!U29","v":0},{"$f":"IFERROR((T68/N68)^(1/3)-1,0)","v":0},0]
[null,null,null,null,null,"Other non-tax receipts",{"$f":"SUM(CashFlow!I48,CashFlow!I49,CashFlow!I57)","v":0},{"$f":"SUM(CashFlow!J48,CashFlow!J49,CashFlow!J57)","v":0},{"$f":"SUM(CashFlow!K48,CashFlow!K49,CashFlow!K57)","v":0},{"$f":"SUM(CashFlow!L48,CashFlow!L49,CashFlow!L57)","v":0},{"$f":"SUM(CashFlow!M48,CashFlow!M49,CashFlow!M57)","v":0},{"$f":"SUM(CashFlow!N48,CashFlow!N49,CashFlow!N57)","v":0},{"$f":"SUM(CashFlow!O48,CashFlow!O49,CashFlow!O57)","v":0},{"$f":"SUM(CashFlow!P48,CashFlow!P49,CashFlow!P57)","v":0},0,0,0,{"$f":"SUM(CashFlow!R48,CashFlow!R49,CashFlow!R57)","v":0},{"$f":"SUM(CashFlow!T48,CashFlow!T49,CashFlow!T57)","v":0},{"$f":"SUM(CashFlow!U48,CashFlow!U49,CashFlow!U57)","v":0},0,0]
[null,null,null,null,null,"Transfers received",{"$f":"SUM(CashFlow!I30,CashFlow!I56)","v":0},{"$f":"SUM(CashFlow!J30,CashFlow!J56)","v":0},{"$f":"SUM(CashFlow!K30,CashFlow!K56)","v":0},{"$f":"SUM(CashFlow!L30,CashFlow!L56)","v":0},{"$f":"SUM(CashFlow!M30,CashFlow!M56)","v":0},{"$f":"SUM(CashFlow!N30,CashFlow!N56)","v":0},{"$f":"SUM(CashFlow!O30,CashFlow!O56)","v":0},{"$f":"SUM(CashFlow!P30,CashFlow!P56)","v":0},0,0,0,{"$f":"SUM(CashFlow!R30,CashFlow!R56)","v":0},{"$f":"SUM(CashFlow!T30,CashFlow!T56)","v":0},{"$f":"SUM(CashFlow!U30,CashFlow!U56)","v":0},0,0]
[null,null,null,null,null,"Financial transactions in assets and liabilities",{"$f":"CashFlow!I53","v":0},{"$f":"CashFlow!J53","v":0},{"$f":"CashFlow!K53","v":0},{"$f":"CashFlow!L53","v":0},{"$f":"CashFlow!M53","v":0},{"$f":"CashFlow!N53","v":0},{"$f":"CashFlow!O53","v":0},{"$f":"CashFlow!P53","v":0},{"$f":"IFERROR((H71+J71+L71+N71)/(G71+I71+K71+M71),0)","v":0},{"$f":"IFERROR((N71/H71)^(1/3)-1,0)","v":0},0,{"$f":"CashFlow!R53","v":0},{"$f":"CashFlow!T53","v":0},{"$f":"CashFlow!U53","v":0},{"$f":"IFERROR((T71/N71)^(1/3)-1,0)","v":0},0]
[null,null,null,null,null,"Total receipts",{"$f":"SUM(G60:G61,G70:G71)","v":0},0,0,0,0,0,0,0,0,0,0,{"$f":"SUM(R60:R61,R70:R71)","v":0},{"$f":"SUM(S60:S61,S70:S71)","v":0},{"$f":"SUM(T60:T61,T70:T71)","v":0},0,0]
[null,null,null,null,null,"Payment",null,null,null,null,null,null,null,null,0,0]
[null,null,null,null,null,"Current payments",{"$f":"SUM(G75:G77)","v":0},{"$f":"SUM(H75:H77)","v":0},0,0,0,0,0,0,0,0,{"$f":"IFERROR(AVERAGE(H74/$H$80,J74/$J$80,L74/$L$80,N74/$N$80),0)","v":0},{"$f":"SUM(R75:R77)","v":0},{"$f":"SUM(S75:S77)","v":0},{"$f":"SUM(T75:T77)","v":0},{"$f":"IFERROR((T74/N74)^(1/3)-1,0)","v":0},{"$f":"IFERROR(AVERAGE(N74/$N$80,R74/$R$80,S74/$S$80,T74/$T$80),0)","v":0}]
[null,null,null,null,null,"Compensation of employees",{"$f":"CashFlow!I60","v":0},{"$f":"CashFlow!J60","v":0},{"$f":"CashFlow!K60","v":0},{"$f":"CashFlow!L60","v":0},{"$f":"CashFlow!M60","v":0},{"$f":"CashFlow!N60","v":0},{"$f":"CashFlow!O60","v":0},{"$f":"CashFlow!P60","v":0},0,0,0,{"$f":"CashFlow!R60","v":0},{"$f":"CashFlow!T60","v":0},{"$f":"CashFlow!U60","v":0},0,0]
[null,null,null,null,null,"Goods and services",{"$f":"CashFlow!I63","v":0},{"$f":"CashFlow!J63","v":0},{"$f":"CashFlow!K63","v":0},{"$f":"CashFlow!L63","v":0},{"$f":"CashFlow!M63","v":0},{"$f":"CashFlow!N63","v":0},{"$f":"CashFlow!O63","v":0},{"$f":"CashFlow!P63","v":0},0,0,0,{"$f":"CashFlow!R63","v":0},{"$f":"CashFlow!T63","v":0},{"$f":"CashFlow!U63","v":0},0,0]
[null,null,null,null,null,"Interest and rent on land",{"$f":"SUM(CashFlow!I117,CashFlow!I156)","v":0},{"$f":"SUM(CashFlow!J117,CashFlow!J156)","v":0},{"$f":"SUM(CashFlow!K117,CashFlow!K156)","v":0},{"$f":"SUM(CashFlow!L117,CashFlow!L156)","v":0},{"$f":"SUM(CashFlow!M117,CashFlow!M156)","v":0},{"$f":"SUM(CashFlow!N117,CashFlow!N156)","v":0},{"$f":"SUM(CashFlow!O117,CashFlow!O156)","v":0},{"$f":"SUM(CashFlow!P117,CashFlow!P156)","v":0},0,0,0,{"$f":"SUM(CashFlow!R117,CashFlow!R156)","v":0},{"$f":"SUM(CashFlow!T117,CashFlow!T156)","v":0},{"$f":"SUM(CashFlow!U117,CashFlow!U156)","v":0},0,0]
[null,null,null,null,null,"Transfers and subsidies",{"$f":"SUM(CashFlow!I121,CashFlow!I155)","v":0},{"$f":"SUM(CashFlow!J121,CashFlow!J155)","v":0},{"$f":"SUM(CashFlow!K121,CashFlow!K155)","v":0},{"$f":"SUM(CashFlow!L121,CashFlow!L155)","v":0},{"$f":"SUM(CashFlow!M121,CashFlow!M155)","v":0},{"$f":"SUM(CashFlow!N121,CashFlow!N155)","v":0},{"$f":"SUM(CashFlow!O121,CashFlow!O155)","v":0},{"$f":"SUM(CashFlow!P121,CashFlow!P155)","v":0},0,0,0,{"$f":"SUM(CashFlow!R121,CashFlow!R155)","v":0},{"$f":"SUM(CashFlow!T121,CashFlow!T155)","v":0},{"$f":"SUM(CashFlow!U121,CashFlow!U155)","v":0},0,0]
[null,null,null,null,null,"Payments for financial assets",{"$f":"CashFlow!I150","v":0},{"$f":"CashFlow!J150","v":0},{"$f":"CashFlow!K150","v":0},{"$f":"CashFlow!L150","v":0},{"$f":"CashFlow!M150","v":0},{"$f":"CashFlow!N150","v":0},{"$f":"CashFlow!O150","v":0},{"$f":"CashFlow!P150","v":0},{"$f":"IFERROR((H79+J79+L79+N79)/(G79+I79+K79+M79),0)","v":0},{"$f":"IFERROR((N79/H79)^(1/3)-1,0)","v":0},0,{"$f":"CashFlow!R150","v":0},{"$f":"CashFlow!T150","v":0},{"$f":"CashFlow!U150","v":0},{"$f":"IFERROR((T79/N79)^(1/3)-1,0)","v":0},0]
[null,null,null,null,null,"Total payment",{"$f":"SUM(G74,G78:G79)","v":0},0,0,0,0,0,0,0,0,0,0,{"$f":"SUM(R74,R78:R79)","v":0},{"$f":"SUM(S74,S78:S79)","v":0},{"$f":"SUM(T74,T78:T79)","v":0},0,0]
[null,null,null,null,null,"Cash flow from advancing activities (Financial Institutions only)",{"$f":"SUM(G82:G83)","v":0},0,0,0,0,0,0,0,0,0,{"$f":"IFERROR(AVERAGE(H81/$H$81,J81/$J$81,L81/$L$81,N81/$N$81),0)","v":0},{"$f":"SUM(R82:R83)","v":0},{"$f":"SUM(S82:S83)","v":0},{"$f":"SUM(T82:T83)","v":0},0,{"$f":"IFERROR(AVERAGE(N81/$N$81,R81/$R$81,S81/$S$81,T81/$T$81),0)","v":0}]
[null,null,null,null,null,"Disbursements and other payments",{"$f":"CashFlow!I158","v":0},{"$f":"CashFlow!J158","v":0},{"$f":"CashFlow!K158","v":0},{"$f":"CashFlow!L158","v":0},{"$f":"CashFlow!M158","v":0},{"$f":"CashFlow!N158","v":0},{"$f":"CashFlow!O158","v":0},{"$f":"CashFlow!P158","v":0},0,0,{"$f":"IFERROR(AVERAGE(H82/$H$81,J82/$J$81,L82/$L$81,N82/$N$81),0)","v":0},{"$f":"CashFlow!R158","v":0},{"$f":"CashFlow!T158","v":0},{"$f":"CashFlow!U158","v":0},0,{"$f":"IFERROR(AVERAGE(N82/$N$81,R82/$R$81,S82/$S$81,T82/$T$81),0)","v":0}]
[null,null,null,null,null,"Repayments and other receipts",{"$f":"CashFlow!I163","v":0},{"$f":"CashFlow!J163","v":0},{"$f":"CashFlow!K163","v":0},{"$f":"CashFlow!L163","v":0},{"$f":"CashFlow!M163","v":0},{"$f":"CashFlow!N163","v":0},{"$f":"CashFlow!O163","v":0},{"$f":"CashFlow!P163","v":0},0,0,{"$f":"IFERROR(AVERAGE(H83/$H$81,J83/$J$81,L83/$L$81,N83/$N$81),0)","v":0},{"$f":"CashFlow!R163","v":0},{"$f":"CashFlow!T163","v":0},{"$f":"CashFlow!U163","v":0},0,{"$f":"IFERROR(AVERAGE(N83/$N$81,R83/$R$81,S83/$S$81,T83/$T$81),0)","v":0}]
[null,null,null,null,null,"Cash flow from investing activities",{"$f":"SUM(G85:G89)","v":0},{"$f":"SUM(H85:H89)","v":0},0,0,0,0,0,0,0,0,{"$f":"IFERROR(AVERAGE(H84/$H$84,J84/$J$84,L84/$L$84,N84/$N$84),0)","v":0},{"$f":"SUM(R85:R89)","v":0},{"$f":"SUM(S85:S89)","v":0},{"$f":"SUM(T85:T89)","v":0},0,{"$f":"IFERROR(AVERAGE(N84/$N$84,R84/$R$84,S84/$S$84,T84/$T$84),0)","v":0}]
[null,null,null,null,null,"Acquisition of property, plant, equipment and intangible assets",{"$f":"CashFlow!I169","v":0},{"$f":"CashFlow!J169","v":0},{"$f":"CashFlow!K169","v":0},{"$f":"CashFlow!L169","v":0},{"$f":"CashFlow!M169","v":0},{"$f":"CashFlow!N169","v":0},{"$f":"CashFlow!O169","v":0},{"$f":"CashFlow!P169","v":0},0,0,0,{"$f":"CashFlow!R169","v":0},{"$f":"CashFlow!T169","v":0},{"$f":"CashFlow!U169","v":0},0,0]
[null,null,null,null,null,"Investment property",{"$f":"CashFlow!I182","v":0},{"$f":"CashFlow!J182","v":0},{"$f":"CashFlow!K182","v":0},{"$f":"CashFlow!L182","v":0},{"$f":"CashFlow!M182","v":0},{"$f":"CashFlow!N182","v":0},{"$f":"CashFlow!O182","v":0},{"$f":"CashFlow!P182","v":0},0,0,0,{"$f":"CashFlow!R182","v":0},{"$f":"CashFlow!T182","v":0},{"$f":"CashFlow!U182","v":0},0,0]
[null,null,null,null,null,"Acquisition of software and other intangible assets",{"$f":"CashFlow!I183","v":0},{"$f":"CashFlow!J183","v":0},{"$f":"CashFlow!K183","v":0},{"$f":"CashFlow!L183","v":0},{"$f":"CashFlow!M183","v":0},{"$f":"CashFlow!N183","v":0},{"$f":"CashFlow!O183","v":0},{"$f":"CashFlow!P183","v":0},0,0,0,{"$f":"CashFlow!R183","v":0},{"$f":"CashFlow!T183","v":0},{"$f":"CashFlow!U183","v":0},0,{"$f":"IFERROR(AVERAGE(N87/$N$84,R87/$R$84,S87/$S$84,T87/$T$84),0)","v":0}]
[null,null,null,null,null,"Proceeds from the sale of property, plant, equipment and intangible assets",{"$f":"CashFlow!I184","v":0},{"$f":"CashFlow!J184","v":0},{"$f":"CashFlow!K184","v":0},{"$f":"CashFlow!L184","v":0},{"$f":"CashFlow!M184","v":0},{"$f":"CashFlow!N184","v":0},{"$f":"CashFlow!O184","v":0},{"$f":"CashFlow!P184","v":0},0,0,0,{"$f":"CashFlow!R184","v":0},{"$f":"CashFlow!T184","v":0},{"$f":"CashFlow!U184","v":0},0,0]
[null,null,null,null,null,"Other flows from investing activities",{"$f":"CashFlow!I185","v":0},{"$f":"CashFlow!J185","v":0},{"$f":"CashFlow!K185","v":0},{"$f":"CashFlow!L185","v":0},{"$f":"CashFlow!M185","v":0},{"$f":"CashFlow!N185","v":0},{"$f":"CashFlow!O185","v":0},{"$f":"CashFlow!P185","v":0},0,0,0,{"$f":"CashFlow!R185","v":0},{"$f":"CashFlow!T185","v":0},{"$f":"CashFlow!U185","v":0},0,0]
[null,null,null,null,null,"Cash flow from financing activities",{"$f":"SUM(G91:G92,G93:G94)","v":0},0,0,0,0,0,0,0,0,0,{"$f":"IFERROR(AVERAGE(H90/$H$90,J90/$J$90,L90/$L$90,N90/$N$90),0)","v":0},{"$f":"SUM(R91:R92,R93:R94)","v":0},{"$f":"SUM(S91:S92,S93:S94)","v":0},{"$f":"SUM(T91:T92,T93:T94)","v":0},0,{"$f":"IFERROR(AVERAGE(N90/$N$90,R90/$R$90,S90/$S$90,T90/$T$90),0)","v":0}]
[null,null,null,null,null,"Deferred income",{"$f":"CashFlow!I196","v":0},{"$f":"CashFlow!J196","v":0},{"$f":"CashFlow!K196","v":0},{"$f":"CashFlow!L196","v":0},{"$f":"CashFlow!M196","v":0},{"$f":"CashFlow!N196","v":0},{"$f":"CashFlow!O196","v":0},{"$f":"CashFlow!P196","v":0},0,0,{"$f":"IFERROR(AVERAGE(H91/$H$90,J91/$J$90,L91/$L$90,N91/$N$90),0)","v":0},{"$f":"CashFlow!R196","v":0},{"$f":"CashFlow!T196","v":0},{"$f":"CashFlow!U196","v":0},0,{"$f":"IFERROR(AVERAGE(N91/$N$90,R91/$R$90,S91/$S$90,T91/$T$90),0)","v":0}]
[null,null,null,null,null,"Borrowing activities",{"$f":"CashFlow!I199","v":0},{"$f":"CashFlow!J199","v":0},{"$f":"CashFlow!K199","v":0},{"$f":"CashFlow!L199","v":0},{"$f":"CashFlow!M199","v":0},{"$f":"CashFlow!N199","v":0},{"$f":"CashFlow!O199","v":0},{"$f":"CashFlow!P199","v":0},0,0,{"$f":"IFERROR(AVERAGE(H92/$H$90,J92/$J$90,L92/$L$90,N92/$N$90),0)","v":0},{"$f":"CashFlow!R199","v":0},{"$f":"CashFlow!T199","v":0},{"$f":"CashFlow!U199","v":0},0,{"$f":"IFERROR(AVERAGE(N92/$N$90,R92/$R$90,S92/$S$90,T92/$T$90),0)","v":0}]
[null,null,null,null,null,"Repayment of finance leases",{"$f":"CashFlow!I211","v":0},{"$f":"CashFlow!J211","v":0},{"$f":"CashFlow!K211","v":0},{"$f":"CashFlow!L211","v":0},{"$f":"CashFlow!M211","v":0},{"$f":"CashFlow!N211","v":0},{"$f":"CashFlow!O211","v":0},{"$f":"CashFlow!P211","v":0},0,0,{"$f":"IFERROR(AVERAGE(H93/$H$90,J93/$J$90,L93/$L$90,N93/$N$90),0)","v":0},{"$f":"CashFlow!R211","v":0},{"$f":"CashFlow!T211","v":0},{"$f":"CashFlow!U211","v":0},0,{"$f":"IFERROR(AVERAGE(N93/$N$90,R93/$R$90,S93/$S$90,T93/$T$90),0)","v":0}]
[null,null,null,null,null,"Other flows from financing activities",{"$f":"SUM(CashFlow!I212:I214)","v":0},{"$f":"SUM(CashFlow!J212:J214)","v":0},{"$f":"SUM(CashFlow!K212:K214)","v":0},{"$f":"SUM(CashFlow!L212:L214)","v":0},{"$f":"SUM(CashFlow!M212:M214)","v":0},{"$f":"SUM(CashFlow!N212:N214)","v":0},{"$f":"SUM(CashFlow!O212:O214)","v":0},{"$f":"SUM(CashFlow!P212:P214)","v":0},0,0,{"$f":"IFERROR(AVERAGE(H94/$H$90,J94/$J$90,L94/$L$90,N94/$N$90),0)","v":0},{"$f":"SUM(CashFlow!R212:R214)","v":0},{"$f":"SUM(CashFlow!T212:T214)","v":0},{"$f":"SUM(CashFlow!U212:U214)","v":0},0,{"$f":"IFERROR(AVERAGE(N94/$N$90,R94/$R$90,S94/$S$90,T94/$T$90),0)","v":0}]
[null,null,null,null,null,"Net increase / (decrease) in cash and cash equivalents",{"$f":"SUM(G58,G81,G84,G90)","v":0},0,0,0,0,0,0,0,null,0,null,{"$f":"SUM(R58,R81,R84,R90)","v":0},{"$f":"SUM(S58,S81,S84,S90)","v":0},{"$f":"SUM(T58,T81,T84,T90)","v":0},0]
[null,null,null,null,null,"Check",{"$f":"ROUND(G95-CashFlow!I215,0)","v":0},{"$f":"ROUND(H95-CashFlow!J215,0)","v":0},{"$f":"ROUND(I95-CashFlow!K215,0)","v":0},{"$f":"ROUND(J95-CashFlow!L215,0)","v":0},{"$f":"ROUND(K95-CashFlow!M215,0)","v":0},{"$f":"ROUND(L95-CashFlow!N215,0)","v":0},{"$f":"ROUND(M95-CashFlow!O215,0)","v":0},{"$f":"ROUND(N95-CashFlow!P215,0)","v":0},null,null,null,{"$f":"ROUND(R95-CashFlow!R215,0)","v":0},{"$f":"ROUND(S95-CashFlow!T215,0)","v":0},{"$f":"ROUND(T95-CashFlow!U215,0)","v":0}]
[]
[]
[null,null,null,null,null,"Financial position",{"$f":"Hist_year3Audited","v":"Budget"},{"$f":"Hist_year3RestatedAudited","v":"Audited\noutcome"},{"$f":"Hist_year2Audited","v":"Budget"},{"$f":"Hist_year2RestatedAudited","v":"Audited\noutcome"},{"$f":"Hist_year1Budget","v":"Budget"},{"$f":"Hist_year1Audited","v":"Audited\noutcome"},{"$f":"Cur_YearBudgEst","v":"Budget\nestimate"},{"$f":"Cur_YearApprovedBudg","v":"Approved budget"},"Outcome/\nBudget \nAverage\n%","Average\ngrowth\nrate\n(%)","Net change/\ntotal:\nAverage\n(%)"," Medium-term estimate",null,null,"Average\ngrowth\nrate\n(%)","Net change/\ntotal:\nAverage\n(%)"]
[null,null,null,null,null,null,{"$f":"MyYearM3","v":"2019/20"},null,{"$f":"MyYearM2","v":"2020/21"},null,{"$f":"MyYearM1","v":"2021/22"},null,{"$f":"MyYear0","v":"2022/23"},null,null,{"$f":"MyYearM3& \" - \" &MyYear0","v":"2019/20 - 2022/23"},null,{"$f":"MyYearP1","v":"2023/24"},{"$f":"MyYearP2","v":"2024/25"},{"$f":"MyYearP3","v":"2025/26"},{"$f":"MyYear0&\" - \"&MyYearP3","v":"2022/23 - 2025/26"}]
[null,null,null,null,null,"Carrying value of assets",{"$f":"(FinancialPosition!I28+FinancialPosition!I29+FinancialPosition!I30+FinancialPosition!I31+FinancialPosition!I36)","v":0},{"$f":"(FinancialPosition!J28+FinancialPosition!J29+FinancialPosition!J30+FinancialPosition!J31+FinancialPosition!J36)","v":0},{"$f":"(FinancialPosition!K28+FinancialPosition!K29+FinancialPosition!K30+FinancialPosition!K31+FinancialPosition!K36)","v":0},{"$f":"(FinancialPosition!L28+FinancialPosition!L29+FinancialPosition!L30+FinancialPosition!L31+FinancialPosition!L36)","v":0},{"$f":"(FinancialPosition!M28+FinancialPosition!M29+FinancialPosition!M30+FinancialPosition!M31+FinancialPosition!M36)","v":0},{"$f":"(FinancialPosition!N28+FinancialPosition!N29+FinancialPosition!N30+FinancialPosition!N31+FinancialPosition!N36)","v":0},{"$f":"(FinancialPosition!O28+FinancialPosition!O29+FinancialPosition!O30+FinancialPosition!O31+FinancialPosition!O36)","v":0},{"$f":"(FinancialPosition!P28+FinancialPosition!P29+FinancialPosition!P30+FinancialPosition!P31+FinancialPosition!P36)","v":0},{"$f":"IFERROR((H101+J101+L101+N101)/(G101+I101+K101+M101),0)","v":0},{"$f":"IFERROR((N101/H101)^(1/3)-1,0)","v":0},{"$f":"IFERROR(AVERAGE(H101/$H$114,J101/$J$114,L101/$L$114,N101/$N$114),0)","v":0},{"$f":"(FinancialPosition!R28+FinancialPosition!R29+FinancialPosition!R30+FinancialPosition!R31+FinancialPosition!R36)","v":0},{"$f":"(FinancialPosition!T28+FinancialPosition!T29+FinancialPosition!T30+FinancialPosition!T31+FinancialPosition!T36)","v":0},{"$f":"(FinancialPosition!U28+FinancialPosition!U29+FinancialPosition!U30+FinancialPosition!U31+FinancialPosition!U36)","v":0},{"$f":"IFERROR((T101/N101)^(1/3)-1,0)","v":0},{"$f":"IFERROR(AVERAGE(N101/$N$114,R101/$R$114,S101/$S$114,T101/$T$114),0)","v":0}]
[null,null,null,null,null,"of which:"]
[null,null,null,null,null,"Acquisition of assets",{"$f":"G85","v":0},0,0,0,0,0,0,0,{"$f":"IFERROR((H103+J103+L103+N103)/(G103+I103+K103+M103),0)","v":0},{"$f":"IFERROR((N103/H103)^(1/3)-1,0)","v":0},{"$f":"IFERROR(AVERAGE(H103/$H$114,J103/$J$114,L103/$L$114,N103/$N$114),0)","v":0},{"$f":"R85","v":0},{"$f":"S85","v":0},{"$f":"T85","v":0},{"$f":"IFERROR((T103/N103)^(1/3)-1,0)","v":0},{"$f":"IFERROR(AVERAGE(N103/$N$114,R103/$R$114,S103/$S$114,T103/$T$114),0)","v":0}]
[null,null,null,null,null,"Investments",{"$f":"(FinancialPosition!I13+FinancialPosition!I22+FinancialPosition!I32+FinancialPosition!I33+FinancialPosition!I34+FinancialPosition!I35+FinancialPosition!I41)","v":0},{"$f":"(FinancialPosition!J13+FinancialPosition!J22+FinancialPosition!J32+FinancialPosition!J33+FinancialPosition!J34+FinancialPosition!J35+FinancialPosition!J41)","v":0},{"$f":"(FinancialPosition!K13+FinancialPosition!K22+FinancialPosition!K32+FinancialPosition!K33+FinancialPosition!K34+FinancialPosition!K35+FinancialPosition!K41)","v":0},{"$f":"(FinancialPosition!L13+FinancialPosition!L22+FinancialPosition!L32+FinancialPosition!L33+FinancialPosition!L34+FinancialPosition!L35+FinancialPosition!L41)","v":0},{"$f":"(FinancialPosition!M13+FinancialPosition!M22+FinancialPosition!M32+FinancialPosition!M33+FinancialPosition!M34+FinancialPosition!M35+FinancialPosition!M41)","v":0},{"$f":"(FinancialPosition!N13+FinancialPosition!N22+FinancialPosition!N32+FinancialPosition!N33+FinancialPosition!N34+FinancialPosition!N35+FinancialPosition!N41)","v":0},{"$f":"(FinancialPosition!O13+FinancialPosition!O22+FinancialPosition!O32+FinancialPosition!O33+FinancialPosition!O34+FinancialPosition!O35+FinancialPosition!O41)","v":0},{"$f":"(FinancialPosition!P13+FinancialPosition!P22+FinancialPosition!P32+FinancialPosition!P33+FinancialPosition!P34+FinancialPosition!P35+FinancialPosition!P41)","v":0},0,0,0,{"$f":"(FinancialPosition!R13+FinancialPosition!R22+FinancialPosition!R32+FinancialPosition!R33+FinancialPosition!R34+FinancialPosition!R35+FinancialPosition!R41)","v":0},{"$f":"(FinancialPosition!T13+FinancialPosition!T22+FinancialPosition!T32+FinancialPosition!T33+FinancialPosition!T34+FinancialPosition!T35+FinancialPosition!T41)","v":0},{"$f":"(FinancialPosition!U13+FinancialPosition!U22+FinancialPosition!U32+FinancialPosition!U33+FinancialPosition!U34+FinancialPosition!U35+FinancialPosition!U41)","v":0},0,{"$f":"IFERROR(AVERAGE(N104/$N$114,R104/$R$114,S104/$S$114,T104/$T$114),0)","v":0}]
[null,null,null,null,null,"Inventory",{"$f":"FinancialPosition!I14","v":0},{"$f":"FinancialPosition!J14","v":0},{"$f":"FinancialPosition!K14","v":0},{"$f":"FinancialPosition!L14","v":0},{"$f":"FinancialPosition!M14","v":0},{"$f":"FinancialPosition!N14","v":0},{"$f":"FinancialPosition!O14","v":0},{"$f":"FinancialPosition!P14","v":0},0,0,0,{"$f":"FinancialPosition!R14","v":0},{"$f":"FinancialPosition!T14","v":0},{"$f":"FinancialPosition!U14","v":0},0,0]
[null,null,null,null,null,"Loans",{"$f":"(FinancialPosition!I15+FinancialPosition!I37)","v":0},{"$f":"(FinancialPosition!J15+FinancialPosition!J37)","v":0},{"$f":"(FinancialPosition!K15+FinancialPosition!K37)","v":0},{"$f":"(FinancialPosition!L15+FinancialPosition!L37)","v":0},{"$f":"(FinancialPosition!M15+FinancialPosition!M37)","v":0},{"$f":"(FinancialPosition!N15+FinancialPosition!N37)","v":0},{"$f":"(FinancialPosition!O15+FinancialPosition!O37)","v":0},{"$f":"(FinancialPosition!P15+FinancialPosition!P37)","v":0},0,0,0,{"$f":"(FinancialPosition!R15+FinancialPosition!R37)","v":0},{"$f":"(FinancialPosition!T15+FinancialPosition!T37)","v":0},{"$f":"(FinancialPosition!U15+FinancialPosition!U37)","v":0},0,0]
[null,null,null,null,null,"Accrued investment interest",{"$f":"FinancialPosition!I16","v":0},{"$f":"FinancialPosition!J16","v":0},{"$f":"FinancialPosition!K16","v":0},{"$f":"FinancialPosition!L16","v":0},{"$f":"FinancialPosition!M16","v":0},{"$f":"FinancialPosition!N16","v":0},{"$f":"FinancialPosition!O16","v":0},{"$f":"FinancialPosition!P16","v":0},0,0,0,{"$f":"FinancialPosition!R16","v":0},{"$f":"FinancialPosition!T16","v":0},{"$f":"FinancialPosition!U16","v":0},0,0]
[null,null,null,null,null,"Receivables and prepayments",{"$f":"(FinancialPosition!I17+FinancialPosition!I18+FinancialPosition!I19+FinancialPosition!I24+FinancialPosition!I38+FinancialPosition!I39)","v":0},{"$f":"(FinancialPosition!J17+FinancialPosition!J18+FinancialPosition!J19+FinancialPosition!J24+FinancialPosition!J38+FinancialPosition!J39)","v":0},{"$f":"(FinancialPosition!K17+FinancialPosition!K18+FinancialPosition!K19+FinancialPosition!K24+FinancialPosition!K38+FinancialPosition!K39)","v":0},{"$f":"(FinancialPosition!L17+FinancialPosition!L18+FinancialPosition!L19+FinancialPosition!L24+FinancialPosition!L38+FinancialPosition!L39)","v":0},{"$f":"(FinancialPosition!M17+FinancialPosition!M18+FinancialPosition!M19+FinancialPosition!M24+FinancialPosition!M38+FinancialPosition!M39)","v":0},{"$f":"(FinancialPosition!N17+FinancialPosition!N18+FinancialPosition!N19+FinancialPosition!N24+FinancialPosition!N38+FinancialPosition!N39)","v":0},{"$f":"(FinancialPosition!O17+FinancialPosition!O18+FinancialPosition!O19+FinancialPosition!O24+FinancialPosition!O38+FinancialPosition!O39)","v":0},{"$f":"(FinancialPosition!P17+FinancialPosition!P18+FinancialPosition!P19+FinancialPosition!P24+FinancialPosition!P38+FinancialPosition!P39)","v":0},0,0,0,{"$f":"(FinancialPosition!R17+FinancialPosition!R18+FinancialPosition!R19+FinancialPosition!R24+FinancialPosition!R38+FinancialPosition!R39)","v":0},{"$f":"(FinancialPosition!T17+FinancialPosition!T18+FinancialPosition!T19+FinancialPosition!T24+FinancialPosition!T38+FinancialPosition!T39)","v":0},{"$f":"(FinancialPosition!U17+FinancialPosition!U18+FinancialPosition!U19+FinancialPosition!U24+FinancialPosition!U38+FinancialPosition!U39)","v":0},0,0]
[null,null,null,null,null,"Cash and cash equivalents",{"$f":"FinancialPosition!I20","v":0},{"$f":"FinancialPosition!J20","v":0},{"$f":"FinancialPosition!K20","v":0},{"$f":"FinancialPosition!L20","v":0},{"$f":"FinancialPosition!M20","v":0},{"$f":"FinancialPosition!N20","v":0},{"$f":"FinancialPosition!O20","v":0},{"$f":"FinancialPosition!P20","v":0},0,0,0,{"$f":"FinancialPosition!R20","v":0},{"$f":"FinancialPosition!T20","v":0},{"$f":"FinancialPosition!U20","v":0},0,0]
[null,null,null,null,null,"Non-current assets held for sale",{"$f":"FinancialPosition!I21","v":0},{"$f":"FinancialPosition!J21","v":0},{"$f":"FinancialPosition!K21","v":0},{"$f":"FinancialPosition!L21","v":0},{"$f":"FinancialPosition!M21","v":0},{"$f":"FinancialPosition!N21","v":0},{"$f":"FinancialPosition!O21","v":0},{"$f":"FinancialPosition!P21","v":0},0,0,0,{"$f":"FinancialPosition!R21","v":0},{"$f":"FinancialPosition!T21","v":0},{"$f":"FinancialPosition!U21","v":0},0,0]
[null,null,null,null,null,"Defined benefit plan assets",{"$f":"FinancialPosition!I40","v":0},{"$f":"FinancialPosition!J40","v":0},{"$f":"FinancialPosition!K40","v":0},{"$f":"FinancialPosition!L40","v":0},{"$f":"FinancialPosition!M40","v":0},{"$f":"FinancialPosition!N40","v":0},{"$f":"FinancialPosition!O40","v":0},{"$f":"FinancialPosition!P40","v":0},0,0,0,{"$f":"FinancialPosition!R40","v":0},{"$f":"FinancialPosition!T40","v":0},{"$f":"FinancialPosition!U40","v":0},0,0]
[null,null,null,null,null,"Taxation",{"$f":"(FinancialPosition!I23+FinancialPosition!I25+FinancialPosition!I42)","v":0},{"$f":"(FinancialPosition!J23+FinancialPosition!J25+FinancialPosition!J42)","v":0},{"$f":"(FinancialPosition!K23+FinancialPosition!K25+FinancialPosition!K42)","v":0},{"$f":"(FinancialPosition!L23+FinancialPosition!L25+FinancialPosition!L42)","v":0},{"$f":"(FinancialPosition!M23+FinancialPosition!M25+FinancialPosition!M42)","v":0},{"$f":"(FinancialPosition!N23+FinancialPosition!N25+FinancialPosition!N42)","v":0},{"$f":"(FinancialPosition!O23+FinancialPosition!O25+FinancialPosition!O42)","v":0},{"$f":"(FinancialPosition!P23+FinancialPosition!P25+FinancialPosition!P42)","v":0},0,0,0,{"$f":"(FinancialPosition!R23+FinancialPosition!R25+FinancialPosition!R42)","v":0},{"$f":"(FinancialPosition!T23+FinancialPosition!T25+FinancialPosition!T42)","v":0},{"$f":"(FinancialPosition!U23+FinancialPosition!U25+FinancialPosition!U42)","v":0},0,0]
[null,null,null,null,null,"Derivatives financial instruments",{"$f":"(FinancialPosition!I26+FinancialPosition!I43)","v":0},{"$f":"(FinancialPosition!J26+FinancialPosition!J43)","v":0},{"$f":"(FinancialPosition!K26+FinancialPosition!K43)","v":0},{"$f":"(FinancialPosition!L26+FinancialPosition!L43)","v":0},{"$f":"(FinancialPosition!M26+FinancialPosition!M43)","v":0},{"$f":"(FinancialPosition!N26+FinancialPosition!N43)","v":0},{"$f":"(FinancialPosition!O26+FinancialPosition!O43)","v":0},{"$f":"(FinancialPosition!P26+FinancialPosition!P43)","v":0},0,0,0,{"$f":"(FinancialPosition!R26+FinancialPosition!R43)","v":0},{"$f":"(FinancialPosition!T26+FinancialPosition!T43)","v":0},{"$f":"(FinancialPosition!U26+FinancialPosition!U43)","v":0},0,0]
[null,null,null,null,null,"Total assets",{"$f":"SUM(G101,G104:G113)","v":0},{"$f":"SUM(H101,H104:H113)","v":0},{"$f":"SUM(I101,I104:I113)","v":0},0,0,0,0,0,0,0,0,{"$f":"SUM(R101,R104:R113)","v":0},{"$f":"SUM(S101,S104:S113)","v":0},{"$f":"SUM(T101,T104:T113)","v":0},0,0]
[null,null,null,null,null,"Accumulated surplus/(deficit)",{"$f":"FinancialPosition!I87","v":0},{"$f":"FinancialPosition!J87","v":0},{"$f":"FinancialPosition!K87","v":0},{"$f":"FinancialPosition!L87","v":0},{"$f":"FinancialPosition!M87","v":0},{"$f":"FinancialPosition!N87","v":0},{"$f":"FinancialPosition!O87","v":0},{"$f":"FinancialPosition!P87","v":0},0,0,{"$f":"IFERROR(AVERAGE(H115/$H$129,J115/$J$129,L115/$L$129,N115/$N$129),0)","v":0},{"$f":"FinancialPosition!R87","v":0},{"$f":"FinancialPosition!T87","v":0},{"$f":"FinancialPosition!U87","v":0},0,0]
[null,null,null,null,null,"Capital and reserves",{"$f":"(FinancialPosition!I88)","v":0},{"$f":"(FinancialPosition!J88)","v":0},{"$f":"(FinancialPosition!K88)","v":0},{"$f":"(FinancialPosition!L88)","v":0},{"$f":"(FinancialPosition!M88)","v":0},{"$f":"(FinancialPosition!N88)","v":0},{"$f":"(FinancialPosition!O88)","v":0},{"$f":"(FinancialPosition!P88)","v":0},0,0,0,{"$f":"(FinancialPosition!R88)","v":0},{"$f":"(FinancialPosition!T88)","v":0},{"$f":"(FinancialPosition!U88)","v":0},0,0]
[null,null,null,null,null,"Capital reserve fund",{"$f":"(FinancialPosition!I62+FinancialPosition!I72+FinancialPosition!I92)","v":0},{"$f":"(FinancialPosition!J62+FinancialPosition!J72+FinancialPosition!J92)","v":0},{"$f":"(FinancialPosition!K62+FinancialPosition!K72+FinancialPosition!K92)","v":0},{"$f":"(FinancialPosition!L62+FinancialPosition!L72+FinancialPosition!L92)","v":0},{"$f":"(FinancialPosition!M62+FinancialPosition!M72+FinancialPosition!M92)","v":0},{"$f":"(FinancialPosition!N62+FinancialPosition!N72+FinancialPosition!N92)","v":0},{"$f":"(FinancialPosition!O62+FinancialPosition!O72+FinancialPosition!O92)","v":0},{"$f":"(FinancialPosition!P62+FinancialPosition!P72+FinancialPosition!P92)","v":0},0,0,0,{"$f":"(FinancialPosition!R62+FinancialPosition!R72+FinancialPosition!R92)","v":0},{"$f":"(FinancialPosition!T62+FinancialPosition!T72+FinancialPosition!T92)","v":0},{"$f":"(FinancialPosition!U62+FinancialPosition!U72+FinancialPosition!U92)","v":0},0,0]
[null,null,null,null,null,"Borrowings",{"$f":"(FinancialPosition!I61+FinancialPosition!I63+FinancialPosition!I74)","v":0},{"$f":"(FinancialPosition!J61+FinancialPosition!J63+FinancialPosition!J74)","v":0},{"$f":"(FinancialPosition!K61+FinancialPosition!K63+FinancialPosition!K74)","v":0},{"$f":"(FinancialPosition!L61+FinancialPosition!L63+FinancialPosition!L74)","v":0},{"$f":"(FinancialPosition!M61+FinancialPosition!M63+FinancialPosition!M74)","v":0},{"$f":"(FinancialPosition!N61+FinancialPosition!N63+FinancialPosition!N74)","v":0},{"$f":"(FinancialPosition!O61+FinancialPosition!O63+FinancialPosition!O74)","v":0},{"$f":"(FinancialPosition!P61+FinancialPosition!P63+FinancialPosition!P74)","v":0},0,0,0,{"$f":"(FinancialPosition!R61+FinancialPosition!R63+FinancialPosition!R74)","v":0},{"$f":"(FinancialPosition!T61+FinancialPosition!T63+FinancialPosition!T74)","v":0},{"$f":"(FinancialPosition!U61+FinancialPosition!U63+FinancialPosition!U74)","v":0},0,0]
[null,null,null,null,null,"Finance lease ",{"$f":"(FinancialPosition!I67+FinancialPosition!I75)","v":0},{"$f":"(FinancialPosition!J67+FinancialPosition!J75)","v":0},{"$f":"(FinancialPosition!K67+FinancialPosition!K75)","v":0},{"$f":"(FinancialPosition!L67+FinancialPosition!L75)","v":0},{"$f":"(FinancialPosition!M67+FinancialPosition!M75)","v":0},{"$f":"(FinancialPosition!N67+FinancialPosition!N75)","v":0},{"$f":"(FinancialPosition!O67+FinancialPosition!O75)","v":0},{"$f":"(FinancialPosition!P67+FinancialPosition!P75)","v":0},0,0,0,{"$f":"(FinancialPosition!R67+FinancialPosition!R75)","v":0},{"$f":"(FinancialPosition!T67+FinancialPosition!T75)","v":0},{"$f":"(FinancialPosition!U67+FinancialPosition!U75)","v":0},0,0]
[null,null,null,null,null,"Accrued interest",{"$f":"FinancialPosition!I52","v":0},{"$f":"FinancialPosition!J52","v":0},{"$f":"FinancialPosition!K52","v":0},{"$f":"FinancialPosition!L52","v":0},{"$f":"FinancialPosition!M52","v":0},{"$f":"FinancialPosition!N52","v":0},{"$f":"FinancialPosition!O52","v":0},{"$f":"FinancialPosition!P52","v":0},0,0,0,{"$f":"FinancialPosition!R52","v":0},{"$f":"FinancialPosition!T52","v":0},{"$f":"FinancialPosition!U52","v":0},0,0]
[null,null,null,null,null,"Deferred income",{"$f":"(FinancialPosition!I64+FinancialPosition!I80)","v":0},{"$f":"(FinancialPosition!J64+FinancialPosition!J80)","v":0},{"$f":"(FinancialPosition!K64+FinancialPosition!K80)","v":0},{"$f":"(FinancialPosition!L64+FinancialPosition!L80)","v":0},{"$f":"(FinancialPosition!M64+FinancialPosition!M80)","v":0},{"$f":"(FinancialPosition!N64+FinancialPosition!N80)","v":0},{"$f":"(FinancialPosition!O64+FinancialPosition!O80)","v":0},{"$f":"(FinancialPosition!P64+FinancialPosition!P80)","v":0},0,0,0,{"$f":"(FinancialPosition!R64+FinancialPosition!R80)","v":0},{"$f":"(FinancialPosition!T64+FinancialPosition!T80)","v":0},{"$f":"(FinancialPosition!U64+FinancialPosition!U80)","v":0},0,0]
[null,null,null,null,null,"Trade and other payables",{"$f":"(FinancialPosition!I48+FinancialPosition!I49+FinancialPosition!I50+FinancialPosition!I68+FinancialPosition!I55+FinancialPosition!I66+FinancialPosition!I76)","v":0},{"$f":"(FinancialPosition!J48+FinancialPosition!J49+FinancialPosition!J50+FinancialPosition!J68+FinancialPosition!J55+FinancialPosition!J66+FinancialPosition!J76)","v":0},{"$f":"(FinancialPosition!K48+FinancialPosition!K49+FinancialPosition!K50+FinancialPosition!K68+FinancialPosition!K55+FinancialPosition!K66+FinancialPosition!K76)","v":0},{"$f":"(FinancialPosition!L48+FinancialPosition!L49+FinancialPosition!L50+FinancialPosition!L68+FinancialPosition!L55+FinancialPosition!L66+FinancialPosition!L76)","v":0},{"$f":"(FinancialPosition!M48+FinancialPosition!M49+FinancialPosition!M50+FinancialPosition!M68+FinancialPosition!M55+FinancialPosition!M66+FinancialPosition!M76)","v":0},{"$f":"(FinancialPosition!N48+FinancialPosition!N49+FinancialPosition!N50+FinancialPosition!N68+FinancialPosition!N55+FinancialPosition!N66+FinancialPosition!N76)","v":0},{"$f":"(FinancialPosition!O48+FinancialPosition!O49+FinancialPosition!O50+FinancialPosition!O68+FinancialPosition!O55+FinancialPosition!O66+FinancialPosition!O76)","v":0},{"$f":"(FinancialPosition!P48+FinancialPosition!P49+FinancialPosition!P50+FinancialPosition!P68+FinancialPosition!P55+FinancialPosition!P66+FinancialPosition!P76)","v":0},0,0,0,{"$f":"(FinancialPosition!R48+FinancialPosition!R49+FinancialPosition!R50+FinancialPosition!R68+FinancialPosition!R55+FinancialPosition!R66+FinancialPosition!R76)","v":0},{"$f":"(FinancialPosition!T48+FinancialPosition!T49+FinancialPosition!T50+FinancialPosition!T68+FinancialPosition!T55+FinancialPosition!T66+FinancialPosition!T76)","v":0},{"$f":"(FinancialPosition!U48+FinancialPosition!U49+FinancialPosition!U50+FinancialPosition!U68+FinancialPosition!U55+FinancialPosition!U66+FinancialPosition!U76)","v":0},0,0]
[null,null,null,null,null,"Benefits payable",{"$f":"(FinancialPosition!I51+FinancialPosition!I73)","v":0},{"$f":"(FinancialPosition!J51+FinancialPosition!J73)","v":0},{"$f":"(FinancialPosition!K51+FinancialPosition!K73)","v":0},{"$f":"(FinancialPosition!L51+FinancialPosition!L73)","v":0},{"$f":"(FinancialPosition!M51+FinancialPosition!M73)","v":0},{"$f":"(FinancialPosition!N51+FinancialPosition!N73)","v":0},{"$f":"(FinancialPosition!O51+FinancialPosition!O73)","v":0},{"$f":"(FinancialPosition!P51+FinancialPosition!P73)","v":0},0,0,0,{"$f":"(FinancialPosition!R51+FinancialPosition!R73)","v":0},{"$f":"(FinancialPosition!T51+FinancialPosition!T73)","v":0},{"$f":"(FinancialPosition!U51+FinancialPosition!U73)","v":0},0,0]
[null,null,null,null,null,"Capitalised value of pensions",{"$f":"FinancialPosition!I93","v":0},{"$f":"FinancialPosition!J93","v":0},{"$f":"FinancialPosition!K93","v":0},{"$f":"FinancialPosition!L93","v":0},{"$f":"FinancialPosition!M93","v":0},{"$f":"FinancialPosition!N93","v":0},{"$f":"FinancialPosition!O93","v":0},{"$f":"FinancialPosition!P93","v":0},0,0,0,{"$f":"FinancialPosition!R93","v":0},{"$f":"FinancialPosition!T93","v":0},{"$f":"FinancialPosition!U93","v":0},0,0]
[null,null,null,null,null,"Taxation",{"$f":"(FinancialPosition!I53+FinancialPosition!I54+FinancialPosition!I81)","v":0},{"$f":"(FinancialPosition!J53+FinancialPosition!J54+FinancialPosition!J81)","v":0},{"$f":"(FinancialPosition!K53+FinancialPosition!K54+FinancialPosition!K81)","v":0},{"$f":"(FinancialPosition!L53+FinancialPosition!L54+FinancialPosition!L81)","v":0},{"$f":"(FinancialPosition!M53+FinancialPosition!M54+FinancialPosition!M81)","v":0},{"$f":"(FinancialPosition!N53+FinancialPosition!N54+FinancialPosition!N81)","v":0},{"$f":"(FinancialPosition!O53+FinancialPosition!O54+FinancialPosition!O81)","v":0},{"$f":"(FinancialPosition!P53+FinancialPosition!P54+FinancialPosition!P81)","v":0},0,0,0,{"$f":"(FinancialPosition!R53+FinancialPosition!R54+FinancialPosition!R81)","v":0},{"$f":"(FinancialPosition!T53+FinancialPosition!T54+FinancialPosition!T81)","v":0},{"$f":"(FinancialPosition!U53+FinancialPosition!U54+FinancialPosition!U81)","v":0},0,0]
[null,null,null,null,null,"Provisions",{"$f":"(FinancialPosition!I56+FinancialPosition!I78+FinancialPosition!I79)","v":0},{"$f":"(FinancialPosition!J56+FinancialPosition!J78+FinancialPosition!J79)","v":0},{"$f":"(FinancialPosition!K56+FinancialPosition!K78+FinancialPosition!K79)","v":0},{"$f":"(FinancialPosition!L56+FinancialPosition!L78+FinancialPosition!L79)","v":0},{"$f":"(FinancialPosition!M56+FinancialPosition!M78+FinancialPosition!M79)","v":0},{"$f":"(FinancialPosition!N56+FinancialPosition!N78+FinancialPosition!N79)","v":0},{"$f":"(FinancialPosition!O56+FinancialPosition!O78+FinancialPosition!O79)","v":0},{"$f":"(FinancialPosition!P56+FinancialPosition!P78+FinancialPosition!P79)","v":0},0,0,0,{"$f":"(FinancialPosition!R56+FinancialPosition!R78+FinancialPosition!R79)","v":0},{"$f":"(FinancialPosition!T56+FinancialPosition!T78+FinancialPosition!T79)","v":0},{"$f":"(FinancialPosition!U56+FinancialPosition!U78+FinancialPosition!U79)","v":0},0,0]
[null,null,null,null,null,"Managed funds (e.g. poverty alleviation fund)",{"$f":"(FinancialPosition!I69+FinancialPosition!I82)","v":0},{"$f":"(FinancialPosition!J69+FinancialPosition!J82)","v":0},{"$f":"(FinancialPosition!K69+FinancialPosition!K82)","v":0},{"$f":"(FinancialPosition!L69+FinancialPosition!L82)","v":0},{"$f":"(FinancialPosition!M69+FinancialPosition!M82)","v":0},{"$f":"(FinancialPosition!N69+FinancialPosition!N82)","v":0},{"$f":"(FinancialPosition!O69+FinancialPosition!O82)","v":0},{"$f":"(FinancialPosition!P69+FinancialPosition!P82)","v":0},0,0,0,{"$f":"(FinancialPosition!R69+FinancialPosition!R82)","v":0},{"$f":"(FinancialPosition!T69+FinancialPosition!T82)","v":0},{"$f":"(FinancialPosition!U69+FinancialPosition!U82)","v":0},0,0]
[null,null,null,null,null,"Derivatives financial instruments",{"$f":"(FinancialPosition!I70+FinancialPosition!I83+FinancialPosition!I65+FinancialPosition!I77)","v":0},{"$f":"(FinancialPosition!J70+FinancialPosition!J83+FinancialPosition!J65+FinancialPosition!J77)","v":0},{"$f":"(FinancialPosition!K70+FinancialPosition!K83+FinancialPosition!K65+FinancialPosition!K77)","v":0},{"$f":"(FinancialPosition!L70+FinancialPosition!L83+FinancialPosition!L65+FinancialPosition!L77)","v":0},{"$f":"(FinancialPosition!M70+FinancialPosition!M83+FinancialPosition!M65+FinancialPosition!M77)","v":0},{"$f":"(FinancialPosition!N70+FinancialPosition!N83+FinancialPosition!N65+FinancialPosition!N77)","v":0},{"$f":"(FinancialPosition!O70+FinancialPosition!O83+FinancialPosition!O65+FinancialPosition!O77)","v":0},{"$f":"(FinancialPosition!P70+FinancialPosition!P83+FinancialPosition!P65+FinancialPosition!P77)","v":0},0,0,0,{"$f":"(FinancialPosition!R70+FinancialPosition!R83+FinancialPosition!R65+FinancialPosition!R77)","v":0},{"$f":"(FinancialPosition!T70+FinancialPosition!T83+FinancialPosition!T65+FinancialPosition!T77)","v":0},{"$f":"(FinancialPosition!U70+FinancialPosition!U83+FinancialPosition!U65+FinancialPosition!U77)","v":0},0,0]
[null,null,null,null,null,"Total equity and liabilities",{"$f":"SUM(G115:G128)","v":0},{"$f":"SUM(H115:H128)","v":0},{"$f":"SUM(I115:I128)","v":0},0,0,0,0,0,0,0,0,{"$f":"SUM(R115:R128)","v":0},{"$f":"SUM(S115:S128)","v":0},{"$f":"SUM(T115:T128)","v":0},0,0]
[null,null,null,null,null,"Contingent liabilities",{"$f":"FinancialPosition!I95","v":0},{"$f":"FinancialPosition!J95","v":0},{"$f":"FinancialPosition!K95","v":0},{"$f":"FinancialPosition!L95","v":0},{"$f":"FinancialPosition!M95","v":0},{"$f":"FinancialPosition!N95","v":0},{"$f":"FinancialPosition!O95","v":0},{"$f":"FinancialPosition!P95","v":0},null,null,null,{"$f":"FinancialPosition!Q95","v":0},{"$f":"FinancialPosition!T95","v":0},{"$f":"FinancialPosition!U95","v":0}]
[null,null,null,null,null,"Check",{"$f":"ROUND(G114-FinancialPosition!I44+ENESummary!G129-FinancialPosition!I94,0)","v":0},{"$f":"ROUND(H114-FinancialPosition!J44+ENESummary!H129-FinancialPosition!J94,0)","v":0},{"$f":"ROUND(I114-FinancialPosition!K44+ENESummary!I129-FinancialPosition!K94,0)","v":0},{"$f":"ROUND(J114-FinancialPosition!L44+ENESummary!J129-FinancialPosition!L94,0)","v":0},{"$f":"ROUND(K114-FinancialPosition!M44+ENESummary!K129-FinancialPosition!M94,0)","v":0},{"$f":"ROUND(L114-FinancialPosition!N44+ENESummary!L129-FinancialPosition!N94,0)","v":0},{"$f":"ROUND(M114-FinancialPosition!O44+ENESummary!M129-FinancialPosition!O94,0)","v":0},{"$f":"ROUND(N114-FinancialPosition!P44+ENESummary!N129-FinancialPosition!P94,0)","v":0},null,null,null,{"$f":"ROUND(R114-FinancialPosition!R44+ENESummary!R129-FinancialPosition!R94,0)","v":0},{"$f":"ROUND(S114-FinancialPosition!T44+ENESummary!S129-FinancialPosition!T94,0)","v":0},{"$f":"ROUND(T114-FinancialPosition!U44+ENESummary!T129-FinancialPosition!U94,0)","v":0}]
[]
[]
[]
[null,null,null,null,null,"Performance analysis",{"$f":"Hist_year2Audited","v":"Budget"},null,null,{"$f":"Cur_YearApprovedBudg","v":"Approved budget"}," Medium-term estimate"]
[null,null,null,null,null,"Financial performance ratios",{"$f":"MyYearM3","v":"2019/20"},{"$f":"MyYearM2","v":"2020/21"},{"$f":"MyYearM1","v":"2021/22"},{"$f":"MyYear0","v":"2022/23"},{"$f":"MyYearP1","v":"2023/24"},{"$f":"MyYearP2","v":"2024/25"},{"$f":"MyYearP3","v":"2025/26"}]
[null,null,null,null,null,"Current ratio = current Assets/Current liabilities",{"$f":"IF(ISERROR(SUM(FinancialPosition!J12)/FinancialPosition!J47),0,(SUM(FinancialPosition!J12)/FinancialPosition!J47))","v":0},{"$f":"IF(ISERROR(SUM(FinancialPosition!L12)/FinancialPosition!L47),0,(SUM(FinancialPosition!L12)/FinancialPosition!L47))","v":0},{"$f":"IF(ISERROR(SUM(FinancialPosition!N12)/FinancialPosition!N47),0,(SUM(FinancialPosition!N12)/FinancialPosition!N47))","v":0},{"$f":"IF(ISERROR(SUM(FinancialPosition!P12)/FinancialPosition!P47),0,(SUM(FinancialPosition!P12)/FinancialPosition!P47))","v":0},{"$f":"IF(ISERROR(SUM(FinancialPosition!Q12)/FinancialPosition!Q47),0,(SUM(FinancialPosition!Q12)/FinancialPosition!Q47))","v":0},{"$f":"IF(ISERROR(SUM(FinancialPosition!S12)/FinancialPosition!S47),0,(SUM(FinancialPosition!S12)/FinancialPosition!S47))","v":0},{"$f":"IF(ISERROR(SUM(FinancialPosition!U12)/FinancialPosition!U47),0,(SUM(FinancialPosition!U12)/FinancialPosition!U47))","v":0}]
[null,null,null,null,null,"Quick ratio = Current Assets-inventory/Current liabilities",{"$f":"IF(ISERROR(SUM(FinancialPosition!J12-FinancialPosition!J14)/FinancialPosition!J47),0,(SUM(FinancialPosition!J12-FinancialPosition!J14)/FinancialPosition!J47))","v":0},{"$f":"IF(ISERROR(SUM(FinancialPosition!L12-FinancialPosition!L14)/FinancialPosition!L47),0,(SUM(FinancialPosition!L12-FinancialPosition!L14)/FinancialPosition!L47))","v":0},{"$f":"IF(ISERROR(SUM(FinancialPosition!N12-FinancialPosition!N14)/FinancialPosition!N47),0,(SUM(FinancialPosition!N12-FinancialPosition!N14)/FinancialPosition!N47))","v":0},{"$f":"IF(ISERROR(SUM(FinancialPosition!P12-FinancialPosition!P14)/FinancialPosition!P47),0,(SUM(FinancialPosition!P12-FinancialPosition!P14)/FinancialPosition!P47))","v":0},{"$f":"IF(ISERROR(SUM(FinancialPosition!Q12-FinancialPosition!Q14)/FinancialPosition!Q47),0,(SUM(FinancialPosition!Q12-FinancialPosition!Q14)/FinancialPosition!Q47))","v":0},{"$f":"IF(ISERROR(SUM(FinancialPosition!S12-FinancialPosition!S14)/FinancialPosition!S47),0,(SUM(FinancialPosition!S12-FinancialPosition!S14)/FinancialPosition!S47))","v":0},{"$f":"IF(ISERROR(SUM(FinancialPosition!U12-FinancialPosition!U14)/FinancialPosition!U47),0,(SUM(FinancialPosition!U12-FinancialPosition!U14)/FinancialPosition!U47))","v":0}]
[null,null,null,null,null,"Cash ratio = Cash and Cash Equivalents/Current Liabilities\n",{"$f":"IF(ISERROR(FinancialPosition!J20/FinancialPosition!J47),0,(FinancialPosition!J20/FinancialPosition!J47))","v":0},{"$f":"IF(ISERROR(FinancialPosition!L20/FinancialPosition!L47),0,(FinancialPosition!L20/FinancialPosition!L47))","v":0},{"$f":"IF(ISERROR(FinancialPosition!N20/FinancialPosition!N47),0,(FinancialPosition!N20/FinancialPosition!N47))","v":0},{"$f":"IF(ISERROR(FinancialPosition!P20/FinancialPosition!P47),0,(FinancialPosition!P20/FinancialPosition!P47))","v":0},{"$f":"IF(ISERROR(FinancialPosition!Q20/FinancialPosition!Q47),0,(FinancialPosition!Q20/FinancialPosition!Q47))","v":0},{"$f":"IF(ISERROR(FinancialPosition!S20/FinancialPosition!S47),0,(FinancialPosition!S20/FinancialPosition!S47))","v":0},{"$f":"IF(ISERROR(FinancialPosition!U20/FinancialPosition!U47),0,(FinancialPosition!U20/FinancialPosition!U47))","v":0}]
[null,null,null,null,null,"Debts-Assets Ratio = Total Liabilities/Total Assets",{"$f":"IFERROR((FinancialPosition!J84)/(FinancialPosition!J44),0)","v":0},{"$f":"IFERROR((FinancialPosition!L84)/(FinancialPosition!L44),0)","v":0},{"$f":"IFERROR((FinancialPosition!N84)/(FinancialPosition!N44),0)","v":0},{"$f":"IFERROR((FinancialPosition!P84)/(FinancialPosition!P44),0)","v":0},{"$f":"IFERROR((FinancialPosition!Q84)/(FinancialPosition!Q44),0)","v":0},{"$f":"IFERROR((FinancialPosition!S84)/(FinancialPosition!S44),0)","v":0},{"$f":"IFERROR((FinancialPosition!U84)/(FinancialPosition!U44),0)","v":0}]
[null,null,null,null,null,"Fixed asset turnover = Revenue/Fixed Assets",{"$f":"IF(ISERROR(Revenue!J15/FinancialPosition!J27),0,Revenue!J15/FinancialPosition!J27)","v":0},{"$f":"IF(ISERROR(Revenue!L15/FinancialPosition!L27),0,Revenue!L15/FinancialPosition!L27)","v":0},{"$f":"IF(ISERROR(Revenue!N15/FinancialPosition!N27),0,Revenue!N15/FinancialPosition!N27)","v":0},{"$f":"IF(ISERROR(Revenue!P15/FinancialPosition!P27),0,Revenue!P15/FinancialPosition!P27)","v":0},{"$f":"IF(ISERROR(Revenue!Q15/FinancialPosition!Q27),0,Revenue!Q15/FinancialPosition!Q27)","v":0},{"$f":"IF(ISERROR(Revenue!S15/FinancialPosition!S27),0,Revenue!S15/FinancialPosition!S27)","v":0},{"$f":"IF(ISERROR(Revenue!U15/FinancialPosition!U27),0,Revenue!U15/FinancialPosition!U27)","v":0}]
[null,null,null,null,null,"Asset turnover = Revenue/Total Assets",{"$f":"IF(ISERROR(Revenue!J15/FinancialPosition!J44),0,Revenue!J15/FinancialPosition!J44)","v":0},{"$f":"IF(ISERROR(Revenue!L15/FinancialPosition!L44),0,Revenue!L15/FinancialPosition!L44)","v":0},{"$f":"IF(ISERROR(Revenue!N15/FinancialPosition!N44),0,Revenue!N15/FinancialPosition!N44)","v":0},{"$f":"IF(ISERROR(Revenue!P15/FinancialPosition!P44),0,Revenue!P15/FinancialPosition!P44)","v":0},{"$f":"IF(ISERROR(Revenue!Q15/FinancialPosition!Q44),0,Revenue!Q15/FinancialPosition!Q44)","v":0},{"$f":"IF(ISERROR(Revenue!S15/FinancialPosition!S44),0,Revenue!S15/FinancialPosition!S44)","v":0},{"$f":"IF(ISERROR(Revenue!U15/FinancialPosition!U44),0,Revenue!U15/FinancialPosition!U44)","v":0}]
[null,null,null,null,null,"Debt Ratio= Total Debt /Capital Employed",{"$f":"IFERROR(SUM(FinancialPosition!J84)/(FinancialPosition!J86+FinancialPosition!J74),0)","v":0},{"$f":"IFERROR(SUM(FinancialPosition!L84)/(FinancialPosition!L86+FinancialPosition!L74),0)","v":0},{"$f":"IFERROR(SUM(FinancialPosition!N84)/(FinancialPosition!N86+FinancialPosition!N74),0)","v":0},{"$f":"IFERROR(SUM(FinancialPosition!P84)/(FinancialPosition!P86+FinancialPosition!P74),0)","v":0},{"$f":"IFERROR(SUM(FinancialPosition!Q84)/(FinancialPosition!Q86+FinancialPosition!Q74),0)","v":0},{"$f":"IFERROR(SUM(FinancialPosition!S84)/(FinancialPosition!S86+FinancialPosition!S74),0)","v":0},{"$f":"IFERROR(SUM(FinancialPosition!U84)/(FinancialPosition!U86+FinancialPosition!U74),0)","v":0}]
[null,null,null,null,null,"Debt-Equity Ratio=Total Debt/Net Worth",{"$f":"IFERROR(SUM(FinancialPosition!J84)/(FinancialPosition!J86),0)","v":0},{"$f":"IFERROR(SUM(FinancialPosition!L84)/(FinancialPosition!L86),0)","v":0},{"$f":"IFERROR(SUM(FinancialPosition!N84)/(FinancialPosition!N86),0)","v":0},{"$f":"IFERROR(SUM(FinancialPosition!P84)/(FinancialPosition!P86),0)","v":0},{"$f":"IFERROR(SUM(FinancialPosition!Q84)/(FinancialPosition!Q86),0)","v":0},{"$f":"IFERROR(SUM(FinancialPosition!S84)/(FinancialPosition!S86),0)","v":0},{"$f":"IFERROR(SUM(FinancialPosition!U84)/(FinancialPosition!U86),0)","v":0}]

{"sheet":"Graphs","index":28,"n_rows":102,"n_cols":21,"rows_kept":102,"cut":false,"hidden":false,"merged":[]}
[]
[]
[]
[]
[]
[null,null,null,null,null,"PE No",{"$f":"Settings!$O$2","v":"PE196"}]
[null,null,null,null,null,"Entity name",{"$f":"Settings!$D$2","v":"Transnet Limited"}]
[]
[]
[null,null,null,null,null,"Financial Performance"]
[null,null,null,null,null,"Revenue",{"$f":"MyYear0","v":"2022/23"},{"$f":"MyYearP1","v":"2023/24"},{"$f":"MyYearP2","v":"2024/25"},{"$f":"MyYearP3","v":"2025/26"},"Trend","2022/23","2023/24","2024/25","Ave Ann"]
[null,null,null,null,null,"Tax revenue",{"$f":"ENESummary!N32","v":0},{"$f":"ENESummary!R32","v":0},{"$f":"ENESummary!S32","v":0},{"$f":"ENESummary!T32","v":0},null,{"$f":"IFERROR(H12/G12-1,0)","v":0},0,0,{"$f":"IFERROR(((J12/G12)^(1/3)-1),0)","v":0}]
[null,null,null,null,null,"Sale of goods and services other than capital assets",{"$f":"ENESummary!N34","v":0},{"$f":"ENESummary!R34","v":0},{"$f":"ENESummary!S34","v":0},{"$f":"ENESummary!T34","v":0},null,0,0,0,{"$f":"IFERROR(((J13/G13)^(1/3)-1),0)","v":0}]
[null,null,null,null,null,"Other non-tax revenue",{"$f":"ENESummary!N41","v":0},{"$f":"ENESummary!R41","v":0},{"$f":"ENESummary!S41","v":0},{"$f":"ENESummary!T41","v":0},null,0,0,0,{"$f":"IFERROR(((J14/G14)^(1/3)-1),0)","v":0}]
[null,null,null,null,null,"Transfers received",{"$f":"ENESummary!N42","v":0},{"$f":"ENESummary!R42","v":0},{"$f":"ENESummary!S42","v":0},{"$f":"ENESummary!T42","v":0},null,0,{"$f":"IFERROR(I15/H15-1,0)","v":0},0,{"$f":"IFERROR(((J15/G15)^(1/3)-1),0)","v":0}]
[null,null,null,null,null,"Total",{"$f":"SUM(G12:G15)","v":0},{"$f":"SUM(H12:H15)","v":0},{"$f":"SUM(I12:I15)","v":0},{"$f":"SUM(J12:J15)","v":0},null,0,0,0,{"$f":"IFERROR(((J16/G16)^(1/3)-1),0)","v":0}]
[null,null,null,null,null,"Composition of revenue (% of Total)"]
[null,null,null,null,null,"Tax revenue",{"$f":"IFERROR(G12/G$16,0)","v":0},0,0,0]
[null,null,null,null,null,"Sale of goods and services other than capital assets",0,0,0,0]
[null,null,null,null,null,"Other non-tax revenue",0,0,0,0]
[null,null,null,null,null,"Transfers received",0,0,0,0]
[]
[null,null,null,null,null,"Expenses",{"$f":"MyYear0","v":"2022/23"},{"$f":"MyYearP1","v":"2023/24"},{"$f":"MyYearP2","v":"2024/25"},{"$f":"MyYearP3","v":"2025/26"},"Trend","2022/23","2023/24","2024/25","Ave Ann"]
[null,null,null,null,null,"Compensation of employees",{"$f":"ENESummary!N46","v":0},{"$f":"ENESummary!R46","v":0},{"$f":"ENESummary!S46","v":0},{"$f":"ENESummary!T46","v":0},null,{"$f":"IFERROR(H24/G24-1,0)","v":0},{"$f":"IFERROR(I24/H24-1,0)","v":0},0,{"$f":"IFERROR(((J24/G24)^(1/3)-1),0)","v":0}]
[null,null,null,null,null,"Goods and services",{"$f":"ENESummary!N47","v":0},{"$f":"ENESummary!R47","v":0},{"$f":"ENESummary!S47","v":0},{"$f":"ENESummary!T47","v":0},null,0,0,0,0]
[null,null,null,null,null,"Depreciation",{"$f":"ENESummary!N48","v":0},{"$f":"ENESummary!R48","v":0},{"$f":"ENESummary!S48","v":0},{"$f":"ENESummary!T48","v":0},null,0,0,0,0]
[null,null,null,null,null,"Interest, dividends and rent on land",{"$f":"ENESummary!N49","v":0},{"$f":"ENESummary!R49","v":0},{"$f":"ENESummary!S49","v":0},{"$f":"ENESummary!T49","v":0},null,0,0,0,0]
[null,null,null,null,null,"Transfers and subsidies",{"$f":"ENESummary!N50","v":0},{"$f":"ENESummary!R50","v":0},{"$f":"ENESummary!S50","v":0},{"$f":"ENESummary!T50","v":0},null,{"$f":"IFERROR(H28/G28-1,0)","v":0},{"$f":"IFERROR(I28/H28-1,0)","v":0},{"$f":"IFERROR(J28/I28-1,0)","v":0},{"$f":"IFERROR(((J28/G28)^(1/3)-1),0)","v":0}]
[null,null,null,null,null,"Total",{"$f":"SUM(G24:G28)","v":0},{"$f":"SUM(H24:H28)","v":0},{"$f":"SUM(I24:I28)","v":0},{"$f":"SUM(J24:J28)","v":0},null,{"$f":"IFERROR(H29/G29-1,0)","v":0},0,0,0]
[null,null,null,null,null,"Composition of expenses (% of Total)"]
[null,null,null,null,null,"Compensation of employees",{"$f":"IFERROR(G24/G$29,0)","v":0},{"$f":"IFERROR(H24/H$29,0)","v":0},{"$f":"IFERROR(I24/I$29,0)","v":0},{"$f":"IFERROR(J24/J$29,0)","v":0}]
[null,null,null,null,null,"Goods and services",{"$f":"IFERROR(G25/G$29,0)","v":0},{"$f":"IFERROR(H25/H$29,0)","v":0},0,0]
[null,null,null,null,null,"Depreciation",0,{"$f":"IFERROR(H26/H$29,0)","v":0},0,0]
[null,null,null,null,null,"Interest, dividends and rent on land",0,0,0,0]
[null,null,null,null,null,"Transfers and subsidies",0,0,0,0]
[]
[null,null,null,null,null,"Consolidation"]
[null,null,null,null,null,"Receipts",{"$f":"MyYear0","v":"2022/23"},{"$f":"MyYearP1","v":"2023/24"},{"$f":"MyYearP2","v":"2024/25"},{"$f":"MyYearP3","v":"2025/26"},"Trend","2022/23","2023/24","2024/25","Ave Ann"]
[null,null,null,null,null,"Tax receipts",{"$f":"Consolidation!K12","v":0},{"$f":"Consolidation!L12","v":0},{"$f":"Consolidation!M12","v":0},{"$f":"Consolidation!N12","v":0},null,{"$f":"IFERROR(H39/G39-1,0)","v":0},{"$f":"IFERROR(I39/H39-1,0)","v":0},{"$f":"IFERROR(J39/I39-1,0)","v":0},{"$f":"IFERROR(((J39/G39)^(1/3)-1),0)","v":0}]
[null,null,null,null,null,"Sales of goods and services other than capital assets",{"$f":"Consolidation!K13","v":0},{"$f":"Consolidation!L13","v":0},{"$f":"Consolidation!M13","v":0},{"$f":"Consolidation!N13","v":0},null,0,0,0,0]
[null,null,null,null,null,"Transfers received",{"$f":"Consolidation!K19","v":0},{"$f":"Consolidation!L19","v":0},{"$f":"Consolidation!M19","v":0},{"$f":"Consolidation!N19","v":0},null,0,0,0,0]
[null,null,null,null,null,"Fines, penalties and forfeits",{"$f":"Consolidation!K29","v":0},{"$f":"Consolidation!L29","v":0},{"$f":"Consolidation!M29","v":0},{"$f":"Consolidation!N29","v":0},null,0,0,0,0]
[null,null,null,null,null,"Interest and rent on land",{"$f":"Consolidation!K30","v":0},{"$f":"Consolidation!L30","v":0},{"$f":"Consolidation!M30","v":0},{"$f":"Consolidation!N30","v":0},null,0,{"$f":"IFERROR(I43/H43-1,0)","v":0},0,{"$f":"IFERROR(((J43/G43)^(1/3)-1),0)","v":0}]
[null,null,null,null,null,"Sales of capital assets",{"$f":"Consolidation!K34","v":0},{"$f":"Consolidation!L34","v":0},{"$f":"Consolidation!M34","v":0},{"$f":"Consolidation!N34","v":0},null,0,0,0,{"$f":"IFERROR(((J44/G44)^(1/3)-1),0)","v":0}]
[null,null,null,null,null,"Financial transactions in assets and liabilities",{"$f":"Consolidation!K36","v":0},{"$f":"Consolidation!L36","v":0},{"$f":"Consolidation!M36","v":0},{"$f":"Consolidation!N36","v":0},null,0,0,0,{"$f":"IFERROR(((J45/G45)^(1/3)-1),0)","v":0}]
[null,null,null,null,null,"Total",{"$f":"SUM(G39:G45)","v":0},{"$f":"SUM(H39:H45)","v":0},{"$f":"SUM(I39:I45)","v":0},{"$f":"SUM(J39:J45)","v":0},null,0,0,0,0]
[null,null,null,null,null,"Composition of revenue (% of Total)"]
[null,null,null,null,null,"Tax receipts",{"$f":"IFERROR(G39/G$46,0)","v":0},{"$f":"IFERROR(H39/H$46,0)","v":0},{"$f":"IFERROR(I39/I$46,0)","v":0},{"$f":"IFERROR(J39/J$46,0)","v":0}]
[null,null,null,null,null,"Sales of goods and services other than capital assets",{"$f":"IFERROR(G40/G$46,0)","v":0},{"$f":"IFERROR(H40/H$46,0)","v":0},0,0]
[null,null,null,null,null,"Transfers received",0,0,0,0]
[null,null,null,null,null,"Fines, penalties and forfeits",0,{"$f":"IFERROR(H42/H$46,0)","v":0},0,0]
[null,null,null,null,null,"Interest and rent on land",0,0,0,0]
[null,null,null,null,null,"Sales of capital assets",0,0,0,0]
[null,null,null,null,null,"Financial transactions in assets and liabilities",0,0,0,0]
[]
[null,null,null,null,null,"Expenditure",{"$f":"MyYear0","v":"2022/23"},{"$f":"MyYearP1","v":"2023/24"},{"$f":"MyYearP2","v":"2024/25"},{"$f":"MyYearP3","v":"2025/26"},"Trend","2022/23","2023/24","2024/25","Ave Ann"]
[null,null,null,null,null,"Compensation of employees",{"$f":"Consolidation!K43","v":0},{"$f":"Consolidation!L43","v":0},{"$f":"Consolidation!M43","v":0},{"$f":"Consolidation!N43","v":0},null,{"$f":"IFERROR(H57/G57-1,0)","v":0},{"$f":"IFERROR(I57/H57-1,0)","v":0},{"$f":"IFERROR(J57/I57-1,0)","v":0},{"$f":"IFERROR(((J57/G57)^(1/3)-1),0)","v":0}]
[null,null,null,null,null,"Goods and services",{"$f":"Consolidation!K46","v":0},{"$f":"Consolidation!L46","v":0},{"$f":"Consolidation!M46","v":0},{"$f":"Consolidation!N46","v":0},null,0,0,0,0]
[null,null,null,null,null,"Interest and rent on land",{"$f":"Consolidation!K94","v":0},{"$f":"Consolidation!L94","v":0},{"$f":"Consolidation!M94","v":0},{"$f":"Consolidation!N94","v":0},null,0,0,0,0]
[null,null,null,null,null,"Transfers and subsidies",{"$f":"Consolidation!K97","v":0},{"$f":"Consolidation!L97","v":0},{"$f":"Consolidation!M97","v":0},{"$f":"Consolidation!N97","v":0},null,0,0,0,0]
[null,null,null,null,null,"Payments for capital assets",{"$f":"Consolidation!K117","v":0},{"$f":"Consolidation!L117","v":0},{"$f":"Consolidation!M117","v":0},{"$f":"Consolidation!N117","v":0},null,0,0,0,0]
[null,null,null,null,null,"Payments for financial assets",{"$f":"Consolidation!K128","v":0},{"$f":"Consolidation!L128","v":0},{"$f":"Consolidation!M128","v":0},{"$f":"Consolidation!N128","v":0},null,0,{"$f":"IFERROR(I62/H62-1,0)","v":0},{"$f":"IFERROR(J62/I62-1,0)","v":0},{"$f":"IFERROR(((J62/G62)^(1/3)-1),0)","v":0}]
[null,null,null,null,null,"Total",{"$f":"SUM(G57:G62)","v":0},{"$f":"SUM(H57:H62)","v":0},{"$f":"SUM(I57:I62)","v":0},{"$f":"SUM(J57:J62)","v":0},null,0,0,0,0]
[null,null,null,null,null,"Composition of spending (% of Total)"]
[null,null,null,null,null,"Compensation of employees",{"$f":"IFERROR(G57/G$63,0)","v":0},0,0,0]
[null,null,null,null,null,"Goods and services",0,0,0,0]
[null,null,null,null,null,"Interest and rent on land",0,{"$f":"IFERROR(H59/H$63,0)","v":0},0,0]
[null,null,null,null,null,"Transfers and subsidies",0,0,0,0]
[null,null,null,null,null,"Payments for capital assets",0,0,0,0]
[null,null,null,null,null,"Payments for financial assets",0,0,0,0]
[]
[null,null,null,null,null,"Personnel"]
[null,null,null,null,null,null,"2020/21 Number","2021/22 Number","2022/23 Number","2023/24 Number","2024/25 Number","2020/21 Cost","2021/22 Cost","2022/23 Cost","2023/24 Cost","2024/25 Cost","Trend","2022/23","2023/24","2024/25","Ave Ann"]
[null,null,null,null,null,{"$f":"PersonnelPub!F13","v":"Salary level"},{"$f":"PersonnelPub!I13","v":0},{"$f":"PersonnelPub!L13","v":0},{"$f":"PersonnelPub!O13","v":0},{"$f":"PersonnelPub!R13","v":0},{"$f":"PersonnelPub!U13","v":0},{"$f":"PersonnelPub!J13","v":0},{"$f":"PersonnelPub!M13","v":0},{"$f":"PersonnelPub!P13","v":0},{"$f":"PersonnelPub!S13","v":0},{"$f":"PersonnelPub!V13","v":0},null,{"$f":"IFERROR(M74/L74-1,0)","v":0},0,{"$f":"IFERROR(P74/O74-1,0)","v":0},{"$f":"IFERROR(P74/L74-1,0)","v":0}]
[null,null,null,null,null,{"$f":"PersonnelPub!F14","v":"1 – 6"},{"$f":"PersonnelPub!I14","v":0},{"$f":"PersonnelPub!L14","v":0},{"$f":"PersonnelPub!O14","v":0},{"$f":"PersonnelPub!R14","v":0},{"$f":"PersonnelPub!U14","v":0},{"$f":"PersonnelPub!J14","v":0},{"$f":"PersonnelPub!M14","v":0},{"$f":"PersonnelPub!P14","v":0},{"$f":"PersonnelPub!S14","v":0},{"$f":"PersonnelPub!V14","v":0},null,0,0,0,0]
[null,null,null,null,null,{"$f":"PersonnelPub!F15","v":"7 – 10"},{"$f":"PersonnelPub!I15","v":0},{"$f":"PersonnelPub!L15","v":0},{"$f":"PersonnelPub!O15","v":0},{"$f":"PersonnelPub!R15","v":0},{"$f":"PersonnelPub!U15","v":0},{"$f":"PersonnelPub!J15","v":0},{"$f":"PersonnelPub!M15","v":0},{"$f":"PersonnelPub!P15","v":0},{"$f":"PersonnelPub!S15","v":0},{"$f":"PersonnelPub!V15","v":0},null,0,0,0,0]
[null,null,null,null,null,{"$f":"PersonnelPub!F16","v":"11 – 12"},{"$f":"PersonnelPub!I16","v":0},{"$f":"PersonnelPub!L16","v":0},{"$f":"PersonnelPub!O16","v":0},{"$f":"PersonnelPub!R16","v":0},{"$f":"PersonnelPub!U16","v":0},{"$f":"PersonnelPub!J16","v":0},{"$f":"PersonnelPub!M16","v":0},{"$f":"PersonnelPub!P16","v":0},{"$f":"PersonnelPub!S16","v":0},{"$f":"PersonnelPub!V16","v":0},null,0,0,0,0]
[null,null,null,null,null,{"$f":"PersonnelPub!F17","v":"13 – 16"},{"$f":"PersonnelPub!I17","v":0},{"$f":"PersonnelPub!L17","v":0},{"$f":"PersonnelPub!O17","v":0},{"$f":"PersonnelPub!R17","v":0},{"$f":"PersonnelPub!U17","v":0},{"$f":"PersonnelPub!J17","v":0},{"$f":"PersonnelPub!M17","v":0},{"$f":"PersonnelPub!P17","v":0},{"$f":"PersonnelPub!S17","v":0},{"$f":"PersonnelPub!V17","v":0},null,0,0,0,0]
[null,null,null,null,null,{"$f":"PersonnelPub!F18","v":"17 – 22"},{"$f":"PersonnelPub!I18","v":0},{"$f":"PersonnelPub!L18","v":0},{"$f":"PersonnelPub!O18","v":0},{"$f":"PersonnelPub!R18","v":0},{"$f":"PersonnelPub!U18","v":0},{"$f":"PersonnelPub!J18","v":0},{"$f":"PersonnelPub!M18","v":0},{"$f":"PersonnelPub!P18","v":0},{"$f":"PersonnelPub!S18","v":0},{"$f":"PersonnelPub!V18","v":0},null,0,0,0,0]
[null,null,null,null,null,"Composition of COE (% of Total)"]
[null,null,null,null,null,"1 – 6",{"$f":"IFERROR(G75/G$74,0)","v":0},0,0,0,{"$f":"IFERROR(K75/K$74,0)","v":0},{"$f":"IFERROR(L75/L$74,0)","v":0},{"$f":"IFERROR(M75/M$74,0)","v":0},{"$f":"IFERROR(N75/N$74,0)","v":0},0,0]
[null,null,null,null,null,"7 – 10",0,0,{"$f":"IFERROR(I76/I$74,0)","v":0},0,0,{"$f":"IFERROR(L76/L$74,0)","v":0},0,0,0,0]
[null,null,null,null,null,"11 – 12",0,{"$f":"IFERROR(H77/H$74,0)","v":0},0,0,0,0,0,0,0,0]
[null,null,null,null,null,"13 – 16",0,0,0,0,0,0,0,0,0,0]
[null,null,null,null,null,"17 – 22",0,0,0,0,0,0,0,0,0,0]
[]
[null,null,null,null,null,"Infrastructure"]
[null,null,null,null,null,null,{"$f":"MyYear0","v":"2022/23"},{"$f":"MyYearP1","v":"2023/24"},{"$f":"MyYearP2","v":"2024/25"},{"$f":"MyYearP3","v":"2025/26"},"Trend","2022/23","2023/24","2024/25","Ave Ann"]
[null,null,null,null,null,"New infrastructure assets",{"$f":"'InfraS Summary'!$M$11","v":0},{"$f":"'InfraS Summary'!$P$11","v":0},{"$f":"'InfraS Summary'!$S$11","v":0},{"$f":"'InfraS Summary'!$U$11","v":0},null,{"$f":"IFERROR(H89/G89-1,0)","v":0},0,0,{"$f":"IFERROR(((J89/G89)^(1/3)-1),0)","v":0}]
[null,null,null,null,null,"Upgrading and additions",{"$f":"'InfraS Summary'!M13","v":0},{"$f":"'InfraS Summary'!P13","v":0},{"$f":"'InfraS Summary'!S13","v":0},{"$f":"'InfraS Summary'!U13","v":0},null,0,0,0,0]
[null,null,null,null,null,"Rehabilitation,renovations and refurbishment",{"$f":"'InfraS Summary'!M14","v":0},{"$f":"'InfraS Summary'!P14","v":0},{"$f":"'InfraS Summary'!S14","v":0},{"$f":"'InfraS Summary'!U14","v":0},null,0,0,0,0]
[null,null,null,null,null,"Maintenance and repair",{"$f":"'InfraS Summary'!M15","v":0},{"$f":"'InfraS Summary'!P15","v":0},{"$f":"'InfraS Summary'!S15","v":0},{"$f":"'InfraS Summary'!U15","v":0},null,0,0,0,0]
[null,null,null,null,null,"Transfers : current",{"$f":"'InfraS Summary'!M17","v":0},{"$f":"'InfraS Summary'!P17","v":0},{"$f":"'InfraS Summary'!S17","v":0},{"$f":"'InfraS Summary'!U17","v":0},null,0,0,0,0]
[null,null,null,null,null,"Transfers : capital",{"$f":"'InfraS Summary'!M18","v":0},{"$f":"'InfraS Summary'!P18","v":0},{"$f":"'InfraS Summary'!S18","v":0},{"$f":"'InfraS Summary'!U18","v":0},null,0,0,0,0]
[null,null,null,null,null,"Total",{"$f":"SUM(G89:G94)","v":0},{"$f":"SUM(H89:H94)","v":0},{"$f":"SUM(I89:I94)","v":0},{"$f":"SUM(J89:J94)","v":0},null,0,0,0,0]
[null,null,null,null,null,"Composition of spending (% of Total)"]
[null,null,null,null,null,"New infrastructure assets",{"$f":"IFERROR(G89/G$95,0)","v":0},0,0,0]
[null,null,null,null,null,"Upgrading and additions",0,0,0,0]
[null,null,null,null,null,"Rehabilitation,renovations and refurbishment",0,0,0,0]
[null,null,null,null,null,"Maintenance and repair",0,{"$f":"IFERROR(H92/H$95,0)","v":0},0,0]
[null,null,null,null,null,"Transfers : current",0,0,0,0]
[null,null,null,null,null,"Transfers : capital",0,0,0,0]

{"sheet":"TrendsAnalysis","index":29,"n_rows":65,"n_cols":19,"rows_kept":65,"cut":false,"hidden":false,"merged":[]}
[null,null,null,null,null,null,null,null,null,"Legend"]
[null,null,null,null,null,null,null,null,null,"Red",null,"This colour signifies that the entity's growth rate in a particular year(s) is =/+ double the growth rate of the seven-year average annual rate"]
[null,null,null,null,null,null,null,null,null,"Orange",null,"This colour signifies that the entity's growth rate in a particular year(s) is more than the growth rate of the seven-year average annual rate "]
[null,null,null,null,null,null,null,null,null,"Green",null,"This colour signifies that the entity's growth rate in a particular year(s) is showing a negative growth "]
[]
[null,null,null,null,null,"PE No",{"$f":"Settings!$O$2","v":"PE196"}]
[null,null,null,null,null,"Entity name",{"$f":"Settings!$D$2","v":"Transnet Limited"}]
[null,null,null,null,null,null,{"$f":"MyYearM3","v":"2019/20"},{"$f":"MyYearM2","v":"2020/21"},{"$f":"MyYearM1","v":"2021/22"},{"$f":"MyYear0","v":"2022/23"},{"$f":"MyYearP1","v":"2023/24"},{"$f":"MyYearP2","v":"2024/25"},{"$f":"MyYearP3","v":"2025/26"}]
[null,null,null,null,null,"CPI",4.6463189938317662E-2,4.1873995253769447E-2,2.9390154298309268E-2,4.9059054314360306E-2,4.0167313966137597E-2,4.4194388668257423E-2,4.4727811487796476E-2]
[]
[null,null,null,null,null,"Year on Year Growth rates",null,null,null,null,null,null,null,null,"Average annual growth rates"]
[null,null,null,null,null,"Statement of Financial Perfomance",null,null,null,"Revised"]
[null,null,null,null,null,null," Audited outcome ",null,null," estimate"," Medium-term estimate",null,null,null,"Outcomes","MTEF","All years"]
[null,null,null,null,null,{"$f":"ENESummary!BW6","v":"R thousand"},null,{"$f":"MyYearM2","v":"2020/21"},{"$f":"MyYearM1","v":"2021/22"},{"$f":"MyYear0","v":"2022/23"},{"$f":"MyYearP1","v":"2023/24"},{"$f":"MyYearP2","v":"2024/25"},{"$f":"MyYearP3","v":"2025/26"},null,{"$f":"MyYearM3& \" - \" &MyYear0","v":"2019/20 - 2022/23"},{"$f":"MyYear0&\" - \"&MyYearP3","v":"2022/23 - 2025/26"},{"$f":"MyYearM3&\" - \"&MyYearP3","v":"2019/20 - 2025/26"},null,"FINANCIAL PERFOMANCE EXPLANATIONS"]
[null,null,null,null,null,"Revenue",null,null,null,null,null,null,null,null,null,null,null,null,0]
[null,null,null,null,null,"Tax revenue",null,{"$f":"IF(ISERROR(ENESummary!J32/ENESummary!H32-1),0,(ENESummary!J32/ENESummary!H32-1))","v":0},{"$f":"IF(ISERROR(ENESummary!L32/ENESummary!J32-1),0,(ENESummary!L32/ENESummary!J32-1))","v":0},{"$f":"IF(ISERROR(ENESummary!N32/ENESummary!L32-1),0,(ENESummary!N32/ENESummary!L32-1))","v":0},{"$f":"IF(ISERROR(ENESummary!R32/ENESummary!N32-1),0,(ENESummary!R32/ENESummary!N32-1))","v":0},{"$f":"IF(ISERROR(ENESummary!S32/ENESummary!R32-1),0,(ENESummary!S32/ENESummary!R32-1))","v":0},{"$f":"IF(ISERROR(ENESummary!T32/ENESummary!S32-1),0,(ENESummary!T32/ENESummary!S32-1))","v":0},null,{"$f":"IF(ISERROR((ENESummary!N32/ENESummary!H32)^(1/3)-1),0,(ENESummary!N32/ENESummary!H32)^(1/3)-1)","v":0},{"$f":"IF(ISERROR((ENESummary!T32/ENESummary!N32)^(1/3)-1),0,(ENESummary!T32/ENESummary!N32)^(1/3)-1)","v":0},{"$f":"IF(ISERROR((ENESummary!T32/ENESummary!H32)^(1/6)-1),0,(ENESummary!T32/ENESummary!H32)^(1/6)-1)","v":0},null,0]
[null,null,null,null,null,"Non-tax revenue",null,{"$f":"IF(ISERROR(ENESummary!J33/ENESummary!H33-1),0,(ENESummary!J33/ENESummary!H33-1))","v":0},{"$f":"IF(ISERROR(ENESummary!L33/ENESummary!J33-1),0,(ENESummary!L33/ENESummary!J33-1))","v":0},{"$f":"IF(ISERROR(ENESummary!N33/ENESummary!L33-1),0,(ENESummary!N33/ENESummary!L33-1))","v":0},{"$f":"IF(ISERROR(ENESummary!R33/ENESummary!N33-1),0,(ENESummary!R33/ENESummary!N33-1))","v":0},{"$f":"IF(ISERROR(ENESummary!S33/ENESummary!R33-1),0,(ENESummary!S33/ENESummary!R33-1))","v":0},{"$f":"IF(ISERROR(ENESummary!T33/ENESummary!S33-1),0,(ENESummary!T33/ENESummary!S33-1))","v":0},null,{"$f":"IF(ISERROR((ENESummary!N33/ENESummary!H33)^(1/3)-1),0,(ENESummary!N33/ENESummary!H33)^(1/3)-1)","v":0},{"$f":"IF(ISERROR((ENESummary!T33/ENESummary!N33)^(1/3)-1),0,(ENESummary!T33/ENESummary!N33)^(1/3)-1)","v":0},{"$f":"IF(ISERROR((ENESummary!T33/ENESummary!H33)^(1/6)-1),0,(ENESummary!T33/ENESummary!H33)^(1/6)-1)","v":0},null,0]
[null,null,null,null,null,"Sale of goods and services other than capital assets",null,{"$f":"IF(ISERROR(ENESummary!J34/ENESummary!H34-1),0,(ENESummary!J34/ENESummary!H34-1))","v":0},{"$f":"IF(ISERROR(ENESummary!L34/ENESummary!J34-1),0,(ENESummary!L34/ENESummary!J34-1))","v":0},{"$f":"IF(ISERROR(ENESummary!N34/ENESummary!L34-1),0,(ENESummary!N34/ENESummary!L34-1))","v":0},{"$f":"IF(ISERROR(ENESummary!R34/ENESummary!N34-1),0,(ENESummary!R34/ENESummary!N34-1))","v":0},{"$f":"IF(ISERROR(ENESummary!S34/ENESummary!R34-1),0,(ENESummary!S34/ENESummary!R34-1))","v":0},{"$f":"IF(ISERROR(ENESummary!T34/ENESummary!S34-1),0,(ENESummary!T34/ENESummary!S34-1))","v":0},null,{"$f":"IF(ISERROR((ENESummary!N34/ENESummary!H34)^(1/3)-1),0,(ENESummary!N34/ENESummary!H34)^(1/3)-1)","v":0},{"$f":"IF(ISERROR((ENESummary!T34/ENESummary!N34)^(1/3)-1),0,(ENESummary!T34/ENESummary!N34)^(1/3)-1)","v":0},{"$f":"IF(ISERROR((ENESummary!T34/ENESummary!H34)^(1/6)-1),0,(ENESummary!T34/ENESummary!H34)^(1/6)-1)","v":0},null,0]
[null,null,null,null,null,"Sales of goods and services produced by entity",null,{"$f":"IF(ISERROR(ENESummary!J35/ENESummary!H35-1),0,(ENESummary!J35/ENESummary!H35-1))","v":0},{"$f":"IF(ISERROR(ENESummary!L35/ENESummary!J35-1),0,(ENESummary!L35/ENESummary!J35-1))","v":0},{"$f":"IF(ISERROR(ENESummary!N35/ENESummary!L35-1),0,(ENESummary!N35/ENESummary!L35-1))","v":0},{"$f":"IF(ISERROR(ENESummary!R35/ENESummary!N35-1),0,(ENESummary!R35/ENESummary!N35-1))","v":0},{"$f":"IF(ISERROR(ENESummary!S35/ENESummary!R35-1),0,(ENESummary!S35/ENESummary!R35-1))","v":0},{"$f":"IF(ISERROR(ENESummary!T35/ENESummary!S35-1),0,(ENESummary!T35/ENESummary!S35-1))","v":0},null,{"$f":"IF(ISERROR((ENESummary!N35/ENESummary!H35)^(1/3)-1),0,(ENESummary!N35/ENESummary!H35)^(1/3)-1)","v":0},{"$f":"IF(ISERROR((ENESummary!T35/ENESummary!N35)^(1/3)-1),0,(ENESummary!T35/ENESummary!N35)^(1/3)-1)","v":0},{"$f":"IF(ISERROR((ENESummary!T35/ENESummary!H35)^(1/6)-1),0,(ENESummary!T35/ENESummary!H35)^(1/6)-1)","v":0},null,0]
[null,null,null,null,null,"of which:",null,null,null,null,null,null,null,null,null,null,null,null,0]
[null,null,null,null,null,"Administrative fees",null,{"$f":"IF(ISERROR(ENESummary!J37/ENESummary!H37-1),0,(ENESummary!J37/ENESummary!H37-1))","v":0},{"$f":"IF(ISERROR(ENESummary!L37/ENESummary!J37-1),0,(ENESummary!L37/ENESummary!J37-1))","v":0},{"$f":"IF(ISERROR(ENESummary!N37/ENESummary!L37-1),0,(ENESummary!N37/ENESummary!L37-1))","v":0},{"$f":"IF(ISERROR(ENESummary!R37/ENESummary!N37-1),0,(ENESummary!R37/ENESummary!N37-1))","v":0},{"$f":"IF(ISERROR(ENESummary!S37/ENESummary!R37-1),0,(ENESummary!S37/ENESummary!R37-1))","v":0},{"$f":"IF(ISERROR(ENESummary!T37/ENESummary!S37-1),0,(ENESummary!T37/ENESummary!S37-1))","v":0},null,{"$f":"IF(ISERROR((ENESummary!N37/ENESummary!H37)^(1/3)-1),0,(ENESummary!N37/ENESummary!H37)^(1/3)-1)","v":0},{"$f":"IF(ISERROR((ENESummary!T37/ENESummary!N37)^(1/3)-1),0,(ENESummary!T37/ENESummary!N37)^(1/3)-1)","v":0},{"$f":"IF(ISERROR((ENESummary!T37/ENESummary!H37)^(1/6)-1),0,(ENESummary!T37/ENESummary!H37)^(1/6)-1)","v":0},null,0]
[null,null,null,null,null,"Sales by market establishment",null,{"$f":"IF(ISERROR(ENESummary!J38/ENESummary!H38-1),0,(ENESummary!J38/ENESummary!H38-1))","v":0},{"$f":"IF(ISERROR(ENESummary!L38/ENESummary!J38-1),0,(ENESummary!L38/ENESummary!J38-1))","v":0},{"$f":"IF(ISERROR(ENESummary!N38/ENESummary!L38-1),0,(ENESummary!N38/ENESummary!L38-1))","v":0},{"$f":"IF(ISERROR(ENESummary!R38/ENESummary!N38-1),0,(ENESummary!R38/ENESummary!N38-1))","v":0},{"$f":"IF(ISERROR(ENESummary!S38/ENESummary!R38-1),0,(ENESummary!S38/ENESummary!R38-1))","v":0},{"$f":"IF(ISERROR(ENESummary!T38/ENESummary!S38-1),0,(ENESummary!T38/ENESummary!S38-1))","v":0},null,{"$f":"IF(ISERROR((ENESummary!N38/ENESummary!H38)^(1/3)-1),0,(ENESummary!N38/ENESummary!H38)^(1/3)-1)","v":0},{"$f":"IF(ISERROR((ENESummary!T38/ENESummary!N38)^(1/3)-1),0,(ENESummary!T38/ENESummary!N38)^(1/3)-1)","v":0},{"$f":"IF(ISERROR((ENESummary!T38/ENESummary!H38)^(1/6)-1),0,(ENESummary!T38/ENESummary!H38)^(1/6)-1)","v":0},null,0]
[null,null,null,null,null,"Other sales",null,{"$f":"IF(ISERROR(ENESummary!J39/ENESummary!H39-1),0,(ENESummary!J39/ENESummary!H39-1))","v":0},{"$f":"IF(ISERROR(ENESummary!L39/ENESummary!J39-1),0,(ENESummary!L39/ENESummary!J39-1))","v":0},{"$f":"IF(ISERROR(ENESummary!N39/ENESummary!L39-1),0,(ENESummary!N39/ENESummary!L39-1))","v":0},{"$f":"IF(ISERROR(ENESummary!R39/ENESummary!N39-1),0,(ENESummary!R39/ENESummary!N39-1))","v":0},{"$f":"IF(ISERROR(ENESummary!S39/ENESummary!R39-1),0,(ENESummary!S39/ENESummary!R39-1))","v":0},{"$f":"IF(ISERROR(ENESummary!T39/ENESummary!S39-1),0,(ENESummary!T39/ENESummary!S39-1))","v":0},null,{"$f":"IF(ISERROR((ENESummary!N39/ENESummary!H39)^(1/3)-1),0,(ENESummary!N39/ENESummary!H39)^(1/3)-1)","v":0},{"$f":"IF(ISERROR((ENESummary!T39/ENESummary!N39)^(1/3)-1),0,(ENESummary!T39/ENESummary!N39)^(1/3)-1)","v":0},{"$f":"IF(ISERROR((ENESummary!T39/ENESummary!H39)^(1/6)-1),0,(ENESummary!T39/ENESummary!H39)^(1/6)-1)","v":0},null,0]
[null,null,null,null,null,"Sales of scrap, waste, arms and other used current goods",null,{"$f":"IF(ISERROR(ENESummary!J40/ENESummary!H40-1),0,(ENESummary!J40/ENESummary!H40-1))","v":0},{"$f":"IF(ISERROR(ENESummary!L40/ENESummary!J40-1),0,(ENESummary!L40/ENESummary!J40-1))","v":0},{"$f":"IF(ISERROR(ENESummary!N40/ENESummary!L40-1),0,(ENESummary!N40/ENESummary!L40-1))","v":0},{"$f":"IF(ISERROR(ENESummary!R40/ENESummary!N40-1),0,(ENESummary!R40/ENESummary!N40-1))","v":0},{"$f":"IF(ISERROR(ENESummary!S40/ENESummary!R40-1),0,(ENESummary!S40/ENESummary!R40-1))","v":0},{"$f":"IF(ISERROR(ENESummary!T40/ENESummary!S40-1),0,(ENESummary!T40/ENESummary!S40-1))","v":0},null,{"$f":"IF(ISERROR((ENESummary!N40/ENESummary!H40)^(1/3)-1),0,(ENESummary!N40/ENESummary!H40)^(1/3)-1)","v":0},{"$f":"IF(ISERROR((ENESummary!T40/ENESummary!N40)^(1/3)-1),0,(ENESummary!T40/ENESummary!N40)^(1/3)-1)","v":0},{"$f":"IF(ISERROR((ENESummary!T40/ENESummary!H40)^(1/6)-1),0,(ENESummary!T40/ENESummary!H40)^(1/6)-1)","v":0},null,0]
[null,null,null,null,null,"Other non-tax revenue",null,{"$f":"IF(ISERROR(ENESummary!J41/ENESummary!H41-1),0,(ENESummary!J41/ENESummary!H41-1))","v":0},{"$f":"IF(ISERROR(ENESummary!L41/ENESummary!J41-1),0,(ENESummary!L41/ENESummary!J41-1))","v":0},{"$f":"IF(ISERROR(ENESummary!N41/ENESummary!L41-1),0,(ENESummary!N41/ENESummary!L41-1))","v":0},{"$f":"IF(ISERROR(ENESummary!R41/ENESummary!N41-1),0,(ENESummary!R41/ENESummary!N41-1))","v":0},{"$f":"IF(ISERROR(ENESummary!S41/ENESummary!R41-1),0,(ENESummary!S41/ENESummary!R41-1))","v":0},{"$f":"IF(ISERROR(ENESummary!T41/ENESummary!S41-1),0,(ENESummary!T41/ENESummary!S41-1))","v":0},null,{"$f":"IF(ISERROR((ENESummary!N41/ENESummary!H41)^(1/3)-1),0,(ENESummary!N41/ENESummary!H41)^(1/3)-1)","v":0},{"$f":"IF(ISERROR((ENESummary!T41/ENESummary!N41)^(1/3)-1),0,(ENESummary!T41/ENESummary!N41)^(1/3)-1)","v":0},{"$f":"IF(ISERROR((ENESummary!T41/ENESummary!H41)^(1/6)-1),0,(ENESummary!T41/ENESummary!H41)^(1/6)-1)","v":0},null,0]
[null,null,null,null,null,"Transfers received",null,{"$f":"IF(ISERROR(ENESummary!J42/ENESummary!H42-1),0,(ENESummary!J42/ENESummary!H42-1))","v":0},{"$f":"IF(ISERROR(ENESummary!L42/ENESummary!J42-1),0,(ENESummary!L42/ENESummary!J42-1))","v":0},{"$f":"IF(ISERROR(ENESummary!N42/ENESummary!L42-1),0,(ENESummary!N42/ENESummary!L42-1))","v":0},{"$f":"IF(ISERROR(ENESummary!R42/ENESummary!N42-1),0,(ENESummary!R42/ENESummary!N42-1))","v":0},{"$f":"IF(ISERROR(ENESummary!S42/ENESummary!R42-1),0,(ENESummary!S42/ENESummary!R42-1))","v":0},{"$f":"IF(ISERROR(ENESummary!T42/ENESummary!S42-1),0,(ENESummary!T42/ENESummary!S42-1))","v":0},null,{"$f":"IF(ISERROR((ENESummary!N42/ENESummary!H42)^(1/3)-1),0,(ENESummary!N42/ENESummary!H42)^(1/3)-1)","v":0},{"$f":"IF(ISERROR((ENESummary!T42/ENESummary!N42)^(1/3)-1),0,(ENESummary!T42/ENESummary!N42)^(1/3)-1)","v":0},{"$f":"IF(ISERROR((ENESummary!T42/ENESummary!H42)^(1/6)-1),0,(ENESummary!T42/ENESummary!H42)^(1/6)-1)","v":0},null,0]
[null,null,null,null,null,"Total revenue",null,{"$f":"IF(ISERROR(ENESummary!J43/ENESummary!H43-1),0,(ENESummary!J43/ENESummary!H43-1))","v":0},{"$f":"IF(ISERROR(ENESummary!L43/ENESummary!J43-1),0,(ENESummary!L43/ENESummary!J43-1))","v":0},{"$f":"IF(ISERROR(ENESummary!N43/ENESummary!L43-1),0,(ENESummary!N43/ENESummary!L43-1))","v":0},{"$f":"IF(ISERROR(ENESummary!R43/ENESummary!N43-1),0,(ENESummary!R43/ENESummary!N43-1))","v":0},{"$f":"IF(ISERROR(ENESummary!S43/ENESummary!R43-1),0,(ENESummary!S43/ENESummary!R43-1))","v":0},{"$f":"IF(ISERROR(ENESummary!T43/ENESummary!S43-1),0,(ENESummary!T43/ENESummary!S43-1))","v":0},null,{"$f":"IF(ISERROR((ENESummary!N43/ENESummary!H43)^(1/3)-1),0,(ENESummary!N43/ENESummary!H43)^(1/3)-1)","v":0},{"$f":"IF(ISERROR((ENESummary!T43/ENESummary!N43)^(1/3)-1),0,(ENESummary!T43/ENESummary!N43)^(1/3)-1)","v":0},{"$f":"IF(ISERROR((ENESummary!T43/ENESummary!H43)^(1/6)-1),0,(ENESummary!T43/ENESummary!H43)^(1/6)-1)","v":0},null,0]
[null,null,null,null,null,"Expenses",null,null,null,null,null,null,null,null,null,null,null,null,0]
[null,null,null,null,null,"Current expenses",null,{"$f":"IF(ISERROR(ENESummary!J45/ENESummary!H45-1),0,(ENESummary!J45/ENESummary!H45-1))","v":0},{"$f":"IF(ISERROR(ENESummary!L45/ENESummary!J45-1),0,(ENESummary!L45/ENESummary!J45-1))","v":0},{"$f":"IF(ISERROR(ENESummary!N45/ENESummary!L45-1),0,(ENESummary!N45/ENESummary!L45-1))","v":0},{"$f":"IF(ISERROR(ENESummary!R45/ENESummary!N45-1),0,(ENESummary!R45/ENESummary!N45-1))","v":0},{"$f":"IF(ISERROR(ENESummary!S45/ENESummary!R45-1),0,(ENESummary!S45/ENESummary!R45-1))","v":0},{"$f":"IF(ISERROR(ENESummary!T45/ENESummary!S45-1),0,(ENESummary!T45/ENESummary!S45-1))","v":0},null,{"$f":"IF(ISERROR((ENESummary!N45/ENESummary!H45)^(1/3)-1),0,(ENESummary!N45/ENESummary!H45)^(1/3)-1)","v":0},{"$f":"IF(ISERROR((ENESummary!T45/ENESummary!N45)^(1/3)-1),0,(ENESummary!T45/ENESummary!N45)^(1/3)-1)","v":0},{"$f":"IF(ISERROR((ENESummary!T45/ENESummary!H45)^(1/6)-1),0,(ENESummary!T45/ENESummary!H45)^(1/6)-1)","v":0},null,0]
[null,null,null,null,null,"Compensation of employees",null,{"$f":"IF(ISERROR(ENESummary!J46/ENESummary!H46-1),0,(ENESummary!J46/ENESummary!H46-1))","v":0},{"$f":"IF(ISERROR(ENESummary!L46/ENESummary!J46-1),0,(ENESummary!L46/ENESummary!J46-1))","v":0},{"$f":"IF(ISERROR(ENESummary!N46/ENESummary!L46-1),0,(ENESummary!N46/ENESummary!L46-1))","v":0},{"$f":"IF(ISERROR(ENESummary!R46/ENESummary!N46-1),0,(ENESummary!R46/ENESummary!N46-1))","v":0},{"$f":"IF(ISERROR(ENESummary!S46/ENESummary!R46-1),0,(ENESummary!S46/ENESummary!R46-1))","v":0},{"$f":"IF(ISERROR(ENESummary!T46/ENESummary!S46-1),0,(ENESummary!T46/ENESummary!S46-1))","v":0},null,{"$f":"IF(ISERROR((ENESummary!N46/ENESummary!H46)^(1/3)-1),0,(ENESummary!N46/ENESummary!H46)^(1/3)-1)","v":0},{"$f":"IF(ISERROR((ENESummary!T46/ENESummary!N46)^(1/3)-1),0,(ENESummary!T46/ENESummary!N46)^(1/3)-1)","v":0},{"$f":"IF(ISERROR((ENESummary!T46/ENESummary!H46)^(1/6)-1),0,(ENESummary!T46/ENESummary!H46)^(1/6)-1)","v":0},null,0]
[null,null,null,null,null,"Goods and services",null,{"$f":"IF(ISERROR(ENESummary!J47/ENESummary!H47-1),0,(ENESummary!J47/ENESummary!H47-1))","v":0},{"$f":"IF(ISERROR(ENESummary!L47/ENESummary!J47-1),0,(ENESummary!L47/ENESummary!J47-1))","v":0},{"$f":"IF(ISERROR(ENESummary!N47/ENESummary!L47-1),0,(ENESummary!N47/ENESummary!L47-1))","v":0},{"$f":"IF(ISERROR(ENESummary!R47/ENESummary!N47-1),0,(ENESummary!R47/ENESummary!N47-1))","v":0},{"$f":"IF(ISERROR(ENESummary!S47/ENESummary!R47-1),0,(ENESummary!S47/ENESummary!R47-1))","v":0},{"$f":"IF(ISERROR(ENESummary!T47/ENESummary!S47-1),0,(ENESummary!T47/ENESummary!S47-1))","v":0},null,{"$f":"IF(ISERROR((ENESummary!N47/ENESummary!H47)^(1/3)-1),0,(ENESummary!N47/ENESummary!H47)^(1/3)-1)","v":0},{"$f":"IF(ISERROR((ENESummary!T47/ENESummary!N47)^(1/3)-1),0,(ENESummary!T47/ENESummary!N47)^(1/3)-1)","v":0},{"$f":"IF(ISERROR((ENESummary!T47/ENESummary!H47)^(1/6)-1),0,(ENESummary!T47/ENESummary!H47)^(1/6)-1)","v":0},null,0]
[null,null,null,null,null,"Depreciation",null,{"$f":"IF(ISERROR(ENESummary!J48/ENESummary!H48-1),0,(ENESummary!J48/ENESummary!H48-1))","v":0},{"$f":"IF(ISERROR(ENESummary!L48/ENESummary!J48-1),0,(ENESummary!L48/ENESummary!J48-1))","v":0},{"$f":"IF(ISERROR(ENESummary!N48/ENESummary!L48-1),0,(ENESummary!N48/ENESummary!L48-1))","v":0},{"$f":"IF(ISERROR(ENESummary!R48/ENESummary!N48-1),0,(ENESummary!R48/ENESummary!N48-1))","v":0},{"$f":"IF(ISERROR(ENESummary!S48/ENESummary!R48-1),0,(ENESummary!S48/ENESummary!R48-1))","v":0},{"$f":"IF(ISERROR(ENESummary!T48/ENESummary!S48-1),0,(ENESummary!T48/ENESummary!S48-1))","v":0},null,{"$f":"IF(ISERROR((ENESummary!N48/ENESummary!H48)^(1/3)-1),0,(ENESummary!N48/ENESummary!H48)^(1/3)-1)","v":0},{"$f":"IF(ISERROR((ENESummary!T48/ENESummary!N48)^(1/3)-1),0,(ENESummary!T48/ENESummary!N48)^(1/3)-1)","v":0},{"$f":"IF(ISERROR((ENESummary!T48/ENESummary!H48)^(1/6)-1),0,(ENESummary!T48/ENESummary!H48)^(1/6)-1)","v":0},null,0]
[null,null,null,null,null,"Interest, dividends and rent on land",null,{"$f":"IF(ISERROR(ENESummary!J49/ENESummary!H49-1),0,(ENESummary!J49/ENESummary!H49-1))","v":0},{"$f":"IF(ISERROR(ENESummary!L49/ENESummary!J49-1),0,(ENESummary!L49/ENESummary!J49-1))","v":0},{"$f":"IF(ISERROR(ENESummary!N49/ENESummary!L49-1),0,(ENESummary!N49/ENESummary!L49-1))","v":0},{"$f":"IF(ISERROR(ENESummary!R49/ENESummary!N49-1),0,(ENESummary!R49/ENESummary!N49-1))","v":0},{"$f":"IF(ISERROR(ENESummary!S49/ENESummary!R49-1),0,(ENESummary!S49/ENESummary!R49-1))","v":0},{"$f":"IF(ISERROR(ENESummary!T49/ENESummary!S49-1),0,(ENESummary!T49/ENESummary!S49-1))","v":0},null,{"$f":"IF(ISERROR((ENESummary!N49/ENESummary!H49)^(1/3)-1),0,(ENESummary!N49/ENESummary!H49)^(1/3)-1)","v":0},{"$f":"IF(ISERROR((ENESummary!T49/ENESummary!N49)^(1/3)-1),0,(ENESummary!T49/ENESummary!N49)^(1/3)-1)","v":0},{"$f":"IF(ISERROR((ENESummary!T49/ENESummary!H49)^(1/6)-1),0,(ENESummary!T49/ENESummary!H49)^(1/6)-1)","v":0},null,0]
[null,null,null,null,null,"Transfers and subsidies",null,{"$f":"IF(ISERROR(ENESummary!J50/ENESummary!H50-1),0,(ENESummary!J50/ENESummary!H50-1))","v":0},{"$f":"IF(ISERROR(ENESummary!L50/ENESummary!J50-1),0,(ENESummary!L50/ENESummary!J50-1))","v":0},{"$f":"IF(ISERROR(ENESummary!N50/ENESummary!L50-1),0,(ENESummary!N50/ENESummary!L50-1))","v":0},{"$f":"IF(ISERROR(ENESummary!R50/ENESummary!N50-1),0,(ENESummary!R50/ENESummary!N50-1))","v":0},{"$f":"IF(ISERROR(ENESummary!S50/ENESummary!R50-1),0,(ENESummary!S50/ENESummary!R50-1))","v":0},{"$f":"IF(ISERROR(ENESummary!T50/ENESummary!S50-1),0,(ENESummary!T50/ENESummary!S50-1))","v":0},null,{"$f":"IF(ISERROR((ENESummary!N50/ENESummary!H50)^(1/3)-1),0,(ENESummary!N50/ENESummary!H50)^(1/3)-1)","v":0},{"$f":"IF(ISERROR((ENESummary!T50/ENESummary!N50)^(1/3)-1),0,(ENESummary!T50/ENESummary!N50)^(1/3)-1)","v":0},{"$f":"IF(ISERROR((ENESummary!T50/ENESummary!H50)^(1/6)-1),0,(ENESummary!T50/ENESummary!H50)^(1/6)-1)","v":0},null,0]
[null,null,null,null,null,"Total expenses",null,{"$f":"IF(ISERROR(ENESummary!J51/ENESummary!H51-1),0,(ENESummary!J51/ENESummary!H51-1))","v":0},{"$f":"IF(ISERROR(ENESummary!L51/ENESummary!J51-1),0,(ENESummary!L51/ENESummary!J51-1))","v":0},{"$f":"IF(ISERROR(ENESummary!N51/ENESummary!L51-1),0,(ENESummary!N51/ENESummary!L51-1))","v":0},{"$f":"IF(ISERROR(ENESummary!R51/ENESummary!N51-1),0,(ENESummary!R51/ENESummary!N51-1))","v":0},{"$f":"IF(ISERROR(ENESummary!S51/ENESummary!R51-1),0,(ENESummary!S51/ENESummary!R51-1))","v":0},{"$f":"IF(ISERROR(ENESummary!T51/ENESummary!S51-1),0,(ENESummary!T51/ENESummary!S51-1))","v":0},null,{"$f":"IF(ISERROR((ENESummary!N51/ENESummary!H51)^(1/3)-1),0,(ENESummary!N51/ENESummary!H51)^(1/3)-1)","v":0},{"$f":"IF(ISERROR((ENESummary!T51/ENESummary!N51)^(1/3)-1),0,(ENESummary!T51/ENESummary!N51)^(1/3)-1)","v":0},{"$f":"IF(ISERROR((ENESummary!T51/ENESummary!H51)^(1/6)-1),0,(ENESummary!T51/ENESummary!H51)^(1/6)-1)","v":0},null,0]
[]
[null,null,null,null,null,"Year on Year Growth rates",null,null,null,null,null,null,null,null,"Average annual growth rates"]
[null,null,null,null,null,"Cash flow data",null,{"$f":"MyYearM2","v":"2020/21"},{"$f":"MyYearM1","v":"2021/22"},{"$f":"MyYear0","v":"2022/23"},{"$f":"MyYearP1","v":"2023/24"},{"$f":"MyYearP2","v":"2024/25"},{"$f":"MyYearP3","v":"2025/26"},null,{"$f":"MyYearM3& \" - \" &MyYear0","v":"2019/20 - 2022/23"},{"$f":"MyYear0&\" - \"&MyYearP3","v":"2022/23 - 2025/26"},{"$f":"MyYearM3&\" - \"&MyYearP3","v":"2019/20 - 2025/26"},null,0]
[null,null,null,null,null,{"$f":"ENESummary!BW6","v":"R thousand"},null,null,null,null,null,null,null,null,null,null,null,null,0]
[null,null,null,null,null,"Cash receipts from stakeholders",null,{"$f":"IF(ISERROR(ENESummary!J72/ENESummary!H72-1),0,(ENESummary!J72/ENESummary!H72-1))","v":0},{"$f":"IF(ISERROR(ENESummary!L72/ENESummary!J72-1),0,(ENESummary!L72/ENESummary!J72-1))","v":0},{"$f":"IF(ISERROR(ENESummary!N72/ENESummary!L72-1),0,(ENESummary!N72/ENESummary!L72-1))","v":0},{"$f":"IF(ISERROR(ENESummary!R72/ENESummary!N72-1),0,(ENESummary!R72/ENESummary!N72-1))","v":0},{"$f":"IF(ISERROR(ENESummary!S72/ENESummary!R72-1),0,(ENESummary!S72/ENESummary!R72-1))","v":0},{"$f":"IF(ISERROR(ENESummary!T72/ENESummary!S72-1),0,(ENESummary!T72/ENESummary!S72-1))","v":0},null,{"$f":"IF(ISERROR((ENESummary!N59/ENESummary!H59)^(1/3)-1),0,(ENESummary!N59/ENESummary!H59)^(1/3)-1)","v":0},{"$f":"IF(ISERROR((ENESummary!T59/ENESummary!N59)^(1/3)-1),0,(ENESummary!T59/ENESummary!N59)^(1/3)-1)","v":0},{"$f":"IF(ISERROR((ENESummary!T59/ENESummary!H59)^(1/3)-1),0,(ENESummary!T59/ENESummary!H59)^(1/3)-1)","v":0},null,0]
[null,null,null,null,null,"Tax receipts",null,{"$f":"IF(ISERROR(ENESummary!J60/ENESummary!H60-1),0,(ENESummary!J60/ENESummary!H60-1))","v":0},{"$f":"IF(ISERROR(ENESummary!L60/ENESummary!J60-1),0,(ENESummary!L60/ENESummary!J60-1))","v":0},{"$f":"IF(ISERROR(ENESummary!N60/ENESummary!L60-1),0,(ENESummary!N60/ENESummary!L60-1))","v":0},{"$f":"IF(ISERROR(ENESummary!R60/ENESummary!N60-1),0,(ENESummary!R60/ENESummary!N60-1))","v":0},{"$f":"IF(ISERROR(ENESummary!S60/ENESummary!R60-1),0,(ENESummary!S60/ENESummary!R60-1))","v":0},{"$f":"IF(ISERROR(ENESummary!T60/ENESummary!S60-1),0,(ENESummary!T60/ENESummary!S60-1))","v":0},null,{"$f":"IF(ISERROR((ENESummary!N60/ENESummary!H60)^(1/3)-1),0,(ENESummary!N60/ENESummary!H60)^(1/3)-1)","v":0},{"$f":"IF(ISERROR((ENESummary!T60/ENESummary!N60)^(1/3)-1),0,(ENESummary!T60/ENESummary!N60)^(1/3)-1)","v":0},{"$f":"IF(ISERROR((ENESummary!T60/ENESummary!H60)^(1/3)-1),0,(ENESummary!T60/ENESummary!H60)^(1/3)-1)","v":0},null,0]
[null,null,null,null,null,"Non-tax revenue",null,{"$f":"IF(ISERROR(ENESummary!J61/ENESummary!H61-1),0,(ENESummary!J61/ENESummary!H61-1))","v":0},{"$f":"IF(ISERROR(ENESummary!L61/ENESummary!J61-1),0,(ENESummary!L61/ENESummary!J61-1))","v":0},{"$f":"IF(ISERROR(ENESummary!N61/ENESummary!L61-1),0,(ENESummary!N61/ENESummary!L61-1))","v":0},{"$f":"IF(ISERROR(ENESummary!R61/ENESummary!N61-1),0,(ENESummary!R61/ENESummary!N61-1))","v":0},{"$f":"IF(ISERROR(ENESummary!S61/ENESummary!R61-1),0,(ENESummary!S61/ENESummary!R61-1))","v":0},{"$f":"IF(ISERROR(ENESummary!T61/ENESummary!S61-1),0,(ENESummary!T61/ENESummary!S61-1))","v":0},null,{"$f":"IF(ISERROR((ENESummary!N61/ENESummary!H61)^(1/3)-1),0,(ENESummary!N61/ENESummary!H61)^(1/3)-1)","v":0},{"$f":"IF(ISERROR((ENESummary!T61/ENESummary!N61)^(1/3)-1),0,(ENESummary!T61/ENESummary!N61)^(1/3)-1)","v":0},{"$f":"IF(ISERROR((ENESummary!T61/ENESummary!H61)^(1/3)-1),0,(ENESummary!T61/ENESummary!H61)^(1/3)-1)","v":0},null,0]
[null,null,null,null,null,"Sales of goods and services other than capital assets",null,{"$f":"IF(ISERROR(ENESummary!J62/ENESummary!H62-1),0,(ENESummary!J62/ENESummary!H62-1))","v":0},{"$f":"IF(ISERROR(ENESummary!L62/ENESummary!J62-1),0,(ENESummary!L62/ENESummary!J62-1))","v":0},{"$f":"IF(ISERROR(ENESummary!N62/ENESummary!L62-1),0,(ENESummary!N62/ENESummary!L62-1))","v":0},{"$f":"IF(ISERROR(ENESummary!R62/ENESummary!N62-1),0,(ENESummary!R62/ENESummary!N62-1))","v":0},{"$f":"IF(ISERROR(ENESummary!S62/ENESummary!R62-1),0,(ENESummary!S62/ENESummary!R62-1))","v":0},{"$f":"IF(ISERROR(ENESummary!T62/ENESummary!S62-1),0,(ENESummary!T62/ENESummary!S62-1))","v":0},null,{"$f":"IF(ISERROR((ENESummary!N62/ENESummary!H62)^(1/3)-1),0,(ENESummary!N62/ENESummary!H62)^(1/3)-1)","v":0},{"$f":"IF(ISERROR((ENESummary!T62/ENESummary!N62)^(1/3)-1),0,(ENESummary!T62/ENESummary!N62)^(1/3)-1)","v":0},{"$f":"IF(ISERROR((ENESummary!T62/ENESummary!H62)^(1/3)-1),0,(ENESummary!T62/ENESummary!H62)^(1/3)-1)","v":0},null,0]
[null,null,null,null,null,"Sales of goods and services produced by entity",null,{"$f":"IF(ISERROR(ENESummary!J63/ENESummary!H63-1),0,(ENESummary!J63/ENESummary!H63-1))","v":0},{"$f":"IF(ISERROR(ENESummary!L63/ENESummary!J63-1),0,(ENESummary!L63/ENESummary!J63-1))","v":0},{"$f":"IF(ISERROR(ENESummary!N63/ENESummary!L63-1),0,(ENESummary!N63/ENESummary!L63-1))","v":0},{"$f":"IF(ISERROR(ENESummary!R63/ENESummary!N63-1),0,(ENESummary!R63/ENESummary!N63-1))","v":0},{"$f":"IF(ISERROR(ENESummary!S63/ENESummary!R63-1),0,(ENESummary!S63/ENESummary!R63-1))","v":0},{"$f":"IF(ISERROR(ENESummary!T63/ENESummary!S63-1),0,(ENESummary!T63/ENESummary!S63-1))","v":0},null,{"$f":"IF(ISERROR((ENESummary!N63/ENESummary!H63)^(1/3)-1),0,(ENESummary!N63/ENESummary!H63)^(1/3)-1)","v":0},{"$f":"IF(ISERROR((ENESummary!T63/ENESummary!N63)^(1/3)-1),0,(ENESummary!T63/ENESummary!N63)^(1/3)-1)","v":0},{"$f":"IF(ISERROR((ENESummary!T63/ENESummary!H63)^(1/3)-1),0,(ENESummary!T63/ENESummary!H63)^(1/3)-1)","v":0},null,0]
[null,null,null,null,null,"of which:",null,null,null,null,null,null,null,null,null,null,null,null,0]
[null,null,null,null,null,"Administrative fees",null,{"$f":"IF(ISERROR(ENESummary!J65/ENESummary!H65-1),0,(ENESummary!J65/ENESummary!H65-1))","v":0},{"$f":"IF(ISERROR(ENESummary!L65/ENESummary!J65-1),0,(ENESummary!L65/ENESummary!J65-1))","v":0},{"$f":"IF(ISERROR(ENESummary!N65/ENESummary!L65-1),0,(ENESummary!N65/ENESummary!L65-1))","v":0},{"$f":"IF(ISERROR(ENESummary!R65/ENESummary!N65-1),0,(ENESummary!R65/ENESummary!N65-1))","v":0},{"$f":"IF(ISERROR(ENESummary!S65/ENESummary!R65-1),0,(ENESummary!S65/ENESummary!R65-1))","v":0},{"$f":"IF(ISERROR(ENESummary!T65/ENESummary!S65-1),0,(ENESummary!T65/ENESummary!S65-1))","v":0},null,{"$f":"IF(ISERROR((ENESummary!N65/ENESummary!H65)^(1/3)-1),0,(ENESummary!N65/ENESummary!H65)^(1/3)-1)","v":0},{"$f":"IF(ISERROR((ENESummary!T65/ENESummary!N65)^(1/3)-1),0,(ENESummary!T65/ENESummary!N65)^(1/3)-1)","v":0},{"$f":"IF(ISERROR((ENESummary!T65/ENESummary!H65)^(1/3)-1),0,(ENESummary!T65/ENESummary!H65)^(1/3)-1)","v":0},null,0]
[null,null,null,null,null,"Sales by market establishment",null,{"$f":"IF(ISERROR(ENESummary!J66/ENESummary!H66-1),0,(ENESummary!J66/ENESummary!H66-1))","v":0},{"$f":"IF(ISERROR(ENESummary!L66/ENESummary!J66-1),0,(ENESummary!L66/ENESummary!J66-1))","v":0},{"$f":"IF(ISERROR(ENESummary!N66/ENESummary!L66-1),0,(ENESummary!N66/ENESummary!L66-1))","v":0},{"$f":"IF(ISERROR(ENESummary!R66/ENESummary!N66-1),0,(ENESummary!R66/ENESummary!N66-1))","v":0},{"$f":"IF(ISERROR(ENESummary!S66/ENESummary!R66-1),0,(ENESummary!S66/ENESummary!R66-1))","v":0},{"$f":"IF(ISERROR(ENESummary!T66/ENESummary!S66-1),0,(ENESummary!T66/ENESummary!S66-1))","v":0},null,{"$f":"IF(ISERROR((ENESummary!N66/ENESummary!H66)^(1/3)-1),0,(ENESummary!N66/ENESummary!H66)^(1/3)-1)","v":0},{"$f":"IF(ISERROR((ENESummary!T66/ENESummary!N66)^(1/3)-1),0,(ENESummary!T66/ENESummary!N66)^(1/3)-1)","v":0},{"$f":"IF(ISERROR((ENESummary!T66/ENESummary!H66)^(1/3)-1),0,(ENESummary!T66/ENESummary!H66)^(1/3)-1)","v":0},null,0]
[null,null,null,null,null,"Other sales",null,{"$f":"IF(ISERROR(ENESummary!J67/ENESummary!H67-1),0,(ENESummary!J67/ENESummary!H67-1))","v":0},{"$f":"IF(ISERROR(ENESummary!L67/ENESummary!J67-1),0,(ENESummary!L67/ENESummary!J67-1))","v":0},{"$f":"IF(ISERROR(ENESummary!N67/ENESummary!L67-1),0,(ENESummary!N67/ENESummary!L67-1))","v":0},{"$f":"IF(ISERROR(ENESummary!R67/ENESummary!N67-1),0,(ENESummary!R67/ENESummary!N67-1))","v":0},{"$f":"IF(ISERROR(ENESummary!S67/ENESummary!R67-1),0,(ENESummary!S67/ENESummary!R67-1))","v":0},{"$f":"IF(ISERROR(ENESummary!T67/ENESummary!S67-1),0,(ENESummary!T67/ENESummary!S67-1))","v":0},null,{"$f":"IF(ISERROR((ENESummary!N67/ENESummary!H67)^(1/3)-1),0,(ENESummary!N67/ENESummary!H67)^(1/3)-1)","v":0},{"$f":"IF(ISERROR((ENESummary!T67/ENESummary!N67)^(1/3)-1),0,(ENESummary!T67/ENESummary!N67)^(1/3)-1)","v":0},{"$f":"IF(ISERROR((ENESummary!T67/ENESummary!H67)^(1/3)-1),0,(ENESummary!T67/ENESummary!H67)^(1/3)-1)","v":0},null,0]
[null,null,null,null,null,"Sales of scrap, waste, arms and other used current goods",null,{"$f":"IF(ISERROR(ENESummary!J68/ENESummary!H68-1),0,(ENESummary!J68/ENESummary!H68-1))","v":0},{"$f":"IF(ISERROR(ENESummary!L68/ENESummary!J68-1),0,(ENESummary!L68/ENESummary!J68-1))","v":0},{"$f":"IF(ISERROR(ENESummary!N68/ENESummary!L68-1),0,(ENESummary!N68/ENESummary!L68-1))","v":0},{"$f":"IF(ISERROR(ENESummary!R68/ENESummary!N68-1),0,(ENESummary!R68/ENESummary!N68-1))","v":0},{"$f":"IF(ISERROR(ENESummary!S68/ENESummary!R68-1),0,(ENESummary!S68/ENESummary!R68-1))","v":0},{"$f":"IF(ISERROR(ENESummary!T68/ENESummary!S68-1),0,(ENESummary!T68/ENESummary!S68-1))","v":0},null,{"$f":"IF(ISERROR((ENESummary!N68/ENESummary!H68)^(1/3)-1),0,(ENESummary!N68/ENESummary!H68)^(1/3)-1)","v":0},{"$f":"IF(ISERROR((ENESummary!T68/ENESummary!N68)^(1/3)-1),0,(ENESummary!T68/ENESummary!N68)^(1/3)-1)","v":0},{"$f":"IF(ISERROR((ENESummary!T68/ENESummary!H68)^(1/3)-1),0,(ENESummary!T68/ENESummary!H68)^(1/3)-1)","v":0},null,0]
[null,null,null,null,null,"Other non-tax revenue",null,{"$f":"IF(ISERROR(ENESummary!J69/ENESummary!H69-1),0,(ENESummary!J69/ENESummary!H69-1))","v":0},{"$f":"IF(ISERROR(ENESummary!L69/ENESummary!J69-1),0,(ENESummary!L69/ENESummary!J69-1))","v":0},{"$f":"IF(ISERROR(ENESummary!N69/ENESummary!L69-1),0,(ENESummary!N69/ENESummary!L69-1))","v":0},{"$f":"IF(ISERROR(ENESummary!R69/ENESummary!N69-1),0,(ENESummary!R69/ENESummary!N69-1))","v":0},{"$f":"IF(ISERROR(ENESummary!S69/ENESummary!R69-1),0,(ENESummary!S69/ENESummary!R69-1))","v":0},{"$f":"IF(ISERROR(ENESummary!T69/ENESummary!S69-1),0,(ENESummary!T69/ENESummary!S69-1))","v":0},null,{"$f":"IF(ISERROR((ENESummary!N69/ENESummary!H69)^(1/3)-1),0,(ENESummary!N69/ENESummary!H69)^(1/3)-1)","v":0},{"$f":"IF(ISERROR((ENESummary!T69/ENESummary!N69)^(1/3)-1),0,(ENESummary!T69/ENESummary!N69)^(1/3)-1)","v":0},{"$f":"IF(ISERROR((ENESummary!T69/ENESummary!H69)^(1/3)-1),0,(ENESummary!T69/ENESummary!H69)^(1/3)-1)","v":0},null,0]
[null,null,null,null,null,"Transfers received",null,{"$f":"IF(ISERROR(ENESummary!J70/ENESummary!H70-1),0,(ENESummary!J70/ENESummary!H70-1))","v":0},{"$f":"IF(ISERROR(ENESummary!L70/ENESummary!J70-1),0,(ENESummary!L70/ENESummary!J70-1))","v":0},{"$f":"IF(ISERROR(ENESummary!N70/ENESummary!L70-1),0,(ENESummary!N70/ENESummary!L70-1))","v":0},{"$f":"IF(ISERROR(ENESummary!R70/ENESummary!N70-1),0,(ENESummary!R70/ENESummary!N70-1))","v":0},{"$f":"IF(ISERROR(ENESummary!S70/ENESummary!R70-1),0,(ENESummary!S70/ENESummary!R70-1))","v":0},{"$f":"IF(ISERROR(ENESummary!T70/ENESummary!S70-1),0,(ENESummary!T70/ENESummary!S70-1))","v":0},null,{"$f":"IF(ISERROR((ENESummary!N70/ENESummary!H70)^(1/3)-1),0,(ENESummary!N70/ENESummary!H70)^(1/3)-1)","v":0},{"$f":"IF(ISERROR((ENESummary!T70/ENESummary!N70)^(1/3)-1),0,(ENESummary!T70/ENESummary!N70)^(1/3)-1)","v":0},{"$f":"IF(ISERROR((ENESummary!T70/ENESummary!H70)^(1/3)-1),0,(ENESummary!T70/ENESummary!H70)^(1/3)-1)","v":0},null,0]
[null,null,null,null,null,"Financial transactions in assets and liabilities",null,{"$f":"IF(ISERROR(ENESummary!J71/ENESummary!H71-1),0,(ENESummary!J71/ENESummary!H71-1))","v":0},{"$f":"IF(ISERROR(ENESummary!L71/ENESummary!J71-1),0,(ENESummary!L71/ENESummary!J71-1))","v":0},{"$f":"IF(ISERROR(ENESummary!N71/ENESummary!L71-1),0,(ENESummary!N71/ENESummary!L71-1))","v":0},{"$f":"IF(ISERROR(ENESummary!R71/ENESummary!N71-1),0,(ENESummary!R71/ENESummary!N71-1))","v":0},{"$f":"IF(ISERROR(ENESummary!S71/ENESummary!R71-1),0,(ENESummary!S71/ENESummary!R71-1))","v":0},{"$f":"IF(ISERROR(ENESummary!T71/ENESummary!S71-1),0,(ENESummary!T71/ENESummary!S71-1))","v":0},null,{"$f":"IF(ISERROR((ENESummary!N71/ENESummary!H71)^(1/3)-1),0,(ENESummary!N71/ENESummary!H71)^(1/3)-1)","v":0},{"$f":"IF(ISERROR((ENESummary!T71/ENESummary!N71)^(1/3)-1),0,(ENESummary!T71/ENESummary!N71)^(1/3)-1)","v":0},{"$f":"IF(ISERROR((ENESummary!T71/ENESummary!H71)^(1/3)-1),0,(ENESummary!T71/ENESummary!H71)^(1/3)-1)","v":0},null,0]
[null,null,null,null,null,"Cash paid to stakeholders",null,{"$f":"IF(ISERROR(ENESummary!J80/ENESummary!H80-1),0,(ENESummary!J80/ENESummary!H80-1))","v":0},{"$f":"IF(ISERROR(ENESummary!L80/ENESummary!J80-1),0,(ENESummary!L80/ENESummary!J80-1))","v":0},{"$f":"IF(ISERROR(ENESummary!N80/ENESummary!L80-1),0,(ENESummary!N80/ENESummary!L80-1))","v":0},{"$f":"IF(ISERROR(ENESummary!R80/ENESummary!N80-1),0,(ENESummary!R80/ENESummary!N80-1))","v":0},{"$f":"IF(ISERROR(ENESummary!S80/ENESummary!R80-1),0,(ENESummary!S80/ENESummary!R80-1))","v":0},{"$f":"IF(ISERROR(ENESummary!T80/ENESummary!S80-1),0,(ENESummary!T80/ENESummary!S80-1))","v":0},null,{"$f":"IF(ISERROR((ENESummary!N80/ENESummary!H80)^(1/3)-1),0,(ENESummary!N80/ENESummary!H80)^(1/3)-1)","v":0},{"$f":"IF(ISERROR((ENESummary!T80/ENESummary!N80)^(1/3)-1),0,(ENESummary!T80/ENESummary!N80)^(1/3)-1)","v":0},{"$f":"IF(ISERROR((ENESummary!T80/ENESummary!H80)^(1/3)-1),0,(ENESummary!T80/ENESummary!H80)^(1/3)-1)","v":0},null,0]
[null,null,null,null,null,"Current payments",null,{"$f":"IF(ISERROR(ENESummary!J74/ENESummary!H74-1),0,(ENESummary!J74/ENESummary!H74-1))","v":0},{"$f":"IF(ISERROR(ENESummary!L74/ENESummary!J74-1),0,(ENESummary!L74/ENESummary!J74-1))","v":0},{"$f":"IF(ISERROR(ENESummary!N74/ENESummary!L74-1),0,(ENESummary!N74/ENESummary!L74-1))","v":0},{"$f":"IF(ISERROR(ENESummary!R74/ENESummary!N74-1),0,(ENESummary!R74/ENESummary!N74-1))","v":0},{"$f":"IF(ISERROR(ENESummary!S74/ENESummary!R74-1),0,(ENESummary!S74/ENESummary!R74-1))","v":0},{"$f":"IF(ISERROR(ENESummary!T74/ENESummary!S74-1),0,(ENESummary!T74/ENESummary!S74-1))","v":0},null,{"$f":"IF(ISERROR((ENESummary!N74/ENESummary!H74)^(1/3)-1),0,(ENESummary!N74/ENESummary!H74)^(1/3)-1)","v":0},{"$f":"IF(ISERROR((ENESummary!T74/ENESummary!N74)^(1/3)-1),0,(ENESummary!T74/ENESummary!N74)^(1/3)-1)","v":0},{"$f":"IF(ISERROR((ENESummary!T74/ENESummary!H74)^(1/3)-1),0,(ENESummary!T74/ENESummary!H74)^(1/3)-1)","v":0},null,0]
[null,null,null,null,null,"Compensation of employees",null,{"$f":"IF(ISERROR(ENESummary!J75/ENESummary!H75-1),0,(ENESummary!J75/ENESummary!H75-1))","v":0},{"$f":"IF(ISERROR(ENESummary!L75/ENESummary!J75-1),0,(ENESummary!L75/ENESummary!J75-1))","v":0},{"$f":"IF(ISERROR(ENESummary!N75/ENESummary!L75-1),0,(ENESummary!N75/ENESummary!L75-1))","v":0},{"$f":"IF(ISERROR(ENESummary!R75/ENESummary!N75-1),0,(ENESummary!R75/ENESummary!N75-1))","v":0},{"$f":"IF(ISERROR(ENESummary!S75/ENESummary!R75-1),0,(ENESummary!S75/ENESummary!R75-1))","v":0},{"$f":"IF(ISERROR(ENESummary!T75/ENESummary!S75-1),0,(ENESummary!T75/ENESummary!S75-1))","v":0},null,{"$f":"IF(ISERROR((ENESummary!N75/ENESummary!H75)^(1/3)-1),0,(ENESummary!N75/ENESummary!H75)^(1/3)-1)","v":0},{"$f":"IF(ISERROR((ENESummary!T75/ENESummary!N75)^(1/3)-1),0,(ENESummary!T75/ENESummary!N75)^(1/3)-1)","v":0},{"$f":"IF(ISERROR((ENESummary!T75/ENESummary!H75)^(1/3)-1),0,(ENESummary!T75/ENESummary!H75)^(1/3)-1)","v":0},null,0]
[null,null,null,null,null,"Goods and services",null,{"$f":"IF(ISERROR(ENESummary!J76/ENESummary!H76-1),0,(ENESummary!J76/ENESummary!H76-1))","v":0},{"$f":"IF(ISERROR(ENESummary!L76/ENESummary!J76-1),0,(ENESummary!L76/ENESummary!J76-1))","v":0},{"$f":"IF(ISERROR(ENESummary!N76/ENESummary!L76-1),0,(ENESummary!N76/ENESummary!L76-1))","v":0},{"$f":"IF(ISERROR(ENESummary!R76/ENESummary!N76-1),0,(ENESummary!R76/ENESummary!N76-1))","v":0},{"$f":"IF(ISERROR(ENESummary!S76/ENESummary!R76-1),0,(ENESummary!S76/ENESummary!R76-1))","v":0},{"$f":"IF(ISERROR(ENESummary!T76/ENESummary!S76-1),0,(ENESummary!T76/ENESummary!S76-1))","v":0},null,{"$f":"IF(ISERROR((ENESummary!N76/ENESummary!H76)^(1/3)-1),0,(ENESummary!N76/ENESummary!H76)^(1/3)-1)","v":0},{"$f":"IF(ISERROR((ENESummary!T76/ENESummary!N76)^(1/3)-1),0,(ENESummary!T76/ENESummary!N76)^(1/3)-1)","v":0},{"$f":"IF(ISERROR((ENESummary!T76/ENESummary!H76)^(1/3)-1),0,(ENESummary!T76/ENESummary!H76)^(1/3)-1)","v":0},null,0]
[null,null,null,null,null,"Interest and rent on land",null,{"$f":"IF(ISERROR(ENESummary!J77/ENESummary!H77-1),0,(ENESummary!J77/ENESummary!H77-1))","v":0},{"$f":"IF(ISERROR(ENESummary!L77/ENESummary!J77-1),0,(ENESummary!L77/ENESummary!J77-1))","v":0},{"$f":"IF(ISERROR(ENESummary!N77/ENESummary!L77-1),0,(ENESummary!N77/ENESummary!L77-1))","v":0},{"$f":"IF(ISERROR(ENESummary!R77/ENESummary!N77-1),0,(ENESummary!R77/ENESummary!N77-1))","v":0},{"$f":"IF(ISERROR(ENESummary!S77/ENESummary!R77-1),0,(ENESummary!S77/ENESummary!R77-1))","v":0},{"$f":"IF(ISERROR(ENESummary!T77/ENESummary!S77-1),0,(ENESummary!T77/ENESummary!S77-1))","v":0},null,{"$f":"IF(ISERROR((ENESummary!N77/ENESummary!H77)^(1/3)-1),0,(ENESummary!N77/ENESummary!H77)^(1/3)-1)","v":0},{"$f":"IF(ISERROR((ENESummary!T77/ENESummary!N77)^(1/3)-1),0,(ENESummary!T77/ENESummary!N77)^(1/3)-1)","v":0},{"$f":"IF(ISERROR((ENESummary!T77/ENESummary!H77)^(1/3)-1),0,(ENESummary!T77/ENESummary!H77)^(1/3)-1)","v":0},null,0]
[null,null,null,null,null,"Transfers and subsidies",null,{"$f":"IF(ISERROR(ENESummary!J78/ENESummary!H78-1),0,(ENESummary!J78/ENESummary!H78-1))","v":0},{"$f":"IF(ISERROR(ENESummary!L78/ENESummary!J78-1),0,(ENESummary!L78/ENESummary!J78-1))","v":0},{"$f":"IF(ISERROR(ENESummary!N78/ENESummary!L78-1),0,(ENESummary!N78/ENESummary!L78-1))","v":0},{"$f":"IF(ISERROR(ENESummary!R78/ENESummary!N78-1),0,(ENESummary!R78/ENESummary!N78-1))","v":0},{"$f":"IF(ISERROR(ENESummary!S78/ENESummary!R78-1),0,(ENESummary!S78/ENESummary!R78-1))","v":0},{"$f":"IF(ISERROR(ENESummary!T78/ENESummary!S78-1),0,(ENESummary!T78/ENESummary!S78-1))","v":0},null,{"$f":"IF(ISERROR((ENESummary!N78/ENESummary!H78)^(1/3)-1),0,(ENESummary!N78/ENESummary!H78)^(1/3)-1)","v":0},{"$f":"IF(ISERROR((ENESummary!T78/ENESummary!N78)^(1/3)-1),0,(ENESummary!T78/ENESummary!N78)^(1/3)-1)","v":0},{"$f":"IF(ISERROR((ENESummary!T78/ENESummary!H78)^(1/3)-1),0,(ENESummary!T78/ENESummary!H78)^(1/3)-1)","v":0},null,0]
[null,null,null,null,null,"Payments for financial assets",null,{"$f":"IF(ISERROR(ENESummary!J79/ENESummary!H79-1),0,(ENESummary!J79/ENESummary!H79-1))","v":0},{"$f":"IF(ISERROR(ENESummary!L79/ENESummary!J79-1),0,(ENESummary!L79/ENESummary!J79-1))","v":0},{"$f":"IF(ISERROR(ENESummary!N79/ENESummary!L79-1),0,(ENESummary!N79/ENESummary!L79-1))","v":0},{"$f":"IF(ISERROR(ENESummary!R79/ENESummary!N79-1),0,(ENESummary!R79/ENESummary!N79-1))","v":0},{"$f":"IF(ISERROR(ENESummary!S79/ENESummary!R79-1),0,(ENESummary!S79/ENESummary!R79-1))","v":0},{"$f":"IF(ISERROR(ENESummary!T79/ENESummary!S79-1),0,(ENESummary!T79/ENESummary!S79-1))","v":0},null,{"$f":"IF(ISERROR((ENESummary!N79/ENESummary!H79)^(1/3)-1),0,(ENESummary!N79/ENESummary!H79)^(1/3)-1)","v":0},{"$f":"IF(ISERROR((ENESummary!T79/ENESummary!N79)^(1/3)-1),0,(ENESummary!T79/ENESummary!N79)^(1/3)-1)","v":0},{"$f":"IF(ISERROR((ENESummary!T79/ENESummary!H79)^(1/3)-1),0,(ENESummary!T79/ENESummary!H79)^(1/3)-1)","v":0},null,0]
[null,null,null,null,null,"Cash flow from operating activities",null,{"$f":"IF(ISERROR(ENESummary!J58/ENESummary!H58-1),0,(ENESummary!J58/ENESummary!H58-1))","v":0},{"$f":"IF(ISERROR(ENESummary!L58/ENESummary!J58-1),0,(ENESummary!L58/ENESummary!J58-1))","v":0},{"$f":"IF(ISERROR(ENESummary!N58/ENESummary!L58-1),0,(ENESummary!N58/ENESummary!L58-1))","v":0},{"$f":"IF(ISERROR(ENESummary!R58/ENESummary!N58-1),0,(ENESummary!R58/ENESummary!N58-1))","v":0},{"$f":"IF(ISERROR(ENESummary!S58/ENESummary!R58-1),0,(ENESummary!S58/ENESummary!R58-1))","v":0},{"$f":"IF(ISERROR(ENESummary!T58/ENESummary!S58-1),0,(ENESummary!T58/ENESummary!S58-1))","v":0},null,{"$f":"IF(ISERROR((ENESummary!N58/ENESummary!H58)^(1/3)-1),0,(ENESummary!N58/ENESummary!H58)^(1/3)-1)","v":0},{"$f":"IF(ISERROR((ENESummary!T58/ENESummary!N58)^(1/3)-1),0,(ENESummary!T58/ENESummary!N58)^(1/3)-1)","v":0},{"$f":"IF(ISERROR((ENESummary!T58/ENESummary!H58)^(1/3)-1),0,(ENESummary!T58/ENESummary!H58)^(1/3)-1)","v":0},null,0]
[null,null,null,null,null,"Cash flow from advancing activities (Financial Institutions only)",null,{"$f":"IF(ISERROR(ENESummary!J81/ENESummary!H81-1),0,(ENESummary!J81/ENESummary!H81-1))","v":0},{"$f":"IF(ISERROR(ENESummary!L81/ENESummary!J81-1),0,(ENESummary!L81/ENESummary!J81-1))","v":0},{"$f":"IF(ISERROR(ENESummary!N81/ENESummary!L81-1),0,(ENESummary!N81/ENESummary!L81-1))","v":0},{"$f":"IF(ISERROR(ENESummary!R81/ENESummary!N81-1),0,(ENESummary!R81/ENESummary!N81-1))","v":0},{"$f":"IF(ISERROR(ENESummary!S81/ENESummary!R81-1),0,(ENESummary!S81/ENESummary!R81-1))","v":0},{"$f":"IF(ISERROR(ENESummary!T81/ENESummary!S81-1),0,(ENESummary!T81/ENESummary!S81-1))","v":0},null,{"$f":"IF(ISERROR((ENESummary!N81/ENESummary!H81)^(1/3)-1),0,(ENESummary!N81/ENESummary!H81)^(1/3)-1)","v":0},{"$f":"IF(ISERROR((ENESummary!T81/ENESummary!N81)^(1/3)-1),0,(ENESummary!T81/ENESummary!N81)^(1/3)-1)","v":0},{"$f":"IF(ISERROR((ENESummary!T81/ENESummary!H81)^(1/3)-1),0,(ENESummary!T81/ENESummary!H81)^(1/3)-1)","v":0},null,0]
[null,null,null,null,null,"Disbursements and other payments",null,{"$f":"IF(ISERROR(ENESummary!J82/ENESummary!H82-1),0,(ENESummary!J82/ENESummary!H82-1))","v":0},{"$f":"IF(ISERROR(ENESummary!L82/ENESummary!J82-1),0,(ENESummary!L82/ENESummary!J82-1))","v":0},{"$f":"IF(ISERROR(ENESummary!N82/ENESummary!L82-1),0,(ENESummary!N82/ENESummary!L82-1))","v":0},{"$f":"IF(ISERROR(ENESummary!R82/ENESummary!N82-1),0,(ENESummary!R82/ENESummary!N82-1))","v":0},{"$f":"IF(ISERROR(ENESummary!S82/ENESummary!R82-1),0,(ENESummary!S82/ENESummary!R82-1))","v":0},{"$f":"IF(ISERROR(ENESummary!T82/ENESummary!S82-1),0,(ENESummary!T82/ENESummary!S82-1))","v":0},null,{"$f":"IF(ISERROR((ENESummary!N82/ENESummary!H82)^(1/3)-1),0,(ENESummary!N82/ENESummary!H82)^(1/3)-1)","v":0},{"$f":"IF(ISERROR((ENESummary!T82/ENESummary!N82)^(1/3)-1),0,(ENESummary!T82/ENESummary!N82)^(1/3)-1)","v":0},{"$f":"IF(ISERROR((ENESummary!T82/ENESummary!H82)^(1/3)-1),0,(ENESummary!T82/ENESummary!H82)^(1/3)-1)","v":0},null,0]
[null,null,null,null,null,"Repayments and other receipts",null,{"$f":"IF(ISERROR(ENESummary!J83/ENESummary!H83-1),0,(ENESummary!J83/ENESummary!H83-1))","v":0},{"$f":"IF(ISERROR(ENESummary!L83/ENESummary!J83-1),0,(ENESummary!L83/ENESummary!J83-1))","v":0},{"$f":"IF(ISERROR(ENESummary!N83/ENESummary!L83-1),0,(ENESummary!N83/ENESummary!L83-1))","v":0},{"$f":"IF(ISERROR(ENESummary!R83/ENESummary!N83-1),0,(ENESummary!R83/ENESummary!N83-1))","v":0},{"$f":"IF(ISERROR(ENESummary!S83/ENESummary!R83-1),0,(ENESummary!S83/ENESummary!R83-1))","v":0},{"$f":"IF(ISERROR(ENESummary!T83/ENESummary!S83-1),0,(ENESummary!T83/ENESummary!S83-1))","v":0},null,{"$f":"IF(ISERROR((ENESummary!N83/ENESummary!H83)^(1/3)-1),0,(ENESummary!N83/ENESummary!H83)^(1/3)-1)","v":0},{"$f":"IF(ISERROR((ENESummary!T83/ENESummary!N83)^(1/3)-1),0,(ENESummary!T83/ENESummary!N83)^(1/3)-1)","v":0},{"$f":"IF(ISERROR((ENESummary!T83/ENESummary!H83)^(1/3)-1),0,(ENESummary!T83/ENESummary!H83)^(1/3)-1)","v":0},null,0]
[null,null,null,null,null,"Cash flow from investing activities",null,{"$f":"IF(ISERROR(ENESummary!J84/ENESummary!H84-1),0,(ENESummary!J84/ENESummary!H84-1))","v":0},{"$f":"IF(ISERROR(ENESummary!L84/ENESummary!J84-1),0,(ENESummary!L84/ENESummary!J84-1))","v":0},{"$f":"IF(ISERROR(ENESummary!N84/ENESummary!L84-1),0,(ENESummary!N84/ENESummary!L84-1))","v":0},{"$f":"IF(ISERROR(ENESummary!R84/ENESummary!N84-1),0,(ENESummary!R84/ENESummary!N84-1))","v":0},{"$f":"IF(ISERROR(ENESummary!S84/ENESummary!R84-1),0,(ENESummary!S84/ENESummary!R84-1))","v":0},{"$f":"IF(ISERROR(ENESummary!T84/ENESummary!S84-1),0,(ENESummary!T84/ENESummary!S84-1))","v":0},null,{"$f":"IF(ISERROR((ENESummary!N84/ENESummary!H84)^(1/3)-1),0,(ENESummary!N84/ENESummary!H84)^(1/3)-1)","v":0},{"$f":"IF(ISERROR((ENESummary!T84/ENESummary!N84)^(1/3)-1),0,(ENESummary!T84/ENESummary!N84)^(1/3)-1)","v":0},{"$f":"IF(ISERROR((ENESummary!T84/ENESummary!H84)^(1/3)-1),0,(ENESummary!T84/ENESummary!H84)^(1/3)-1)","v":0},null,0]
[null,null,null,null,null,"Acquisition of property, plant, equipment & intangible assets",null,{"$f":"IF(ISERROR(ENESummary!J85/ENESummary!H85-1),0,(ENESummary!J85/ENESummary!H85-1))","v":0},{"$f":"IF(ISERROR(ENESummary!L85/ENESummary!J85-1),0,(ENESummary!L85/ENESummary!J85-1))","v":0},{"$f":"IF(ISERROR(ENESummary!N85/ENESummary!L85-1),0,(ENESummary!N85/ENESummary!L85-1))","v":0},{"$f":"IF(ISERROR(ENESummary!R85/ENESummary!N85-1),0,(ENESummary!R85/ENESummary!N85-1))","v":0},{"$f":"IF(ISERROR(ENESummary!S85/ENESummary!R85-1),0,(ENESummary!S85/ENESummary!R85-1))","v":0},{"$f":"IF(ISERROR(ENESummary!T85/ENESummary!S85-1),0,(ENESummary!T85/ENESummary!S85-1))","v":0},null,{"$f":"IF(ISERROR((ENESummary!N85/ENESummary!H85)^(1/3)-1),0,(ENESummary!N85/ENESummary!H85)^(1/3)-1)","v":0},{"$f":"IF(ISERROR((ENESummary!T85/ENESummary!N85)^(1/3)-1),0,(ENESummary!T85/ENESummary!N85)^(1/3)-1)","v":0},{"$f":"IF(ISERROR((ENESummary!T85/ENESummary!H85)^(1/3)-1),0,(ENESummary!T85/ENESummary!H85)^(1/3)-1)","v":0},null,0]

{"sheet":"PersonnelPub","index":30,"n_rows":48,"n_cols":25,"rows_kept":48,"cut":false,"hidden":false,"merged":[[9,24,10,24],[9,23,10,23],[9,11,9,13],[9,7,11,7],[7,5,7,24],[8,23,8,24],[9,6,11,6],[8,6,8,7]]}
[null,null,null,null,null,{"$f":"Settings!$O$2","v":"PE196"}]
[null,null,null,null,null,{"$f":"#REF!","v":{"$error":"#REF!"}}]
[]
[]
[]
[null,null,null,null,null,"PE No",{"$f":"Settings!$O$2","v":"PE196"}]
[null,null,null,null,null,"Entity name",{"$f":"Settings!$D$2","v":"Transnet Limited"}]
[]
[null,null,null,null,null,null,"Post status estimated for 31 March 2023",null," ",null,"  Number and cost1 of personnel posts filled/planned for on funded establishment",null,null,null,null,null,null,null,null,null,null,null,null,"Number"]
[null,null,null,null,null,null,"Number of posts on approved establishment","Number \nof \nfunded \nposts"," "," Actual",null,"Revised estimates",null,null,null,null,"Medium-term expenditure estimate",null,null,null,null,null,null,"Average \ngrowth\nrate\n(%)","Salary \nlevel/\ntotal:\nAverage\n(%)"]
[null,null,null,null,null,null,null,null,null,{"$f":"MyYearM1","v":"2021/22"},null,null,{"$f":"MyYear0","v":"2022/23"},null,null,{"$f":"MyYearP1","v":"2023/24"},null,null,{"$f":"MyYearP2","v":"2024/25"},null,null,{"$f":"MyYearP3","v":"2025/26"}]
[null,null,null,null,null,"Salary level",null,null,"Number","Cost","Unit cost","Number","Cost","Unit cost","Number","Cost","Unit cost","Number","Cost","Unit cost","Number","Cost","Unit cost",{"$f":"MyYear0&\" - \"&MyYearP3","v":"2022/23 - 2025/26"}]
[null,null,null,null,null,"Salary level",{"$f":"SUM(G14:G18)","v":0},{"$f":"SUM(H14:H18)","v":0},{"$f":"SUM(I14:I18)","v":0},{"$f":"SUM(J14:J18)","v":0},{"$f":"IFERROR(J13/I13,0)","v":0},{"$f":"SUM(L14:L18)","v":0},0,{"$f":"IFERROR(M13/L13,0)","v":0},0,0,{"$f":"IFERROR(P13/O13,0)","v":0},0,0,{"$f":"IFERROR(S13/R13,0)","v":0},0,0,{"$f":"IFERROR(V13/U13,0)","v":0},{"$f":"IFERROR((V13/M13)^(1/3)-1,0)","v":0},0]
[null,null,null,null,null,"1 – 6",{"$f":"SUM(G20:G25)","v":0},{"$f":"SUM(H20:H25)","v":0},{"$f":"SUM(I20:I25)","v":0},{"$f":"IFERROR(SUM(J20:J25)+SUM(J20:J25)/SUM(J20:J41)*J43,0)","v":0},{"$f":"IFERROR(J14/I14,0)","v":0},{"$f":"SUM(L20:L25)","v":0},{"$f":"IFERROR(SUM(M20:M25)+SUM(M20:M25)/SUM(M20:M41)*M43,0)","v":0},{"$f":"IFERROR(M14/L14,0)","v":0},{"$f":"SUM(O20:O25)","v":0},{"$f":"IFERROR(SUM(P20:P25)+SUM(P20:P25)/SUM(P20:P41)*P43,0)","v":0},{"$f":"IFERROR(P14/O14,0)","v":0},{"$f":"SUM(R20:R25)","v":0},{"$f":"IFERROR(SUM(S20:S25)+SUM(S20:S25)/SUM(S20:S41)*S43,0)","v":0},{"$f":"IFERROR(S14/R14,0)","v":0},{"$f":"SUM(U20:U25)","v":0},{"$f":"IFERROR(SUM(V20:V25)+SUM(V20:V25)/SUM(V20:V41)*V43,0)","v":0},{"$f":"IFERROR(V14/U14,0)","v":0},0,{"$f":"IFERROR(AVERAGE(L14/$L$44,O14/$O$44,R14/$R$44,U14/$U$44),0)","v":0}]
[null,null,null,null,null,"7 – 10",{"$f":"SUM(G26:G29)","v":0},{"$f":"SUM(H26:H29)","v":0},{"$f":"SUM(I26:I29)","v":0},{"$f":"IFERROR(SUM(J26:J29)+SUM(J26:J29)/SUM(J20:J41)*J43,0)","v":0},0,{"$f":"SUM(L26:L29)","v":0},{"$f":"IFERROR(SUM(M26:M29)+SUM(M26:M29)/SUM(M20:M41)*M43,0)","v":0},{"$f":"IFERROR(M15/L15,0)","v":0},{"$f":"SUM(O26:O29)","v":0},{"$f":"IFERROR(SUM(P26:P29)+SUM(P26:P29)/SUM(P20:P41)*P43,0)","v":0},0,{"$f":"SUM(R26:R29)","v":0},{"$f":"IFERROR(SUM(S26:S29)+SUM(S26:S29)/SUM(S20:S41)*S43,0)","v":0},0,{"$f":"SUM(U26:U29)","v":0},{"$f":"IFERROR(SUM(V26:V29)+SUM(V26:V29)/SUM(V20:V41)*V43,0)","v":0},{"$f":"IFERROR(V15/U15,0)","v":0},0,{"$f":"IFERROR(AVERAGE(L15/$L$44,O15/$O$44,R15/$R$44,U15/$U$44),0)","v":0}]
[null,null,null,null,null,"11 – 12",{"$f":"SUM(G30:G31)","v":0},{"$f":"SUM(H30:H31)","v":0},{"$f":"SUM(I30:I31)","v":0},{"$f":"IFERROR(SUM(J30:J31)+SUM(J30:J31)/SUM(J20:J41)*J43,0)","v":0},0,{"$f":"SUM(L30:L31)","v":0},{"$f":"IFERROR(SUM(M30:M31)+SUM(M30:M31)/SUM(M20:M41)*M43,0)","v":0},{"$f":"IFERROR(M16/L16,0)","v":0},{"$f":"SUM(O30:O31)","v":0},{"$f":"IFERROR(SUM(P30:P31)+SUM(P30:P31)/SUM(P20:P41)*P43,0)","v":0},0,{"$f":"SUM(R30:R31)","v":0},{"$f":"IFERROR(SUM(S30:S31)+SUM(S30:S31)/SUM(S20:S41)*S43,0)","v":0},0,{"$f":"SUM(U30:U31)","v":0},{"$f":"IFERROR(SUM(V30:V31)+SUM(V30:V31)/SUM(V20:V41)*V43,0)","v":0},0,0,{"$f":"IFERROR(AVERAGE(L16/$L$44,O16/$O$44,R16/$R$44,U16/$U$44),0)","v":0}]
[null,null,null,null,null,"13 – 16",{"$f":"SUM(G32:G35)","v":0},{"$f":"SUM(H32:H35)","v":0},{"$f":"SUM(I32:I35)","v":0},{"$f":"IFERROR(SUM(J32:J35)+SUM(J32:J35)/SUM(J20:J41)*J43,0)","v":0},0,{"$f":"SUM(L32:L35)","v":0},{"$f":"IFERROR(SUM(M32:M35)+SUM(M32:M35)/SUM(M20:M41)*M43,0)","v":0},0,{"$f":"SUM(O32:O35)","v":0},{"$f":"IFERROR(SUM(P32:P35)+SUM(P32:P35)/SUM(P20:P41)*P43,0)","v":0},0,{"$f":"SUM(R32:R35)","v":0},{"$f":"IFERROR(SUM(S32:S35)+SUM(S32:S35)/SUM(S20:S41)*S43,0)","v":0},0,{"$f":"SUM(U32:U35)","v":0},{"$f":"IFERROR(SUM(V32:V35)+SUM(V32:V35)/SUM(V20:V41)*V43,0)","v":0},0,0,{"$f":"IFERROR(AVERAGE(L17/$L$44,O17/$O$44,R17/$R$44,U17/$U$44),0)","v":0}]
[null,null,null,null,null,"17 – 22",{"$f":"SUM(G36:G41)","v":0},{"$f":"SUM(H36:H41)","v":0},{"$f":"SUM(I36:I41)","v":0},{"$f":"IFERROR(SUM(J36:J41)+SUM(J36:J41)/SUM(J20:J41)*J43,0)","v":0},0,{"$f":"SUM(L36:L41)","v":0},{"$f":"IFERROR(SUM(M36:M41)+SUM(M36:M41)/SUM(M20:M41)*M43,0)","v":0},{"$f":"IFERROR(M18/L18,0)","v":0},{"$f":"SUM(O36:O41)","v":0},{"$f":"IFERROR(SUM(P36:P41)+SUM(P36:P41)/SUM(P20:P41)*P43,0)","v":0},{"$f":"IFERROR(P18/O18,0)","v":0},{"$f":"SUM(R36:R41)","v":0},{"$f":"IFERROR(SUM(S36:S41)+SUM(S36:S41)/SUM(S20:S41)*S43,0)","v":0},{"$f":"IFERROR(S18/R18,0)","v":0},{"$f":"SUM(U36:U41)","v":0},{"$f":"IFERROR(SUM(V36:V41)+SUM(V36:V41)/SUM(V20:V41)*V43,0)","v":0},{"$f":"IFERROR(V18/U18,0)","v":0},0,{"$f":"IFERROR(AVERAGE(L18/$L$44,O18/$O$44,R18/$R$44,U18/$U$44),0)","v":0}]
[null,null,null,null,null,"Detail"]
[null,null,null,null,null,1,{"$f":"SUMIFS(Personnel!N$12:N$1499,Personnel!$B$12:$B$1499,PersonnelPub!$F20,Personnel!$J$12:$J$1499,\"Guaranteed package\")","v":0},{"$f":"SUMIFS(Personnel!O$12:O$1499,Personnel!$B$12:$B$1499,PersonnelPub!$F20,Personnel!$J$12:$J$1499,\"Guaranteed package\")","v":0},{"$f":"SUMIFS(Personnel!K$12:K$1499,Personnel!$B$12:$B$1499,PersonnelPub!$F20,Personnel!$J$12:$J$1499,\"Guaranteed package\")","v":0},{"$f":"SUMIF(Personnel!$B$12:$B$1499,PersonnelPub!$F20,Personnel!L$12:L$1499)","v":0},0,{"$f":"SUMIFS(Personnel!P$12:P$1499,Personnel!$B$12:$B$1499,PersonnelPub!$F20,Personnel!$J$12:$J$1499,\"Guaranteed package\")","v":0},{"$f":"SUMIF(Personnel!$B$12:$B$1499,PersonnelPub!$F20,Personnel!Q$12:Q$1499)","v":0},0,{"$f":"SUMIFS(Personnel!S$12:S$1499,Personnel!$B$12:$B$1499,PersonnelPub!$F20,Personnel!$J$12:$J$1499,\"Guaranteed package\")","v":0},{"$f":"SUMIF(Personnel!$B$12:$B$1499,PersonnelPub!$F20,Personnel!T$12:T$1499)","v":0},0,{"$f":"SUMIFS(Personnel!V$12:V$1499,Personnel!$B$12:$B$1499,PersonnelPub!$F20,Personnel!$J$12:$J$1499,\"Guaranteed package\")","v":0},{"$f":"SUMIF(Personnel!$B$12:$B$1499,PersonnelPub!$F20,Personnel!W$12:W$1499)","v":0},0,{"$f":"SUMIFS(Personnel!Y$12:Y$1499,Personnel!$B$12:$B$1499,PersonnelPub!$F20,Personnel!$J$12:$J$1499,\"Guaranteed package\")","v":0},{"$f":"SUMIF(Personnel!$B$12:$B$1499,PersonnelPub!$F20,Personnel!Z$12:Z$1499)","v":0},0,{"$f":"IFERROR((V20/M20)^(1/3)-1,0)","v":0},{"$f":"IFERROR(AVERAGE(M20/$M$44,P20/$P$44,S20/$S$44,V20/$V$44),0)","v":0}]
[null,null,null,null,null,2,{"$f":"SUMIFS(Personnel!N$12:N$1499,Personnel!$B$12:$B$1499,PersonnelPub!$F21,Personnel!$J$12:$J$1499,\"Guaranteed package\")","v":0},{"$f":"SUMIFS(Personnel!O$12:O$1499,Personnel!$B$12:$B$1499,PersonnelPub!$F21,Personnel!$J$12:$J$1499,\"Guaranteed package\")","v":0},{"$f":"SUMIFS(Personnel!K$12:K$1499,Personnel!$B$12:$B$1499,PersonnelPub!$F21,Personnel!$J$12:$J$1499,\"Guaranteed package\")","v":0},{"$f":"SUMIF(Personnel!$B$12:$B$1499,PersonnelPub!$F21,Personnel!L$12:L$1499)","v":0},0,{"$f":"SUMIFS(Personnel!P$12:P$1499,Personnel!$B$12:$B$1499,PersonnelPub!$F21,Personnel!$J$12:$J$1499,\"Guaranteed package\")","v":0},{"$f":"SUMIF(Personnel!$B$12:$B$1499,PersonnelPub!$F21,Personnel!Q$12:Q$1499)","v":0},0,{"$f":"SUMIFS(Personnel!S$12:S$1499,Personnel!$B$12:$B$1499,PersonnelPub!$F21,Personnel!$J$12:$J$1499,\"Guaranteed package\")","v":0},{"$f":"SUMIF(Personnel!$B$12:$B$1499,PersonnelPub!$F21,Personnel!T$12:T$1499)","v":0},0,{"$f":"SUMIFS(Personnel!V$12:V$1499,Personnel!$B$12:$B$1499,PersonnelPub!$F21,Personnel!$J$12:$J$1499,\"Guaranteed package\")","v":0},{"$f":"SUMIF(Personnel!$B$12:$B$1499,PersonnelPub!$F21,Personnel!W$12:W$1499)","v":0},0,{"$f":"SUMIFS(Personnel!Y$12:Y$1499,Personnel!$B$12:$B$1499,PersonnelPub!$F21,Personnel!$J$12:$J$1499,\"Guaranteed package\")","v":0},{"$f":"SUMIF(Personnel!$B$12:$B$1499,PersonnelPub!$F21,Personnel!Z$12:Z$1499)","v":0},0,{"$f":"IFERROR((V21/M21)^(1/3)-1,0)","v":0},0]
[null,null,null,null,null,3,{"$f":"SUMIFS(Personnel!N$12:N$1499,Personnel!$B$12:$B$1499,PersonnelPub!$F22,Personnel!$J$12:$J$1499,\"Guaranteed package\")","v":0},{"$f":"SUMIFS(Personnel!O$12:O$1499,Personnel!$B$12:$B$1499,PersonnelPub!$F22,Personnel!$J$12:$J$1499,\"Guaranteed package\")","v":0},{"$f":"SUMIFS(Personnel!K$12:K$1499,Personnel!$B$12:$B$1499,PersonnelPub!$F22,Personnel!$J$12:$J$1499,\"Guaranteed package\")","v":0},{"$f":"SUMIF(Personnel!$B$12:$B$1499,PersonnelPub!$F22,Personnel!L$12:L$1499)","v":0},0,{"$f":"SUMIFS(Personnel!P$12:P$1499,Personnel!$B$12:$B$1499,PersonnelPub!$F22,Personnel!$J$12:$J$1499,\"Guaranteed package\")","v":0},{"$f":"SUMIF(Personnel!$B$12:$B$1499,PersonnelPub!$F22,Personnel!Q$12:Q$1499)","v":0},0,{"$f":"SUMIFS(Personnel!S$12:S$1499,Personnel!$B$12:$B$1499,PersonnelPub!$F22,Personnel!$J$12:$J$1499,\"Guaranteed package\")","v":0},{"$f":"SUMIF(Personnel!$B$12:$B$1499,PersonnelPub!$F22,Personnel!T$12:T$1499)","v":0},0,{"$f":"SUMIFS(Personnel!V$12:V$1499,Personnel!$B$12:$B$1499,PersonnelPub!$F22,Personnel!$J$12:$J$1499,\"Guaranteed package\")","v":0},{"$f":"SUMIF(Personnel!$B$12:$B$1499,PersonnelPub!$F22,Personnel!W$12:W$1499)","v":0},0,{"$f":"SUMIFS(Personnel!Y$12:Y$1499,Personnel!$B$12:$B$1499,PersonnelPub!$F22,Personnel!$J$12:$J$1499,\"Guaranteed package\")","v":0},{"$f":"SUMIF(Personnel!$B$12:$B$1499,PersonnelPub!$F22,Personnel!Z$12:Z$1499)","v":0},0,0,0]
[null,null,null,null,null,4,{"$f":"SUMIFS(Personnel!N$12:N$1499,Personnel!$B$12:$B$1499,PersonnelPub!$F23,Personnel!$J$12:$J$1499,\"Guaranteed package\")","v":0},{"$f":"SUMIFS(Personnel!O$12:O$1499,Personnel!$B$12:$B$1499,PersonnelPub!$F23,Personnel!$J$12:$J$1499,\"Guaranteed package\")","v":0},{"$f":"SUMIFS(Personnel!K$12:K$1499,Personnel!$B$12:$B$1499,PersonnelPub!$F23,Personnel!$J$12:$J$1499,\"Guaranteed package\")","v":0},{"$f":"SUMIF(Personnel!$B$12:$B$1499,PersonnelPub!$F23,Personnel!L$12:L$1499)","v":0},0,{"$f":"SUMIFS(Personnel!P$12:P$1499,Personnel!$B$12:$B$1499,PersonnelPub!$F23,Personnel!$J$12:$J$1499,\"Guaranteed package\")","v":0},{"$f":"SUMIF(Personnel!$B$12:$B$1499,PersonnelPub!$F23,Personnel!Q$12:Q$1499)","v":0},0,{"$f":"SUMIFS(Personnel!S$12:S$1499,Personnel!$B$12:$B$1499,PersonnelPub!$F23,Personnel!$J$12:$J$1499,\"Guaranteed package\")","v":0},{"$f":"SUMIF(Personnel!$B$12:$B$1499,PersonnelPub!$F23,Personnel!T$12:T$1499)","v":0},0,{"$f":"SUMIFS(Personnel!V$12:V$1499,Personnel!$B$12:$B$1499,PersonnelPub!$F23,Personnel!$J$12:$J$1499,\"Guaranteed package\")","v":0},{"$f":"SUMIF(Personnel!$B$12:$B$1499,PersonnelPub!$F23,Personnel!W$12:W$1499)","v":0},0,{"$f":"SUMIFS(Personnel!Y$12:Y$1499,Personnel!$B$12:$B$1499,PersonnelPub!$F23,Personnel!$J$12:$J$1499,\"Guaranteed package\")","v":0},{"$f":"SUMIF(Personnel!$B$12:$B$1499,PersonnelPub!$F23,Personnel!Z$12:Z$1499)","v":0},0,0,0]
[null,null,null,null,null,5,{"$f":"SUMIFS(Personnel!N$12:N$1499,Personnel!$B$12:$B$1499,PersonnelPub!$F24,Personnel!$J$12:$J$1499,\"Guaranteed package\")","v":0},{"$f":"SUMIFS(Personnel!O$12:O$1499,Personnel!$B$12:$B$1499,PersonnelPub!$F24,Personnel!$J$12:$J$1499,\"Guaranteed package\")","v":0},{"$f":"SUMIFS(Personnel!K$12:K$1499,Personnel!$B$12:$B$1499,PersonnelPub!$F24,Personnel!$J$12:$J$1499,\"Guaranteed package\")","v":0},{"$f":"SUMIF(Personnel!$B$12:$B$1499,PersonnelPub!$F24,Personnel!L$12:L$1499)","v":0},0,{"$f":"SUMIFS(Personnel!P$12:P$1499,Personnel!$B$12:$B$1499,PersonnelPub!$F24,Personnel!$J$12:$J$1499,\"Guaranteed package\")","v":0},{"$f":"SUMIF(Personnel!$B$12:$B$1499,PersonnelPub!$F24,Personnel!Q$12:Q$1499)","v":0},0,{"$f":"SUMIFS(Personnel!S$12:S$1499,Personnel!$B$12:$B$1499,PersonnelPub!$F24,Personnel!$J$12:$J$1499,\"Guaranteed package\")","v":0},{"$f":"SUMIF(Personnel!$B$12:$B$1499,PersonnelPub!$F24,Personnel!T$12:T$1499)","v":0},0,{"$f":"SUMIFS(Personnel!V$12:V$1499,Personnel!$B$12:$B$1499,PersonnelPub!$F24,Personnel!$J$12:$J$1499,\"Guaranteed package\")","v":0},{"$f":"SUMIF(Personnel!$B$12:$B$1499,PersonnelPub!$F24,Personnel!W$12:W$1499)","v":0},0,{"$f":"SUMIFS(Personnel!Y$12:Y$1499,Personnel!$B$12:$B$1499,PersonnelPub!$F24,Personnel!$J$12:$J$1499,\"Guaranteed package\")","v":0},{"$f":"SUMIF(Personnel!$B$12:$B$1499,PersonnelPub!$F24,Personnel!Z$12:Z$1499)","v":0},0,{"$f":"IFERROR((V24/M24)^(1/3)-1,0)","v":0},0]
[null,null,null,null,null,6,{"$f":"SUMIFS(Personnel!N$12:N$1499,Personnel!$B$12:$B$1499,PersonnelPub!$F25,Personnel!$J$12:$J$1499,\"Guaranteed package\")","v":0},{"$f":"SUMIFS(Personnel!O$12:O$1499,Personnel!$B$12:$B$1499,PersonnelPub!$F25,Personnel!$J$12:$J$1499,\"Guaranteed package\")","v":0},{"$f":"SUMIFS(Personnel!K$12:K$1499,Personnel!$B$12:$B$1499,PersonnelPub!$F25,Personnel!$J$12:$J$1499,\"Guaranteed package\")","v":0},{"$f":"SUMIF(Personnel!$B$12:$B$1499,PersonnelPub!$F25,Personnel!L$12:L$1499)","v":0},0,{"$f":"SUMIFS(Personnel!P$12:P$1499,Personnel!$B$12:$B$1499,PersonnelPub!$F25,Personnel!$J$12:$J$1499,\"Guaranteed package\")","v":0},{"$f":"SUMIF(Personnel!$B$12:$B$1499,PersonnelPub!$F25,Personnel!Q$12:Q$1499)","v":0},0,{"$f":"SUMIFS(Personnel!S$12:S$1499,Personnel!$B$12:$B$1499,PersonnelPub!$F25,Personnel!$J$12:$J$1499,\"Guaranteed package\")","v":0},{"$f":"SUMIF(Personnel!$B$12:$B$1499,PersonnelPub!$F25,Personnel!T$12:T$1499)","v":0},0,{"$f":"SUMIFS(Personnel!V$12:V$1499,Personnel!$B$12:$B$1499,PersonnelPub!$F25,Personnel!$J$12:$J$1499,\"Guaranteed package\")","v":0},{"$f":"SUMIF(Personnel!$B$12:$B$1499,PersonnelPub!$F25,Personnel!W$12:W$1499)","v":0},0,{"$f":"SUMIFS(Personnel!Y$12:Y$1499,Personnel!$B$12:$B$1499,PersonnelPub!$F25,Personnel!$J$12:$J$1499,\"Guaranteed package\")","v":0},{"$f":"SUMIF(Personnel!$B$12:$B$1499,PersonnelPub!$F25,Personnel!Z$12:Z$1499)","v":0},0,0,0]
[null,null,null,null,null,7,{"$f":"SUMIFS(Personnel!N$12:N$1499,Personnel!$B$12:$B$1499,PersonnelPub!$F26,Personnel!$J$12:$J$1499,\"Guaranteed package\")","v":0},{"$f":"SUMIFS(Personnel!O$12:O$1499,Personnel!$B$12:$B$1499,PersonnelPub!$F26,Personnel!$J$12:$J$1499,\"Guaranteed package\")","v":0},{"$f":"SUMIFS(Personnel!K$12:K$1499,Personnel!$B$12:$B$1499,PersonnelPub!$F26,Personnel!$J$12:$J$1499,\"Guaranteed package\")","v":0},{"$f":"SUMIF(Personnel!$B$12:$B$1499,PersonnelPub!$F26,Personnel!L$12:L$1499)","v":0},0,{"$f":"SUMIFS(Personnel!P$12:P$1499,Personnel!$B$12:$B$1499,PersonnelPub!$F26,Personnel!$J$12:$J$1499,\"Guaranteed package\")","v":0},{"$f":"SUMIF(Personnel!$B$12:$B$1499,PersonnelPub!$F26,Personnel!Q$12:Q$1499)","v":0},0,{"$f":"SUMIFS(Personnel!S$12:S$1499,Personnel!$B$12:$B$1499,PersonnelPub!$F26,Personnel!$J$12:$J$1499,\"Guaranteed package\")","v":0},{"$f":"SUMIF(Personnel!$B$12:$B$1499,PersonnelPub!$F26,Personnel!T$12:T$1499)","v":0},0,{"$f":"SUMIFS(Personnel!V$12:V$1499,Personnel!$B$12:$B$1499,PersonnelPub!$F26,Personnel!$J$12:$J$1499,\"Guaranteed package\")","v":0},{"$f":"SUMIF(Personnel!$B$12:$B$1499,PersonnelPub!$F26,Personnel!W$12:W$1499)","v":0},0,{"$f":"SUMIFS(Personnel!Y$12:Y$1499,Personnel!$B$12:$B$1499,PersonnelPub!$F26,Personnel!$J$12:$J$1499,\"Guaranteed package\")","v":0},{"$f":"SUMIF(Personnel!$B$12:$B$1499,PersonnelPub!$F26,Personnel!Z$12:Z$1499)","v":0},0,0,0]
[null,null,null,null,null,8,{"$f":"SUMIFS(Personnel!N$12:N$1499,Personnel!$B$12:$B$1499,PersonnelPub!$F27,Personnel!$J$12:$J$1499,\"Guaranteed package\")","v":0},{"$f":"SUMIFS(Personnel!O$12:O$1499,Personnel!$B$12:$B$1499,PersonnelPub!$F27,Personnel!$J$12:$J$1499,\"Guaranteed package\")","v":0},{"$f":"SUMIFS(Personnel!K$12:K$1499,Personnel!$B$12:$B$1499,PersonnelPub!$F27,Personnel!$J$12:$J$1499,\"Guaranteed package\")","v":0},{"$f":"SUMIF(Personnel!$B$12:$B$1499,PersonnelPub!$F27,Personnel!L$12:L$1499)","v":0},0,{"$f":"SUMIFS(Personnel!P$12:P$1499,Personnel!$B$12:$B$1499,PersonnelPub!$F27,Personnel!$J$12:$J$1499,\"Guaranteed package\")","v":0},{"$f":"SUMIF(Personnel!$B$12:$B$1499,PersonnelPub!$F27,Personnel!Q$12:Q$1499)","v":0},0,{"$f":"SUMIFS(Personnel!S$12:S$1499,Personnel!$B$12:$B$1499,PersonnelPub!$F27,Personnel!$J$12:$J$1499,\"Guaranteed package\")","v":0},{"$f":"SUMIF(Personnel!$B$12:$B$1499,PersonnelPub!$F27,Personnel!T$12:T$1499)","v":0},0,{"$f":"SUMIFS(Personnel!V$12:V$1499,Personnel!$B$12:$B$1499,PersonnelPub!$F27,Personnel!$J$12:$J$1499,\"Guaranteed package\")","v":0},{"$f":"SUMIF(Personnel!$B$12:$B$1499,PersonnelPub!$F27,Personnel!W$12:W$1499)","v":0},0,{"$f":"SUMIFS(Personnel!Y$12:Y$1499,Personnel!$B$12:$B$1499,PersonnelPub!$F27,Personnel!$J$12:$J$1499,\"Guaranteed package\")","v":0},{"$f":"SUMIF(Personnel!$B$12:$B$1499,PersonnelPub!$F27,Personnel!Z$12:Z$1499)","v":0},0,0,0]
[null,null,null,null,null,9,{"$f":"SUMIFS(Personnel!N$12:N$1499,Personnel!$B$12:$B$1499,PersonnelPub!$F28,Personnel!$J$12:$J$1499,\"Guaranteed package\")","v":0},{"$f":"SUMIFS(Personnel!O$12:O$1499,Personnel!$B$12:$B$1499,PersonnelPub!$F28,Personnel!$J$12:$J$1499,\"Guaranteed package\")","v":0},{"$f":"SUMIFS(Personnel!K$12:K$1499,Personnel!$B$12:$B$1499,PersonnelPub!$F28,Personnel!$J$12:$J$1499,\"Guaranteed package\")","v":0},{"$f":"SUMIF(Personnel!$B$12:$B$1499,PersonnelPub!$F28,Personnel!L$12:L$1499)","v":0},0,{"$f":"SUMIFS(Personnel!P$12:P$1499,Personnel!$B$12:$B$1499,PersonnelPub!$F28,Personnel!$J$12:$J$1499,\"Guaranteed package\")","v":0},{"$f":"SUMIF(Personnel!$B$12:$B$1499,PersonnelPub!$F28,Personnel!Q$12:Q$1499)","v":0},0,{"$f":"SUMIFS(Personnel!S$12:S$1499,Personnel!$B$12:$B$1499,PersonnelPub!$F28,Personnel!$J$12:$J$1499,\"Guaranteed package\")","v":0},{"$f":"SUMIF(Personnel!$B$12:$B$1499,PersonnelPub!$F28,Personnel!T$12:T$1499)","v":0},0,{"$f":"SUMIFS(Personnel!V$12:V$1499,Personnel!$B$12:$B$1499,PersonnelPub!$F28,Personnel!$J$12:$J$1499,\"Guaranteed package\")","v":0},{"$f":"SUMIF(Personnel!$B$12:$B$1499,PersonnelPub!$F28,Personnel!W$12:W$1499)","v":0},0,{"$f":"SUMIFS(Personnel!Y$12:Y$1499,Personnel!$B$12:$B$1499,PersonnelPub!$F28,Personnel!$J$12:$J$1499,\"Guaranteed package\")","v":0},{"$f":"SUMIF(Personnel!$B$12:$B$1499,PersonnelPub!$F28,Personnel!Z$12:Z$1499)","v":0},0,0,0]
[null,null,null,null,null,10,{"$f":"SUMIFS(Personnel!N$12:N$1499,Personnel!$B$12:$B$1499,PersonnelPub!$F29,Personnel!$J$12:$J$1499,\"Guaranteed package\")","v":0},{"$f":"SUMIFS(Personnel!O$12:O$1499,Personnel!$B$12:$B$1499,PersonnelPub!$F29,Personnel!$J$12:$J$1499,\"Guaranteed package\")","v":0},{"$f":"SUMIFS(Personnel!K$12:K$1499,Personnel!$B$12:$B$1499,PersonnelPub!$F29,Personnel!$J$12:$J$1499,\"Guaranteed package\")","v":0},{"$f":"SUMIF(Personnel!$B$12:$B$1499,PersonnelPub!$F29,Personnel!L$12:L$1499)","v":0},0,{"$f":"SUMIFS(Personnel!P$12:P$1499,Personnel!$B$12:$B$1499,PersonnelPub!$F29,Personnel!$J$12:$J$1499,\"Guaranteed package\")","v":0},{"$f":"SUMIF(Personnel!$B$12:$B$1499,PersonnelPub!$F29,Personnel!Q$12:Q$1499)","v":0},0,{"$f":"SUMIFS(Personnel!S$12:S$1499,Personnel!$B$12:$B$1499,PersonnelPub!$F29,Personnel!$J$12:$J$1499,\"Guaranteed package\")","v":0},{"$f":"SUMIF(Personnel!$B$12:$B$1499,PersonnelPub!$F29,Personnel!T$12:T$1499)","v":0},0,{"$f":"SUMIFS(Personnel!V$12:V$1499,Personnel!$B$12:$B$1499,PersonnelPub!$F29,Personnel!$J$12:$J$1499,\"Guaranteed package\")","v":0},{"$f":"SUMIF(Personnel!$B$12:$B$1499,PersonnelPub!$F29,Personnel!W$12:W$1499)","v":0},0,{"$f":"SUMIFS(Personnel!Y$12:Y$1499,Personnel!$B$12:$B$1499,PersonnelPub!$F29,Personnel!$J$12:$J$1499,\"Guaranteed package\")","v":0},{"$f":"SUMIF(Personnel!$B$12:$B$1499,PersonnelPub!$F29,Personnel!Z$12:Z$1499)","v":0},0,0,0]
[null,null,null,null,null,11,{"$f":"SUMIFS(Personnel!N$12:N$1499,Personnel!$B$12:$B$1499,PersonnelPub!$F30,Personnel!$J$12:$J$1499,\"Guaranteed package\")","v":0},{"$f":"SUMIFS(Personnel!O$12:O$1499,Personnel!$B$12:$B$1499,PersonnelPub!$F30,Personnel!$J$12:$J$1499,\"Guaranteed package\")","v":0},{"$f":"SUMIFS(Personnel!K$12:K$1499,Personnel!$B$12:$B$1499,PersonnelPub!$F30,Personnel!$J$12:$J$1499,\"Guaranteed package\")","v":0},{"$f":"SUMIF(Personnel!$B$12:$B$1499,PersonnelPub!$F30,Personnel!L$12:L$1499)","v":0},0,{"$f":"SUMIFS(Personnel!P$12:P$1499,Personnel!$B$12:$B$1499,PersonnelPub!$F30,Personnel!$J$12:$J$1499,\"Guaranteed package\")","v":0},{"$f":"SUMIF(Personnel!$B$12:$B$1499,PersonnelPub!$F30,Personnel!Q$12:Q$1499)","v":0},0,{"$f":"SUMIFS(Personnel!S$12:S$1499,Personnel!$B$12:$B$1499,PersonnelPub!$F30,Personnel!$J$12:$J$1499,\"Guaranteed package\")","v":0},{"$f":"SUMIF(Personnel!$B$12:$B$1499,PersonnelPub!$F30,Personnel!T$12:T$1499)","v":0},0,{"$f":"SUMIFS(Personnel!V$12:V$1499,Personnel!$B$12:$B$1499,PersonnelPub!$F30,Personnel!$J$12:$J$1499,\"Guaranteed package\")","v":0},{"$f":"SUMIF(Personnel!$B$12:$B$1499,PersonnelPub!$F30,Personnel!W$12:W$1499)","v":0},0,{"$f":"SUMIFS(Personnel!Y$12:Y$1499,Personnel!$B$12:$B$1499,PersonnelPub!$F30,Personnel!$J$12:$J$1499,\"Guaranteed package\")","v":0},{"$f":"SUMIF(Personnel!$B$12:$B$1499,PersonnelPub!$F30,Personnel!Z$12:Z$1499)","v":0},0,0,0]
[null,null,null,null,null,12,{"$f":"SUMIFS(Personnel!N$12:N$1499,Personnel!$B$12:$B$1499,PersonnelPub!$F31,Personnel!$J$12:$J$1499,\"Guaranteed package\")","v":0},{"$f":"SUMIFS(Personnel!O$12:O$1499,Personnel!$B$12:$B$1499,PersonnelPub!$F31,Personnel!$J$12:$J$1499,\"Guaranteed package\")","v":0},{"$f":"SUMIFS(Personnel!K$12:K$1499,Personnel!$B$12:$B$1499,PersonnelPub!$F31,Personnel!$J$12:$J$1499,\"Guaranteed package\")","v":0},{"$f":"SUMIF(Personnel!$B$12:$B$1499,PersonnelPub!$F31,Personnel!L$12:L$1499)","v":0},0,{"$f":"SUMIFS(Personnel!P$12:P$1499,Personnel!$B$12:$B$1499,PersonnelPub!$F31,Personnel!$J$12:$J$1499,\"Guaranteed package\")","v":0},{"$f":"SUMIF(Personnel!$B$12:$B$1499,PersonnelPub!$F31,Personnel!Q$12:Q$1499)","v":0},0,{"$f":"SUMIFS(Personnel!S$12:S$1499,Personnel!$B$12:$B$1499,PersonnelPub!$F31,Personnel!$J$12:$J$1499,\"Guaranteed package\")","v":0},{"$f":"SUMIF(Personnel!$B$12:$B$1499,PersonnelPub!$F31,Personnel!T$12:T$1499)","v":0},0,{"$f":"SUMIFS(Personnel!V$12:V$1499,Personnel!$B$12:$B$1499,PersonnelPub!$F31,Personnel!$J$12:$J$1499,\"Guaranteed package\")","v":0},{"$f":"SUMIF(Personnel!$B$12:$B$1499,PersonnelPub!$F31,Personnel!W$12:W$1499)","v":0},0,{"$f":"SUMIFS(Personnel!Y$12:Y$1499,Personnel!$B$12:$B$1499,PersonnelPub!$F31,Personnel!$J$12:$J$1499,\"Guaranteed package\")","v":0},{"$f":"SUMIF(Personnel!$B$12:$B$1499,PersonnelPub!$F31,Personnel!Z$12:Z$1499)","v":0},0,0,0]
[null,null,null,null,null,13,{"$f":"SUMIFS(Personnel!N$12:N$1499,Personnel!$B$12:$B$1499,PersonnelPub!$F32,Personnel!$J$12:$J$1499,\"Guaranteed package\")","v":0},{"$f":"SUMIFS(Personnel!O$12:O$1499,Personnel!$B$12:$B$1499,PersonnelPub!$F32,Personnel!$J$12:$J$1499,\"Guaranteed package\")","v":0},{"$f":"SUMIFS(Personnel!K$12:K$1499,Personnel!$B$12:$B$1499,PersonnelPub!$F32,Personnel!$J$12:$J$1499,\"Guaranteed package\")","v":0},{"$f":"SUMIF(Personnel!$B$12:$B$1499,PersonnelPub!$F32,Personnel!L$12:L$1499)","v":0},0,{"$f":"SUMIFS(Personnel!P$12:P$1499,Personnel!$B$12:$B$1499,PersonnelPub!$F32,Personnel!$J$12:$J$1499,\"Guaranteed package\")","v":0},{"$f":"SUMIF(Personnel!$B$12:$B$1499,PersonnelPub!$F32,Personnel!Q$12:Q$1499)","v":0},0,{"$f":"SUMIFS(Personnel!S$12:S$1499,Personnel!$B$12:$B$1499,PersonnelPub!$F32,Personnel!$J$12:$J$1499,\"Guaranteed package\")","v":0},{"$f":"SUMIF(Personnel!$B$12:$B$1499,PersonnelPub!$F32,Personnel!T$12:T$1499)","v":0},0,{"$f":"SUMIFS(Personnel!V$12:V$1499,Personnel!$B$12:$B$1499,PersonnelPub!$F32,Personnel!$J$12:$J$1499,\"Guaranteed package\")","v":0},{"$f":"SUMIF(Personnel!$B$12:$B$1499,PersonnelPub!$F32,Personnel!W$12:W$1499)","v":0},0,{"$f":"SUMIFS(Personnel!Y$12:Y$1499,Personnel!$B$12:$B$1499,PersonnelPub!$F32,Personnel!$J$12:$J$1499,\"Guaranteed package\")","v":0},{"$f":"SUMIF(Personnel!$B$12:$B$1499,PersonnelPub!$F32,Personnel!Z$12:Z$1499)","v":0},0,{"$f":"IFERROR((V32/M32)^(1/3)-1,0)","v":0},0]
[null,null,null,null,null,14,{"$f":"SUMIFS(Personnel!N$12:N$1499,Personnel!$B$12:$B$1499,PersonnelPub!$F33,Personnel!$J$12:$J$1499,\"Guaranteed package\")","v":0},{"$f":"SUMIFS(Personnel!O$12:O$1499,Personnel!$B$12:$B$1499,PersonnelPub!$F33,Personnel!$J$12:$J$1499,\"Guaranteed package\")","v":0},{"$f":"SUMIFS(Personnel!K$12:K$1499,Personnel!$B$12:$B$1499,PersonnelPub!$F33,Personnel!$J$12:$J$1499,\"Guaranteed package\")","v":0},{"$f":"SUMIF(Personnel!$B$12:$B$1499,PersonnelPub!$F33,Personnel!L$12:L$1499)","v":0},0,{"$f":"SUMIFS(Personnel!P$12:P$1499,Personnel!$B$12:$B$1499,PersonnelPub!$F33,Personnel!$J$12:$J$1499,\"Guaranteed package\")","v":0},{"$f":"SUMIF(Personnel!$B$12:$B$1499,PersonnelPub!$F33,Personnel!Q$12:Q$1499)","v":0},0,{"$f":"SUMIFS(Personnel!S$12:S$1499,Personnel!$B$12:$B$1499,PersonnelPub!$F33,Personnel!$J$12:$J$1499,\"Guaranteed package\")","v":0},{"$f":"SUMIF(Personnel!$B$12:$B$1499,PersonnelPub!$F33,Personnel!T$12:T$1499)","v":0},0,{"$f":"SUMIFS(Personnel!V$12:V$1499,Personnel!$B$12:$B$1499,PersonnelPub!$F33,Personnel!$J$12:$J$1499,\"Guaranteed package\")","v":0},{"$f":"SUMIF(Personnel!$B$12:$B$1499,PersonnelPub!$F33,Personnel!W$12:W$1499)","v":0},0,{"$f":"SUMIFS(Personnel!Y$12:Y$1499,Personnel!$B$12:$B$1499,PersonnelPub!$F33,Personnel!$J$12:$J$1499,\"Guaranteed package\")","v":0},{"$f":"SUMIF(Personnel!$B$12:$B$1499,PersonnelPub!$F33,Personnel!Z$12:Z$1499)","v":0},0,0,0]
[null,null,null,null,null,15,{"$f":"SUMIFS(Personnel!N$12:N$1499,Personnel!$B$12:$B$1499,PersonnelPub!$F34,Personnel!$J$12:$J$1499,\"Guaranteed package\")","v":0},{"$f":"SUMIFS(Personnel!O$12:O$1499,Personnel!$B$12:$B$1499,PersonnelPub!$F34,Personnel!$J$12:$J$1499,\"Guaranteed package\")","v":0},{"$f":"SUMIFS(Personnel!K$12:K$1499,Personnel!$B$12:$B$1499,PersonnelPub!$F34,Personnel!$J$12:$J$1499,\"Guaranteed package\")","v":0},{"$f":"SUMIF(Personnel!$B$12:$B$1499,PersonnelPub!$F34,Personnel!L$12:L$1499)","v":0},0,{"$f":"SUMIFS(Personnel!P$12:P$1499,Personnel!$B$12:$B$1499,PersonnelPub!$F34,Personnel!$J$12:$J$1499,\"Guaranteed package\")","v":0},{"$f":"SUMIF(Personnel!$B$12:$B$1499,PersonnelPub!$F34,Personnel!Q$12:Q$1499)","v":0},0,{"$f":"SUMIFS(Personnel!S$12:S$1499,Personnel!$B$12:$B$1499,PersonnelPub!$F34,Personnel!$J$12:$J$1499,\"Guaranteed package\")","v":0},{"$f":"SUMIF(Personnel!$B$12:$B$1499,PersonnelPub!$F34,Personnel!T$12:T$1499)","v":0},0,{"$f":"SUMIFS(Personnel!V$12:V$1499,Personnel!$B$12:$B$1499,PersonnelPub!$F34,Personnel!$J$12:$J$1499,\"Guaranteed package\")","v":0},{"$f":"SUMIF(Personnel!$B$12:$B$1499,PersonnelPub!$F34,Personnel!W$12:W$1499)","v":0},0,{"$f":"SUMIFS(Personnel!Y$12:Y$1499,Personnel!$B$12:$B$1499,PersonnelPub!$F34,Personnel!$J$12:$J$1499,\"Guaranteed package\")","v":0},{"$f":"SUMIF(Personnel!$B$12:$B$1499,PersonnelPub!$F34,Personnel!Z$12:Z$1499)","v":0},0,0,0]
[null,null,null,null,null,16,{"$f":"SUMIFS(Personnel!N$12:N$1499,Personnel!$B$12:$B$1499,PersonnelPub!$F35,Personnel!$J$12:$J$1499,\"Guaranteed package\")","v":0},{"$f":"SUMIFS(Personnel!O$12:O$1499,Personnel!$B$12:$B$1499,PersonnelPub!$F35,Personnel!$J$12:$J$1499,\"Guaranteed package\")","v":0},{"$f":"SUMIFS(Personnel!K$12:K$1499,Personnel!$B$12:$B$1499,PersonnelPub!$F35,Personnel!$J$12:$J$1499,\"Guaranteed package\")","v":0},{"$f":"SUMIF(Personnel!$B$12:$B$1499,PersonnelPub!$F35,Personnel!L$12:L$1499)","v":0},0,{"$f":"SUMIFS(Personnel!P$12:P$1499,Personnel!$B$12:$B$1499,PersonnelPub!$F35,Personnel!$J$12:$J$1499,\"Guaranteed package\")","v":0},{"$f":"SUMIF(Personnel!$B$12:$B$1499,PersonnelPub!$F35,Personnel!Q$12:Q$1499)","v":0},0,{"$f":"SUMIFS(Personnel!S$12:S$1499,Personnel!$B$12:$B$1499,PersonnelPub!$F35,Personnel!$J$12:$J$1499,\"Guaranteed package\")","v":0},{"$f":"SUMIF(Personnel!$B$12:$B$1499,PersonnelPub!$F35,Personnel!T$12:T$1499)","v":0},0,{"$f":"SUMIFS(Personnel!V$12:V$1499,Personnel!$B$12:$B$1499,PersonnelPub!$F35,Personnel!$J$12:$J$1499,\"Guaranteed package\")","v":0},{"$f":"SUMIF(Personnel!$B$12:$B$1499,PersonnelPub!$F35,Personnel!W$12:W$1499)","v":0},0,{"$f":"SUMIFS(Personnel!Y$12:Y$1499,Personnel!$B$12:$B$1499,PersonnelPub!$F35,Personnel!$J$12:$J$1499,\"Guaranteed package\")","v":0},{"$f":"SUMIF(Personnel!$B$12:$B$1499,PersonnelPub!$F35,Personnel!Z$12:Z$1499)","v":0},0,0,0]
[null,null,null,null,null,17,{"$f":"SUMIFS(Personnel!N$12:N$1499,Personnel!$B$12:$B$1499,PersonnelPub!$F36,Personnel!$J$12:$J$1499,\"Guaranteed package\")","v":0},{"$f":"SUMIFS(Personnel!O$12:O$1499,Personnel!$B$12:$B$1499,PersonnelPub!$F36,Personnel!$J$12:$J$1499,\"Guaranteed package\")","v":0},{"$f":"SUMIFS(Personnel!K$12:K$1499,Personnel!$B$12:$B$1499,PersonnelPub!$F36,Personnel!$J$12:$J$1499,\"Guaranteed package\")","v":0},{"$f":"SUMIF(Personnel!$B$12:$B$1499,PersonnelPub!$F36,Personnel!L$12:L$1499)","v":0},0,{"$f":"SUMIFS(Personnel!P$12:P$1499,Personnel!$B$12:$B$1499,PersonnelPub!$F36,Personnel!$J$12:$J$1499,\"Guaranteed package\")","v":0},{"$f":"SUMIF(Personnel!$B$12:$B$1499,PersonnelPub!$F36,Personnel!Q$12:Q$1499)","v":0},0,{"$f":"SUMIFS(Personnel!S$12:S$1499,Personnel!$B$12:$B$1499,PersonnelPub!$F36,Personnel!$J$12:$J$1499,\"Guaranteed package\")","v":0},{"$f":"SUMIF(Personnel!$B$12:$B$1499,PersonnelPub!$F36,Personnel!T$12:T$1499)","v":0},0,{"$f":"SUMIFS(Personnel!V$12:V$1499,Personnel!$B$12:$B$1499,PersonnelPub!$F36,Personnel!$J$12:$J$1499,\"Guaranteed package\")","v":0},{"$f":"SUMIF(Personnel!$B$12:$B$1499,PersonnelPub!$F36,Personnel!W$12:W$1499)","v":0},0,{"$f":"SUMIFS(Personnel!Y$12:Y$1499,Personnel!$B$12:$B$1499,PersonnelPub!$F36,Personnel!$J$12:$J$1499,\"Guaranteed package\")","v":0},{"$f":"SUMIF(Personnel!$B$12:$B$1499,PersonnelPub!$F36,Personnel!Z$12:Z$1499)","v":0},0,0,0]
[null,null,null,null,null,18,{"$f":"SUMIFS(Personnel!N$12:N$1499,Personnel!$B$12:$B$1499,PersonnelPub!$F37,Personnel!$J$12:$J$1499,\"Guaranteed package\")","v":0},{"$f":"SUMIFS(Personnel!O$12:O$1499,Personnel!$B$12:$B$1499,PersonnelPub!$F37,Personnel!$J$12:$J$1499,\"Guaranteed package\")","v":0},{"$f":"SUMIFS(Personnel!K$12:K$1499,Personnel!$B$12:$B$1499,PersonnelPub!$F37,Personnel!$J$12:$J$1499,\"Guaranteed package\")","v":0},{"$f":"SUMIF(Personnel!$B$12:$B$1499,PersonnelPub!$F37,Personnel!L$12:L$1499)","v":0},0,{"$f":"SUMIFS(Personnel!P$12:P$1499,Personnel!$B$12:$B$1499,PersonnelPub!$F37,Personnel!$J$12:$J$1499,\"Guaranteed package\")","v":0},{"$f":"SUMIF(Personnel!$B$12:$B$1499,PersonnelPub!$F37,Personnel!Q$12:Q$1499)","v":0},0,{"$f":"SUMIFS(Personnel!S$12:S$1499,Personnel!$B$12:$B$1499,PersonnelPub!$F37,Personnel!$J$12:$J$1499,\"Guaranteed package\")","v":0},{"$f":"SUMIF(Personnel!$B$12:$B$1499,PersonnelPub!$F37,Personnel!T$12:T$1499)","v":0},0,{"$f":"SUMIFS(Personnel!V$12:V$1499,Personnel!$B$12:$B$1499,PersonnelPub!$F37,Personnel!$J$12:$J$1499,\"Guaranteed package\")","v":0},{"$f":"SUMIF(Personnel!$B$12:$B$1499,PersonnelPub!$F37,Personnel!W$12:W$1499)","v":0},0,{"$f":"SUMIFS(Personnel!Y$12:Y$1499,Personnel!$B$12:$B$1499,PersonnelPub!$F37,Personnel!$J$12:$J$1499,\"Guaranteed package\")","v":0},{"$f":"SUMIF(Personnel!$B$12:$B$1499,PersonnelPub!$F37,Personnel!Z$12:Z$1499)","v":0},0,0,0]
[null,null,null,null,null,19,{"$f":"SUMIFS(Personnel!N$12:N$1499,Personnel!$B$12:$B$1499,PersonnelPub!$F38,Personnel!$J$12:$J$1499,\"Guaranteed package\")","v":0},{"$f":"SUMIFS(Personnel!O$12:O$1499,Personnel!$B$12:$B$1499,PersonnelPub!$F38,Personnel!$J$12:$J$1499,\"Guaranteed package\")","v":0},{"$f":"SUMIFS(Personnel!K$12:K$1499,Personnel!$B$12:$B$1499,PersonnelPub!$F38,Personnel!$J$12:$J$1499,\"Guaranteed package\")","v":0},{"$f":"SUMIF(Personnel!$B$12:$B$1499,PersonnelPub!$F38,Personnel!L$12:L$1499)","v":0},0,{"$f":"SUMIFS(Personnel!P$12:P$1499,Personnel!$B$12:$B$1499,PersonnelPub!$F38,Personnel!$J$12:$J$1499,\"Guaranteed package\")","v":0},{"$f":"SUMIF(Personnel!$B$12:$B$1499,PersonnelPub!$F38,Personnel!Q$12:Q$1499)","v":0},0,{"$f":"SUMIFS(Personnel!S$12:S$1499,Personnel!$B$12:$B$1499,PersonnelPub!$F38,Personnel!$J$12:$J$1499,\"Guaranteed package\")","v":0},{"$f":"SUMIF(Personnel!$B$12:$B$1499,PersonnelPub!$F38,Personnel!T$12:T$1499)","v":0},0,{"$f":"SUMIFS(Personnel!V$12:V$1499,Personnel!$B$12:$B$1499,PersonnelPub!$F38,Personnel!$J$12:$J$1499,\"Guaranteed package\")","v":0},{"$f":"SUMIF(Personnel!$B$12:$B$1499,PersonnelPub!$F38,Personnel!W$12:W$1499)","v":0},0,{"$f":"SUMIFS(Personnel!Y$12:Y$1499,Personnel!$B$12:$B$1499,PersonnelPub!$F38,Personnel!$J$12:$J$1499,\"Guaranteed package\")","v":0},{"$f":"SUMIF(Personnel!$B$12:$B$1499,PersonnelPub!$F38,Personnel!Z$12:Z$1499)","v":0},0,0,0]
[null,null,null,null,null,20,{"$f":"SUMIFS(Personnel!N$12:N$1499,Personnel!$B$12:$B$1499,PersonnelPub!$F39,Personnel!$J$12:$J$1499,\"Guaranteed package\")","v":0},{"$f":"SUMIFS(Personnel!O$12:O$1499,Personnel!$B$12:$B$1499,PersonnelPub!$F39,Personnel!$J$12:$J$1499,\"Guaranteed package\")","v":0},{"$f":"SUMIFS(Personnel!K$12:K$1499,Personnel!$B$12:$B$1499,PersonnelPub!$F39,Personnel!$J$12:$J$1499,\"Guaranteed package\")","v":0},{"$f":"SUMIF(Personnel!$B$12:$B$1499,PersonnelPub!$F39,Personnel!L$12:L$1499)","v":0},0,{"$f":"SUMIFS(Personnel!P$12:P$1499,Personnel!$B$12:$B$1499,PersonnelPub!$F39,Personnel!$J$12:$J$1499,\"Guaranteed package\")","v":0},{"$f":"SUMIF(Personnel!$B$12:$B$1499,PersonnelPub!$F39,Personnel!Q$12:Q$1499)","v":0},0,{"$f":"SUMIFS(Personnel!S$12:S$1499,Personnel!$B$12:$B$1499,PersonnelPub!$F39,Personnel!$J$12:$J$1499,\"Guaranteed package\")","v":0},{"$f":"SUMIF(Personnel!$B$12:$B$1499,PersonnelPub!$F39,Personnel!T$12:T$1499)","v":0},0,{"$f":"SUMIFS(Personnel!V$12:V$1499,Personnel!$B$12:$B$1499,PersonnelPub!$F39,Personnel!$J$12:$J$1499,\"Guaranteed package\")","v":0},{"$f":"SUMIF(Personnel!$B$12:$B$1499,PersonnelPub!$F39,Personnel!W$12:W$1499)","v":0},0,{"$f":"SUMIFS(Personnel!Y$12:Y$1499,Personnel!$B$12:$B$1499,PersonnelPub!$F39,Personnel!$J$12:$J$1499,\"Guaranteed package\")","v":0},{"$f":"SUMIF(Personnel!$B$12:$B$1499,PersonnelPub!$F39,Personnel!Z$12:Z$1499)","v":0},0,0,0]
[null,null,null,null,null,21,{"$f":"SUMIFS(Personnel!N$12:N$1499,Personnel!$B$12:$B$1499,PersonnelPub!$F40,Personnel!$J$12:$J$1499,\"Guaranteed package\")","v":0},{"$f":"SUMIFS(Personnel!O$12:O$1499,Personnel!$B$12:$B$1499,PersonnelPub!$F40,Personnel!$J$12:$J$1499,\"Guaranteed package\")","v":0},{"$f":"SUMIFS(Personnel!K$12:K$1499,Personnel!$B$12:$B$1499,PersonnelPub!$F40,Personnel!$J$12:$J$1499,\"Guaranteed package\")","v":0},{"$f":"SUMIF(Personnel!$B$12:$B$1499,PersonnelPub!$F40,Personnel!L$12:L$1499)","v":0},0,{"$f":"SUMIFS(Personnel!P$12:P$1499,Personnel!$B$12:$B$1499,PersonnelPub!$F40,Personnel!$J$12:$J$1499,\"Guaranteed package\")","v":0},{"$f":"SUMIF(Personnel!$B$12:$B$1499,PersonnelPub!$F40,Personnel!Q$12:Q$1499)","v":0},0,{"$f":"SUMIFS(Personnel!S$12:S$1499,Personnel!$B$12:$B$1499,PersonnelPub!$F40,Personnel!$J$12:$J$1499,\"Guaranteed package\")","v":0},{"$f":"SUMIF(Personnel!$B$12:$B$1499,PersonnelPub!$F40,Personnel!T$12:T$1499)","v":0},0,{"$f":"SUMIFS(Personnel!V$12:V$1499,Personnel!$B$12:$B$1499,PersonnelPub!$F40,Personnel!$J$12:$J$1499,\"Guaranteed package\")","v":0},{"$f":"SUMIF(Personnel!$B$12:$B$1499,PersonnelPub!$F40,Personnel!W$12:W$1499)","v":0},0,{"$f":"SUMIFS(Personnel!Y$12:Y$1499,Personnel!$B$12:$B$1499,PersonnelPub!$F40,Personnel!$J$12:$J$1499,\"Guaranteed package\")","v":0},{"$f":"SUMIF(Personnel!$B$12:$B$1499,PersonnelPub!$F40,Personnel!Z$12:Z$1499)","v":0},0,{"$f":"IFERROR((V40/M40)^(1/3)-1,0)","v":0},0]
[null,null,null,null,null,22,{"$f":"SUMIFS(Personnel!N$12:N$1499,Personnel!$B$12:$B$1499,PersonnelPub!$F41,Personnel!$J$12:$J$1499,\"Guaranteed package\")","v":0},{"$f":"SUMIFS(Personnel!O$12:O$1499,Personnel!$B$12:$B$1499,PersonnelPub!$F41,Personnel!$J$12:$J$1499,\"Guaranteed package\")","v":0},{"$f":"SUMIFS(Personnel!K$12:K$1499,Personnel!$B$12:$B$1499,PersonnelPub!$F41,Personnel!$J$12:$J$1499,\"Guaranteed package\")","v":0},{"$f":"SUMIF(Personnel!$B$12:$B$1499,PersonnelPub!$F41,Personnel!L$12:L$1499)","v":0},0,{"$f":"SUMIFS(Personnel!P$12:P$1499,Personnel!$B$12:$B$1499,PersonnelPub!$F41,Personnel!$J$12:$J$1499,\"Guaranteed package\")","v":0},{"$f":"SUMIF(Personnel!$B$12:$B$1499,PersonnelPub!$F41,Personnel!Q$12:Q$1499)","v":0},0,{"$f":"SUMIFS(Personnel!S$12:S$1499,Personnel!$B$12:$B$1499,PersonnelPub!$F41,Personnel!$J$12:$J$1499,\"Guaranteed package\")","v":0},{"$f":"SUMIF(Personnel!$B$12:$B$1499,PersonnelPub!$F41,Personnel!T$12:T$1499)","v":0},0,{"$f":"SUMIFS(Personnel!V$12:V$1499,Personnel!$B$12:$B$1499,PersonnelPub!$F41,Personnel!$J$12:$J$1499,\"Guaranteed package\")","v":0},{"$f":"SUMIF(Personnel!$B$12:$B$1499,PersonnelPub!$F41,Personnel!W$12:W$1499)","v":0},0,{"$f":"SUMIFS(Personnel!Y$12:Y$1499,Personnel!$B$12:$B$1499,PersonnelPub!$F41,Personnel!$J$12:$J$1499,\"Guaranteed package\")","v":0},{"$f":"SUMIF(Personnel!$B$12:$B$1499,PersonnelPub!$F41,Personnel!Z$12:Z$1499)","v":0},0,0,0]
[null,null,null,null,null,"Performance bonus : Executive",null,null,null,{"$f":"SUMIF(Personnel!$J$12:$J$1499,\"Performance bonus\",Personnel!L$12:L$1499)","v":0},null,null,{"$f":"SUMIF(Personnel!$J$12:$J$1499,\"Performance bonus\",Personnel!Q$12:Q$1499)","v":0},null,null,{"$f":"SUMIF(Personnel!$J$12:$J$1499,\"Performance bonus\",Personnel!T$12:T$1499)","v":0},null,null,{"$f":"SUMIF(Personnel!$J$12:$J$1499,\"Performance bonus\",Personnel!W$12:W$1499)","v":0},null,null,{"$f":"SUMIF(Personnel!$J$12:$J$1499,\"Performance bonus\",Personnel!Z$12:Z$1499)","v":0}]
[{"$f":"IF(SUM(J43,M43,P43,S43,V43)>1,1,0)","v":0},null,null,null,null,"Performance bonus",null,null,null,{"$f":"SUMIF(Personnel!$J$11:$J$11,\"Performance bonus\",Personnel!L$11:L$11)","v":0},null,null,{"$f":"SUMIF(Personnel!$J$11:$J$11,\"Performance bonus\",Personnel!Q$11:Q$11)","v":0},null,null,{"$f":"SUMIF(Personnel!$J$11:$J$11,\"Performance bonus\",Personnel!T$11:T$11)","v":0},null,null,{"$f":"SUMIF(Personnel!$J$11:$J$11,\"Performance bonus\",Personnel!W$11:W$11)","v":0},null,null,{"$f":"SUMIF(Personnel!$J$11:$J$11,\"Performance bonus\",Personnel!Z$11:Z$11)","v":0}]
[null,null,null,null,null,"Total",{"$f":"SUM(G20:G41)","v":0},{"$f":"SUM(H20:H41)","v":0},{"$f":"SUM(I20:I41)","v":0},{"$f":"SUM(J20:J41,J43)","v":0},{"$f":"IFERROR(J44/I44,0)","v":0},{"$f":"SUM(L20:L41)","v":0},{"$f":"SUM(M20:M41,M43)","v":0},{"$f":"IFERROR(M44/L44,0)","v":0},{"$f":"SUM(O20:O41)","v":0},{"$f":"SUM(P20:P41,P43)","v":0},{"$f":"IFERROR(P44/O44,0)","v":0},{"$f":"SUM(R20:R41)","v":0},{"$f":"SUM(S20:S41,S43)","v":0},{"$f":"IFERROR(S44/R44,0)","v":0},{"$f":"SUM(U20:U41)","v":0},{"$f":"SUM(V20:V41,V43)","v":0},{"$f":"IFERROR(V44/U44,0)","v":0},{"$f":"IFERROR((V44/M44)^(1/3)-1,0)","v":0},{"$f":"SUM(Y20:Y41)","v":0}]
[]
[]
[null,null,null,null,null,"Checks",{"$f":"G44-Personnel!N1500","v":0},{"$f":"H44-Personnel!O1500","v":0},{"$f":"I44-Personnel!K1500","v":0},{"$f":"J44-Personnel!L1500","v":0},{"$f":"K44-Personnel!M1500","v":0},{"$f":"L44-Personnel!P1500","v":0},{"$f":"M44-Personnel!Q1500","v":0},{"$f":"N44-Personnel!R1500","v":0},{"$f":"O44-Personnel!S1500","v":0},{"$f":"P44-Personnel!T1500","v":0},{"$f":"Q44-Personnel!U1500","v":0},{"$f":"R44-Personnel!V1500","v":0},{"$f":"S44-Personnel!W1500","v":0},{"$f":"T44-Personnel!X1500","v":0},{"$f":"U44-Personnel!Y1500","v":0},{"$f":"V44-Personnel!Z1500","v":0},{"$f":"W44-Personnel!AA1500","v":0}]
[null,null,null,null,null,null,{"$f":"+G13-G44","v":0},{"$f":"+H13-H44","v":0},0,0,0,0,0,0,0,0,0,0,0,0,0,0,0]

{"sheet":"PersonnelTrends","index":31,"n_rows":37,"n_cols":15,"rows_kept":37,"cut":false,"hidden":false,"merged":[[10,8,10,9],[10,10,10,11],[10,12,10,13],[9,6,9,7],[9,8,9,13],[10,6,10,7]]}
[]
[]
[null,null,null,null,null,null,null,null,null,"Red",null,"This colour signifies that there is more than 10% increase year on year growth rates on the number of employees"]
[null,null,null,null,null,null,null,null,null,"Green",null,"This colour signifies that there is more than 8% increase year on year growth rates on the unit cost"]
[null,null,null,null,null,null,null,null,null,"Orange",null,"This colour signifies that there is more than 10% decrease year on year growth rates on the number of employees"]
[null,null,null,null,null,"PE No",{"$f":"Settings!$O$2","v":"PE196"},null,null,"Purple",null,"This colour signifies that there is more than 8% decrease year on year growth rates on the unit cost"]
[null,null,null,null,null,"Entity name",{"$f":"Settings!$D$2","v":"Transnet Limited"}]
[]
[]
[null,null,null,null,null,null,"Revised estimates",null,"Medium-term expenditure estimate"]
[null,null,null,null,null,null,{"$f":"MyYear0","v":"2022/23"},null,{"$f":"MyYearP1","v":"2023/24"},null,{"$f":"MyYearP2","v":"2024/25"},null,{"$f":"MyYearP3","v":"2025/26"},null,"Trends explanations"]
[null,null,null,null,null,"Salary level","Number \n(% change)","Unit cost \n(% change)","Number \n(% change)","Unit cost \n(% change)","Number \n(% change)","Unit cost \n(% change)","Number \n(% change)","Unit cost \n(% change)"]
[null,null,null,null,null,1,{"$f":"IFERROR((PersonnelPub!L20-PersonnelPub!I20)/PersonnelPub!I20,0)","v":0},{"$f":"IFERROR((PersonnelPub!N20-PersonnelPub!K20)/PersonnelPub!K20,0)","v":0},{"$f":"IFERROR((PersonnelPub!O20-PersonnelPub!L20)/PersonnelPub!L20,0)","v":0},{"$f":"IFERROR((PersonnelPub!Q20-PersonnelPub!N20)/PersonnelPub!N20,0)","v":0},{"$f":"IFERROR((PersonnelPub!R20-PersonnelPub!O20)/PersonnelPub!O20,0)","v":0},{"$f":"IFERROR((PersonnelPub!T20-PersonnelPub!Q20)/PersonnelPub!Q20,0)","v":0},{"$f":"IFERROR((PersonnelPub!U20-PersonnelPub!R20)/PersonnelPub!R20,0)","v":0},{"$f":"IFERROR((PersonnelPub!W20-PersonnelPub!T20)/PersonnelPub!T20,0)","v":0},0]
[null,null,null,null,null,2,{"$f":"IFERROR((PersonnelPub!L21-PersonnelPub!I21)/PersonnelPub!I21,0)","v":0},{"$f":"IFERROR((PersonnelPub!N21-PersonnelPub!K21)/PersonnelPub!K21,0)","v":0},{"$f":"IFERROR((PersonnelPub!O21-PersonnelPub!L21)/PersonnelPub!L21,0)","v":0},{"$f":"IFERROR((PersonnelPub!Q21-PersonnelPub!N21)/PersonnelPub!N21,0)","v":0},{"$f":"IFERROR((PersonnelPub!R21-PersonnelPub!O21)/PersonnelPub!O21,0)","v":0},{"$f":"IFERROR((PersonnelPub!T21-PersonnelPub!Q21)/PersonnelPub!Q21,0)","v":0},{"$f":"IFERROR((PersonnelPub!U21-PersonnelPub!R21)/PersonnelPub!R21,0)","v":0},{"$f":"IFERROR((PersonnelPub!W21-PersonnelPub!T21)/PersonnelPub!T21,0)","v":0},0]
[null,null,null,null,null,3,{"$f":"IFERROR((PersonnelPub!L22-PersonnelPub!I22)/PersonnelPub!I22,0)","v":0},{"$f":"IFERROR((PersonnelPub!N22-PersonnelPub!K22)/PersonnelPub!K22,0)","v":0},{"$f":"IFERROR((PersonnelPub!O22-PersonnelPub!L22)/PersonnelPub!L22,0)","v":0},{"$f":"IFERROR((PersonnelPub!Q22-PersonnelPub!N22)/PersonnelPub!N22,0)","v":0},{"$f":"IFERROR((PersonnelPub!R22-PersonnelPub!O22)/PersonnelPub!O22,0)","v":0},{"$f":"IFERROR((PersonnelPub!T22-PersonnelPub!Q22)/PersonnelPub!Q22,0)","v":0},{"$f":"IFERROR((PersonnelPub!U22-PersonnelPub!R22)/PersonnelPub!R22,0)","v":0},{"$f":"IFERROR((PersonnelPub!W22-PersonnelPub!T22)/PersonnelPub!T22,0)","v":0},0]
[null,null,null,null,null,4,{"$f":"IFERROR((PersonnelPub!L23-PersonnelPub!I23)/PersonnelPub!I23,0)","v":0},{"$f":"IFERROR((PersonnelPub!N23-PersonnelPub!K23)/PersonnelPub!K23,0)","v":0},{"$f":"IFERROR((PersonnelPub!O23-PersonnelPub!L23)/PersonnelPub!L23,0)","v":0},{"$f":"IFERROR((PersonnelPub!Q23-PersonnelPub!N23)/PersonnelPub!N23,0)","v":0},{"$f":"IFERROR((PersonnelPub!R23-PersonnelPub!O23)/PersonnelPub!O23,0)","v":0},{"$f":"IFERROR((PersonnelPub!T23-PersonnelPub!Q23)/PersonnelPub!Q23,0)","v":0},{"$f":"IFERROR((PersonnelPub!U23-PersonnelPub!R23)/PersonnelPub!R23,0)","v":0},{"$f":"IFERROR((PersonnelPub!W23-PersonnelPub!T23)/PersonnelPub!T23,0)","v":0},0]
[null,null,null,null,null,5,{"$f":"IFERROR((PersonnelPub!L24-PersonnelPub!I24)/PersonnelPub!I24,0)","v":0},{"$f":"IFERROR((PersonnelPub!N24-PersonnelPub!K24)/PersonnelPub!K24,0)","v":0},{"$f":"IFERROR((PersonnelPub!O24-PersonnelPub!L24)/PersonnelPub!L24,0)","v":0},{"$f":"IFERROR((PersonnelPub!Q24-PersonnelPub!N24)/PersonnelPub!N24,0)","v":0},{"$f":"IFERROR((PersonnelPub!R24-PersonnelPub!O24)/PersonnelPub!O24,0)","v":0},{"$f":"IFERROR((PersonnelPub!T24-PersonnelPub!Q24)/PersonnelPub!Q24,0)","v":0},{"$f":"IFERROR((PersonnelPub!U24-PersonnelPub!R24)/PersonnelPub!R24,0)","v":0},{"$f":"IFERROR((PersonnelPub!W24-PersonnelPub!T24)/PersonnelPub!T24,0)","v":0},0]
[null,null,null,null,null,6,{"$f":"IFERROR((PersonnelPub!L25-PersonnelPub!I25)/PersonnelPub!I25,0)","v":0},{"$f":"IFERROR((PersonnelPub!N25-PersonnelPub!K25)/PersonnelPub!K25,0)","v":0},{"$f":"IFERROR((PersonnelPub!O25-PersonnelPub!L25)/PersonnelPub!L25,0)","v":0},{"$f":"IFERROR((PersonnelPub!Q25-PersonnelPub!N25)/PersonnelPub!N25,0)","v":0},{"$f":"IFERROR((PersonnelPub!R25-PersonnelPub!O25)/PersonnelPub!O25,0)","v":0},{"$f":"IFERROR((PersonnelPub!T25-PersonnelPub!Q25)/PersonnelPub!Q25,0)","v":0},{"$f":"IFERROR((PersonnelPub!U25-PersonnelPub!R25)/PersonnelPub!R25,0)","v":0},{"$f":"IFERROR((PersonnelPub!W25-PersonnelPub!T25)/PersonnelPub!T25,0)","v":0},0]
[null,null,null,null,null,7,{"$f":"IFERROR((PersonnelPub!L26-PersonnelPub!I26)/PersonnelPub!I26,0)","v":0},{"$f":"IFERROR((PersonnelPub!N26-PersonnelPub!K26)/PersonnelPub!K26,0)","v":0},{"$f":"IFERROR((PersonnelPub!O26-PersonnelPub!L26)/PersonnelPub!L26,0)","v":0},{"$f":"IFERROR((PersonnelPub!Q26-PersonnelPub!N26)/PersonnelPub!N26,0)","v":0},{"$f":"IFERROR((PersonnelPub!R26-PersonnelPub!O26)/PersonnelPub!O26,0)","v":0},{"$f":"IFERROR((PersonnelPub!T26-PersonnelPub!Q26)/PersonnelPub!Q26,0)","v":0},{"$f":"IFERROR((PersonnelPub!U26-PersonnelPub!R26)/PersonnelPub!R26,0)","v":0},{"$f":"IFERROR((PersonnelPub!W26-PersonnelPub!T26)/PersonnelPub!T26,0)","v":0},0]
[null,null,null,null,null,8,{"$f":"IFERROR((PersonnelPub!L27-PersonnelPub!I27)/PersonnelPub!I27,0)","v":0},{"$f":"IFERROR((PersonnelPub!N27-PersonnelPub!K27)/PersonnelPub!K27,0)","v":0},{"$f":"IFERROR((PersonnelPub!O27-PersonnelPub!L27)/PersonnelPub!L27,0)","v":0},{"$f":"IFERROR((PersonnelPub!Q27-PersonnelPub!N27)/PersonnelPub!N27,0)","v":0},{"$f":"IFERROR((PersonnelPub!R27-PersonnelPub!O27)/PersonnelPub!O27,0)","v":0},{"$f":"IFERROR((PersonnelPub!T27-PersonnelPub!Q27)/PersonnelPub!Q27,0)","v":0},{"$f":"IFERROR((PersonnelPub!U27-PersonnelPub!R27)/PersonnelPub!R27,0)","v":0},{"$f":"IFERROR((PersonnelPub!W27-PersonnelPub!T27)/PersonnelPub!T27,0)","v":0},0]
[null,null,null,null,null,9,{"$f":"IFERROR((PersonnelPub!L28-PersonnelPub!I28)/PersonnelPub!I28,0)","v":0},{"$f":"IFERROR((PersonnelPub!N28-PersonnelPub!K28)/PersonnelPub!K28,0)","v":0},{"$f":"IFERROR((PersonnelPub!O28-PersonnelPub!L28)/PersonnelPub!L28,0)","v":0},{"$f":"IFERROR((PersonnelPub!Q28-PersonnelPub!N28)/PersonnelPub!N28,0)","v":0},{"$f":"IFERROR((PersonnelPub!R28-PersonnelPub!O28)/PersonnelPub!O28,0)","v":0},{"$f":"IFERROR((PersonnelPub!T28-PersonnelPub!Q28)/PersonnelPub!Q28,0)","v":0},{"$f":"IFERROR((PersonnelPub!U28-PersonnelPub!R28)/PersonnelPub!R28,0)","v":0},{"$f":"IFERROR((PersonnelPub!W28-PersonnelPub!T28)/PersonnelPub!T28,0)","v":0},0]
[null,null,null,null,null,10,{"$f":"IFERROR((PersonnelPub!L29-PersonnelPub!I29)/PersonnelPub!I29,0)","v":0},{"$f":"IFERROR((PersonnelPub!N29-PersonnelPub!K29)/PersonnelPub!K29,0)","v":0},{"$f":"IFERROR((PersonnelPub!O29-PersonnelPub!L29)/PersonnelPub!L29,0)","v":0},{"$f":"IFERROR((PersonnelPub!Q29-PersonnelPub!N29)/PersonnelPub!N29,0)","v":0},{"$f":"IFERROR((PersonnelPub!R29-PersonnelPub!O29)/PersonnelPub!O29,0)","v":0},{"$f":"IFERROR((PersonnelPub!T29-PersonnelPub!Q29)/PersonnelPub!Q29,0)","v":0},{"$f":"IFERROR((PersonnelPub!U29-PersonnelPub!R29)/PersonnelPub!R29,0)","v":0},{"$f":"IFERROR((PersonnelPub!W29-PersonnelPub!T29)/PersonnelPub!T29,0)","v":0},0]
[null,null,null,null,null,11,{"$f":"IFERROR((PersonnelPub!L30-PersonnelPub!I30)/PersonnelPub!I30,0)","v":0},{"$f":"IFERROR((PersonnelPub!N30-PersonnelPub!K30)/PersonnelPub!K30,0)","v":0},{"$f":"IFERROR((PersonnelPub!O30-PersonnelPub!L30)/PersonnelPub!L30,0)","v":0},{"$f":"IFERROR((PersonnelPub!Q30-PersonnelPub!N30)/PersonnelPub!N30,0)","v":0},{"$f":"IFERROR((PersonnelPub!R30-PersonnelPub!O30)/PersonnelPub!O30,0)","v":0},{"$f":"IFERROR((PersonnelPub!T30-PersonnelPub!Q30)/PersonnelPub!Q30,0)","v":0},{"$f":"IFERROR((PersonnelPub!U30-PersonnelPub!R30)/PersonnelPub!R30,0)","v":0},{"$f":"IFERROR((PersonnelPub!W30-PersonnelPub!T30)/PersonnelPub!T30,0)","v":0},0]
[null,null,null,null,null,12,{"$f":"IFERROR((PersonnelPub!L31-PersonnelPub!I31)/PersonnelPub!I31,0)","v":0},{"$f":"IFERROR((PersonnelPub!N31-PersonnelPub!K31)/PersonnelPub!K31,0)","v":0},{"$f":"IFERROR((PersonnelPub!O31-PersonnelPub!L31)/PersonnelPub!L31,0)","v":0},{"$f":"IFERROR((PersonnelPub!Q31-PersonnelPub!N31)/PersonnelPub!N31,0)","v":0},{"$f":"IFERROR((PersonnelPub!R31-PersonnelPub!O31)/PersonnelPub!O31,0)","v":0},{"$f":"IFERROR((PersonnelPub!T31-PersonnelPub!Q31)/PersonnelPub!Q31,0)","v":0},{"$f":"IFERROR((PersonnelPub!U31-PersonnelPub!R31)/PersonnelPub!R31,0)","v":0},{"$f":"IFERROR((PersonnelPub!W31-PersonnelPub!T31)/PersonnelPub!T31,0)","v":0},0]
[null,null,null,null,null,13,{"$f":"IFERROR((PersonnelPub!L32-PersonnelPub!I32)/PersonnelPub!I32,0)","v":0},{"$f":"IFERROR((PersonnelPub!N32-PersonnelPub!K32)/PersonnelPub!K32,0)","v":0},{"$f":"IFERROR((PersonnelPub!O32-PersonnelPub!L32)/PersonnelPub!L32,0)","v":0},{"$f":"IFERROR((PersonnelPub!Q32-PersonnelPub!N32)/PersonnelPub!N32,0)","v":0},{"$f":"IFERROR((PersonnelPub!R32-PersonnelPub!O32)/PersonnelPub!O32,0)","v":0},{"$f":"IFERROR((PersonnelPub!T32-PersonnelPub!Q32)/PersonnelPub!Q32,0)","v":0},{"$f":"IFERROR((PersonnelPub!U32-PersonnelPub!R32)/PersonnelPub!R32,0)","v":0},{"$f":"IFERROR((PersonnelPub!W32-PersonnelPub!T32)/PersonnelPub!T32,0)","v":0},0]
[null,null,null,null,null,14,{"$f":"IFERROR((PersonnelPub!L33-PersonnelPub!I33)/PersonnelPub!I33,0)","v":0},{"$f":"IFERROR((PersonnelPub!N33-PersonnelPub!K33)/PersonnelPub!K33,0)","v":0},{"$f":"IFERROR((PersonnelPub!O33-PersonnelPub!L33)/PersonnelPub!L33,0)","v":0},{"$f":"IFERROR((PersonnelPub!Q33-PersonnelPub!N33)/PersonnelPub!N33,0)","v":0},{"$f":"IFERROR((PersonnelPub!R33-PersonnelPub!O33)/PersonnelPub!O33,0)","v":0},{"$f":"IFERROR((PersonnelPub!T33-PersonnelPub!Q33)/PersonnelPub!Q33,0)","v":0},{"$f":"IFERROR((PersonnelPub!U33-PersonnelPub!R33)/PersonnelPub!R33,0)","v":0},{"$f":"IFERROR((PersonnelPub!W33-PersonnelPub!T33)/PersonnelPub!T33,0)","v":0},0]
[null,null,null,null,null,15,{"$f":"IFERROR((PersonnelPub!L34-PersonnelPub!I34)/PersonnelPub!I34,0)","v":0},{"$f":"IFERROR((PersonnelPub!N34-PersonnelPub!K34)/PersonnelPub!K34,0)","v":0},{"$f":"IFERROR((PersonnelPub!O34-PersonnelPub!L34)/PersonnelPub!L34,0)","v":0},{"$f":"IFERROR((PersonnelPub!Q34-PersonnelPub!N34)/PersonnelPub!N34,0)","v":0},{"$f":"IFERROR((PersonnelPub!R34-PersonnelPub!O34)/PersonnelPub!O34,0)","v":0},{"$f":"IFERROR((PersonnelPub!T34-PersonnelPub!Q34)/PersonnelPub!Q34,0)","v":0},{"$f":"IFERROR((PersonnelPub!U34-PersonnelPub!R34)/PersonnelPub!R34,0)","v":0},{"$f":"IFERROR((PersonnelPub!W34-PersonnelPub!T34)/PersonnelPub!T34,0)","v":0},0]
[null,null,null,null,null,16,{"$f":"IFERROR((PersonnelPub!L35-PersonnelPub!I35)/PersonnelPub!I35,0)","v":0},{"$f":"IFERROR((PersonnelPub!N35-PersonnelPub!K35)/PersonnelPub!K35,0)","v":0},{"$f":"IFERROR((PersonnelPub!O35-PersonnelPub!L35)/PersonnelPub!L35,0)","v":0},{"$f":"IFERROR((PersonnelPub!Q35-PersonnelPub!N35)/PersonnelPub!N35,0)","v":0},{"$f":"IFERROR((PersonnelPub!R35-PersonnelPub!O35)/PersonnelPub!O35,0)","v":0},{"$f":"IFERROR((PersonnelPub!T35-PersonnelPub!Q35)/PersonnelPub!Q35,0)","v":0},{"$f":"IFERROR((PersonnelPub!U35-PersonnelPub!R35)/PersonnelPub!R35,0)","v":0},{"$f":"IFERROR((PersonnelPub!W35-PersonnelPub!T35)/PersonnelPub!T35,0)","v":0},0]
[null,null,null,null,null,17,{"$f":"IFERROR((PersonnelPub!L36-PersonnelPub!I36)/PersonnelPub!I36,0)","v":0},{"$f":"IFERROR((PersonnelPub!N36-PersonnelPub!K36)/PersonnelPub!K36,0)","v":0},{"$f":"IFERROR((PersonnelPub!O36-PersonnelPub!L36)/PersonnelPub!L36,0)","v":0},{"$f":"IFERROR((PersonnelPub!Q36-PersonnelPub!N36)/PersonnelPub!N36,0)","v":0},{"$f":"IFERROR((PersonnelPub!R36-PersonnelPub!O36)/PersonnelPub!O36,0)","v":0},{"$f":"IFERROR((PersonnelPub!T36-PersonnelPub!Q36)/PersonnelPub!Q36,0)","v":0},{"$f":"IFERROR((PersonnelPub!U36-PersonnelPub!R36)/PersonnelPub!R36,0)","v":0},{"$f":"IFERROR((PersonnelPub!W36-PersonnelPub!T36)/PersonnelPub!T36,0)","v":0},0]
[null,null,null,null,null,18,{"$f":"IFERROR((PersonnelPub!L37-PersonnelPub!I37)/PersonnelPub!I37,0)","v":0},{"$f":"IFERROR((PersonnelPub!N37-PersonnelPub!K37)/PersonnelPub!K37,0)","v":0},{"$f":"IFERROR((PersonnelPub!O37-PersonnelPub!L37)/PersonnelPub!L37,0)","v":0},{"$f":"IFERROR((PersonnelPub!Q37-PersonnelPub!N37)/PersonnelPub!N37,0)","v":0},{"$f":"IFERROR((PersonnelPub!R37-PersonnelPub!O37)/PersonnelPub!O37,0)","v":0},{"$f":"IFERROR((PersonnelPub!T37-PersonnelPub!Q37)/PersonnelPub!Q37,0)","v":0},{"$f":"IFERROR((PersonnelPub!U37-PersonnelPub!R37)/PersonnelPub!R37,0)","v":0},{"$f":"IFERROR((PersonnelPub!W37-PersonnelPub!T37)/PersonnelPub!T37,0)","v":0},0]
[null,null,null,null,null,19,{"$f":"IFERROR((PersonnelPub!L38-PersonnelPub!I38)/PersonnelPub!I38,0)","v":0},{"$f":"IFERROR((PersonnelPub!N38-PersonnelPub!K38)/PersonnelPub!K38,0)","v":0},{"$f":"IFERROR((PersonnelPub!O38-PersonnelPub!L38)/PersonnelPub!L38,0)","v":0},{"$f":"IFERROR((PersonnelPub!Q38-PersonnelPub!N38)/PersonnelPub!N38,0)","v":0},{"$f":"IFERROR((PersonnelPub!R38-PersonnelPub!O38)/PersonnelPub!O38,0)","v":0},{"$f":"IFERROR((PersonnelPub!T38-PersonnelPub!Q38)/PersonnelPub!Q38,0)","v":0},{"$f":"IFERROR((PersonnelPub!U38-PersonnelPub!R38)/PersonnelPub!R38,0)","v":0},{"$f":"IFERROR((PersonnelPub!W38-PersonnelPub!T38)/PersonnelPub!T38,0)","v":0},0]
[null,null,null,null,null,20,{"$f":"IFERROR((PersonnelPub!L39-PersonnelPub!I39)/PersonnelPub!I39,0)","v":0},{"$f":"IFERROR((PersonnelPub!N39-PersonnelPub!K39)/PersonnelPub!K39,0)","v":0},{"$f":"IFERROR((PersonnelPub!O39-PersonnelPub!L39)/PersonnelPub!L39,0)","v":0},{"$f":"IFERROR((PersonnelPub!Q39-PersonnelPub!N39)/PersonnelPub!N39,0)","v":0},{"$f":"IFERROR((PersonnelPub!R39-PersonnelPub!O39)/PersonnelPub!O39,0)","v":0},{"$f":"IFERROR((PersonnelPub!T39-PersonnelPub!Q39)/PersonnelPub!Q39,0)","v":0},{"$f":"IFERROR((PersonnelPub!U39-PersonnelPub!R39)/PersonnelPub!R39,0)","v":0},{"$f":"IFERROR((PersonnelPub!W39-PersonnelPub!T39)/PersonnelPub!T39,0)","v":0},0]
[null,null,null,null,null,21,{"$f":"IFERROR((PersonnelPub!L40-PersonnelPub!I40)/PersonnelPub!I40,0)","v":0},{"$f":"IFERROR((PersonnelPub!N40-PersonnelPub!K40)/PersonnelPub!K40,0)","v":0},{"$f":"IFERROR((PersonnelPub!O40-PersonnelPub!L40)/PersonnelPub!L40,0)","v":0},{"$f":"IFERROR((PersonnelPub!Q40-PersonnelPub!N40)/PersonnelPub!N40,0)","v":0},{"$f":"IFERROR((PersonnelPub!R40-PersonnelPub!O40)/PersonnelPub!O40,0)","v":0},{"$f":"IFERROR((PersonnelPub!T40-PersonnelPub!Q40)/PersonnelPub!Q40,0)","v":0},{"$f":"IFERROR((PersonnelPub!U40-PersonnelPub!R40)/PersonnelPub!R40,0)","v":0},{"$f":"IFERROR((PersonnelPub!W40-PersonnelPub!T40)/PersonnelPub!T40,0)","v":0},0]
[null,null,null,null,null,22,{"$f":"IFERROR((PersonnelPub!L41-PersonnelPub!I41)/PersonnelPub!I41,0)","v":0},{"$f":"IFERROR((PersonnelPub!N41-PersonnelPub!K41)/PersonnelPub!K41,0)","v":0},{"$f":"IFERROR((PersonnelPub!O41-PersonnelPub!L41)/PersonnelPub!L41,0)","v":0},{"$f":"IFERROR((PersonnelPub!Q41-PersonnelPub!N41)/PersonnelPub!N41,0)","v":0},{"$f":"IFERROR((PersonnelPub!R41-PersonnelPub!O41)/PersonnelPub!O41,0)","v":0},{"$f":"IFERROR((PersonnelPub!T41-PersonnelPub!Q41)/PersonnelPub!Q41,0)","v":0},{"$f":"IFERROR((PersonnelPub!U41-PersonnelPub!R41)/PersonnelPub!R41,0)","v":0},{"$f":"IFERROR((PersonnelPub!W41-PersonnelPub!T41)/PersonnelPub!T41,0)","v":0},0]
[null,null,null,null,null,"of  which",null,null,null,null,null,null,null,null,0]
[null,null,null,null,null,"Performance rewards",null,null,null,null,null,null,null,null,0]
[null,null,null,null,null,"Total",{"$f":"IFERROR((PersonnelPub!L44-PersonnelPub!I44)/PersonnelPub!I44,0)","v":0},{"$f":"IFERROR((PersonnelPub!N44-PersonnelPub!K44)/PersonnelPub!K44,0)","v":0},{"$f":"IFERROR((PersonnelPub!O44-PersonnelPub!L44)/PersonnelPub!L44,0)","v":0},{"$f":"IFERROR((PersonnelPub!Q44-PersonnelPub!N44)/PersonnelPub!N44,0)","v":0},{"$f":"IFERROR((PersonnelPub!R44-PersonnelPub!O44)/PersonnelPub!O44,0)","v":0},{"$f":"IFERROR((PersonnelPub!T44-PersonnelPub!Q44)/PersonnelPub!Q44,0)","v":0},{"$f":"IFERROR((PersonnelPub!U44-PersonnelPub!R44)/PersonnelPub!R44,0)","v":0},{"$f":"IFERROR((PersonnelPub!W44-PersonnelPub!T44)/PersonnelPub!T44,0)","v":0}]

{"sheet":"PerformInfoPub","index":32,"n_rows":725,"n_cols":36,"rows_kept":725,"cut":false,"hidden":false,"merged":[]}
[null,null,null,null,null,null,null,null,null,null,null,null,null,null,null,null,null,null,null,null,null,"Force hide","Evaluate",{"$f":"IF(W1=1,IF(OR(G1<>0,I1<>0,J1<>0,K1<>0,L1<>0,M1<>0,N1<>0),1,0),1)","v":1},{"$f":"IF(V1=5,0,X1)","v":1},null,null,null,"Selected performance and operations indicators",null,null,null,"Last Column:","I",9,67]
[null,null,null,null,null,null,null,null,null,null,null,null,null,null,null,null,null,null,"Table number","B 1",null,null,null,{"$f":"IF(W2=1,IF(OR(G2<>0,I2<>0,J2<>0,K2<>0,L2<>0,M2<>0,N2<>0),1,0),1)","v":1},1,null,null,null,{"$f":"Settings!$E$2","v":"Transnet Limited"},null,null,null,null,null,null,{"$f":"SUM(F1:OFFSET(F1,0,AI1))","v":0}]
[]
[]
[]
[null,null,null,null,null,"PE No",{"$f":"Settings!$O$2","v":"PE196"}]
[null,null,null,null,null,"Entity name",{"$f":"Settings!$D$2","v":"Transnet Limited"}]
[]
[null,null,null,null,null,{"$f":"\"Table\"&\" \"&T2&\" \"&AC2&\":\"&\" \"&AC1","v":"Table B 1 Transnet Limited: Selected performance and operations indicators"},null,null,null,null,null,null,null,null,null,null,null,null,null,null,null,null,null,{"$f":"IF(W9=1,IF(OR(G9<>0,I9<>0,J9<>0,K9<>0,L9<>0,M9<>0,N9<>0),1,0),1)","v":1},1,null,null,null,null,null,null,null,"Text Column:","A",1,{"$f":"AJ1-AJ2","v":67}]
[null,null,null,null,null,"Indicator","Programme/Activity/ Objective","Priorities","Past",null,null,"Current","Projected",null,null,null,null,null,null,null,null,null,null,{"$f":"IF(W10=1,IF(OR(G10<>0,I10<>0,J10<>0,K10<>0,L10<>0,M10<>0,N10<>0,I<>0),1,0),1)","v":1},1]
["Item_ID",null,null,null,null,null,null,null,{"$f":"MyYearM3","v":"2019/20"},{"$f":"MyYearM2","v":"2020/21"},{"$f":"MyYearM1","v":"2021/22"},{"$f":"MyYear0","v":"2022/23"},{"$f":"MyYearP1","v":"2023/24"},{"$f":"MyYearP2","v":"2024/25"},{"$f":"MyYearP3","v":"2025/26"},null,null,null,null,null,null,null,null,{"$f":"IF(W11=1,IF(OR(G11<>0,I11<>0,J11<>0,K11<>0,L11<>0,M11<>0,N11<>0,I<>0),1,0),1)","v":1},1]
[1,null,null,null,null,0,0,0,0,0,0,0,0,0,0," ",null,null,null,null,null,null,1,{"$f":"IF(W12=1,IF(OR(G12<>0,I12<>0,J12<>0,K12<>0,L12<>0,M12<>0,N12<>0,O12<>0),1,0),1)","v":0},0]
[{"$f":"A12+1","v":2},null,null,null,null,0,0,0,0,0,0,0,0,0,0," ",null,null,null,null,null,null,1,{"$f":"IF(W13=1,IF(OR(G13<>0,I13<>0,J13<>0,K13<>0,L13<>0,M13<>0,N13<>0,O13<>0),1,0),1)","v":0},0]
[{"$f":"A13+1","v":3},null,null,null,null,0,0,0,0,0,0,0,0,0,0," ",null,null,null,null,null,null,1,0,0]
[4,null,null,null,null,0,0,0,0,0,0,0,0,0,0," ",null,null,null,null,null,null,1,0,0]
[5,null,null,null,null,0,0,0,0,0,0,0,0,0,0," ",null,null,null,null,null,null,1,0,0]
[6,null,null,null,null,0,0,0,0,0,0,0,0,0,0," ",null,null,null,null,null,null,1,0,0]
[7,null,null,null,null,0,0,0,0,0,0,0,0,0,0," ",null,null,null,null,null,null,1,0,0]
[8,null,null,null,null,0,0,0,0,0,0,0,0,0,0," ",null,null,null,null,null,null,1,0,0]
[9,null,null,null,null,0,0,0,0,0,0,0,0,0,0," ",null,null,null,null,null,null,1,0,0]
[10,null,null,null,null,0,0,0,0,0,0,0,0,0,0," ",null,null,null,null,null,null,1,0,0]
[11,null,null,null,null,0,0,0,0,0,0,0,0,0,0," ",null,null,null,null,null,null,1,0,0]
[12,null,null,null,null,0,0,0,0,0,0,0,0,0,0," ",null,null,null,null,null,null,1,0,0]
[13,null,null,null,null,0,0,0,0,0,0,0,0,0,0," ",null,null,null,null,null,null,1,0,0]
[14,null,null,null,null,0,0,0,0,0,0,0,0,0,0," ",null,null,null,null,null,null,1,0,0]
[15,null,null,null,null,0,0,0,0,0,0,0,0,0,0," ",null,null,null,null,null,null,1,0,0]
[16,null,null,null,null,0,0,0,0,0,0,0,0,0,0," ",null,null,null,null,null,null,1,0,0]
[17,null,null,null,null,0,0,0,0,0,0,0,0,0,0," ",null,null,null,null,null,null,1,0,0]
[18,null,null,null,null,0,0,0,0,0,0,0,0,0,0," ",null,null,null,null,null,null,1,0,0]
[19,null,null,null,null,0,0,0,0,0,0,0,0,0,0," ",null,null,null,null,null,null,1,0,0]
[20,null,null,null,null,0,0,0,0,0,0,0,0,0,0," ",null,null,null,null,null,null,1,0,0]
[21,null,null,null,null,0,0,0,0,0,0,0,0,0,0," ",null,null,null,null,null,null,1,0,0]
[22,null,null,null,null,0,0,0,0,0,0,0,0,0,0," ",null,null,null,null,null,null,1,0,0]
[23,null,null,null,null,0,0,0,0,0,0,0,0,0,0," ",null,null,null,null,null,null,1,0,0]
[24,null,null,null,null,0,0,0,0,0,0,0,0,0,0," ",null,null,null,null,null,null,1,0,0]
[25,null,null,null,null,0,0,0,0,0,0,0,0,0,0," ",null,null,null,null,null,null,1,0,0]
[26,null,null,null,null,0,0,0,0,0,0,0,0,0,0," ",null,null,null,null,null,null,1,0,0]
[27,null,null,null,null,0,0,0,0,0,0,0,0,0,0," ",null,null,null,null,null,null,1,0,0]
[28,null,null,null,null,0,0,0,0,0,0,0,0,0,0," ",null,null,null,null,null,null,1,0,0]
[29,null,null,null,null,0,0,0,0,0,0,0,0,0,0," ",null,null,null,null,null,null,1,0,0]
[30,null,null,null,null,0,0,0,0,0,0,0,0,0,0," ",null,null,null,null,null,null,1,0,0]
[31,null,null,null,null,0,0,0,0,0,0,0,0,0,0," ",null,null,null,null,null,null,1,0,0]
[32,null,null,null,null,0,0,0,0,0,0,0,0,0,0," ",null,null,null,null,null,null,1,0,0]
[33,null,null,null,null,0,0,0,0,0,0,0,0,0,0," ",null,null,null,null,null,null,1,0,0]
[34,null,null,null,null,0,0,0,0,0,0,0,0,0,0," ",null,null,null,null,null,null,1,0,0]
[35,null,null,null,null,0,0,0,0,0,0,0,0,0,0," ",null,null,null,null,null,null,1,0,0]
[36,null,null,null,null,0,0,0,0,0,0,0,0,0,0," ",null,null,null,null,null,null,1,0,0]
[37,null,null,null,null,0,0,0,0,0,0,0,0,0,0," ",null,null,null,null,null,null,1,0,0]
[38,null,null,null,null,0,0,0,0,0,0,0,0,0,0," ",null,null,null,null,null,null,1,0,0]
[39,null,null,null,null,0,0,0,0,0,0,0,0,0,0," ",null,null,null,null,null,null,1,0,0]
[40,null,null,null,null,0,0,0,0,0,0,0,0,0,0," ",null,null,null,null,null,null,1,0,0]
[41,null,null,null,null,0,0,0,0,0,0,0,0,0,0," ",null,null,null,null,null,null,1,0,0]
[42,null,null,null,null,0,0,0,0,0,0,0,0,0,0," ",null,null,null,null,null,null,1,0,0]
[43,null,null,null,null,0,0,0,0,0,0,0,0,0,0," ",null,null,null,null,null,null,1,0,0]
[44,null,null,null,null,0,0,0,0,0,0,0,0,0,0," ",null,null,null,null,null,null,null,{"$f":"IF(W55=1,IF(OR(G55<>0,I55<>0,J55<>0,K55<>0,L55<>0,M55<>0,N55<>0,O55<>0),1,0),1)","v":1},1]
[45,null,null,null,null,0,0,0,0,0,0,0,0,0,0," ",null,null,null,null,null,null,null,1,1]
[46,null,null,null,null,0,0,0,0,0,0,0,0,0,0," ",null,null,null,null,null,null,null,1,1]
[47,null,null,null,null,0,0,0,0,0,0,0,0,0,0," ",null,null,null,null,null,null,null,1,1]
[48,null,null,null,null,0,0,0,0,0,0,0,0,0,0," "]
[49,null,null,null,null,0,0,0,0,0,0,0,0,0,0," "]
[50,null,null,null,null,0,0,0,0,0,0,0,0,0,0," "]
[51,null,null,null,null,0,0,0,0,0,0,0,0,0,0," "]
[52,null,null,null,null,0,0,0,0,0,0,0,0,0,0," "]
[53,null,null,null,null,0,0,0,0,0,0,0,0,0,0," "]
[54,null,null,null,null,0,0,0,0,0,0,0,0,0,0," "]
[55,null,null,null,null,0,0,0,0,0,0,0,0,0,0," "]
[56,null,null,null,null,0,0,0,0,0,0,0,0,0,0," "]
[57,null,null,null,null,0,0,0,0,0,0,0,0,0,0," "]
[58,null,null,null,null,0,0,0,0,0,0,0,0,0,0," "]
[59,null,null,null,null,0,0,0,0,0,0,0,0,0,0," "]
[60,null,null,null,null,0,0,0,0,0,0,0,0,0,0," "]
[61,null,null,null,null,0,0,0,0,0,0,0,0,0,0," "]
[62,null,null,null,null,0,0,0,0,0,0,0,0,0,0," "]
[63,null,null,null,null,0,0,0,0,0,0,0,0,0,0," "]
[64,null,null,null,null,0,0,0,0,0,0,0,0,0,0," "]
[65,null,null,null,null,0,0,0,0,0,0,0,0,0,0," "]
[66,null,null,null,null,0,0,0,0,0,0,0,0,0,0," "]
[{"$f":"A77+1","v":67},null,null,null,null,0,0,0,0,0,0,0,0,0,0," "]
[68,null,null,null,null,0,0,0,0,0,0,0,0,0,0," "]
[69,null,null,null,null,0,0,0,0,0,0,0,0,0,0," "]
[70,null,null,null,null,0,0,0,0,0,0,0,0,0,0," "]
[71,null,null,null,null,0,0,0,0,0,0,0,0,0,0," "]
[72,null,null,null,null,0,0,0,0,0,0,0,0,0,0," "]
[73,null,null,null,null,0,0,0,0,0,0,0,0,0,0," "]
[74,null,null,null,null,0,0,0,0,0,0,0,0,0,0," "]
[75,null,null,null,null,0,0,0,0,0,0,0,0,0,0," "]
[76,null,null,null,null,0,0,0,0,0,0,0,0,0,0," "]
[77,null,null,null,null,0,0,0,0,0,0,0,0,0,0," "]
[78,null,null,null,null,0,0,0,0,0,0,0,0,0,0," "]
[79,null,null,null,null,0,0,0,0,0,0,0,0,0,0," "]
[80,null,null,null,null,0,0,0,0,0,0,0,0,0,0," "]
[81,null,null,null,null,0,0,0,0,0,0,0,0,0,0," "]
[82,null,null,null,null,0,0,0,0,0,0,0,0,0,0," "]
[83,null,null,null,null,0,0,0,0,0,0,0,0,0,0," "]
[84,null,null,null,null,0,0,0,0,0,0,0,0,0,0," "]
[85,null,null,null,null,0,0,0,0,0,0,0,0,0,0," "]
[86,null,null,null,null,0,0,0,0,0,0,0,0,0,0," "]
[87,null,null,null,null,0,0,0,0,0,0,0,0,0,0," "]
[88,null,null,null,null,0,0,0,0,0,0,0,0,0,0," "]
[89,null,null,null,null,0,0,0,0,0,0,0,0,0,0," "]
[90,null,null,null,null,0,0,0,0,0,0,0,0,0,0," "]
[91,null,null,null,null,0,0,0,0,0,0,0,0,0,0," "]
[92,null,null,null,null,0,0,0,0,0,0,0,0,0,0," "]
[93,null,null,null,null,0,0,0,0,0,0,0,0,0,0," "]
[94,null,null,null,null,0,0,0,0,0,0,0,0,0,0," "]
[95,null,null,null,null,0,0,0,0,0,0,0,0,0,0," "]
[96,null,null,null,null,0,0,0,0,0,0,0,0,0,0," "]
[97,null,null,null,null,0,0,0,0,0,0,0,0,0,0," "]
[98,null,null,null,null,0,0,0,0,0,0,0,0,0,0," "]
[99,null,null,null,null,0,0,0,0,0,0,0,0,0,0," "]
[100,null,null,null,null,0,0,0,0,0,0,0,0,0,0," "]
[101,null,null,null,null,0,0,0,0,0,0,0,0,0,0," "]
[102,null,null,null,null,0,0,0,0,0,0,0,0,0,0," "]
[103,null,null,null,null,0,0,0,0,0,0,0,0,0,0," "]
[104,null,null,null,null,0,0,0,0,0,0,0,0,0,0," "]
[105,null,null,null,null,0,0,0,0,0,0,0,0,0,0," "]
[106,null,null,null,null,0,0,0,0,0,0,0,0,0,0," "]
[107,null,null,null,null,0,0,0,0,0,0,0,0,0,0," "]
[108,null,null,null,null,0,0,0,0,0,0,0,0,0,0," "]
[109,null,null,null,null,0,0,0,0,0,0,0,0,0,0," "]
[110,null,null,null,null,0,0,0,0,0,0,0,0,0,0," "]
[111,null,null,null,null,0,0,0,0,0,0,0,0,0,0," "]
[112,null,null,null,null,0,0,0,0,0,0,0,0,0,0," "]
[113,null,null,null,null,0,0,0,0,0,0,0,0,0,0," "]
[114,null,null,null,null,0,0,0,0,0,0,0,0,0,0," "]
[115,null,null,null,null,0,0,0,0,0,0,0,0,0,0," "]
[116,null,null,null,null,0,0,0,0,0,0,0,0,0,0," "]
[117,null,null,null,null,0,0,0,0,0,0,0,0,0,0," "]
[118,null,null,null,null,0,0,0,0,0,0,0,0,0,0," "]
[119,null,null,null,null,0,0,0,0,0,0,0,0,0,0," "]
[120,null,null,null,null,0,0,0,0,0,0,0,0,0,0," "]
[121,null,null,null,null,0,0,0,0,0,0,0,0,0,0," "]
[122,null,null,null,null,0,0,0,0,0,0,0,0,0,0," "]
[123,null,null,null,null,0,0,0,0,0,0,0,0,0,0," "]
[124,null,null,null,null,0,0,0,0,0,0,0,0,0,0," "]
[125,null,null,null,null,0,0,0,0,0,0,0,0,0,0," "]
[126,null,null,null,null,0,0,0,0,0,0,0,0,0,0," "]
[127,null,null,null,null,0,0,0,0,0,0,0,0,0,0," "]
[128,null,null,null,null,0,0,0,0,0,0,0,0,0,0," "]
[129,null,null,null,null,0,0,0,0,0,0,0,0,0,0," "]
[130,null,null,null,null,0,0,0,0,0,0,0,0,0,0," "]
[{"$f":"A141+1","v":131},null,null,null,null,0,0,0,0,0,0,0,0,0,0," "]
[132,null,null,null,null,0,0,0,0,0,0,0,0,0,0," "]
[133,null,null,null,null,0,0,0,0,0,0,0,0,0,0," "]
[134,null,null,null,null,0,0,0,0,0,0,0,0,0,0," "]
[135,null,null,null,null,0,0,0,0,0,0,0,0,0,0," "]
[136,null,null,null,null,0,0,0,0,0,0,0,0,0,0," "]
[137,null,null,null,null,0,0,0,0,0,0,0,0,0,0," "]
[138,null,null,null,null,0,0,0,0,0,0,0,0,0,0," "]
[139,null,null,null,null,0,0,0,0,0,0,0,0,0,0," "]
[140,null,null,null,null,0,0,0,0,0,0,0,0,0,0," "]
[141,null,null,null,null,0,0,0,0,0,0,0,0,0,0," "]
[142,null,null,null,null,0,0,0,0,0,0,0,0,0,0," "]
[143,null,null,null,null,0,0,0,0,0,0,0,0,0,0," "]
[144,null,null,null,null,0,0,0,0,0,0,0,0,0,0," "]
[145,null,null,null,null,0,0,0,0,0,0,0,0,0,0," "]
[null,null,null,null,null,0,0,0,0,0,0,0,0,0,0]
[null,null,null,null,null,0,0,0,0,0,0,0,0,0,0]
[null,null,null,null,null,0,0,0,0,0,0,0,0,0,0]
[null,null,null,null,null,0,0,0,0,0,0,0,0,0,0]
[null,null,null,null,null,0,0,0,0,0,0,0,0,0,0]
[null,null,null,null,null,0,0,0,0,0,0,0,0,0,0]
[null,null,null,null,null,0,0,0,0,0,0,0,0,0,0]
[null,null,null,null,null,0,0,0,0,0,0,0,0,0,0]
[null,null,null,null,null,0,0,0,0,0,0,0,0,0,0]
[null,null,null,null,null,0,0,0,0,0,0,0,0,0,0]
[null,null,null,null,null,0,0,0,0,0,0,0,0,0,0]
[null,null,null,null,null,0,0,0,0,0,0,0,0,0,0]
[null,null,null,null,null,0,0,0,0,0,0,0,0,0,0]
[null,null,null,null,null,0,0,0,0,0,0,0,0,0,0]
[null,null,null,null,null,0,0,0,0,0,0,0,0,0,0]
[null,null,null,null,null,0,0,0,0,0,0,0,0,0,0]
[null,null,null,null,null,0,0,0,0,0,0,0,0,0,0]
[null,null,null,null,null,0,0,0,0,0,0,0,0,0,0]
[null,null,null,null,null,0,0,0,0,0,0,0,0,0,0]
[null,null,null,null,null,0,0,0,0,0,0,0,0,0,0]
[null,null,null,null,null,0,0,0,0,0,0,0,0,0,0]
[null,null,null,null,null,0,0,0,0,0,0,0,0,0,0]
[null,null,null,null,null,0,0,0,0,0,0,0,0,0,0]
[null,null,null,null,null,0,0,0,0,0,0,0,0,0,0]
[null,null,null,null,null,0,0,0,0,0,0,0,0,0,0]
[null,null,null,null,null,0,0,0,0,0,0,0,0,0,0]
[null,null,null,null,null,0,0,0,0,0,0,0,0,0,0]
[null,null,null,null,null,0,0,0,0,0,0,0,0,0,0]
[null,null,null,null,null,0,0,0,0,0,0,0,0,0,0]
[null,null,null,null,null,0,0,0,0,0,0,0,0,0,0]
[null,null,null,null,null,0,0,0,0,0,0,0,0,0,0]
[null,null,null,null,null,0,0,0,0,0,0,0,0,0,0]
[null,null,null,null,null,0,0,0,0,0,0,0,0,0,0]
[null,null,null,null,null,0,0,0,0,0,0,0,0,0,0]
[null,null,null,null,null,0,0,0,0,0,0,0,0,0,0]
[null,null,null,null,null,0,0,0,0,0,0,0,0,0,0]
[null,null,null,null,null,0,0,0,0,0,0,0,0,0,0]
[null,null,null,null,null,0,0,0,0,0,0,0,0,0,0]
[null,null,null,null,null,0,0,0,0,0,0,0,0,0,0]
[null,null,null,null,null,0,0,0,0,0,0,0,0,0,0]
[null,null,null,null,null,0,0,0,0,0,0,0,0,0,0]
[null,null,null,null,null,0,0,0,0,0,0,0,0,0,0]
[null,null,null,null,null,0,0,0,0,0,0,0,0,0,0]
[null,null,null,null,null,0,0,0,0,0,0,0,0,0,0]
[null,null,null,null,null,0,0,0,0,0,0,0,0,0,0]
[null,null,null,null,null,0,0,0,0,0,0,0,0,0,0]
[null,null,null,null,null,0,0,0,0,0,0,0,0,0,0]
[null,null,null,null,null,0,0,0,0,0,0,0,0,0,0]
[null,null,null,null,null,0,0,0,0,0,0,0,0,0,0]
[null,null,null,null,null,0,0,0,0,0,0,0,0,0,0]
[null,null,null,null,null,0,0,0,0,0,0,0,0,0,0]
[null,null,null,null,null,0,0,0,0,0,0,0,0,0,0]
[null,null,null,null,null,0,0,0,0,0,0,0,0,0,0]
[null,null,null,null,null,0,0,0,0,0,0,0,0,0,0]
[null,null,null,null,null,0,0,0,0,0,0,0,0,0,0]
[null,null,null,null,null,0,0,0,0,0,0,0,0,0,0]
[]
[]
[]
[]
[]
[]
[]
[]
[]
[]
[]
[]
[]
[]
[]
[]
[]
[]
[]
[]
[]
[]
[]
[]
[]
[]
[]
[]
[]
[]
[]
[]
[]
[]
[]
[]
[]
[]
[]
[]
[]
[]
[]
[]
[]
[]
[]
[]
[]
[]
[]
[]
[]
[]
[]
[]
[]
[]
[]
[]
[]
[]
[]
[]
[]
[]
[]
[]
[]
[]
[]
[]
[]
[]
[]
[]
[]
[]
[]
[]
[]
[]
[]
[]
[]
[]
[]
[]
[]
[]
[]
[]
[]
[]
[]
[]
[]
[]
[]
[]
[]
[]
[]
[]
[]
[]
[]
[]
[]
[]
[]
[]
[]
[]
[]
[]
[]
[]
[]
[]
[]
[]
[]
[]
[]
[]
[]
[]
[]
[]
[]
[]
[]
[]
[]
[]
[]
[]
[]
[]
[]
[]
[]
[]
[]
[]
[]
[]
[]
[]
[]
[]
[]
[]
[]
[]
[]
[]
[]
[]
[]
[]
[]
[]
[]
[]
[]
[]
[]
[]
[]
[]
[]
[]
[]
[]
[]
[]
[]
[]
[]
[]
[]
[]
[]
[]
[]
[]
[]
[]
[]
[]
[]
[]
[]
[]
[]
[]
[]
[]
[]
[]
[]
[]
[]
[]
[]
[]
[]
[]
[]
[]
[]
[]
[]
[]
[]
[]
[]
[]
[]
[]
[]
[]
[]
[]
[]
[]
[]
[]
[]
[]
[]
[]
[]
[]
[]
[]
[]
[]
[]
[]
[]
[]
[]
[]
[]
[]
[]
[]
[]
[]
[]
[]
[]
[]
[]
[]
[]
[]
[]
[]
[]
[]
[]
[]
[]
[]
[]
[]
[]
[]
[]
[]
[]
[]
[]
[]
[]
[]
[]
[]
[]
[]
[]
[]
[null,null,null,null,null,null,null,null,"Past",null,null,"Current","Projected"]
[null,null,null,null,null,"Indicator","Activity/ Objective/ Programme/ Project",null,{"$f":"MyYearM3","v":"2019/20"},{"$f":"MyYearM2","v":"2020/21"},{"$f":"MyYearM1","v":"2021/22"},{"$f":"MyYear0","v":"2022/23"},{"$f":"MyYearP1","v":"2023/24"},{"$f":"MyYearP2","v":"2024/25"},{"$f":"MyYearP3","v":"2025/26"},"indi"]
[null,null,null,null,null,{"$f":"Admin!F11","v":0},{"$f":"Admin!P11","v":0},{"$f":"Admin!G11","v":0},{"$f":"Admin!I11","v":0},{"$f":"Admin!J11","v":0},{"$f":"Admin!K11","v":0},{"$f":"Admin!L11","v":0},{"$f":"Admin!M11","v":0},{"$f":"Admin!N11","v":0},{"$f":"Admin!O11","v":0},{"$f":"Admin!Q11","v":0}]
[null,null,null,null,null,{"$f":"Admin!F12","v":0},{"$f":"Admin!P12","v":0},{"$f":"Admin!G12","v":0},{"$f":"Admin!I12","v":0},{"$f":"Admin!J12","v":0},{"$f":"Admin!K12","v":0},{"$f":"Admin!L12","v":0},{"$f":"Admin!M12","v":0},{"$f":"Admin!N12","v":0},{"$f":"Admin!O12","v":0},{"$f":"Admin!Q12","v":0}]
[null,null,null,null,null,{"$f":"Admin!F13","v":0},{"$f":"Admin!P13","v":0},{"$f":"Admin!G13","v":0},{"$f":"Admin!I13","v":0},{"$f":"Admin!J13","v":0},{"$f":"Admin!K13","v":0},{"$f":"Admin!L13","v":0},{"$f":"Admin!M13","v":0},{"$f":"Admin!N13","v":0},{"$f":"Admin!O13","v":0},{"$f":"Admin!Q13","v":0}]
[null,null,null,null,null,{"$f":"Admin!F14","v":0},{"$f":"Admin!P14","v":0},{"$f":"Admin!G14","v":0},{"$f":"Admin!I14","v":0},{"$f":"Admin!J14","v":0},{"$f":"Admin!K14","v":0},{"$f":"Admin!L14","v":0},{"$f":"Admin!M14","v":0},{"$f":"Admin!N14","v":0},{"$f":"Admin!O14","v":0},{"$f":"Admin!Q14","v":0}]
[null,null,null,null,null,{"$f":"Admin!F15","v":0},{"$f":"Admin!P15","v":0},{"$f":"Admin!G15","v":0},{"$f":"Admin!I15","v":0},{"$f":"Admin!J15","v":0},{"$f":"Admin!K15","v":0},{"$f":"Admin!L15","v":0},{"$f":"Admin!M15","v":0},{"$f":"Admin!N15","v":0},{"$f":"Admin!O15","v":0},{"$f":"Admin!Q15","v":0}]
[null,null,null,null,null,{"$f":"Admin!F16","v":0},{"$f":"Admin!P16","v":0},{"$f":"Admin!G16","v":0},{"$f":"Admin!I16","v":0},{"$f":"Admin!J16","v":0},{"$f":"Admin!K16","v":0},{"$f":"Admin!L16","v":0},{"$f":"Admin!M16","v":0},{"$f":"Admin!N16","v":0},{"$f":"Admin!O16","v":0},{"$f":"Admin!Q16","v":0}]
[null,null,null,null,null,{"$f":"Admin!F17","v":0},{"$f":"Admin!P17","v":0},{"$f":"Admin!G17","v":0},{"$f":"Admin!I17","v":0},{"$f":"Admin!J17","v":0},{"$f":"Admin!K17","v":0},{"$f":"Admin!L17","v":0},{"$f":"Admin!M17","v":0},{"$f":"Admin!N17","v":0},{"$f":"Admin!O17","v":0},{"$f":"Admin!Q17","v":0}]
[null,null,null,null,null,{"$f":"Admin!F18","v":0},{"$f":"Admin!P18","v":0},{"$f":"Admin!G18","v":0},{"$f":"Admin!I18","v":0},{"$f":"Admin!J18","v":0},{"$f":"Admin!K18","v":0},{"$f":"Admin!L18","v":0},{"$f":"Admin!M18","v":0},{"$f":"Admin!N18","v":0},{"$f":"Admin!O18","v":0},{"$f":"Admin!Q18","v":0}]
[null,null,null,null,null,{"$f":"Admin!F19","v":0},{"$f":"Admin!P19","v":0},{"$f":"Admin!G19","v":0},{"$f":"Admin!I19","v":0},{"$f":"Admin!J19","v":0},{"$f":"Admin!K19","v":0},{"$f":"Admin!L19","v":0},{"$f":"Admin!M19","v":0},{"$f":"Admin!N19","v":0},{"$f":"Admin!O19","v":0},{"$f":"Admin!Q19","v":0}]
[null,null,null,null,null,{"$f":"Admin!F20","v":0},{"$f":"Admin!P20","v":0},{"$f":"Admin!G20","v":0},{"$f":"Admin!I20","v":0},{"$f":"Admin!J20","v":0},{"$f":"Admin!K20","v":0},{"$f":"Admin!L20","v":0},{"$f":"Admin!M20","v":0},{"$f":"Admin!N20","v":0},{"$f":"Admin!O20","v":0},{"$f":"Admin!Q20","v":0}]
[null,null,null,null,null,{"$f":"Admin!F21","v":0},{"$f":"Admin!P21","v":0},{"$f":"Admin!G21","v":0},{"$f":"Admin!I21","v":0},{"$f":"Admin!J21","v":0},{"$f":"Admin!K21","v":0},{"$f":"Admin!L21","v":0},{"$f":"Admin!M21","v":0},{"$f":"Admin!N21","v":0},{"$f":"Admin!O21","v":0},{"$f":"Admin!Q21","v":0}]
[null,null,null,null,null,{"$f":"Admin!F22","v":0},{"$f":"Admin!P22","v":0},{"$f":"Admin!G22","v":0},{"$f":"Admin!I22","v":0},{"$f":"Admin!J22","v":0},{"$f":"Admin!K22","v":0},{"$f":"Admin!L22","v":0},{"$f":"Admin!M22","v":0},{"$f":"Admin!N22","v":0},{"$f":"Admin!O22","v":0},{"$f":"Admin!Q22","v":0}]
[null,null,null,null,null,{"$f":"Admin!F23","v":0},{"$f":"Admin!P23","v":0},{"$f":"Admin!G23","v":0},{"$f":"Admin!I23","v":0},{"$f":"Admin!J23","v":0},{"$f":"Admin!K23","v":0},{"$f":"Admin!L23","v":0},{"$f":"Admin!M23","v":0},{"$f":"Admin!N23","v":0},{"$f":"Admin!O23","v":0},{"$f":"Admin!Q23","v":0}]
[null,null,null,null,null,{"$f":"Admin!F24","v":0},{"$f":"Admin!P24","v":0},{"$f":"Admin!G24","v":0},{"$f":"Admin!I24","v":0},{"$f":"Admin!J24","v":0},{"$f":"Admin!K24","v":0},{"$f":"Admin!L24","v":0},{"$f":"Admin!M24","v":0},{"$f":"Admin!N24","v":0},{"$f":"Admin!O24","v":0},{"$f":"Admin!Q24","v":0}]
[null,null,null,null,null,{"$f":"Admin!F25","v":0},{"$f":"Admin!P25","v":0},{"$f":"Admin!G25","v":0},{"$f":"Admin!I25","v":0},{"$f":"Admin!J25","v":0},{"$f":"Admin!K25","v":0},{"$f":"Admin!L25","v":0},{"$f":"Admin!M25","v":0},{"$f":"Admin!N25","v":0},{"$f":"Admin!O25","v":0},{"$f":"Admin!Q25","v":0}]
[null,null,null,null,null,{"$f":"'2'!F11","v":0},{"$f":"'2'!P11","v":0},{"$f":"'2'!G11","v":0},{"$f":"'2'!I11","v":0},{"$f":"'2'!J11","v":0},{"$f":"'2'!K11","v":0},{"$f":"'2'!L11","v":0},{"$f":"'2'!M11","v":0},{"$f":"'2'!N11","v":0},{"$f":"'2'!O11","v":0},{"$f":"'2'!Q11","v":0}]
[null,null,null,null,null,{"$f":"'2'!F12","v":0},{"$f":"'2'!P12","v":0},{"$f":"'2'!G12","v":0},{"$f":"'2'!I12","v":0},{"$f":"'2'!J12","v":0},{"$f":"'2'!K12","v":0},{"$f":"'2'!L12","v":0},{"$f":"'2'!M12","v":0},{"$f":"'2'!N12","v":0},{"$f":"'2'!O12","v":0},{"$f":"'2'!Q12","v":0}]
[null,null,null,null,null,{"$f":"'2'!F13","v":0},{"$f":"'2'!P13","v":0},{"$f":"'2'!G13","v":0},{"$f":"'2'!I13","v":0},{"$f":"'2'!J13","v":0},{"$f":"'2'!K13","v":0},{"$f":"'2'!L13","v":0},{"$f":"'2'!M13","v":0},{"$f":"'2'!N13","v":0},{"$f":"'2'!O13","v":0},{"$f":"'2'!Q13","v":0}]
[null,null,null,null,null,{"$f":"'2'!F14","v":0},{"$f":"'2'!P14","v":0},{"$f":"'2'!G14","v":0},{"$f":"'2'!I14","v":0},{"$f":"'2'!J14","v":0},{"$f":"'2'!K14","v":0},{"$f":"'2'!L14","v":0},{"$f":"'2'!M14","v":0},{"$f":"'2'!N14","v":0},{"$f":"'2'!O14","v":0},{"$f":"'2'!Q14","v":0}]
[null,null,null,null,null,{"$f":"'2'!F15","v":0},{"$f":"'2'!P15","v":0},{"$f":"'2'!G15","v":0},{"$f":"'2'!I15","v":0},{"$f":"'2'!J15","v":0},{"$f":"'2'!K15","v":0},{"$f":"'2'!L15","v":0},{"$f":"'2'!M15","v":0},{"$f":"'2'!N15","v":0},{"$f":"'2'!O15","v":0},{"$f":"'2'!Q15","v":0}]
[null,null,null,null,null,{"$f":"'2'!F16","v":0},{"$f":"'2'!P16","v":0},{"$f":"'2'!G16","v":0},{"$f":"'2'!I16","v":0},{"$f":"'2'!J16","v":0},{"$f":"'2'!K16","v":0},{"$f":"'2'!L16","v":0},{"$f":"'2'!M16","v":0},{"$f":"'2'!N16","v":0},{"$f":"'2'!O16","v":0},{"$f":"'2'!Q16","v":0}]
[null,null,null,null,null,{"$f":"'2'!F17","v":0},{"$f":"'2'!P17","v":0},{"$f":"'2'!G17","v":0},{"$f":"'2'!I17","v":0},{"$f":"'2'!J17","v":0},{"$f":"'2'!K17","v":0},{"$f":"'2'!L17","v":0},{"$f":"'2'!M17","v":0},{"$f":"'2'!N17","v":0},{"$f":"'2'!O17","v":0},{"$f":"'2'!Q17","v":0}]
[null,null,null,null,null,{"$f":"'2'!F18","v":0},{"$f":"'2'!P18","v":0},{"$f":"'2'!G18","v":0},{"$f":"'2'!I18","v":0},{"$f":"'2'!J18","v":0},{"$f":"'2'!K18","v":0},{"$f":"'2'!L18","v":0},{"$f":"'2'!M18","v":0},{"$f":"'2'!N18","v":0},{"$f":"'2'!O18","v":0},{"$f":"'2'!Q18","v":0}]
[null,null,null,null,null,{"$f":"'2'!F19","v":0},{"$f":"'2'!P19","v":0},{"$f":"'2'!G19","v":0},{"$f":"'2'!I19","v":0},{"$f":"'2'!J19","v":0},{"$f":"'2'!K19","v":0},{"$f":"'2'!L19","v":0},{"$f":"'2'!M19","v":0},{"$f":"'2'!N19","v":0},{"$f":"'2'!O19","v":0},{"$f":"'2'!Q19","v":0}]
[null,null,null,null,null,{"$f":"'2'!F20","v":0},{"$f":"'2'!P20","v":0},{"$f":"'2'!G20","v":0},{"$f":"'2'!I20","v":0},{"$f":"'2'!J20","v":0},{"$f":"'2'!K20","v":0},{"$f":"'2'!L20","v":0},{"$f":"'2'!M20","v":0},{"$f":"'2'!N20","v":0},{"$f":"'2'!O20","v":0},{"$f":"'2'!Q20","v":0}]
[null,null,null,null,null,{"$f":"'2'!F21","v":0},{"$f":"'2'!P21","v":0},{"$f":"'2'!G21","v":0},{"$f":"'2'!I21","v":0},{"$f":"'2'!J21","v":0},{"$f":"'2'!K21","v":0},{"$f":"'2'!L21","v":0},{"$f":"'2'!M21","v":0},{"$f":"'2'!N21","v":0},{"$f":"'2'!O21","v":0},{"$f":"'2'!Q21","v":0}]
[null,null,null,null,null,{"$f":"'2'!F22","v":0},{"$f":"'2'!P22","v":0},{"$f":"'2'!G22","v":0},{"$f":"'2'!I22","v":0},{"$f":"'2'!J22","v":0},{"$f":"'2'!K22","v":0},{"$f":"'2'!L22","v":0},{"$f":"'2'!M22","v":0},{"$f":"'2'!N22","v":0},{"$f":"'2'!O22","v":0},{"$f":"'2'!Q22","v":0}]
[null,null,null,null,null,{"$f":"'2'!F23","v":0},{"$f":"'2'!P23","v":0},{"$f":"'2'!G23","v":0},{"$f":"'2'!I23","v":0},{"$f":"'2'!J23","v":0},{"$f":"'2'!K23","v":0},{"$f":"'2'!L23","v":0},{"$f":"'2'!M23","v":0},{"$f":"'2'!N23","v":0},{"$f":"'2'!O23","v":0},{"$f":"'2'!Q23","v":0}]
[null,null,null,null,null,{"$f":"'2'!F24","v":0},{"$f":"'2'!P24","v":0},{"$f":"'2'!G24","v":0},{"$f":"'2'!I24","v":0},{"$f":"'2'!J24","v":0},{"$f":"'2'!K24","v":0},{"$f":"'2'!L24","v":0},{"$f":"'2'!M24","v":0},{"$f":"'2'!N24","v":0},{"$f":"'2'!O24","v":0},{"$f":"'2'!Q24","v":0}]
[null,null,null,null,null,{"$f":"'2'!F25","v":0},{"$f":"'2'!P25","v":0},{"$f":"'2'!G25","v":0},{"$f":"'2'!I25","v":0},{"$f":"'2'!J25","v":0},{"$f":"'2'!K25","v":0},{"$f":"'2'!L25","v":0},{"$f":"'2'!M25","v":0},{"$f":"'2'!N25","v":0},{"$f":"'2'!O25","v":0},{"$f":"'2'!Q25","v":0}]
[null,null,null,null,null,{"$f":"'3'!F11","v":0},{"$f":"'3'!P11","v":0},{"$f":"'3'!G11","v":0},{"$f":"'3'!I11","v":0},{"$f":"'3'!J11","v":0},{"$f":"'3'!K11","v":0},{"$f":"'3'!L11","v":0},{"$f":"'3'!M11","v":0},{"$f":"'3'!N11","v":0},{"$f":"'3'!O11","v":0},{"$f":"'3'!Q11","v":0}]
[null,null,null,null,null,{"$f":"'3'!F12","v":0},{"$f":"'3'!P12","v":0},{"$f":"'3'!G12","v":0},{"$f":"'3'!I12","v":0},{"$f":"'3'!J12","v":0},{"$f":"'3'!K12","v":0},{"$f":"'3'!L12","v":0},{"$f":"'3'!M12","v":0},{"$f":"'3'!N12","v":0},{"$f":"'3'!O12","v":0},{"$f":"'3'!Q12","v":0}]
[null,null,null,null,null,{"$f":"'3'!F13","v":0},{"$f":"'3'!P13","v":0},{"$f":"'3'!G13","v":0},{"$f":"'3'!I13","v":0},{"$f":"'3'!J13","v":0},{"$f":"'3'!K13","v":0},{"$f":"'3'!L13","v":0},{"$f":"'3'!M13","v":0},{"$f":"'3'!N13","v":0},{"$f":"'3'!O13","v":0},{"$f":"'3'!Q13","v":0}]
[null,null,null,null,null,{"$f":"'3'!F14","v":0},{"$f":"'3'!P14","v":0},{"$f":"'3'!G14","v":0},{"$f":"'3'!I14","v":0},{"$f":"'3'!J14","v":0},{"$f":"'3'!K14","v":0},{"$f":"'3'!L14","v":0},{"$f":"'3'!M14","v":0},{"$f":"'3'!N14","v":0},{"$f":"'3'!O14","v":0},{"$f":"'3'!Q14","v":0}]
[null,null,null,null,null,{"$f":"'3'!F15","v":0},{"$f":"'3'!P15","v":0},{"$f":"'3'!G15","v":0},{"$f":"'3'!I15","v":0},{"$f":"'3'!J15","v":0},{"$f":"'3'!K15","v":0},{"$f":"'3'!L15","v":0},{"$f":"'3'!M15","v":0},{"$f":"'3'!N15","v":0},{"$f":"'3'!O15","v":0},{"$f":"'3'!Q15","v":0}]
[null,null,null,null,null,{"$f":"'3'!F16","v":0},{"$f":"'3'!P16","v":0},{"$f":"'3'!G16","v":0},{"$f":"'3'!I16","v":0},{"$f":"'3'!J16","v":0},{"$f":"'3'!K16","v":0},{"$f":"'3'!L16","v":0},{"$f":"'3'!M16","v":0},{"$f":"'3'!N16","v":0},{"$f":"'3'!O16","v":0},{"$f":"'3'!Q16","v":0}]
[null,null,null,null,null,{"$f":"'3'!F17","v":0},{"$f":"'3'!P17","v":0},{"$f":"'3'!G17","v":0},{"$f":"'3'!I17","v":0},{"$f":"'3'!J17","v":0},{"$f":"'3'!K17","v":0},{"$f":"'3'!L17","v":0},{"$f":"'3'!M17","v":0},{"$f":"'3'!N17","v":0},{"$f":"'3'!O17","v":0},{"$f":"'3'!Q17","v":0}]
[null,null,null,null,null,{"$f":"'3'!F18","v":0},{"$f":"'3'!P18","v":0},{"$f":"'3'!G18","v":0},{"$f":"'3'!I18","v":0},{"$f":"'3'!J18","v":0},{"$f":"'3'!K18","v":0},{"$f":"'3'!L18","v":0},{"$f":"'3'!M18","v":0},{"$f":"'3'!N18","v":0},{"$f":"'3'!O18","v":0},{"$f":"'3'!Q18","v":0}]
[null,null,null,null,null,{"$f":"'3'!F19","v":0},{"$f":"'3'!P19","v":0},{"$f":"'3'!G19","v":0},{"$f":"'3'!I19","v":0},{"$f":"'3'!J19","v":0},{"$f":"'3'!K19","v":0},{"$f":"'3'!L19","v":0},{"$f":"'3'!M19","v":0},{"$f":"'3'!N19","v":0},{"$f":"'3'!O19","v":0},{"$f":"'3'!Q19","v":0}]
[null,null,null,null,null,{"$f":"'3'!F20","v":0},{"$f":"'3'!P20","v":0},{"$f":"'3'!G20","v":0},{"$f":"'3'!I20","v":0},{"$f":"'3'!J20","v":0},{"$f":"'3'!K20","v":0},{"$f":"'3'!L20","v":0},{"$f":"'3'!M20","v":0},{"$f":"'3'!N20","v":0},{"$f":"'3'!O20","v":0},{"$f":"'3'!Q20","v":0}]
[null,null,null,null,null,{"$f":"'3'!F21","v":0},{"$f":"'3'!P21","v":0},{"$f":"'3'!G21","v":0},{"$f":"'3'!I21","v":0},{"$f":"'3'!J21","v":0},{"$f":"'3'!K21","v":0},{"$f":"'3'!L21","v":0},{"$f":"'3'!M21","v":0},{"$f":"'3'!N21","v":0},{"$f":"'3'!O21","v":0},{"$f":"'3'!Q21","v":0}]
[null,null,null,null,null,{"$f":"'3'!F22","v":0},{"$f":"'3'!P22","v":0},{"$f":"'3'!G22","v":0},{"$f":"'3'!I22","v":0},{"$f":"'3'!J22","v":0},{"$f":"'3'!K22","v":0},{"$f":"'3'!L22","v":0},{"$f":"'3'!M22","v":0},{"$f":"'3'!N22","v":0},{"$f":"'3'!O22","v":0},{"$f":"'3'!Q22","v":0}]
[null,null,null,null,null,{"$f":"'3'!F23","v":0},{"$f":"'3'!P23","v":0},{"$f":"'3'!G23","v":0},{"$f":"'3'!I23","v":0},{"$f":"'3'!J23","v":0},{"$f":"'3'!K23","v":0},{"$f":"'3'!L23","v":0},{"$f":"'3'!M23","v":0},{"$f":"'3'!N23","v":0},{"$f":"'3'!O23","v":0},{"$f":"'3'!Q23","v":0}]
[null,null,null,null,null,{"$f":"'3'!F24","v":0},{"$f":"'3'!P24","v":0},{"$f":"'3'!G24","v":0},{"$f":"'3'!I24","v":0},{"$f":"'3'!J24","v":0},{"$f":"'3'!K24","v":0},{"$f":"'3'!L24","v":0},{"$f":"'3'!M24","v":0},{"$f":"'3'!N24","v":0},{"$f":"'3'!O24","v":0},{"$f":"'3'!Q24","v":0}]
[null,null,null,null,null,{"$f":"'3'!F25","v":0},{"$f":"'3'!P25","v":0},{"$f":"'3'!G25","v":0},{"$f":"'3'!I25","v":0},{"$f":"'3'!J25","v":0},{"$f":"'3'!K25","v":0},{"$f":"'3'!L25","v":0},{"$f":"'3'!M25","v":0},{"$f":"'3'!N25","v":0},{"$f":"'3'!O25","v":0},{"$f":"'3'!Q25","v":0}]
[null,null,null,null,null,{"$f":"'4'!F11","v":0},{"$f":"'4'!P11","v":0},{"$f":"'4'!G11","v":0},{"$f":"'4'!I11","v":0},{"$f":"'4'!J11","v":0},{"$f":"'4'!K11","v":0},{"$f":"'4'!L11","v":0},{"$f":"'4'!M11","v":0},{"$f":"'4'!N11","v":0},{"$f":"'4'!O11","v":0},{"$f":"'4'!Q11","v":0}]
[null,null,null,null,null,{"$f":"'4'!F12","v":0},{"$f":"'4'!P12","v":0},{"$f":"'4'!G12","v":0},{"$f":"'4'!I12","v":0},{"$f":"'4'!J12","v":0},{"$f":"'4'!K12","v":0},{"$f":"'4'!L12","v":0},{"$f":"'4'!M12","v":0},{"$f":"'4'!N12","v":0},{"$f":"'4'!O12","v":0},{"$f":"'4'!Q12","v":0}]
[null,null,null,null,null,{"$f":"'4'!F13","v":0},{"$f":"'4'!P13","v":0},{"$f":"'4'!G13","v":0},{"$f":"'4'!I13","v":0},{"$f":"'4'!J13","v":0},{"$f":"'4'!K13","v":0},{"$f":"'4'!L13","v":0},{"$f":"'4'!M13","v":0},{"$f":"'4'!N13","v":0},{"$f":"'4'!O13","v":0},{"$f":"'4'!Q13","v":0}]
[null,null,null,null,null,{"$f":"'4'!F14","v":0},{"$f":"'4'!P14","v":0},{"$f":"'4'!G14","v":0},{"$f":"'4'!I14","v":0},{"$f":"'4'!J14","v":0},{"$f":"'4'!K14","v":0},{"$f":"'4'!L14","v":0},{"$f":"'4'!M14","v":0},{"$f":"'4'!N14","v":0},{"$f":"'4'!O14","v":0},{"$f":"'4'!Q14","v":0}]
[null,null,null,null,null,{"$f":"'4'!F15","v":0},{"$f":"'4'!P15","v":0},{"$f":"'4'!G15","v":0},{"$f":"'4'!I15","v":0},{"$f":"'4'!J15","v":0},{"$f":"'4'!K15","v":0},{"$f":"'4'!L15","v":0},{"$f":"'4'!M15","v":0},{"$f":"'4'!N15","v":0},{"$f":"'4'!O15","v":0},{"$f":"'4'!Q15","v":0}]
[null,null,null,null,null,{"$f":"'4'!F16","v":0},{"$f":"'4'!P16","v":0},{"$f":"'4'!G16","v":0},{"$f":"'4'!I16","v":0},{"$f":"'4'!J16","v":0},{"$f":"'4'!K16","v":0},{"$f":"'4'!L16","v":0},{"$f":"'4'!M16","v":0},{"$f":"'4'!N16","v":0},{"$f":"'4'!O16","v":0},{"$f":"'4'!Q16","v":0}]
[null,null,null,null,null,{"$f":"'4'!F17","v":0},{"$f":"'4'!P17","v":0},{"$f":"'4'!G17","v":0},{"$f":"'4'!I17","v":0},{"$f":"'4'!J17","v":0},{"$f":"'4'!K17","v":0},{"$f":"'4'!L17","v":0},{"$f":"'4'!M17","v":0},{"$f":"'4'!N17","v":0},{"$f":"'4'!O17","v":0},{"$f":"'4'!Q17","v":0}]
[null,null,null,null,null,{"$f":"'4'!F18","v":0},{"$f":"'4'!P18","v":0},{"$f":"'4'!G18","v":0},{"$f":"'4'!I18","v":0},{"$f":"'4'!J18","v":0},{"$f":"'4'!K18","v":0},{"$f":"'4'!L18","v":0},{"$f":"'4'!M18","v":0},{"$f":"'4'!N18","v":0},{"$f":"'4'!O18","v":0},{"$f":"'4'!Q18","v":0}]
[null,null,null,null,null,{"$f":"'4'!F19","v":0},{"$f":"'4'!P19","v":0},{"$f":"'4'!G19","v":0},{"$f":"'4'!I19","v":0},{"$f":"'4'!J19","v":0},{"$f":"'4'!K19","v":0},{"$f":"'4'!L19","v":0},{"$f":"'4'!M19","v":0},{"$f":"'4'!N19","v":0},{"$f":"'4'!O19","v":0},{"$f":"'4'!Q19","v":0}]
[null,null,null,null,null,{"$f":"'4'!F20","v":0},{"$f":"'4'!P20","v":0},{"$f":"'4'!G20","v":0},{"$f":"'4'!I20","v":0},{"$f":"'4'!J20","v":0},{"$f":"'4'!K20","v":0},{"$f":"'4'!L20","v":0},{"$f":"'4'!M20","v":0},{"$f":"'4'!N20","v":0},{"$f":"'4'!O20","v":0},{"$f":"'4'!Q20","v":0}]
[null,null,null,null,null,{"$f":"'4'!F21","v":0},{"$f":"'4'!P21","v":0},{"$f":"'4'!G21","v":0},{"$f":"'4'!I21","v":0},{"$f":"'4'!J21","v":0},{"$f":"'4'!K21","v":0},{"$f":"'4'!L21","v":0},{"$f":"'4'!M21","v":0},{"$f":"'4'!N21","v":0},{"$f":"'4'!O21","v":0},{"$f":"'4'!Q21","v":0}]
[null,null,null,null,null,{"$f":"'4'!F22","v":0},{"$f":"'4'!P22","v":0},{"$f":"'4'!G22","v":0},{"$f":"'4'!I22","v":0},{"$f":"'4'!J22","v":0},{"$f":"'4'!K22","v":0},{"$f":"'4'!L22","v":0},{"$f":"'4'!M22","v":0},{"$f":"'4'!N22","v":0},{"$f":"'4'!O22","v":0},{"$f":"'4'!Q22","v":0}]
[null,null,null,null,null,{"$f":"'4'!F23","v":0},{"$f":"'4'!P23","v":0},{"$f":"'4'!G23","v":0},{"$f":"'4'!I23","v":0},{"$f":"'4'!J23","v":0},{"$f":"'4'!K23","v":0},{"$f":"'4'!L23","v":0},{"$f":"'4'!M23","v":0},{"$f":"'4'!N23","v":0},{"$f":"'4'!O23","v":0},{"$f":"'4'!Q23","v":0}]
[null,null,null,null,null,{"$f":"'4'!F24","v":0},{"$f":"'4'!P24","v":0},{"$f":"'4'!G24","v":0},{"$f":"'4'!I24","v":0},{"$f":"'4'!J24","v":0},{"$f":"'4'!K24","v":0},{"$f":"'4'!L24","v":0},{"$f":"'4'!M24","v":0},{"$f":"'4'!N24","v":0},{"$f":"'4'!O24","v":0},{"$f":"'4'!Q24","v":0}]
[null,null,null,null,null,{"$f":"'4'!F25","v":0},{"$f":"'4'!P25","v":0},{"$f":"'4'!G25","v":0},{"$f":"'4'!I25","v":0},{"$f":"'4'!J25","v":0},{"$f":"'4'!K25","v":0},{"$f":"'4'!L25","v":0},{"$f":"'4'!M25","v":0},{"$f":"'4'!N25","v":0},{"$f":"'4'!O25","v":0},{"$f":"'4'!Q25","v":0}]
[null,null,null,null,null,{"$f":"'5'!F11","v":0},{"$f":"'5'!P11","v":0},{"$f":"'5'!G11","v":0},{"$f":"'5'!I11","v":0},{"$f":"'5'!J11","v":0},{"$f":"'5'!K11","v":0},{"$f":"'5'!L11","v":0},{"$f":"'5'!M11","v":0},{"$f":"'5'!N11","v":0},{"$f":"'5'!O11","v":0},{"$f":"'5'!Q11","v":0}]
[null,null,null,null,null,{"$f":"'5'!F12","v":0},{"$f":"'5'!P12","v":0},{"$f":"'5'!G12","v":0},{"$f":"'5'!I12","v":0},{"$f":"'5'!J12","v":0},{"$f":"'5'!K12","v":0},{"$f":"'5'!L12","v":0},{"$f":"'5'!M12","v":0},{"$f":"'5'!N12","v":0},{"$f":"'5'!O12","v":0},{"$f":"'5'!Q12","v":0}]
[null,null,null,null,null,{"$f":"'5'!F13","v":0},{"$f":"'5'!P13","v":0},{"$f":"'5'!G13","v":0},{"$f":"'5'!I13","v":0},{"$f":"'5'!J13","v":0},{"$f":"'5'!K13","v":0},{"$f":"'5'!L13","v":0},{"$f":"'5'!M13","v":0},{"$f":"'5'!N13","v":0},{"$f":"'5'!O13","v":0},{"$f":"'5'!Q13","v":0}]
[null,null,null,null,null,{"$f":"'5'!F14","v":0},{"$f":"'5'!P14","v":0},{"$f":"'5'!G14","v":0},{"$f":"'5'!I14","v":0},{"$f":"'5'!J14","v":0},{"$f":"'5'!K14","v":0},{"$f":"'5'!L14","v":0},{"$f":"'5'!M14","v":0},{"$f":"'5'!N14","v":0},{"$f":"'5'!O14","v":0},{"$f":"'5'!Q14","v":0}]
[null,null,null,null,null,{"$f":"'5'!F15","v":0},{"$f":"'5'!P15","v":0},{"$f":"'5'!G15","v":0},{"$f":"'5'!I15","v":0},{"$f":"'5'!J15","v":0},{"$f":"'5'!K15","v":0},{"$f":"'5'!L15","v":0},{"$f":"'5'!M15","v":0},{"$f":"'5'!N15","v":0},{"$f":"'5'!O15","v":0},{"$f":"'5'!Q15","v":0}]
[null,null,null,null,null,{"$f":"'5'!F16","v":0},{"$f":"'5'!P16","v":0},{"$f":"'5'!G16","v":0},{"$f":"'5'!I16","v":0},{"$f":"'5'!J16","v":0},{"$f":"'5'!K16","v":0},{"$f":"'5'!L16","v":0},{"$f":"'5'!M16","v":0},{"$f":"'5'!N16","v":0},{"$f":"'5'!O16","v":0},{"$f":"'5'!Q16","v":0}]
[null,null,null,null,null,{"$f":"'5'!F17","v":0},{"$f":"'5'!P17","v":0},{"$f":"'5'!G17","v":0},{"$f":"'5'!I17","v":0},{"$f":"'5'!J17","v":0},{"$f":"'5'!K17","v":0},{"$f":"'5'!L17","v":0},{"$f":"'5'!M17","v":0},{"$f":"'5'!N17","v":0},{"$f":"'5'!O17","v":0},{"$f":"'5'!Q17","v":0}]
[null,null,null,null,null,{"$f":"'5'!F18","v":0},{"$f":"'5'!P18","v":0},{"$f":"'5'!G18","v":0},{"$f":"'5'!I18","v":0},{"$f":"'5'!J18","v":0},{"$f":"'5'!K18","v":0},{"$f":"'5'!L18","v":0},{"$f":"'5'!M18","v":0},{"$f":"'5'!N18","v":0},{"$f":"'5'!O18","v":0},{"$f":"'5'!Q18","v":0}]
[null,null,null,null,null,{"$f":"'5'!F19","v":0},{"$f":"'5'!P19","v":0},{"$f":"'5'!G19","v":0},{"$f":"'5'!I19","v":0},{"$f":"'5'!J19","v":0},{"$f":"'5'!K19","v":0},{"$f":"'5'!L19","v":0},{"$f":"'5'!M19","v":0},{"$f":"'5'!N19","v":0},{"$f":"'5'!O19","v":0},{"$f":"'5'!Q19","v":0}]
[null,null,null,null,null,{"$f":"'5'!F20","v":0},{"$f":"'5'!P20","v":0},{"$f":"'5'!G20","v":0},{"$f":"'5'!I20","v":0},{"$f":"'5'!J20","v":0},{"$f":"'5'!K20","v":0},{"$f":"'5'!L20","v":0},{"$f":"'5'!M20","v":0},{"$f":"'5'!N20","v":0},{"$f":"'5'!O20","v":0},{"$f":"'5'!Q20","v":0}]
[null,null,null,null,null,{"$f":"'5'!F21","v":0},{"$f":"'5'!P21","v":0},{"$f":"'5'!G21","v":0},{"$f":"'5'!I21","v":0},{"$f":"'5'!J21","v":0},{"$f":"'5'!K21","v":0},{"$f":"'5'!L21","v":0},{"$f":"'5'!M21","v":0},{"$f":"'5'!N21","v":0},{"$f":"'5'!O21","v":0},{"$f":"'5'!Q21","v":0}]
[null,null,null,null,null,{"$f":"'5'!F22","v":0},{"$f":"'5'!P22","v":0},{"$f":"'5'!G22","v":0},{"$f":"'5'!I22","v":0},{"$f":"'5'!J22","v":0},{"$f":"'5'!K22","v":0},{"$f":"'5'!L22","v":0},{"$f":"'5'!M22","v":0},{"$f":"'5'!N22","v":0},{"$f":"'5'!O22","v":0},{"$f":"'5'!Q22","v":0}]
[null,null,null,null,null,{"$f":"'5'!F23","v":0},{"$f":"'5'!P23","v":0},{"$f":"'5'!G23","v":0},{"$f":"'5'!I23","v":0},{"$f":"'5'!J23","v":0},{"$f":"'5'!K23","v":0},{"$f":"'5'!L23","v":0},{"$f":"'5'!M23","v":0},{"$f":"'5'!N23","v":0},{"$f":"'5'!O23","v":0},{"$f":"'5'!Q23","v":0}]
[null,null,null,null,null,{"$f":"'5'!F24","v":0},{"$f":"'5'!P24","v":0},{"$f":"'5'!G24","v":0},{"$f":"'5'!I24","v":0},{"$f":"'5'!J24","v":0},{"$f":"'5'!K24","v":0},{"$f":"'5'!L24","v":0},{"$f":"'5'!M24","v":0},{"$f":"'5'!N24","v":0},{"$f":"'5'!O24","v":0},{"$f":"'5'!Q24","v":0}]
[null,null,null,null,null,{"$f":"'5'!F25","v":0},{"$f":"'5'!P25","v":0},{"$f":"'5'!G25","v":0},{"$f":"'5'!I25","v":0},{"$f":"'5'!J25","v":0},{"$f":"'5'!K25","v":0},{"$f":"'5'!L25","v":0},{"$f":"'5'!M25","v":0},{"$f":"'5'!N25","v":0},{"$f":"'5'!O25","v":0},{"$f":"'5'!Q25","v":0}]
[null,null,null,null,null,{"$f":"'6'!F11","v":0},{"$f":"'6'!P11","v":0},{"$f":"'6'!G11","v":0},{"$f":"'6'!I11","v":0},{"$f":"'6'!J11","v":0},{"$f":"'6'!K11","v":0},{"$f":"'6'!L11","v":0},{"$f":"'6'!M11","v":0},{"$f":"'6'!N11","v":0},{"$f":"'6'!O11","v":0},{"$f":"'6'!Q11","v":0}]
[null,null,null,null,null,{"$f":"'6'!F12","v":0},{"$f":"'6'!P12","v":0},{"$f":"'6'!G12","v":0},{"$f":"'6'!I12","v":0},{"$f":"'6'!J12","v":0},{"$f":"'6'!K12","v":0},{"$f":"'6'!L12","v":0},{"$f":"'6'!M12","v":0},{"$f":"'6'!N12","v":0},{"$f":"'6'!O12","v":0},{"$f":"'6'!Q12","v":0}]
[null,null,null,null,null,{"$f":"'6'!F13","v":0},{"$f":"'6'!P13","v":0},{"$f":"'6'!G13","v":0},{"$f":"'6'!I13","v":0},{"$f":"'6'!J13","v":0},{"$f":"'6'!K13","v":0},{"$f":"'6'!L13","v":0},{"$f":"'6'!M13","v":0},{"$f":"'6'!N13","v":0},{"$f":"'6'!O13","v":0},{"$f":"'6'!Q13","v":0}]
[null,null,null,null,null,{"$f":"'6'!F14","v":0},{"$f":"'6'!P14","v":0},{"$f":"'6'!G14","v":0},{"$f":"'6'!I14","v":0},{"$f":"'6'!J14","v":0},{"$f":"'6'!K14","v":0},{"$f":"'6'!L14","v":0},{"$f":"'6'!M14","v":0},{"$f":"'6'!N14","v":0},{"$f":"'6'!O14","v":0},{"$f":"'6'!Q14","v":0}]
[null,null,null,null,null,{"$f":"'6'!F15","v":0},{"$f":"'6'!P15","v":0},{"$f":"'6'!G15","v":0},{"$f":"'6'!I15","v":0},{"$f":"'6'!J15","v":0},{"$f":"'6'!K15","v":0},{"$f":"'6'!L15","v":0},{"$f":"'6'!M15","v":0},{"$f":"'6'!N15","v":0},{"$f":"'6'!O15","v":0},{"$f":"'6'!Q15","v":0}]
[null,null,null,null,null,{"$f":"'6'!F16","v":0},{"$f":"'6'!P16","v":0},{"$f":"'6'!G16","v":0},{"$f":"'6'!I16","v":0},{"$f":"'6'!J16","v":0},{"$f":"'6'!K16","v":0},{"$f":"'6'!L16","v":0},{"$f":"'6'!M16","v":0},{"$f":"'6'!N16","v":0},{"$f":"'6'!O16","v":0},{"$f":"'6'!Q16","v":0}]
[null,null,null,null,null,{"$f":"'6'!F17","v":0},{"$f":"'6'!P17","v":0},{"$f":"'6'!G17","v":0},{"$f":"'6'!I17","v":0},{"$f":"'6'!J17","v":0},{"$f":"'6'!K17","v":0},{"$f":"'6'!L17","v":0},{"$f":"'6'!M17","v":0},{"$f":"'6'!N17","v":0},{"$f":"'6'!O17","v":0},{"$f":"'6'!Q17","v":0}]
[null,null,null,null,null,{"$f":"'6'!F18","v":0},{"$f":"'6'!P18","v":0},{"$f":"'6'!G18","v":0},{"$f":"'6'!I18","v":0},{"$f":"'6'!J18","v":0},{"$f":"'6'!K18","v":0},{"$f":"'6'!L18","v":0},{"$f":"'6'!M18","v":0},{"$f":"'6'!N18","v":0},{"$f":"'6'!O18","v":0},{"$f":"'6'!Q18","v":0}]
[null,null,null,null,null,{"$f":"'6'!F19","v":0},{"$f":"'6'!P19","v":0},{"$f":"'6'!G19","v":0},{"$f":"'6'!I19","v":0},{"$f":"'6'!J19","v":0},{"$f":"'6'!K19","v":0},{"$f":"'6'!L19","v":0},{"$f":"'6'!M19","v":0},{"$f":"'6'!N19","v":0},{"$f":"'6'!O19","v":0},{"$f":"'6'!Q19","v":0}]
[null,null,null,null,null,{"$f":"'6'!F20","v":0},{"$f":"'6'!P20","v":0},{"$f":"'6'!G20","v":0},{"$f":"'6'!I20","v":0},{"$f":"'6'!J20","v":0},{"$f":"'6'!K20","v":0},{"$f":"'6'!L20","v":0},{"$f":"'6'!M20","v":0},{"$f":"'6'!N20","v":0},{"$f":"'6'!O20","v":0},{"$f":"'6'!Q20","v":0}]
[null,null,null,null,null,{"$f":"'6'!F21","v":0},{"$f":"'6'!P21","v":0},{"$f":"'6'!G21","v":0},{"$f":"'6'!I21","v":0},{"$f":"'6'!J21","v":0},{"$f":"'6'!K21","v":0},{"$f":"'6'!L21","v":0},{"$f":"'6'!M21","v":0},{"$f":"'6'!N21","v":0},{"$f":"'6'!O21","v":0},{"$f":"'6'!Q21","v":0}]
[null,null,null,null,null,{"$f":"'6'!F22","v":0},{"$f":"'6'!P22","v":0},{"$f":"'6'!G22","v":0},{"$f":"'6'!I22","v":0},{"$f":"'6'!J22","v":0},{"$f":"'6'!K22","v":0},{"$f":"'6'!L22","v":0},{"$f":"'6'!M22","v":0},{"$f":"'6'!N22","v":0},{"$f":"'6'!O22","v":0},{"$f":"'6'!Q22","v":0}]
[null,null,null,null,null,{"$f":"'6'!F23","v":0},{"$f":"'6'!P23","v":0},{"$f":"'6'!G23","v":0},{"$f":"'6'!I23","v":0},{"$f":"'6'!J23","v":0},{"$f":"'6'!K23","v":0},{"$f":"'6'!L23","v":0},{"$f":"'6'!M23","v":0},{"$f":"'6'!N23","v":0},{"$f":"'6'!O23","v":0},{"$f":"'6'!Q23","v":0}]
[null,null,null,null,null,{"$f":"'6'!F24","v":0},{"$f":"'6'!P24","v":0},{"$f":"'6'!G24","v":0},{"$f":"'6'!I24","v":0},{"$f":"'6'!J24","v":0},{"$f":"'6'!K24","v":0},{"$f":"'6'!L24","v":0},{"$f":"'6'!M24","v":0},{"$f":"'6'!N24","v":0},{"$f":"'6'!O24","v":0},{"$f":"'6'!Q24","v":0}]
[null,null,null,null,null,{"$f":"'6'!F25","v":0},{"$f":"'6'!P25","v":0},{"$f":"'6'!G25","v":0},{"$f":"'6'!I25","v":0},{"$f":"'6'!J25","v":0},{"$f":"'6'!K25","v":0},{"$f":"'6'!L25","v":0},{"$f":"'6'!M25","v":0},{"$f":"'6'!N25","v":0},{"$f":"'6'!O25","v":0},{"$f":"'6'!Q25","v":0}]
[null,null,null,null,null,{"$f":"'7'!F11","v":0},{"$f":"'7'!P11","v":0},{"$f":"'7'!G11","v":0},{"$f":"'7'!I11","v":0},{"$f":"'7'!J11","v":0},{"$f":"'7'!K11","v":0},{"$f":"'7'!L11","v":0},{"$f":"'7'!M11","v":0},{"$f":"'7'!N11","v":0},{"$f":"'7'!O11","v":0},{"$f":"'7'!Q11","v":0}]
[null,null,null,null,null,{"$f":"'7'!F12","v":0},{"$f":"'7'!P12","v":0},{"$f":"'7'!G12","v":0},{"$f":"'7'!I12","v":0},{"$f":"'7'!J12","v":0},{"$f":"'7'!K12","v":0},{"$f":"'7'!L12","v":0},{"$f":"'7'!M12","v":0},{"$f":"'7'!N12","v":0},{"$f":"'7'!O12","v":0},{"$f":"'7'!Q12","v":0}]
[null,null,null,null,null,{"$f":"'7'!F13","v":0},{"$f":"'7'!P13","v":0},{"$f":"'7'!G13","v":0},{"$f":"'7'!I13","v":0},{"$f":"'7'!J13","v":0},{"$f":"'7'!K13","v":0},{"$f":"'7'!L13","v":0},{"$f":"'7'!M13","v":0},{"$f":"'7'!N13","v":0},{"$f":"'7'!O13","v":0},{"$f":"'7'!Q13","v":0}]
[null,null,null,null,null,{"$f":"'7'!F14","v":0},{"$f":"'7'!P14","v":0},{"$f":"'7'!G14","v":0},{"$f":"'7'!I14","v":0},{"$f":"'7'!J14","v":0},{"$f":"'7'!K14","v":0},{"$f":"'7'!L14","v":0},{"$f":"'7'!M14","v":0},{"$f":"'7'!N14","v":0},{"$f":"'7'!O14","v":0},{"$f":"'7'!Q14","v":0}]
[null,null,null,null,null,{"$f":"'7'!F15","v":0},{"$f":"'7'!P15","v":0},{"$f":"'7'!G15","v":0},{"$f":"'7'!I15","v":0},{"$f":"'7'!J15","v":0},{"$f":"'7'!K15","v":0},{"$f":"'7'!L15","v":0},{"$f":"'7'!M15","v":0},{"$f":"'7'!N15","v":0},{"$f":"'7'!O15","v":0},{"$f":"'7'!Q15","v":0}]
[null,null,null,null,null,{"$f":"'7'!F16","v":0},{"$f":"'7'!P16","v":0},{"$f":"'7'!G16","v":0},{"$f":"'7'!I16","v":0},{"$f":"'7'!J16","v":0},{"$f":"'7'!K16","v":0},{"$f":"'7'!L16","v":0},{"$f":"'7'!M16","v":0},{"$f":"'7'!N16","v":0},{"$f":"'7'!O16","v":0},{"$f":"'7'!Q16","v":0}]
[null,null,null,null,null,{"$f":"'7'!F17","v":0},{"$f":"'7'!P17","v":0},{"$f":"'7'!G17","v":0},{"$f":"'7'!I17","v":0},{"$f":"'7'!J17","v":0},{"$f":"'7'!K17","v":0},{"$f":"'7'!L17","v":0},{"$f":"'7'!M17","v":0},{"$f":"'7'!N17","v":0},{"$f":"'7'!O17","v":0},{"$f":"'7'!Q17","v":0}]
[null,null,null,null,null,{"$f":"'7'!F18","v":0},{"$f":"'7'!P18","v":0},{"$f":"'7'!G18","v":0},{"$f":"'7'!I18","v":0},{"$f":"'7'!J18","v":0},{"$f":"'7'!K18","v":0},{"$f":"'7'!L18","v":0},{"$f":"'7'!M18","v":0},{"$f":"'7'!N18","v":0},{"$f":"'7'!O18","v":0},{"$f":"'7'!Q18","v":0}]
[null,null,null,null,null,{"$f":"'7'!F19","v":0},{"$f":"'7'!P19","v":0},{"$f":"'7'!G19","v":0},{"$f":"'7'!I19","v":0},{"$f":"'7'!J19","v":0},{"$f":"'7'!K19","v":0},{"$f":"'7'!L19","v":0},{"$f":"'7'!M19","v":0},{"$f":"'7'!N19","v":0},{"$f":"'7'!O19","v":0},{"$f":"'7'!Q19","v":0}]
[null,null,null,null,null,{"$f":"'7'!F20","v":0},{"$f":"'7'!P20","v":0},{"$f":"'7'!G20","v":0},{"$f":"'7'!I20","v":0},{"$f":"'7'!J20","v":0},{"$f":"'7'!K20","v":0},{"$f":"'7'!L20","v":0},{"$f":"'7'!M20","v":0},{"$f":"'7'!N20","v":0},{"$f":"'7'!O20","v":0},{"$f":"'7'!Q20","v":0}]
[null,null,null,null,null,{"$f":"'7'!F21","v":0},{"$f":"'7'!P21","v":0},{"$f":"'7'!G21","v":0},{"$f":"'7'!I21","v":0},{"$f":"'7'!J21","v":0},{"$f":"'7'!K21","v":0},{"$f":"'7'!L21","v":0},{"$f":"'7'!M21","v":0},{"$f":"'7'!N21","v":0},{"$f":"'7'!O21","v":0},{"$f":"'7'!Q21","v":0}]
[null,null,null,null,null,{"$f":"'7'!F22","v":0},{"$f":"'7'!P22","v":0},{"$f":"'7'!G22","v":0},{"$f":"'7'!I22","v":0},{"$f":"'7'!J22","v":0},{"$f":"'7'!K22","v":0},{"$f":"'7'!L22","v":0},{"$f":"'7'!M22","v":0},{"$f":"'7'!N22","v":0},{"$f":"'7'!O22","v":0},{"$f":"'7'!Q22","v":0}]
[null,null,null,null,null,{"$f":"'7'!F23","v":0},{"$f":"'7'!P23","v":0},{"$f":"'7'!G23","v":0},{"$f":"'7'!I23","v":0},{"$f":"'7'!J23","v":0},{"$f":"'7'!K23","v":0},{"$f":"'7'!L23","v":0},{"$f":"'7'!M23","v":0},{"$f":"'7'!N23","v":0},{"$f":"'7'!O23","v":0},{"$f":"'7'!Q23","v":0}]
[null,null,null,null,null,{"$f":"'7'!F24","v":0},{"$f":"'7'!P24","v":0},{"$f":"'7'!G24","v":0},{"$f":"'7'!I24","v":0},{"$f":"'7'!J24","v":0},{"$f":"'7'!K24","v":0},{"$f":"'7'!L24","v":0},{"$f":"'7'!M24","v":0},{"$f":"'7'!N24","v":0},{"$f":"'7'!O24","v":0},{"$f":"'7'!Q24","v":0}]
[null,null,null,null,null,{"$f":"'7'!F25","v":0},{"$f":"'7'!P25","v":0},{"$f":"'7'!G25","v":0},{"$f":"'7'!I25","v":0},{"$f":"'7'!J25","v":0},{"$f":"'7'!K25","v":0},{"$f":"'7'!L25","v":0},{"$f":"'7'!M25","v":0},{"$f":"'7'!N25","v":0},{"$f":"'7'!O25","v":0},{"$f":"'7'!Q25","v":0}]
[null,null,null,null,null,{"$f":"'8'!F11","v":0},{"$f":"'8'!P11","v":0},{"$f":"'8'!G11","v":0},{"$f":"'8'!I11","v":0},{"$f":"'8'!J11","v":0},{"$f":"'8'!K11","v":0},{"$f":"'8'!L11","v":0},{"$f":"'8'!M11","v":0},{"$f":"'8'!N11","v":0},{"$f":"'8'!O11","v":0},{"$f":"'8'!Q11","v":0}]
[null,null,null,null,null,{"$f":"'8'!F12","v":0},{"$f":"'8'!P12","v":0},{"$f":"'8'!G12","v":0},{"$f":"'8'!I12","v":0},{"$f":"'8'!J12","v":0},{"$f":"'8'!K12","v":0},{"$f":"'8'!L12","v":0},{"$f":"'8'!M12","v":0},{"$f":"'8'!N12","v":0},{"$f":"'8'!O12","v":0},{"$f":"'8'!Q12","v":0}]
[null,null,null,null,null,{"$f":"'8'!F13","v":0},{"$f":"'8'!P13","v":0},{"$f":"'8'!G13","v":0},{"$f":"'8'!I13","v":0},{"$f":"'8'!J13","v":0},{"$f":"'8'!K13","v":0},{"$f":"'8'!L13","v":0},{"$f":"'8'!M13","v":0},{"$f":"'8'!N13","v":0},{"$f":"'8'!O13","v":0},{"$f":"'8'!Q13","v":0}]
[null,null,null,null,null,{"$f":"'8'!F14","v":0},{"$f":"'8'!P14","v":0},{"$f":"'8'!G14","v":0},{"$f":"'8'!I14","v":0},{"$f":"'8'!J14","v":0},{"$f":"'8'!K14","v":0},{"$f":"'8'!L14","v":0},{"$f":"'8'!M14","v":0},{"$f":"'8'!N14","v":0},{"$f":"'8'!O14","v":0},{"$f":"'8'!Q14","v":0}]
[null,null,null,null,null,{"$f":"'8'!F15","v":0},{"$f":"'8'!P15","v":0},{"$f":"'8'!G15","v":0},{"$f":"'8'!I15","v":0},{"$f":"'8'!J15","v":0},{"$f":"'8'!K15","v":0},{"$f":"'8'!L15","v":0},{"$f":"'8'!M15","v":0},{"$f":"'8'!N15","v":0},{"$f":"'8'!O15","v":0},{"$f":"'8'!Q15","v":0}]
[null,null,null,null,null,{"$f":"'8'!F16","v":0},{"$f":"'8'!P16","v":0},{"$f":"'8'!G16","v":0},{"$f":"'8'!I16","v":0},{"$f":"'8'!J16","v":0},{"$f":"'8'!K16","v":0},{"$f":"'8'!L16","v":0},{"$f":"'8'!M16","v":0},{"$f":"'8'!N16","v":0},{"$f":"'8'!O16","v":0},{"$f":"'8'!Q16","v":0}]
[null,null,null,null,null,{"$f":"'8'!F17","v":0},{"$f":"'8'!P17","v":0},{"$f":"'8'!G17","v":0},{"$f":"'8'!I17","v":0},{"$f":"'8'!J17","v":0},{"$f":"'8'!K17","v":0},{"$f":"'8'!L17","v":0},{"$f":"'8'!M17","v":0},{"$f":"'8'!N17","v":0},{"$f":"'8'!O17","v":0},{"$f":"'8'!Q17","v":0}]
[null,null,null,null,null,{"$f":"'8'!F18","v":0},{"$f":"'8'!P18","v":0},{"$f":"'8'!G18","v":0},{"$f":"'8'!I18","v":0},{"$f":"'8'!J18","v":0},{"$f":"'8'!K18","v":0},{"$f":"'8'!L18","v":0},{"$f":"'8'!M18","v":0},{"$f":"'8'!N18","v":0},{"$f":"'8'!O18","v":0},{"$f":"'8'!Q18","v":0}]
[null,null,null,null,null,{"$f":"'8'!F19","v":0},{"$f":"'8'!P19","v":0},{"$f":"'8'!G19","v":0},{"$f":"'8'!I19","v":0},{"$f":"'8'!J19","v":0},{"$f":"'8'!K19","v":0},{"$f":"'8'!L19","v":0},{"$f":"'8'!M19","v":0},{"$f":"'8'!N19","v":0},{"$f":"'8'!O19","v":0},{"$f":"'8'!Q19","v":0}]
[null,null,null,null,null,{"$f":"'8'!F20","v":0},{"$f":"'8'!P20","v":0},{"$f":"'8'!G20","v":0},{"$f":"'8'!I20","v":0},{"$f":"'8'!J20","v":0},{"$f":"'8'!K20","v":0},{"$f":"'8'!L20","v":0},{"$f":"'8'!M20","v":0},{"$f":"'8'!N20","v":0},{"$f":"'8'!O20","v":0},{"$f":"'8'!Q20","v":0}]
[null,null,null,null,null,{"$f":"'8'!F21","v":0},{"$f":"'8'!P21","v":0},{"$f":"'8'!G21","v":0},{"$f":"'8'!I21","v":0},{"$f":"'8'!J21","v":0},{"$f":"'8'!K21","v":0},{"$f":"'8'!L21","v":0},{"$f":"'8'!M21","v":0},{"$f":"'8'!N21","v":0},{"$f":"'8'!O21","v":0},{"$f":"'8'!Q21","v":0}]
[null,null,null,null,null,{"$f":"'8'!F22","v":0},{"$f":"'8'!P22","v":0},{"$f":"'8'!G22","v":0},{"$f":"'8'!I22","v":0},{"$f":"'8'!J22","v":0},{"$f":"'8'!K22","v":0},{"$f":"'8'!L22","v":0},{"$f":"'8'!M22","v":0},{"$f":"'8'!N22","v":0},{"$f":"'8'!O22","v":0},{"$f":"'8'!Q22","v":0}]
[null,null,null,null,null,{"$f":"'8'!F23","v":0},{"$f":"'8'!P23","v":0},{"$f":"'8'!G23","v":0},{"$f":"'8'!I23","v":0},{"$f":"'8'!J23","v":0},{"$f":"'8'!K23","v":0},{"$f":"'8'!L23","v":0},{"$f":"'8'!M23","v":0},{"$f":"'8'!N23","v":0},{"$f":"'8'!O23","v":0},{"$f":"'8'!Q23","v":0}]
[null,null,null,null,null,{"$f":"'8'!F24","v":0},{"$f":"'8'!P24","v":0},{"$f":"'8'!G24","v":0},{"$f":"'8'!I24","v":0},{"$f":"'8'!J24","v":0},{"$f":"'8'!K24","v":0},{"$f":"'8'!L24","v":0},{"$f":"'8'!M24","v":0},{"$f":"'8'!N24","v":0},{"$f":"'8'!O24","v":0},{"$f":"'8'!Q24","v":0}]
[null,null,null,null,null,{"$f":"'8'!F25","v":0},{"$f":"'8'!P25","v":0},{"$f":"'8'!G25","v":0},{"$f":"'8'!I25","v":0},{"$f":"'8'!J25","v":0},{"$f":"'8'!K25","v":0},{"$f":"'8'!L25","v":0},{"$f":"'8'!M25","v":0},{"$f":"'8'!N25","v":0},{"$f":"'8'!O25","v":0},{"$f":"'8'!Q25","v":0}]
[null,null,null,null,null,{"$f":"'9'!F11","v":0},{"$f":"'9'!P11","v":0},{"$f":"'9'!G11","v":0},{"$f":"'9'!I11","v":0},{"$f":"'9'!J11","v":0},{"$f":"'9'!K11","v":0},{"$f":"'9'!L11","v":0},{"$f":"'9'!M11","v":0},{"$f":"'9'!N11","v":0},{"$f":"'9'!O11","v":0},{"$f":"'9'!Q11","v":0}]
[null,null,null,null,null,{"$f":"'9'!F12","v":0},{"$f":"'9'!P12","v":0},{"$f":"'9'!G12","v":0},{"$f":"'9'!I12","v":0},{"$f":"'9'!J12","v":0},{"$f":"'9'!K12","v":0},{"$f":"'9'!L12","v":0},{"$f":"'9'!M12","v":0},{"$f":"'9'!N12","v":0},{"$f":"'9'!O12","v":0},{"$f":"'9'!Q12","v":0}]
[null,null,null,null,null,{"$f":"'9'!F13","v":0},{"$f":"'9'!P13","v":0},{"$f":"'9'!G13","v":0},{"$f":"'9'!I13","v":0},{"$f":"'9'!J13","v":0},{"$f":"'9'!K13","v":0},{"$f":"'9'!L13","v":0},{"$f":"'9'!M13","v":0},{"$f":"'9'!N13","v":0},{"$f":"'9'!O13","v":0},{"$f":"'9'!Q13","v":0}]
[null,null,null,null,null,{"$f":"'9'!F14","v":0},{"$f":"'9'!P14","v":0},{"$f":"'9'!G14","v":0},{"$f":"'9'!I14","v":0},{"$f":"'9'!J14","v":0},{"$f":"'9'!K14","v":0},{"$f":"'9'!L14","v":0},{"$f":"'9'!M14","v":0},{"$f":"'9'!N14","v":0},{"$f":"'9'!O14","v":0},{"$f":"'9'!Q14","v":0}]
[null,null,null,null,null,{"$f":"'9'!F15","v":0},{"$f":"'9'!P15","v":0},{"$f":"'9'!G15","v":0},{"$f":"'9'!I15","v":0},{"$f":"'9'!J15","v":0},{"$f":"'9'!K15","v":0},{"$f":"'9'!L15","v":0},{"$f":"'9'!M15","v":0},{"$f":"'9'!N15","v":0},{"$f":"'9'!O15","v":0},{"$f":"'9'!Q15","v":0}]
[null,null,null,null,null,{"$f":"'9'!F16","v":0},{"$f":"'9'!P16","v":0},{"$f":"'9'!G16","v":0},{"$f":"'9'!I16","v":0},{"$f":"'9'!J16","v":0},{"$f":"'9'!K16","v":0},{"$f":"'9'!L16","v":0},{"$f":"'9'!M16","v":0},{"$f":"'9'!N16","v":0},{"$f":"'9'!O16","v":0},{"$f":"'9'!Q16","v":0}]
[null,null,null,null,null,{"$f":"'9'!F17","v":0},{"$f":"'9'!P17","v":0},{"$f":"'9'!G17","v":0},{"$f":"'9'!I17","v":0},{"$f":"'9'!J17","v":0},{"$f":"'9'!K17","v":0},{"$f":"'9'!L17","v":0},{"$f":"'9'!M17","v":0},{"$f":"'9'!N17","v":0},{"$f":"'9'!O17","v":0},{"$f":"'9'!Q17","v":0}]
[null,null,null,null,null,{"$f":"'9'!F18","v":0},{"$f":"'9'!P18","v":0},{"$f":"'9'!G18","v":0},{"$f":"'9'!I18","v":0},{"$f":"'9'!J18","v":0},{"$f":"'9'!K18","v":0},{"$f":"'9'!L18","v":0},{"$f":"'9'!M18","v":0},{"$f":"'9'!N18","v":0},{"$f":"'9'!O18","v":0},{"$f":"'9'!Q18","v":0}]
[null,null,null,null,null,{"$f":"'9'!F19","v":0},{"$f":"'9'!P19","v":0},{"$f":"'9'!G19","v":0},{"$f":"'9'!I19","v":0},{"$f":"'9'!J19","v":0},{"$f":"'9'!K19","v":0},{"$f":"'9'!L19","v":0},{"$f":"'9'!M19","v":0},{"$f":"'9'!N19","v":0},{"$f":"'9'!O19","v":0},{"$f":"'9'!Q19","v":0}]
[null,null,null,null,null,{"$f":"'9'!F20","v":0},{"$f":"'9'!P20","v":0},{"$f":"'9'!G20","v":0},{"$f":"'9'!I20","v":0},{"$f":"'9'!J20","v":0},{"$f":"'9'!K20","v":0},{"$f":"'9'!L20","v":0},{"$f":"'9'!M20","v":0},{"$f":"'9'!N20","v":0},{"$f":"'9'!O20","v":0},{"$f":"'9'!Q20","v":0}]
[null,null,null,null,null,{"$f":"'9'!F21","v":0},{"$f":"'9'!P21","v":0},{"$f":"'9'!G21","v":0},{"$f":"'9'!I21","v":0},{"$f":"'9'!J21","v":0},{"$f":"'9'!K21","v":0},{"$f":"'9'!L21","v":0},{"$f":"'9'!M21","v":0},{"$f":"'9'!N21","v":0},{"$f":"'9'!O21","v":0},{"$f":"'9'!Q21","v":0}]
[null,null,null,null,null,{"$f":"'9'!F22","v":0},{"$f":"'9'!P22","v":0},{"$f":"'9'!G22","v":0},{"$f":"'9'!I22","v":0},{"$f":"'9'!J22","v":0},{"$f":"'9'!K22","v":0},{"$f":"'9'!L22","v":0},{"$f":"'9'!M22","v":0},{"$f":"'9'!N22","v":0},{"$f":"'9'!O22","v":0},{"$f":"'9'!Q22","v":0}]
[null,null,null,null,null,{"$f":"'9'!F23","v":0},{"$f":"'9'!P23","v":0},{"$f":"'9'!G23","v":0},{"$f":"'9'!I23","v":0},{"$f":"'9'!J23","v":0},{"$f":"'9'!K23","v":0},{"$f":"'9'!L23","v":0},{"$f":"'9'!M23","v":0},{"$f":"'9'!N23","v":0},{"$f":"'9'!O23","v":0},{"$f":"'9'!Q23","v":0}]
[null,null,null,null,null,{"$f":"'9'!F24","v":0},{"$f":"'9'!P24","v":0},{"$f":"'9'!G24","v":0},{"$f":"'9'!I24","v":0},{"$f":"'9'!J24","v":0},{"$f":"'9'!K24","v":0},{"$f":"'9'!L24","v":0},{"$f":"'9'!M24","v":0},{"$f":"'9'!N24","v":0},{"$f":"'9'!O24","v":0},{"$f":"'9'!Q24","v":0}]
[null,null,null,null,null,{"$f":"'9'!F25","v":0},{"$f":"'9'!P25","v":0},{"$f":"'9'!G25","v":0},{"$f":"'9'!I25","v":0},{"$f":"'9'!J25","v":0},{"$f":"'9'!K25","v":0},{"$f":"'9'!L25","v":0},{"$f":"'9'!M25","v":0},{"$f":"'9'!N25","v":0},{"$f":"'9'!O25","v":0},{"$f":"'9'!Q25","v":0}]
[null,null,null,null,null,{"$f":"'10'!F11","v":0},{"$f":"'10'!P11","v":0},{"$f":"'10'!G11","v":0},{"$f":"'10'!I11","v":0},{"$f":"'10'!J11","v":0},{"$f":"'10'!K11","v":0},{"$f":"'10'!L11","v":0},{"$f":"'10'!M11","v":0},{"$f":"'10'!N11","v":0},{"$f":"'10'!O11","v":0},{"$f":"'10'!Q11","v":0}]
[null,null,null,null,null,{"$f":"'10'!F12","v":0},{"$f":"'10'!P12","v":0},{"$f":"'10'!G12","v":0},{"$f":"'10'!I12","v":0},{"$f":"'10'!J12","v":0},{"$f":"'10'!K12","v":0},{"$f":"'10'!L12","v":0},{"$f":"'10'!M12","v":0},{"$f":"'10'!N12","v":0},{"$f":"'10'!O12","v":0},{"$f":"'10'!Q12","v":0}]
[null,null,null,null,null,{"$f":"'10'!F13","v":0},{"$f":"'10'!P13","v":0},{"$f":"'10'!G13","v":0},{"$f":"'10'!I13","v":0},{"$f":"'10'!J13","v":0},{"$f":"'10'!K13","v":0},{"$f":"'10'!L13","v":0},{"$f":"'10'!M13","v":0},{"$f":"'10'!N13","v":0},{"$f":"'10'!O13","v":0},{"$f":"'10'!Q13","v":0}]
[null,null,null,null,null,{"$f":"'10'!F14","v":0},{"$f":"'10'!P14","v":0},{"$f":"'10'!G14","v":0},{"$f":"'10'!I14","v":0},{"$f":"'10'!J14","v":0},{"$f":"'10'!K14","v":0},{"$f":"'10'!L14","v":0},{"$f":"'10'!M14","v":0},{"$f":"'10'!N14","v":0},{"$f":"'10'!O14","v":0},{"$f":"'10'!Q14","v":0}]
[null,null,null,null,null,{"$f":"'10'!F15","v":0},{"$f":"'10'!P15","v":0},{"$f":"'10'!G15","v":0},{"$f":"'10'!I15","v":0},{"$f":"'10'!J15","v":0},{"$f":"'10'!K15","v":0},{"$f":"'10'!L15","v":0},{"$f":"'10'!M15","v":0},{"$f":"'10'!N15","v":0},{"$f":"'10'!O15","v":0},{"$f":"'10'!Q15","v":0}]
[null,null,null,null,null,{"$f":"'10'!F16","v":0},{"$f":"'10'!P16","v":0},{"$f":"'10'!G16","v":0},{"$f":"'10'!I16","v":0},{"$f":"'10'!J16","v":0},{"$f":"'10'!K16","v":0},{"$f":"'10'!L16","v":0},{"$f":"'10'!M16","v":0},{"$f":"'10'!N16","v":0},{"$f":"'10'!O16","v":0},{"$f":"'10'!Q16","v":0}]
[null,null,null,null,null,{"$f":"'10'!F17","v":0},{"$f":"'10'!P17","v":0},{"$f":"'10'!G17","v":0},{"$f":"'10'!I17","v":0},{"$f":"'10'!J17","v":0},{"$f":"'10'!K17","v":0},{"$f":"'10'!L17","v":0},{"$f":"'10'!M17","v":0},{"$f":"'10'!N17","v":0},{"$f":"'10'!O17","v":0},{"$f":"'10'!Q17","v":0}]
[null,null,null,null,null,{"$f":"'10'!F18","v":0},{"$f":"'10'!P18","v":0},{"$f":"'10'!G18","v":0},{"$f":"'10'!I18","v":0},{"$f":"'10'!J18","v":0},{"$f":"'10'!K18","v":0},{"$f":"'10'!L18","v":0},{"$f":"'10'!M18","v":0},{"$f":"'10'!N18","v":0},{"$f":"'10'!O18","v":0},{"$f":"'10'!Q18","v":0}]
[null,null,null,null,null,{"$f":"'10'!F19","v":0},{"$f":"'10'!P19","v":0},{"$f":"'10'!G19","v":0},{"$f":"'10'!I19","v":0},{"$f":"'10'!J19","v":0},{"$f":"'10'!K19","v":0},{"$f":"'10'!L19","v":0},{"$f":"'10'!M19","v":0},{"$f":"'10'!N19","v":0},{"$f":"'10'!O19","v":0},{"$f":"'10'!Q19","v":0}]
[null,null,null,null,null,{"$f":"'10'!F20","v":0},{"$f":"'10'!P20","v":0},{"$f":"'10'!G20","v":0},{"$f":"'10'!I20","v":0},{"$f":"'10'!J20","v":0},{"$f":"'10'!K20","v":0},{"$f":"'10'!L20","v":0},{"$f":"'10'!M20","v":0},{"$f":"'10'!N20","v":0},{"$f":"'10'!O20","v":0},{"$f":"'10'!Q20","v":0}]
[null,null,null,null,null,{"$f":"'10'!F21","v":0},{"$f":"'10'!P21","v":0},{"$f":"'10'!G21","v":0},{"$f":"'10'!I21","v":0},{"$f":"'10'!J21","v":0},{"$f":"'10'!K21","v":0},{"$f":"'10'!L21","v":0},{"$f":"'10'!M21","v":0},{"$f":"'10'!N21","v":0},{"$f":"'10'!O21","v":0},{"$f":"'10'!Q21","v":0}]
[null,null,null,null,null,{"$f":"'10'!F22","v":0},{"$f":"'10'!P22","v":0},{"$f":"'10'!G22","v":0},{"$f":"'10'!I22","v":0},{"$f":"'10'!J22","v":0},{"$f":"'10'!K22","v":0},{"$f":"'10'!L22","v":0},{"$f":"'10'!M22","v":0},{"$f":"'10'!N22","v":0},{"$f":"'10'!O22","v":0},{"$f":"'10'!Q22","v":0}]
[null,null,null,null,null,{"$f":"'10'!F23","v":0},{"$f":"'10'!P23","v":0},{"$f":"'10'!G23","v":0},{"$f":"'10'!I23","v":0},{"$f":"'10'!J23","v":0},{"$f":"'10'!K23","v":0},{"$f":"'10'!L23","v":0},{"$f":"'10'!M23","v":0},{"$f":"'10'!N23","v":0},{"$f":"'10'!O23","v":0},{"$f":"'10'!Q23","v":0}]
[null,null,null,null,null,{"$f":"'10'!F24","v":0},{"$f":"'10'!P24","v":0},{"$f":"'10'!G24","v":0},{"$f":"'10'!I24","v":0},{"$f":"'10'!J24","v":0},{"$f":"'10'!K24","v":0},{"$f":"'10'!L24","v":0},{"$f":"'10'!M24","v":0},{"$f":"'10'!N24","v":0},{"$f":"'10'!O24","v":0},{"$f":"'10'!Q24","v":0}]
[null,null,null,null,null,{"$f":"'10'!F25","v":0},{"$f":"'10'!P25","v":0},{"$f":"'10'!G25","v":0},{"$f":"'10'!I25","v":0},{"$f":"'10'!J25","v":0},{"$f":"'10'!K25","v":0},{"$f":"'10'!L25","v":0},{"$f":"'10'!M25","v":0},{"$f":"'10'!N25","v":0},{"$f":"'10'!O25","v":0},{"$f":"'10'!Q25","v":0}]
[null,null,null,null,null,{"$f":"'11'!F11","v":0},{"$f":"'11'!P11","v":0},{"$f":"'11'!G11","v":0},{"$f":"'11'!I11","v":0},{"$f":"'11'!J11","v":0},{"$f":"'11'!K11","v":0},{"$f":"'11'!L11","v":0},{"$f":"'11'!M11","v":0},{"$f":"'11'!N11","v":0},{"$f":"'11'!O11","v":0},{"$f":"'11'!Q11","v":0}]
[null,null,null,null,null,{"$f":"'11'!F12","v":0},{"$f":"'11'!P12","v":0},{"$f":"'11'!G12","v":0},{"$f":"'11'!I12","v":0},{"$f":"'11'!J12","v":0},{"$f":"'11'!K12","v":0},{"$f":"'11'!L12","v":0},{"$f":"'11'!M12","v":0},{"$f":"'11'!N12","v":0},{"$f":"'11'!O12","v":0},{"$f":"'11'!Q12","v":0}]
[null,null,null,null,null,{"$f":"'11'!F13","v":0},{"$f":"'11'!P13","v":0},{"$f":"'11'!G13","v":0},{"$f":"'11'!I13","v":0},{"$f":"'11'!J13","v":0},{"$f":"'11'!K13","v":0},{"$f":"'11'!L13","v":0},{"$f":"'11'!M13","v":0},{"$f":"'11'!N13","v":0},{"$f":"'11'!O13","v":0},{"$f":"'11'!Q13","v":0}]
[null,null,null,null,null,{"$f":"'11'!F14","v":0},{"$f":"'11'!P14","v":0},{"$f":"'11'!G14","v":0},{"$f":"'11'!I14","v":0},{"$f":"'11'!J14","v":0},{"$f":"'11'!K14","v":0},{"$f":"'11'!L14","v":0},{"$f":"'11'!M14","v":0},{"$f":"'11'!N14","v":0},{"$f":"'11'!O14","v":0},{"$f":"'11'!Q14","v":0}]
[null,null,null,null,null,{"$f":"'11'!F15","v":0},{"$f":"'11'!P15","v":0},{"$f":"'11'!G15","v":0},{"$f":"'11'!I15","v":0},{"$f":"'11'!J15","v":0},{"$f":"'11'!K15","v":0},{"$f":"'11'!L15","v":0},{"$f":"'11'!M15","v":0},{"$f":"'11'!N15","v":0},{"$f":"'11'!O15","v":0},{"$f":"'11'!Q15","v":0}]
[null,null,null,null,null,{"$f":"'11'!F16","v":0},{"$f":"'11'!P16","v":0},{"$f":"'11'!G16","v":0},{"$f":"'11'!I16","v":0},{"$f":"'11'!J16","v":0},{"$f":"'11'!K16","v":0},{"$f":"'11'!L16","v":0},{"$f":"'11'!M16","v":0},{"$f":"'11'!N16","v":0},{"$f":"'11'!O16","v":0},{"$f":"'11'!Q16","v":0}]
[null,null,null,null,null,{"$f":"'11'!F17","v":0},{"$f":"'11'!P17","v":0},{"$f":"'11'!G17","v":0},{"$f":"'11'!I17","v":0},{"$f":"'11'!J17","v":0},{"$f":"'11'!K17","v":0},{"$f":"'11'!L17","v":0},{"$f":"'11'!M17","v":0},{"$f":"'11'!N17","v":0},{"$f":"'11'!O17","v":0},{"$f":"'11'!Q17","v":0}]
[null,null,null,null,null,{"$f":"'11'!F18","v":0},{"$f":"'11'!P18","v":0},{"$f":"'11'!G18","v":0},{"$f":"'11'!I18","v":0},{"$f":"'11'!J18","v":0},{"$f":"'11'!K18","v":0},{"$f":"'11'!L18","v":0},{"$f":"'11'!M18","v":0},{"$f":"'11'!N18","v":0},{"$f":"'11'!O18","v":0},{"$f":"'11'!Q18","v":0}]
[null,null,null,null,null,{"$f":"'11'!F19","v":0},{"$f":"'11'!P19","v":0},{"$f":"'11'!G19","v":0},{"$f":"'11'!I19","v":0},{"$f":"'11'!J19","v":0},{"$f":"'11'!K19","v":0},{"$f":"'11'!L19","v":0},{"$f":"'11'!M19","v":0},{"$f":"'11'!N19","v":0},{"$f":"'11'!O19","v":0},{"$f":"'11'!Q19","v":0}]
[null,null,null,null,null,{"$f":"'11'!F20","v":0},{"$f":"'11'!P20","v":0},{"$f":"'11'!G20","v":0},{"$f":"'11'!I20","v":0},{"$f":"'11'!J20","v":0},{"$f":"'11'!K20","v":0},{"$f":"'11'!L20","v":0},{"$f":"'11'!M20","v":0},{"$f":"'11'!N20","v":0},{"$f":"'11'!O20","v":0},{"$f":"'11'!Q20","v":0}]
[null,null,null,null,null,{"$f":"'11'!F21","v":0},{"$f":"'11'!P21","v":0},{"$f":"'11'!G21","v":0},{"$f":"'11'!I21","v":0},{"$f":"'11'!J21","v":0},{"$f":"'11'!K21","v":0},{"$f":"'11'!L21","v":0},{"$f":"'11'!M21","v":0},{"$f":"'11'!N21","v":0},{"$f":"'11'!O21","v":0},{"$f":"'11'!Q21","v":0}]
[null,null,null,null,null,{"$f":"'11'!F22","v":0},{"$f":"'11'!P22","v":0},{"$f":"'11'!G22","v":0},{"$f":"'11'!I22","v":0},{"$f":"'11'!J22","v":0},{"$f":"'11'!K22","v":0},{"$f":"'11'!L22","v":0},{"$f":"'11'!M22","v":0},{"$f":"'11'!N22","v":0},{"$f":"'11'!O22","v":0},{"$f":"'11'!Q22","v":0}]
[null,null,null,null,null,{"$f":"'11'!F23","v":0},{"$f":"'11'!P23","v":0},{"$f":"'11'!G23","v":0},{"$f":"'11'!I23","v":0},{"$f":"'11'!J23","v":0},{"$f":"'11'!K23","v":0},{"$f":"'11'!L23","v":0},{"$f":"'11'!M23","v":0},{"$f":"'11'!N23","v":0},{"$f":"'11'!O23","v":0},{"$f":"'11'!Q23","v":0}]
[null,null,null,null,null,{"$f":"'11'!F24","v":0},{"$f":"'11'!P24","v":0},{"$f":"'11'!G24","v":0},{"$f":"'11'!I24","v":0},{"$f":"'11'!J24","v":0},{"$f":"'11'!K24","v":0},{"$f":"'11'!L24","v":0},{"$f":"'11'!M24","v":0},{"$f":"'11'!N24","v":0},{"$f":"'11'!O24","v":0},{"$f":"'11'!Q24","v":0}]
[null,null,null,null,null,{"$f":"'11'!F25","v":0},{"$f":"'11'!P25","v":0},{"$f":"'11'!G25","v":0},{"$f":"'11'!I25","v":0},{"$f":"'11'!J25","v":0},{"$f":"'11'!K25","v":0},{"$f":"'11'!L25","v":0},{"$f":"'11'!M25","v":0},{"$f":"'11'!N25","v":0},{"$f":"'11'!O25","v":0},{"$f":"'11'!Q25","v":0}]
[null,null,null,null,null,{"$f":"'12'!F11","v":0},{"$f":"'12'!P11","v":0},{"$f":"'12'!G11","v":0},{"$f":"'12'!I11","v":0},{"$f":"'12'!J11","v":0},{"$f":"'12'!K11","v":0},{"$f":"'12'!L11","v":0},{"$f":"'12'!M11","v":0},{"$f":"'12'!N11","v":0},{"$f":"'12'!O11","v":0},{"$f":"'12'!Q11","v":0}]
[null,null,null,null,null,{"$f":"'12'!F12","v":0},{"$f":"'12'!P12","v":0},{"$f":"'12'!G12","v":0},{"$f":"'12'!I12","v":0},{"$f":"'12'!J12","v":0},{"$f":"'12'!K12","v":0},{"$f":"'12'!L12","v":0},{"$f":"'12'!M12","v":0},{"$f":"'12'!N12","v":0},{"$f":"'12'!O12","v":0},{"$f":"'12'!Q12","v":0}]
[null,null,null,null,null,{"$f":"'12'!F13","v":0},{"$f":"'12'!P13","v":0},{"$f":"'12'!G13","v":0},{"$f":"'12'!I13","v":0},{"$f":"'12'!J13","v":0},{"$f":"'12'!K13","v":0},{"$f":"'12'!L13","v":0},{"$f":"'12'!M13","v":0},{"$f":"'12'!N13","v":0},{"$f":"'12'!O13","v":0},{"$f":"'12'!Q13","v":0}]
[null,null,null,null,null,{"$f":"'12'!F14","v":0},{"$f":"'12'!P14","v":0},{"$f":"'12'!G14","v":0},{"$f":"'12'!I14","v":0},{"$f":"'12'!J14","v":0},{"$f":"'12'!K14","v":0},{"$f":"'12'!L14","v":0},{"$f":"'12'!M14","v":0},{"$f":"'12'!N14","v":0},{"$f":"'12'!O14","v":0},{"$f":"'12'!Q14","v":0}]
[null,null,null,null,null,{"$f":"'12'!F15","v":0},{"$f":"'12'!P15","v":0},{"$f":"'12'!G15","v":0},{"$f":"'12'!I15","v":0},{"$f":"'12'!J15","v":0},{"$f":"'12'!K15","v":0},{"$f":"'12'!L15","v":0},{"$f":"'12'!M15","v":0},{"$f":"'12'!N15","v":0},{"$f":"'12'!O15","v":0},{"$f":"'12'!Q15","v":0}]
[null,null,null,null,null,{"$f":"'12'!F16","v":0},{"$f":"'12'!P16","v":0},{"$f":"'12'!G16","v":0},{"$f":"'12'!I16","v":0},{"$f":"'12'!J16","v":0},{"$f":"'12'!K16","v":0},{"$f":"'12'!L16","v":0},{"$f":"'12'!M16","v":0},{"$f":"'12'!N16","v":0},{"$f":"'12'!O16","v":0},{"$f":"'12'!Q16","v":0}]
[null,null,null,null,null,{"$f":"'12'!F17","v":0},{"$f":"'12'!P17","v":0},{"$f":"'12'!G17","v":0},{"$f":"'12'!I17","v":0},{"$f":"'12'!J17","v":0},{"$f":"'12'!K17","v":0},{"$f":"'12'!L17","v":0},{"$f":"'12'!M17","v":0},{"$f":"'12'!N17","v":0},{"$f":"'12'!O17","v":0},{"$f":"'12'!Q17","v":0}]
[null,null,null,null,null,{"$f":"'12'!F18","v":0},{"$f":"'12'!P18","v":0},{"$f":"'12'!G18","v":0},{"$f":"'12'!I18","v":0},{"$f":"'12'!J18","v":0},{"$f":"'12'!K18","v":0},{"$f":"'12'!L18","v":0},{"$f":"'12'!M18","v":0},{"$f":"'12'!N18","v":0},{"$f":"'12'!O18","v":0},{"$f":"'12'!Q18","v":0}]
[null,null,null,null,null,{"$f":"'12'!F19","v":0},{"$f":"'12'!P19","v":0},{"$f":"'12'!G19","v":0},{"$f":"'12'!I19","v":0},{"$f":"'12'!J19","v":0},{"$f":"'12'!K19","v":0},{"$f":"'12'!L19","v":0},{"$f":"'12'!M19","v":0},{"$f":"'12'!N19","v":0},{"$f":"'12'!O19","v":0},{"$f":"'12'!Q19","v":0}]
[null,null,null,null,null,{"$f":"'12'!F20","v":0},{"$f":"'12'!P20","v":0},{"$f":"'12'!G20","v":0},{"$f":"'12'!I20","v":0},{"$f":"'12'!J20","v":0},{"$f":"'12'!K20","v":0},{"$f":"'12'!L20","v":0},{"$f":"'12'!M20","v":0},{"$f":"'12'!N20","v":0},{"$f":"'12'!O20","v":0},{"$f":"'12'!Q20","v":0}]
[null,null,null,null,null,{"$f":"'12'!F21","v":0},{"$f":"'12'!P21","v":0},{"$f":"'12'!G21","v":0},{"$f":"'12'!I21","v":0},{"$f":"'12'!J21","v":0},{"$f":"'12'!K21","v":0},{"$f":"'12'!L21","v":0},{"$f":"'12'!M21","v":0},{"$f":"'12'!N21","v":0},{"$f":"'12'!O21","v":0},{"$f":"'12'!Q21","v":0}]
[null,null,null,null,null,{"$f":"'12'!F22","v":0},{"$f":"'12'!P22","v":0},{"$f":"'12'!G22","v":0},{"$f":"'12'!I22","v":0},{"$f":"'12'!J22","v":0},{"$f":"'12'!K22","v":0},{"$f":"'12'!L22","v":0},{"$f":"'12'!M22","v":0},{"$f":"'12'!N22","v":0},{"$f":"'12'!O22","v":0},{"$f":"'12'!Q22","v":0}]
[null,null,null,null,null,{"$f":"'12'!F23","v":0},{"$f":"'12'!P23","v":0},{"$f":"'12'!G23","v":0},{"$f":"'12'!I23","v":0},{"$f":"'12'!J23","v":0},{"$f":"'12'!K23","v":0},{"$f":"'12'!L23","v":0},{"$f":"'12'!M23","v":0},{"$f":"'12'!N23","v":0},{"$f":"'12'!O23","v":0},{"$f":"'12'!Q23","v":0}]
[null,null,null,null,null,{"$f":"'12'!F24","v":0},{"$f":"'12'!P24","v":0},{"$f":"'12'!G24","v":0},{"$f":"'12'!I24","v":0},{"$f":"'12'!J24","v":0},{"$f":"'12'!K24","v":0},{"$f":"'12'!L24","v":0},{"$f":"'12'!M24","v":0},{"$f":"'12'!N24","v":0},{"$f":"'12'!O24","v":0},{"$f":"'12'!Q24","v":0}]
[null,null,null,null,null,{"$f":"'12'!F25","v":0},{"$f":"'12'!P25","v":0},{"$f":"'12'!G25","v":0},{"$f":"'12'!I25","v":0},{"$f":"'12'!J25","v":0},{"$f":"'12'!K25","v":0},{"$f":"'12'!L25","v":0},{"$f":"'12'!M25","v":0},{"$f":"'12'!N25","v":0},{"$f":"'12'!O25","v":0},{"$f":"'12'!Q25","v":0}]
[null,null,null,null,null,{"$f":"'13'!F11","v":0},{"$f":"'13'!P11","v":0},{"$f":"'13'!G11","v":0},{"$f":"'13'!I11","v":0},{"$f":"'13'!J11","v":0},{"$f":"'13'!K11","v":0},{"$f":"'13'!L11","v":0},{"$f":"'13'!M11","v":0},{"$f":"'13'!N11","v":0},{"$f":"'13'!O11","v":0},{"$f":"'13'!Q11","v":0}]
[null,null,null,null,null,{"$f":"'13'!F12","v":0},{"$f":"'13'!P12","v":0},{"$f":"'13'!G12","v":0},{"$f":"'13'!I12","v":0},{"$f":"'13'!J12","v":0},{"$f":"'13'!K12","v":0},{"$f":"'13'!L12","v":0},{"$f":"'13'!M12","v":0},{"$f":"'13'!N12","v":0},{"$f":"'13'!O12","v":0},{"$f":"'13'!Q12","v":0}]
[null,null,null,null,null,{"$f":"'13'!F13","v":0},{"$f":"'13'!P13","v":0},{"$f":"'13'!G13","v":0},{"$f":"'13'!I13","v":0},{"$f":"'13'!J13","v":0},{"$f":"'13'!K13","v":0},{"$f":"'13'!L13","v":0},{"$f":"'13'!M13","v":0},{"$f":"'13'!N13","v":0},{"$f":"'13'!O13","v":0},{"$f":"'13'!Q13","v":0}]
[null,null,null,null,null,{"$f":"'13'!F14","v":0},{"$f":"'13'!P14","v":0},{"$f":"'13'!G14","v":0},{"$f":"'13'!I14","v":0},{"$f":"'13'!J14","v":0},{"$f":"'13'!K14","v":0},{"$f":"'13'!L14","v":0},{"$f":"'13'!M14","v":0},{"$f":"'13'!N14","v":0},{"$f":"'13'!O14","v":0},{"$f":"'13'!Q14","v":0}]
[null,null,null,null,null,{"$f":"'13'!F15","v":0},{"$f":"'13'!P15","v":0},{"$f":"'13'!G15","v":0},{"$f":"'13'!I15","v":0},{"$f":"'13'!J15","v":0},{"$f":"'13'!K15","v":0},{"$f":"'13'!L15","v":0},{"$f":"'13'!M15","v":0},{"$f":"'13'!N15","v":0},{"$f":"'13'!O15","v":0},{"$f":"'13'!Q15","v":0}]
[null,null,null,null,null,{"$f":"'13'!F16","v":0},{"$f":"'13'!P16","v":0},{"$f":"'13'!G16","v":0},{"$f":"'13'!I16","v":0},{"$f":"'13'!J16","v":0},{"$f":"'13'!K16","v":0},{"$f":"'13'!L16","v":0},{"$f":"'13'!M16","v":0},{"$f":"'13'!N16","v":0},{"$f":"'13'!O16","v":0},{"$f":"'13'!Q16","v":0}]
[null,null,null,null,null,{"$f":"'13'!F17","v":0},{"$f":"'13'!P17","v":0},{"$f":"'13'!G17","v":0},{"$f":"'13'!I17","v":0},{"$f":"'13'!J17","v":0},{"$f":"'13'!K17","v":0},{"$f":"'13'!L17","v":0},{"$f":"'13'!M17","v":0},{"$f":"'13'!N17","v":0},{"$f":"'13'!O17","v":0},{"$f":"'13'!Q17","v":0}]
[null,null,null,null,null,{"$f":"'13'!F18","v":0},{"$f":"'13'!P18","v":0},{"$f":"'13'!G18","v":0},{"$f":"'13'!I18","v":0},{"$f":"'13'!J18","v":0},{"$f":"'13'!K18","v":0},{"$f":"'13'!L18","v":0},{"$f":"'13'!M18","v":0},{"$f":"'13'!N18","v":0},{"$f":"'13'!O18","v":0},{"$f":"'13'!Q18","v":0}]
[null,null,null,null,null,{"$f":"'13'!F19","v":0},{"$f":"'13'!P19","v":0},{"$f":"'13'!G19","v":0},{"$f":"'13'!I19","v":0},{"$f":"'13'!J19","v":0},{"$f":"'13'!K19","v":0},{"$f":"'13'!L19","v":0},{"$f":"'13'!M19","v":0},{"$f":"'13'!N19","v":0},{"$f":"'13'!O19","v":0},{"$f":"'13'!Q19","v":0}]
[null,null,null,null,null,{"$f":"'13'!F20","v":0},{"$f":"'13'!P20","v":0},{"$f":"'13'!G20","v":0},{"$f":"'13'!I20","v":0},{"$f":"'13'!J20","v":0},{"$f":"'13'!K20","v":0},{"$f":"'13'!L20","v":0},{"$f":"'13'!M20","v":0},{"$f":"'13'!N20","v":0},{"$f":"'13'!O20","v":0},{"$f":"'13'!Q20","v":0}]
[null,null,null,null,null,{"$f":"'13'!F21","v":0},{"$f":"'13'!P21","v":0},{"$f":"'13'!G21","v":0},{"$f":"'13'!I21","v":0},{"$f":"'13'!J21","v":0},{"$f":"'13'!K21","v":0},{"$f":"'13'!L21","v":0},{"$f":"'13'!M21","v":0},{"$f":"'13'!N21","v":0},{"$f":"'13'!O21","v":0},{"$f":"'13'!Q21","v":0}]
[null,null,null,null,null,{"$f":"'13'!F22","v":0},{"$f":"'13'!P22","v":0},{"$f":"'13'!G22","v":0},{"$f":"'13'!I22","v":0},{"$f":"'13'!J22","v":0},{"$f":"'13'!K22","v":0},{"$f":"'13'!L22","v":0},{"$f":"'13'!M22","v":0},{"$f":"'13'!N22","v":0},{"$f":"'13'!O22","v":0},{"$f":"'13'!Q22","v":0}]
[null,null,null,null,null,{"$f":"'13'!F23","v":0},{"$f":"'13'!P23","v":0},{"$f":"'13'!G23","v":0},{"$f":"'13'!I23","v":0},{"$f":"'13'!J23","v":0},{"$f":"'13'!K23","v":0},{"$f":"'13'!L23","v":0},{"$f":"'13'!M23","v":0},{"$f":"'13'!N23","v":0},{"$f":"'13'!O23","v":0},{"$f":"'13'!Q23","v":0}]
[null,null,null,null,null,{"$f":"'13'!F24","v":0},{"$f":"'13'!P24","v":0},{"$f":"'13'!G24","v":0},{"$f":"'13'!I24","v":0},{"$f":"'13'!J24","v":0},{"$f":"'13'!K24","v":0},{"$f":"'13'!L24","v":0},{"$f":"'13'!M24","v":0},{"$f":"'13'!N24","v":0},{"$f":"'13'!O24","v":0},{"$f":"'13'!Q24","v":0}]
[null,null,null,null,null,{"$f":"'13'!F25","v":0},{"$f":"'13'!P25","v":0},{"$f":"'13'!G25","v":0},{"$f":"'13'!I25","v":0},{"$f":"'13'!J25","v":0},{"$f":"'13'!K25","v":0},{"$f":"'13'!L25","v":0},{"$f":"'13'!M25","v":0},{"$f":"'13'!N25","v":0},{"$f":"'13'!O25","v":0},{"$f":"'13'!Q25","v":0}]
[null,null,null,null,null,{"$f":"'14'!F11","v":0},{"$f":"'14'!P11","v":0},{"$f":"'14'!G11","v":0},{"$f":"'14'!I11","v":0},{"$f":"'14'!J11","v":0},{"$f":"'14'!K11","v":0},{"$f":"'14'!L11","v":0},{"$f":"'14'!M11","v":0},{"$f":"'14'!N11","v":0},{"$f":"'14'!O11","v":0},{"$f":"'14'!Q11","v":0}]
[null,null,null,null,null,{"$f":"'14'!F12","v":0},{"$f":"'14'!P12","v":0},{"$f":"'14'!G12","v":0},{"$f":"'14'!I12","v":0},{"$f":"'14'!J12","v":0},{"$f":"'14'!K12","v":0},{"$f":"'14'!L12","v":0},{"$f":"'14'!M12","v":0},{"$f":"'14'!N12","v":0},{"$f":"'14'!O12","v":0},{"$f":"'14'!Q12","v":0}]
[null,null,null,null,null,{"$f":"'14'!F13","v":0},{"$f":"'14'!P13","v":0},{"$f":"'14'!G13","v":0},{"$f":"'14'!I13","v":0},{"$f":"'14'!J13","v":0},{"$f":"'14'!K13","v":0},{"$f":"'14'!L13","v":0},{"$f":"'14'!M13","v":0},{"$f":"'14'!N13","v":0},{"$f":"'14'!O13","v":0},{"$f":"'14'!Q13","v":0}]
[null,null,null,null,null,{"$f":"'14'!F14","v":0},{"$f":"'14'!P14","v":0},{"$f":"'14'!G14","v":0},{"$f":"'14'!I14","v":0},{"$f":"'14'!J14","v":0},{"$f":"'14'!K14","v":0},{"$f":"'14'!L14","v":0},{"$f":"'14'!M14","v":0},{"$f":"'14'!N14","v":0},{"$f":"'14'!O14","v":0},{"$f":"'14'!Q14","v":0}]
[null,null,null,null,null,{"$f":"'14'!F15","v":0},{"$f":"'14'!P15","v":0},{"$f":"'14'!G15","v":0},{"$f":"'14'!I15","v":0},{"$f":"'14'!J15","v":0},{"$f":"'14'!K15","v":0},{"$f":"'14'!L15","v":0},{"$f":"'14'!M15","v":0},{"$f":"'14'!N15","v":0},{"$f":"'14'!O15","v":0},{"$f":"'14'!Q15","v":0}]
[null,null,null,null,null,{"$f":"'14'!F16","v":0},{"$f":"'14'!P16","v":0},{"$f":"'14'!G16","v":0},{"$f":"'14'!I16","v":0},{"$f":"'14'!J16","v":0},{"$f":"'14'!K16","v":0},{"$f":"'14'!L16","v":0},{"$f":"'14'!M16","v":0},{"$f":"'14'!N16","v":0},{"$f":"'14'!O16","v":0},{"$f":"'14'!Q16","v":0}]
[null,null,null,null,null,{"$f":"'14'!F17","v":0},{"$f":"'14'!P17","v":0},{"$f":"'14'!G17","v":0},{"$f":"'14'!I17","v":0},{"$f":"'14'!J17","v":0},{"$f":"'14'!K17","v":0},{"$f":"'14'!L17","v":0},{"$f":"'14'!M17","v":0},{"$f":"'14'!N17","v":0},{"$f":"'14'!O17","v":0},{"$f":"'14'!Q17","v":0}]
[null,null,null,null,null,{"$f":"'14'!F18","v":0},{"$f":"'14'!P18","v":0},{"$f":"'14'!G18","v":0},{"$f":"'14'!I18","v":0},{"$f":"'14'!J18","v":0},{"$f":"'14'!K18","v":0},{"$f":"'14'!L18","v":0},{"$f":"'14'!M18","v":0},{"$f":"'14'!N18","v":0},{"$f":"'14'!O18","v":0},{"$f":"'14'!Q18","v":0}]
[null,null,null,null,null,{"$f":"'14'!F19","v":0},{"$f":"'14'!P19","v":0},{"$f":"'14'!G19","v":0},{"$f":"'14'!I19","v":0},{"$f":"'14'!J19","v":0},{"$f":"'14'!K19","v":0},{"$f":"'14'!L19","v":0},{"$f":"'14'!M19","v":0},{"$f":"'14'!N19","v":0},{"$f":"'14'!O19","v":0},{"$f":"'14'!Q19","v":0}]
[null,null,null,null,null,{"$f":"'14'!F20","v":0},{"$f":"'14'!P20","v":0},{"$f":"'14'!G20","v":0},{"$f":"'14'!I20","v":0},{"$f":"'14'!J20","v":0},{"$f":"'14'!K20","v":0},{"$f":"'14'!L20","v":0},{"$f":"'14'!M20","v":0},{"$f":"'14'!N20","v":0},{"$f":"'14'!O20","v":0},{"$f":"'14'!Q20","v":0}]
[null,null,null,null,null,{"$f":"'14'!F21","v":0},{"$f":"'14'!P21","v":0},{"$f":"'14'!G21","v":0},{"$f":"'14'!I21","v":0},{"$f":"'14'!J21","v":0},{"$f":"'14'!K21","v":0},{"$f":"'14'!L21","v":0},{"$f":"'14'!M21","v":0},{"$f":"'14'!N21","v":0},{"$f":"'14'!O21","v":0},{"$f":"'14'!Q21","v":0}]
[null,null,null,null,null,{"$f":"'14'!F22","v":0},{"$f":"'14'!P22","v":0},{"$f":"'14'!G22","v":0},{"$f":"'14'!I22","v":0},{"$f":"'14'!J22","v":0},{"$f":"'14'!K22","v":0},{"$f":"'14'!L22","v":0},{"$f":"'14'!M22","v":0},{"$f":"'14'!N22","v":0},{"$f":"'14'!O22","v":0},{"$f":"'14'!Q22","v":0}]
[null,null,null,null,null,{"$f":"'14'!F23","v":0},{"$f":"'14'!P23","v":0},{"$f":"'14'!G23","v":0},{"$f":"'14'!I23","v":0},{"$f":"'14'!J23","v":0},{"$f":"'14'!K23","v":0},{"$f":"'14'!L23","v":0},{"$f":"'14'!M23","v":0},{"$f":"'14'!N23","v":0},{"$f":"'14'!O23","v":0},{"$f":"'14'!Q23","v":0}]
[null,null,null,null,null,{"$f":"'14'!F24","v":0},{"$f":"'14'!P24","v":0},{"$f":"'14'!G24","v":0},{"$f":"'14'!I24","v":0},{"$f":"'14'!J24","v":0},{"$f":"'14'!K24","v":0},{"$f":"'14'!L24","v":0},{"$f":"'14'!M24","v":0},{"$f":"'14'!N24","v":0},{"$f":"'14'!O24","v":0},{"$f":"'14'!Q24","v":0}]
[null,null,null,null,null,{"$f":"'14'!F25","v":0},{"$f":"'14'!P25","v":0},{"$f":"'14'!G25","v":0},{"$f":"'14'!I25","v":0},{"$f":"'14'!J25","v":0},{"$f":"'14'!K25","v":0},{"$f":"'14'!L25","v":0},{"$f":"'14'!M25","v":0},{"$f":"'14'!N25","v":0},{"$f":"'14'!O25","v":0},{"$f":"'14'!Q25","v":0}]
[null,null,null,null,null,{"$f":"'15'!F11","v":0},{"$f":"'15'!P11","v":0},{"$f":"'15'!G11","v":0},{"$f":"'15'!I11","v":0},{"$f":"'15'!J11","v":0},{"$f":"'15'!K11","v":0},{"$f":"'15'!L11","v":0},{"$f":"'15'!M11","v":0},{"$f":"'15'!N11","v":0},{"$f":"'15'!O11","v":0},{"$f":"'15'!Q11","v":0}]
[null,null,null,null,null,{"$f":"'15'!F12","v":0},{"$f":"'15'!P12","v":0},{"$f":"'15'!G12","v":0},{"$f":"'15'!I12","v":0},{"$f":"'15'!J12","v":0},{"$f":"'15'!K12","v":0},{"$f":"'15'!L12","v":0},{"$f":"'15'!M12","v":0},{"$f":"'15'!N12","v":0},{"$f":"'15'!O12","v":0},{"$f":"'15'!Q12","v":0}]
[null,null,null,null,null,{"$f":"'15'!F13","v":0},{"$f":"'15'!P13","v":0},{"$f":"'15'!G13","v":0},{"$f":"'15'!I13","v":0},{"$f":"'15'!J13","v":0},{"$f":"'15'!K13","v":0},{"$f":"'15'!L13","v":0},{"$f":"'15'!M13","v":0},{"$f":"'15'!N13","v":0},{"$f":"'15'!O13","v":0},{"$f":"'15'!Q13","v":0}]
[null,null,null,null,null,{"$f":"'15'!F14","v":0},{"$f":"'15'!P14","v":0},{"$f":"'15'!G14","v":0},{"$f":"'15'!I14","v":0},{"$f":"'15'!J14","v":0},{"$f":"'15'!K14","v":0},{"$f":"'15'!L14","v":0},{"$f":"'15'!M14","v":0},{"$f":"'15'!N14","v":0},{"$f":"'15'!O14","v":0},{"$f":"'15'!Q14","v":0}]
[null,null,null,null,null,{"$f":"'15'!F15","v":0},{"$f":"'15'!P15","v":0},{"$f":"'15'!G15","v":0},{"$f":"'15'!I15","v":0},{"$f":"'15'!J15","v":0},{"$f":"'15'!K15","v":0},{"$f":"'15'!L15","v":0},{"$f":"'15'!M15","v":0},{"$f":"'15'!N15","v":0},{"$f":"'15'!O15","v":0},{"$f":"'15'!Q15","v":0}]
[null,null,null,null,null,{"$f":"'15'!F16","v":0},{"$f":"'15'!P16","v":0},{"$f":"'15'!G16","v":0},{"$f":"'15'!I16","v":0},{"$f":"'15'!J16","v":0},{"$f":"'15'!K16","v":0},{"$f":"'15'!L16","v":0},{"$f":"'15'!M16","v":0},{"$f":"'15'!N16","v":0},{"$f":"'15'!O16","v":0},{"$f":"'15'!Q16","v":0}]
[null,null,null,null,null,{"$f":"'15'!F17","v":0},{"$f":"'15'!P17","v":0},{"$f":"'15'!G17","v":0},{"$f":"'15'!I17","v":0},{"$f":"'15'!J17","v":0},{"$f":"'15'!K17","v":0},{"$f":"'15'!L17","v":0},{"$f":"'15'!M17","v":0},{"$f":"'15'!N17","v":0},{"$f":"'15'!O17","v":0},{"$f":"'15'!Q17","v":0}]
[null,null,null,null,null,{"$f":"'15'!F18","v":0},{"$f":"'15'!P18","v":0},{"$f":"'15'!G18","v":0},{"$f":"'15'!I18","v":0},{"$f":"'15'!J18","v":0},{"$f":"'15'!K18","v":0},{"$f":"'15'!L18","v":0},{"$f":"'15'!M18","v":0},{"$f":"'15'!N18","v":0},{"$f":"'15'!O18","v":0},{"$f":"'15'!Q18","v":0}]
[null,null,null,null,null,{"$f":"'15'!F19","v":0},{"$f":"'15'!P19","v":0},{"$f":"'15'!G19","v":0},{"$f":"'15'!I19","v":0},{"$f":"'15'!J19","v":0},{"$f":"'15'!K19","v":0},{"$f":"'15'!L19","v":0},{"$f":"'15'!M19","v":0},{"$f":"'15'!N19","v":0},{"$f":"'15'!O19","v":0},{"$f":"'15'!Q19","v":0}]
[null,null,null,null,null,{"$f":"'15'!F20","v":0},{"$f":"'15'!P20","v":0},{"$f":"'15'!G20","v":0},{"$f":"'15'!I20","v":0},{"$f":"'15'!J20","v":0},{"$f":"'15'!K20","v":0},{"$f":"'15'!L20","v":0},{"$f":"'15'!M20","v":0},{"$f":"'15'!N20","v":0},{"$f":"'15'!O20","v":0},{"$f":"'15'!Q20","v":0}]
[null,null,null,null,null,{"$f":"'15'!F21","v":0},{"$f":"'15'!P21","v":0},{"$f":"'15'!G21","v":0},{"$f":"'15'!I21","v":0},{"$f":"'15'!J21","v":0},{"$f":"'15'!K21","v":0},{"$f":"'15'!L21","v":0},{"$f":"'15'!M21","v":0},{"$f":"'15'!N21","v":0},{"$f":"'15'!O21","v":0},{"$f":"'15'!Q21","v":0}]
[null,null,null,null,null,{"$f":"'15'!F22","v":0},{"$f":"'15'!P22","v":0},{"$f":"'15'!G22","v":0},{"$f":"'15'!I22","v":0},{"$f":"'15'!J22","v":0},{"$f":"'15'!K22","v":0},{"$f":"'15'!L22","v":0},{"$f":"'15'!M22","v":0},{"$f":"'15'!N22","v":0},{"$f":"'15'!O22","v":0},{"$f":"'15'!Q22","v":0}]
[null,null,null,null,null,{"$f":"'15'!F23","v":0},{"$f":"'15'!P23","v":0},{"$f":"'15'!G23","v":0},{"$f":"'15'!I23","v":0},{"$f":"'15'!J23","v":0},{"$f":"'15'!K23","v":0},{"$f":"'15'!L23","v":0},{"$f":"'15'!M23","v":0},{"$f":"'15'!N23","v":0},{"$f":"'15'!O23","v":0},{"$f":"'15'!Q23","v":0}]
[null,null,null,null,null,{"$f":"'15'!F24","v":0},{"$f":"'15'!P24","v":0},{"$f":"'15'!G24","v":0},{"$f":"'15'!I24","v":0},{"$f":"'15'!J24","v":0},{"$f":"'15'!K24","v":0},{"$f":"'15'!L24","v":0},{"$f":"'15'!M24","v":0},{"$f":"'15'!N24","v":0},{"$f":"'15'!O24","v":0},{"$f":"'15'!Q24","v":0}]
[null,null,null,null,null,{"$f":"'15'!F25","v":0},{"$f":"'15'!P25","v":0},{"$f":"'15'!G25","v":0},{"$f":"'15'!I25","v":0},{"$f":"'15'!J25","v":0},{"$f":"'15'!K25","v":0},{"$f":"'15'!L25","v":0},{"$f":"'15'!M25","v":0},{"$f":"'15'!N25","v":0},{"$f":"'15'!O25","v":0},{"$f":"'15'!Q25","v":0}]

{"sheet":"InfraS Summary","index":33,"n_rows":73,"n_cols":27,"rows_kept":73,"cut":false,"hidden":false,"merged":[[8,11,8,13],[25,11,25,13],[41,11,41,13],[65,11,65,13],[8,17,8,19],[65,14,65,16],[65,17,65,19],[8,14,8,16],[66,21,66,26],[42,21,42,26],[9,21,9,26],[25,14,25,16],[25,17,25,19],[26,21,26,26],[41,14,41,16],[41,17,41,19]]}
["Exirting"]
[]
[]
[]
[]
[null,null,null,null,null,"PE No",{"$f":"Settings!$O$2","v":"PE196"}]
[null,null,null,null,null,"Entity name",{"$f":"Settings!$D$2","v":"Transnet Limited"}]
[]
[null,null,null,null,null,"Nature of investment",null,"Total Project Cost",{"$f":"MyYearM3","v":"2019/20"},{"$f":"MyYearM2","v":"2020/21"},{"$f":"MyYearM1","v":"2021/22"},{"$f":"MyYear0","v":"2022/23"},null,null,{"$f":"MyYearP1","v":"2023/24"},null,null,{"$f":"MyYearP2","v":"2024/25"},null,null,{"$f":"MyYearP3","v":"2025/26"},"2024/25","2025/26","2026/27","2027/28","2028/29","2029/30"]
[null,null,null,null,null,"Rand thousand",null,null,{"$f":"Hist_year3RestatedAudited","v":"Audited\noutcome"},{"$f":"Hist_year2RestatedAudited","v":"Audited\noutcome"},{"$f":"Hist_year1Audited","v":"Audited\noutcome"},{"$f":"Cur_YearBudgEst","v":"Budget\nestimate"},{"$f":"Cur_YearApprovedBudg","v":"Approved budget"},{"$f":"Cur_YearChangeFrRevBudg","v":"Changes from \nbudget estimate"},{"$f":"MTEF1BudgEst","v":"Budget\nestimate"},{"$f":"MTEF1RevBudgEst","v":"Revised\nbudget\nestimate"},{"$f":"MTEF1_ChangeFrBudgEst","v":"Changes from budget estimate"},{"$f":"MTEF2BudgEst","v":"Budget\nestimate"},{"$f":"MTEF2RevBudgEst","v":"Revised\nbudget\nestimate"},{"$f":"MTEF2_ChangeFrBudgEst","v":"Changes from budget estimate"},{"$f":"MTEF3PlanBudgetEst","v":"Planning\nbudget \nestimate"},"Long term planning"]
["off",null,null,null,null,"New infrastructure assets",null,{"$f":"SUMIF(Infrastructure!$K$11:$K$1814,Settings!$BH17,Infrastructure!O$11:O$1850)","v":0},{"$f":"SUMIF(Infrastructure!$K$11:$K$1814,Settings!$BH17,Infrastructure!P$11:P$1850)","v":0},{"$f":"SUMIF(Infrastructure!$K$11:$K$1814,Settings!$BH17,Infrastructure!Q$11:Q$1850)","v":0},{"$f":"SUMIF(Infrastructure!$K$11:$K$1814,Settings!$BH17,Infrastructure!R$11:R$1850)","v":0},{"$f":"SUMIF(Infrastructure!$K$11:$K$1814,Settings!$BH17,Infrastructure!S$11:S$1850)","v":0},{"$f":"SUMIF(Infrastructure!$K$11:$K$1814,Settings!$BH17,Infrastructure!T$11:T$1850)","v":0},{"$f":"SUMIF(Infrastructure!$K$11:$K$1814,Settings!$BH17,Infrastructure!U$11:U$1850)","v":0},{"$f":"SUMIF(Infrastructure!$K$11:$K$1814,Settings!$BH17,Infrastructure!V$11:V$1850)","v":0},{"$f":"SUMIF(Infrastructure!$K$11:$K$1814,Settings!$BH17,Infrastructure!W$11:W$1850)","v":0},{"$f":"SUMIF(Infrastructure!$K$11:$K$1814,Settings!$BH17,Infrastructure!X$11:X$1850)","v":0},{"$f":"SUMIF(Infrastructure!$K$11:$K$1814,Settings!$BH17,Infrastructure!Y$11:Y$1850)","v":0},{"$f":"SUMIF(Infrastructure!$K$11:$K$1814,Settings!$BH17,Infrastructure!Z$11:Z$1850)","v":0},{"$f":"SUMIF(Infrastructure!$K$11:$K$1814,Settings!$BH17,Infrastructure!AA$11:AA$1850)","v":0},{"$f":"SUMIF(Infrastructure!$K$11:$K$1814,Settings!$BH17,Infrastructure!AB$11:AB$1850)","v":0},{"$f":"SUMIF(Infrastructure!$K$11:$K$1814,Settings!$BH17,Infrastructure!AC$11:AC$1850)","v":0},{"$f":"SUMIF(Infrastructure!$K$11:$K$1814,Settings!$BH17,Infrastructure!AD$11:AD$1850)","v":0},{"$f":"SUMIF(Infrastructure!$K$11:$K$1814,Settings!$BH17,Infrastructure!AE$11:AE$1850)","v":0},{"$f":"SUMIF(Infrastructure!$K$11:$K$1814,Settings!$BH17,Infrastructure!AF$11:AF$1850)","v":0},{"$f":"SUMIF(Infrastructure!$K$11:$K$1814,Settings!$BH17,Infrastructure!AG$11:AG$1850)","v":0},{"$f":"SUMIF(Infrastructure!$K$11:$K$1814,Settings!$BH17,Infrastructure!AH$11:AH$1850)","v":0}]
[null,null,null,null,null,"Existing infrastructure assets",null,{"$f":"SUM(H13:H15)","v":0},{"$f":"SUM(I13:I15)","v":0},{"$f":"SUM(J13:J15)","v":0},0,0,{"$f":"SUM(M13:M15)","v":0},{"$f":"SUMIF(Infrastructure!$K$11:$K$1814,Settings!$BH18,Infrastructure!U$11:U$1850)","v":0},0,0,0,0,0,0,0,0,0,0,0,0,0]
[null,null,null,null,null,null,"Upgrading and additions",{"$f":"SUMIF(Infrastructure!$K$11:$K$1814,Settings!$BH18,Infrastructure!O$11:O$1850)","v":0},{"$f":"SUMIF(Infrastructure!$K$11:$K$1814,Settings!$BH18,Infrastructure!P$11:P$1850)","v":0},{"$f":"SUMIF(Infrastructure!$K$11:$K$1814,Settings!$BH18,Infrastructure!Q$11:Q$1850)","v":0},{"$f":"SUMIF(Infrastructure!$K$11:$K$1814,Settings!$BH18,Infrastructure!R$11:R$1850)","v":0},{"$f":"SUMIF(Infrastructure!$K$11:$K$1814,Settings!$BH18,Infrastructure!S$11:S$1850)","v":0},{"$f":"SUMIF(Infrastructure!$K$11:$K$1814,Settings!$BH18,Infrastructure!T$11:T$1850)","v":0},{"$f":"SUMIF(Infrastructure!$K$11:$K$1814,Settings!$BH19,Infrastructure!U$11:U$1850)","v":0},{"$f":"SUMIF(Infrastructure!$K$11:$K$1814,Settings!$BH18,Infrastructure!V$11:V$1850)","v":0},{"$f":"SUMIF(Infrastructure!$K$11:$K$1814,Settings!$BH18,Infrastructure!W$11:W$1850)","v":0},{"$f":"SUMIF(Infrastructure!$K$11:$K$1814,Settings!$BH18,Infrastructure!X$11:X$1850)","v":0},{"$f":"SUMIF(Infrastructure!$K$11:$K$1814,Settings!$BH18,Infrastructure!Y$11:Y$1850)","v":0},{"$f":"SUMIF(Infrastructure!$K$11:$K$1814,Settings!$BH18,Infrastructure!Z$11:Z$1850)","v":0},{"$f":"SUMIF(Infrastructure!$K$11:$K$1814,Settings!$BH18,Infrastructure!AA$11:AA$1850)","v":0},{"$f":"SUMIF(Infrastructure!$K$11:$K$1814,Settings!$BH18,Infrastructure!AB$11:AB$1850)","v":0},{"$f":"SUMIF(Infrastructure!$K$11:$K$1814,Settings!$BH18,Infrastructure!AC$11:AC$1850)","v":0},{"$f":"SUMIF(Infrastructure!$K$11:$K$1814,Settings!$BH18,Infrastructure!AD$11:AD$1850)","v":0},{"$f":"SUMIF(Infrastructure!$K$11:$K$1814,Settings!$BH18,Infrastructure!AE$11:AE$1850)","v":0},{"$f":"SUMIF(Infrastructure!$K$11:$K$1814,Settings!$BH18,Infrastructure!AF$11:AF$1850)","v":0},{"$f":"SUMIF(Infrastructure!$K$11:$K$1814,Settings!$BH18,Infrastructure!AG$11:AG$1850)","v":0},{"$f":"SUMIF(Infrastructure!$K$11:$K$1814,Settings!$BH18,Infrastructure!AH$11:AH$1850)","v":0}]
[null,null,null,null,null,null,"Rehabilitation,renovations and refurbishment",{"$f":"SUMIF(Infrastructure!$K$11:$K$1814,Settings!$BH19,Infrastructure!O$11:O$1850)","v":0},{"$f":"SUMIF(Infrastructure!$K$11:$K$1814,Settings!$BH19,Infrastructure!P$11:P$1850)","v":0},{"$f":"SUMIF(Infrastructure!$K$11:$K$1814,Settings!$BH19,Infrastructure!Q$11:Q$1850)","v":0},{"$f":"SUMIF(Infrastructure!$K$11:$K$1814,Settings!$BH19,Infrastructure!R$11:R$1850)","v":0},{"$f":"SUMIF(Infrastructure!$K$11:$K$1814,Settings!$BH19,Infrastructure!S$11:S$1850)","v":0},{"$f":"SUMIF(Infrastructure!$K$11:$K$1814,Settings!$BH19,Infrastructure!T$11:T$1850)","v":0},{"$f":"SUMIF(Infrastructure!$K$11:$K$1814,Settings!$BH20,Infrastructure!U$11:U$1850)","v":0},{"$f":"SUMIF(Infrastructure!$K$11:$K$1814,Settings!$BH19,Infrastructure!V$11:V$1850)","v":0},{"$f":"SUMIF(Infrastructure!$K$11:$K$1814,Settings!$BH19,Infrastructure!W$11:W$1850)","v":0},{"$f":"SUMIF(Infrastructure!$K$11:$K$1814,Settings!$BH19,Infrastructure!X$11:X$1850)","v":0},{"$f":"SUMIF(Infrastructure!$K$11:$K$1814,Settings!$BH19,Infrastructure!Y$11:Y$1850)","v":0},{"$f":"SUMIF(Infrastructure!$K$11:$K$1814,Settings!$BH19,Infrastructure!Z$11:Z$1850)","v":0},{"$f":"SUMIF(Infrastructure!$K$11:$K$1814,Settings!$BH19,Infrastructure!AA$11:AA$1850)","v":0},{"$f":"SUMIF(Infrastructure!$K$11:$K$1814,Settings!$BH19,Infrastructure!AB$11:AB$1850)","v":0},{"$f":"SUMIF(Infrastructure!$K$11:$K$1814,Settings!$BH19,Infrastructure!AC$11:AC$1850)","v":0},{"$f":"SUMIF(Infrastructure!$K$11:$K$1814,Settings!$BH19,Infrastructure!AD$11:AD$1850)","v":0},{"$f":"SUMIF(Infrastructure!$K$11:$K$1814,Settings!$BH19,Infrastructure!AE$11:AE$1850)","v":0},{"$f":"SUMIF(Infrastructure!$K$11:$K$1814,Settings!$BH19,Infrastructure!AF$11:AF$1850)","v":0},{"$f":"SUMIF(Infrastructure!$K$11:$K$1814,Settings!$BH19,Infrastructure!AG$11:AG$1850)","v":0},{"$f":"SUMIF(Infrastructure!$K$11:$K$1814,Settings!$BH19,Infrastructure!AH$11:AH$1850)","v":0}]
[null,null,null,null,null,null,"Maintenance and repair",{"$f":"SUMIF(Infrastructure!$K$11:$K$1814,Settings!$BH20,Infrastructure!O$11:O$1850)","v":0},{"$f":"SUMIF(Infrastructure!$K$11:$K$1814,Settings!$BH20,Infrastructure!P$11:P$1850)","v":0},{"$f":"SUMIF(Infrastructure!$K$11:$K$1814,Settings!$BH20,Infrastructure!Q$11:Q$1850)","v":0},{"$f":"SUMIF(Infrastructure!$K$11:$K$1814,Settings!$BH20,Infrastructure!R$11:R$1850)","v":0},{"$f":"SUMIF(Infrastructure!$K$11:$K$1814,Settings!$BH20,Infrastructure!S$11:S$1850)","v":0},{"$f":"SUMIF(Infrastructure!$K$11:$K$1814,Settings!$BH20,Infrastructure!T$11:T$1850)","v":0},{"$f":"SUMIF(Infrastructure!$K$11:$K$1814,Settings!$BH21,Infrastructure!U$11:U$1850)","v":0},{"$f":"SUMIF(Infrastructure!$K$11:$K$1814,Settings!$BH20,Infrastructure!V$11:V$1850)","v":0},{"$f":"SUMIF(Infrastructure!$K$11:$K$1814,Settings!$BH20,Infrastructure!W$11:W$1850)","v":0},{"$f":"SUMIF(Infrastructure!$K$11:$K$1814,Settings!$BH20,Infrastructure!X$11:X$1850)","v":0},{"$f":"SUMIF(Infrastructure!$K$11:$K$1814,Settings!$BH20,Infrastructure!Y$11:Y$1850)","v":0},{"$f":"SUMIF(Infrastructure!$K$11:$K$1814,Settings!$BH20,Infrastructure!Z$11:Z$1850)","v":0},{"$f":"SUMIF(Infrastructure!$K$11:$K$1814,Settings!$BH20,Infrastructure!AA$11:AA$1850)","v":0},{"$f":"SUMIF(Infrastructure!$K$11:$K$1814,Settings!$BH20,Infrastructure!AB$11:AB$1850)","v":0},{"$f":"SUMIF(Infrastructure!$K$11:$K$1814,Settings!$BH20,Infrastructure!AC$11:AC$1850)","v":0},{"$f":"SUMIF(Infrastructure!$K$11:$K$1814,Settings!$BH20,Infrastructure!AD$11:AD$1850)","v":0},{"$f":"SUMIF(Infrastructure!$K$11:$K$1814,Settings!$BH20,Infrastructure!AE$11:AE$1850)","v":0},{"$f":"SUMIF(Infrastructure!$K$11:$K$1814,Settings!$BH20,Infrastructure!AF$11:AF$1850)","v":0},{"$f":"SUMIF(Infrastructure!$K$11:$K$1814,Settings!$BH20,Infrastructure!AG$11:AG$1850)","v":0},{"$f":"SUMIF(Infrastructure!$K$11:$K$1814,Settings!$BH20,Infrastructure!AH$11:AH$1850)","v":0}]
[null,null,null,null,null,"Infrastructure transfers",null,{"$f":"SUM(H17:H18)","v":0},{"$f":"SUM(I17:I18)","v":0},{"$f":"SUM(J17:J18)","v":0},0,0,{"$f":"SUM(M17:M18)","v":0},{"$f":"SUMIF(Infrastructure!$K$11:$K$1814,Settings!$BH22,Infrastructure!U$11:U$1850)","v":0},0,0,0,0,0,0,0,0,0,0,0,0,0]
[null,null,null,null,null,null,"Current",{"$f":"SUMIF(Infrastructure!$K$11:$K$1814,Settings!$BH21,Infrastructure!O$11:O$1850)","v":0},{"$f":"SUMIF(Infrastructure!$K$11:$K$1814,Settings!$BH21,Infrastructure!P$11:P$1850)","v":0},{"$f":"SUMIF(Infrastructure!$K$11:$K$1814,Settings!$BH21,Infrastructure!Q$11:Q$1850)","v":0},{"$f":"SUMIF(Infrastructure!$K$11:$K$1814,Settings!$BH21,Infrastructure!R$11:R$1850)","v":0},{"$f":"SUMIF(Infrastructure!$K$11:$K$1814,Settings!$BH21,Infrastructure!S$11:S$1850)","v":0},{"$f":"SUMIF(Infrastructure!$K$11:$K$1814,Settings!$BH21,Infrastructure!T$11:T$1850)","v":0},{"$f":"SUMIF(Infrastructure!$K$11:$K$1814,Settings!$BH23,Infrastructure!U$11:U$1850)","v":0},{"$f":"SUMIF(Infrastructure!$K$11:$K$1814,Settings!$BH21,Infrastructure!V$11:V$1850)","v":0},{"$f":"SUMIF(Infrastructure!$K$11:$K$1814,Settings!$BH21,Infrastructure!W$11:W$1850)","v":0},{"$f":"SUMIF(Infrastructure!$K$11:$K$1814,Settings!$BH21,Infrastructure!X$11:X$1850)","v":0},{"$f":"SUMIF(Infrastructure!$K$11:$K$1814,Settings!$BH21,Infrastructure!Y$11:Y$1850)","v":0},{"$f":"SUMIF(Infrastructure!$K$11:$K$1814,Settings!$BH21,Infrastructure!Z$11:Z$1850)","v":0},{"$f":"SUMIF(Infrastructure!$K$11:$K$1814,Settings!$BH21,Infrastructure!AA$11:AA$1850)","v":0},{"$f":"SUMIF(Infrastructure!$K$11:$K$1814,Settings!$BH21,Infrastructure!AB$11:AB$1850)","v":0},{"$f":"SUMIF(Infrastructure!$K$11:$K$1814,Settings!$BH21,Infrastructure!AC$11:AC$1850)","v":0},{"$f":"SUMIF(Infrastructure!$K$11:$K$1814,Settings!$BH21,Infrastructure!AD$11:AD$1850)","v":0},{"$f":"SUMIF(Infrastructure!$K$11:$K$1814,Settings!$BH21,Infrastructure!AE$11:AE$1850)","v":0},{"$f":"SUMIF(Infrastructure!$K$11:$K$1814,Settings!$BH21,Infrastructure!AF$11:AF$1850)","v":0},{"$f":"SUMIF(Infrastructure!$K$11:$K$1814,Settings!$BH21,Infrastructure!AG$11:AG$1850)","v":0},{"$f":"SUMIF(Infrastructure!$K$11:$K$1814,Settings!$BH21,Infrastructure!AH$11:AH$1850)","v":0}]
[null,null,null,null,null,null,"Capital",{"$f":"SUMIF(Infrastructure!$K$11:$K$1814,Settings!$BH22,Infrastructure!O$11:O$1850)","v":0},{"$f":"SUMIF(Infrastructure!$K$11:$K$1814,Settings!$BH22,Infrastructure!P$11:P$1850)","v":0},{"$f":"SUMIF(Infrastructure!$K$11:$K$1814,Settings!$BH22,Infrastructure!Q$11:Q$1850)","v":0},{"$f":"SUMIF(Infrastructure!$K$11:$K$1814,Settings!$BH22,Infrastructure!R$11:R$1850)","v":0},{"$f":"SUMIF(Infrastructure!$K$11:$K$1814,Settings!$BH22,Infrastructure!S$11:S$1850)","v":0},{"$f":"SUMIF(Infrastructure!$K$11:$K$1814,Settings!$BH22,Infrastructure!T$11:T$1850)","v":0},{"$f":"SUMIF(Infrastructure!$K$11:$K$1814,Settings!$BH24,Infrastructure!U$11:U$1850)","v":0},{"$f":"SUMIF(Infrastructure!$K$11:$K$1814,Settings!$BH22,Infrastructure!V$11:V$1850)","v":0},{"$f":"SUMIF(Infrastructure!$K$11:$K$1814,Settings!$BH22,Infrastructure!W$11:W$1850)","v":0},{"$f":"SUMIF(Infrastructure!$K$11:$K$1814,Settings!$BH22,Infrastructure!X$11:X$1850)","v":0},{"$f":"SUMIF(Infrastructure!$K$11:$K$1814,Settings!$BH22,Infrastructure!Y$11:Y$1850)","v":0},{"$f":"SUMIF(Infrastructure!$K$11:$K$1814,Settings!$BH22,Infrastructure!Z$11:Z$1850)","v":0},{"$f":"SUMIF(Infrastructure!$K$11:$K$1814,Settings!$BH22,Infrastructure!AA$11:AA$1850)","v":0},{"$f":"SUMIF(Infrastructure!$K$11:$K$1814,Settings!$BH22,Infrastructure!AB$11:AB$1850)","v":0},{"$f":"SUMIF(Infrastructure!$K$11:$K$1814,Settings!$BH22,Infrastructure!AC$11:AC$1850)","v":0},{"$f":"SUMIF(Infrastructure!$K$11:$K$1814,Settings!$BH22,Infrastructure!AD$11:AD$1850)","v":0},{"$f":"SUMIF(Infrastructure!$K$11:$K$1814,Settings!$BH22,Infrastructure!AE$11:AE$1850)","v":0},{"$f":"SUMIF(Infrastructure!$K$11:$K$1814,Settings!$BH22,Infrastructure!AF$11:AF$1850)","v":0},{"$f":"SUMIF(Infrastructure!$K$11:$K$1814,Settings!$BH22,Infrastructure!AG$11:AG$1850)","v":0},{"$f":"SUMIF(Infrastructure!$K$11:$K$1814,Settings!$BH22,Infrastructure!AH$11:AH$1850)","v":0}]
[]
[null,null,null,null,null,"Total Infrastructure",null,{"$f":"SUM(H11,H12,H16)","v":0},{"$f":"SUM(I11,I12,I16)","v":0},{"$f":"SUM(J11,J12,J16)","v":0},{"$f":"SUM(K11,K12,K16)","v":0},0,0,0,0,0,0,0,0,0,0,0,0,0,0,0,0]
[]
[null,null,null,null,null,"Capital infrastructure",null,{"$f":"SUM(H11,H13,H14,H18)","v":0},{"$f":"SUM(I11,I13,I14,I18)","v":0},{"$f":"SUM(J11,J13,J14,J18)","v":0},{"$f":"SUM(K11,K13,K14,K18)","v":0},0,{"$f":"SUM(M11,M13,M14,M18)","v":0},{"$f":"SUM(N11,N13,N14,N18)","v":0},0,0,0,0,0,0,0,0,0,0,0,0,0]
[null,null,null,null,null,"Current infrastructure",null,{"$f":"SUM(H15,H17)","v":0},{"$f":"SUM(I15,I17)","v":0},{"$f":"SUM(J15,J17)","v":0},{"$f":"SUM(K15,K17)","v":0},0,{"$f":"SUM(M15,M17)","v":0},{"$f":"SUM(N15,N17)","v":0},0,0,0,0,0,0,0,0,0,0,0,0,0]
[]
[]
[null,null,null,null,null,"Project stage",null,{"$f":"+H9","v":"Total Project Cost"},{"$f":"+I9","v":"2019/20"},{"$f":"+J9","v":"2020/21"},"2021/22","2022/23",null,null,"2023/24",0,0,"2024/25",0,0,{"$f":"+U9","v":"2025/26"},{"$f":"+V9","v":"2024/25"},"2025/26","2026/27","2027/28","2028/29","2029/30"]
[null,null,null,null,null,"Rand thousand",null,null,{"$f":"Hist_year3RestatedAudited","v":"Audited\noutcome"},{"$f":"Hist_year2RestatedAudited","v":"Audited\noutcome"},{"$f":"Hist_year1Audited","v":"Audited\noutcome"},{"$f":"Cur_YearBudgEst","v":"Budget\nestimate"},{"$f":"Cur_YearApprovedBudg","v":"Approved budget"},{"$f":"Cur_YearChangeFrRevBudg","v":"Changes from \nbudget estimate"},{"$f":"MTEF1BudgEst","v":"Budget\nestimate"},{"$f":"MTEF1RevBudgEst","v":"Revised\nbudget\nestimate"},{"$f":"MTEF1_ChangeFrBudgEst","v":"Changes from budget estimate"},{"$f":"MTEF2BudgEst","v":"Budget\nestimate"},{"$f":"MTEF2RevBudgEst","v":"Revised\nbudget\nestimate"},{"$f":"MTEF2_ChangeFrBudgEst","v":"Changes from budget estimate"},{"$f":"MTEF3PlanBudgetEst","v":"Planning\nbudget \nestimate"},"Long term planning"]
[null,null,null,null,null,"Site identification",null,{"$f":"SUMIF(Infrastructure!$L$11:$L$1814,Settings!$BI17,Infrastructure!O$11:O$1850)","v":0},{"$f":"SUMIF(Infrastructure!$L$11:$L$1814,Settings!$BI17,Infrastructure!P$11:P$1850)","v":0},{"$f":"SUMIF(Infrastructure!$L$11:$L$1814,Settings!$BI17,Infrastructure!Q$11:Q$1850)","v":0},{"$f":"SUMIF(Infrastructure!$L$11:$L$1814,Settings!$BI17,Infrastructure!R$11:R$1850)","v":0},{"$f":"SUMIF(Infrastructure!$L$11:$L$1814,Settings!$BI17,Infrastructure!S$11:S$1850)","v":0},{"$f":"SUMIF(Infrastructure!$L$11:$L$1814,Settings!$BI17,Infrastructure!T$11:T$1850)","v":0},{"$f":"SUMIF(Infrastructure!$L$11:$L$1814,Settings!$BI17,Infrastructure!U$11:U$1850)","v":0},{"$f":"SUMIF(Infrastructure!$L$11:$L$1814,Settings!$BI17,Infrastructure!V$11:V$1850)","v":0},{"$f":"SUMIF(Infrastructure!$L$11:$L$1814,Settings!$BI17,Infrastructure!W$11:W$1850)","v":0},{"$f":"SUMIF(Infrastructure!$L$11:$L$1814,Settings!$BI17,Infrastructure!X$11:X$1850)","v":0},{"$f":"SUMIF(Infrastructure!$L$11:$L$1814,Settings!$BI17,Infrastructure!Y$11:Y$1850)","v":0},{"$f":"SUMIF(Infrastructure!$L$11:$L$1814,Settings!$BI17,Infrastructure!Z$11:Z$1850)","v":0},{"$f":"SUMIF(Infrastructure!$L$11:$L$1814,Settings!$BI17,Infrastructure!AA$11:AA$1850)","v":0},{"$f":"SUMIF(Infrastructure!$L$11:$L$1814,Settings!$BI17,Infrastructure!AB$11:AB$1850)","v":0},{"$f":"SUMIF(Infrastructure!$L$11:$L$1814,Settings!$BI17,Infrastructure!AC$11:AC$1850)","v":0},{"$f":"SUMIF(Infrastructure!$L$11:$L$1814,Settings!$BI17,Infrastructure!AD$11:AD$1850)","v":0},{"$f":"SUMIF(Infrastructure!$L$11:$L$1814,Settings!$BI17,Infrastructure!AE$11:AE$1850)","v":0},{"$f":"SUMIF(Infrastructure!$L$11:$L$1814,Settings!$BI17,Infrastructure!AF$11:AF$1850)","v":0},{"$f":"SUMIF(Infrastructure!$L$11:$L$1814,Settings!$BI17,Infrastructure!AG$11:AG$1850)","v":0},{"$f":"SUMIF(Infrastructure!$L$11:$L$1814,Settings!$BI17,Infrastructure!AH$11:AH$1850)","v":0}]
[null,null,null,null,null,"Pre-feasibility",null,{"$f":"SUMIF(Infrastructure!$L$11:$L$1814,Settings!$BI18,Infrastructure!O$11:O$1850)","v":0},{"$f":"SUMIF(Infrastructure!$L$11:$L$1814,Settings!$BI18,Infrastructure!P$11:P$1850)","v":0},{"$f":"SUMIF(Infrastructure!$L$11:$L$1814,Settings!$BI18,Infrastructure!Q$11:Q$1850)","v":0},{"$f":"SUMIF(Infrastructure!$L$11:$L$1814,Settings!$BI18,Infrastructure!R$11:R$1850)","v":0},{"$f":"SUMIF(Infrastructure!$L$11:$L$1814,Settings!$BI18,Infrastructure!S$11:S$1850)","v":0},{"$f":"SUMIF(Infrastructure!$L$11:$L$1814,Settings!$BI18,Infrastructure!T$11:T$1850)","v":0},{"$f":"SUMIF(Infrastructure!$L$11:$L$1814,Settings!$BI18,Infrastructure!U$11:U$1850)","v":0},{"$f":"SUMIF(Infrastructure!$L$11:$L$1814,Settings!$BI18,Infrastructure!V$11:V$1850)","v":0},{"$f":"SUMIF(Infrastructure!$L$11:$L$1814,Settings!$BI18,Infrastructure!W$11:W$1850)","v":0},{"$f":"SUMIF(Infrastructure!$L$11:$L$1814,Settings!$BI18,Infrastructure!X$11:X$1850)","v":0},{"$f":"SUMIF(Infrastructure!$L$11:$L$1814,Settings!$BI18,Infrastructure!Y$11:Y$1850)","v":0},{"$f":"SUMIF(Infrastructure!$L$11:$L$1814,Settings!$BI18,Infrastructure!Z$11:Z$1850)","v":0},{"$f":"SUMIF(Infrastructure!$L$11:$L$1814,Settings!$BI18,Infrastructure!AA$11:AA$1850)","v":0},{"$f":"SUMIF(Infrastructure!$L$11:$L$1814,Settings!$BI18,Infrastructure!AB$11:AB$1850)","v":0},{"$f":"SUMIF(Infrastructure!$L$11:$L$1814,Settings!$BI18,Infrastructure!AC$11:AC$1850)","v":0},{"$f":"SUMIF(Infrastructure!$L$11:$L$1814,Settings!$BI18,Infrastructure!AD$11:AD$1850)","v":0},{"$f":"SUMIF(Infrastructure!$L$11:$L$1814,Settings!$BI18,Infrastructure!AE$11:AE$1850)","v":0},{"$f":"SUMIF(Infrastructure!$L$11:$L$1814,Settings!$BI18,Infrastructure!AF$11:AF$1850)","v":0},{"$f":"SUMIF(Infrastructure!$L$11:$L$1814,Settings!$BI18,Infrastructure!AG$11:AG$1850)","v":0},{"$f":"SUMIF(Infrastructure!$L$11:$L$1814,Settings!$BI18,Infrastructure!AH$11:AH$1850)","v":0}]
[null,null,null,null,null,"Feasibility",null,{"$f":"SUMIF(Infrastructure!$L$11:$L$1814,Settings!$BI19,Infrastructure!O$11:O$1850)","v":0},{"$f":"SUMIF(Infrastructure!$L$11:$L$1814,Settings!$BI19,Infrastructure!P$11:P$1850)","v":0},{"$f":"SUMIF(Infrastructure!$L$11:$L$1814,Settings!$BI19,Infrastructure!Q$11:Q$1850)","v":0},{"$f":"SUMIF(Infrastructure!$L$11:$L$1814,Settings!$BI19,Infrastructure!R$11:R$1850)","v":0},{"$f":"SUMIF(Infrastructure!$L$11:$L$1814,Settings!$BI19,Infrastructure!S$11:S$1850)","v":0},{"$f":"SUMIF(Infrastructure!$L$11:$L$1814,Settings!$BI19,Infrastructure!T$11:T$1850)","v":0},{"$f":"SUMIF(Infrastructure!$L$11:$L$1814,Settings!$BI19,Infrastructure!U$11:U$1850)","v":0},{"$f":"SUMIF(Infrastructure!$L$11:$L$1814,Settings!$BI19,Infrastructure!V$11:V$1850)","v":0},{"$f":"SUMIF(Infrastructure!$L$11:$L$1814,Settings!$BI19,Infrastructure!W$11:W$1850)","v":0},{"$f":"SUMIF(Infrastructure!$L$11:$L$1814,Settings!$BI19,Infrastructure!X$11:X$1850)","v":0},{"$f":"SUMIF(Infrastructure!$L$11:$L$1814,Settings!$BI19,Infrastructure!Y$11:Y$1850)","v":0},{"$f":"SUMIF(Infrastructure!$L$11:$L$1814,Settings!$BI19,Infrastructure!Z$11:Z$1850)","v":0},{"$f":"SUMIF(Infrastructure!$L$11:$L$1814,Settings!$BI19,Infrastructure!AA$11:AA$1850)","v":0},{"$f":"SUMIF(Infrastructure!$L$11:$L$1814,Settings!$BI19,Infrastructure!AB$11:AB$1850)","v":0},{"$f":"SUMIF(Infrastructure!$L$11:$L$1814,Settings!$BI19,Infrastructure!AC$11:AC$1850)","v":0},{"$f":"SUMIF(Infrastructure!$L$11:$L$1814,Settings!$BI19,Infrastructure!AD$11:AD$1850)","v":0},{"$f":"SUMIF(Infrastructure!$L$11:$L$1814,Settings!$BI19,Infrastructure!AE$11:AE$1850)","v":0},{"$f":"SUMIF(Infrastructure!$L$11:$L$1814,Settings!$BI19,Infrastructure!AF$11:AF$1850)","v":0},{"$f":"SUMIF(Infrastructure!$L$11:$L$1814,Settings!$BI19,Infrastructure!AG$11:AG$1850)","v":0},{"$f":"SUMIF(Infrastructure!$L$11:$L$1814,Settings!$BI19,Infrastructure!AH$11:AH$1850)","v":0}]
[null,null,null,null,null,"Design",null,{"$f":"SUMIF(Infrastructure!$L$11:$L$1814,Settings!$BI20,Infrastructure!O$11:O$1850)","v":0},{"$f":"SUMIF(Infrastructure!$L$11:$L$1814,Settings!$BI20,Infrastructure!P$11:P$1850)","v":0},{"$f":"SUMIF(Infrastructure!$L$11:$L$1814,Settings!$BI20,Infrastructure!Q$11:Q$1850)","v":0},{"$f":"SUMIF(Infrastructure!$L$11:$L$1814,Settings!$BI20,Infrastructure!R$11:R$1850)","v":0},{"$f":"SUMIF(Infrastructure!$L$11:$L$1814,Settings!$BI20,Infrastructure!S$11:S$1850)","v":0},{"$f":"SUMIF(Infrastructure!$L$11:$L$1814,Settings!$BI20,Infrastructure!T$11:T$1850)","v":0},{"$f":"SUMIF(Infrastructure!$L$11:$L$1814,Settings!$BI20,Infrastructure!U$11:U$1850)","v":0},{"$f":"SUMIF(Infrastructure!$L$11:$L$1814,Settings!$BI20,Infrastructure!V$11:V$1850)","v":0},{"$f":"SUMIF(Infrastructure!$L$11:$L$1814,Settings!$BI20,Infrastructure!W$11:W$1850)","v":0},{"$f":"SUMIF(Infrastructure!$L$11:$L$1814,Settings!$BI20,Infrastructure!X$11:X$1850)","v":0},{"$f":"SUMIF(Infrastructure!$L$11:$L$1814,Settings!$BI20,Infrastructure!Y$11:Y$1850)","v":0},{"$f":"SUMIF(Infrastructure!$L$11:$L$1814,Settings!$BI20,Infrastructure!Z$11:Z$1850)","v":0},{"$f":"SUMIF(Infrastructure!$L$11:$L$1814,Settings!$BI20,Infrastructure!AA$11:AA$1850)","v":0},{"$f":"SUMIF(Infrastructure!$L$11:$L$1814,Settings!$BI20,Infrastructure!AB$11:AB$1850)","v":0},{"$f":"SUMIF(Infrastructure!$L$11:$L$1814,Settings!$BI20,Infrastructure!AC$11:AC$1850)","v":0},{"$f":"SUMIF(Infrastructure!$L$11:$L$1814,Settings!$BI20,Infrastructure!AD$11:AD$1850)","v":0},{"$f":"SUMIF(Infrastructure!$L$11:$L$1814,Settings!$BI20,Infrastructure!AE$11:AE$1850)","v":0},{"$f":"SUMIF(Infrastructure!$L$11:$L$1814,Settings!$BI20,Infrastructure!AF$11:AF$1850)","v":0},{"$f":"SUMIF(Infrastructure!$L$11:$L$1814,Settings!$BI20,Infrastructure!AG$11:AG$1850)","v":0},{"$f":"SUMIF(Infrastructure!$L$11:$L$1814,Settings!$BI20,Infrastructure!AH$11:AH$1850)","v":0}]
[null,null,null,null,null,"Tender",null,{"$f":"SUMIF(Infrastructure!$L$11:$L$1814,Settings!$BI21,Infrastructure!O$11:O$1850)","v":0},{"$f":"SUMIF(Infrastructure!$L$11:$L$1814,Settings!$BI21,Infrastructure!P$11:P$1850)","v":0},{"$f":"SUMIF(Infrastructure!$L$11:$L$1814,Settings!$BI21,Infrastructure!Q$11:Q$1850)","v":0},{"$f":"SUMIF(Infrastructure!$L$11:$L$1814,Settings!$BI21,Infrastructure!R$11:R$1850)","v":0},{"$f":"SUMIF(Infrastructure!$L$11:$L$1814,Settings!$BI21,Infrastructure!S$11:S$1850)","v":0},{"$f":"SUMIF(Infrastructure!$L$11:$L$1814,Settings!$BI21,Infrastructure!T$11:T$1850)","v":0},{"$f":"SUMIF(Infrastructure!$L$11:$L$1814,Settings!$BI21,Infrastructure!U$11:U$1850)","v":0},{"$f":"SUMIF(Infrastructure!$L$11:$L$1814,Settings!$BI21,Infrastructure!V$11:V$1850)","v":0},{"$f":"SUMIF(Infrastructure!$L$11:$L$1814,Settings!$BI21,Infrastructure!W$11:W$1850)","v":0},{"$f":"SUMIF(Infrastructure!$L$11:$L$1814,Settings!$BI21,Infrastructure!X$11:X$1850)","v":0},{"$f":"SUMIF(Infrastructure!$L$11:$L$1814,Settings!$BI21,Infrastructure!Y$11:Y$1850)","v":0},{"$f":"SUMIF(Infrastructure!$L$11:$L$1814,Settings!$BI21,Infrastructure!Z$11:Z$1850)","v":0},{"$f":"SUMIF(Infrastructure!$L$11:$L$1814,Settings!$BI21,Infrastructure!AA$11:AA$1850)","v":0},{"$f":"SUMIF(Infrastructure!$L$11:$L$1814,Settings!$BI21,Infrastructure!AB$11:AB$1850)","v":0},{"$f":"SUMIF(Infrastructure!$L$11:$L$1814,Settings!$BI21,Infrastructure!AC$11:AC$1850)","v":0},{"$f":"SUMIF(Infrastructure!$L$11:$L$1814,Settings!$BI21,Infrastructure!AD$11:AD$1850)","v":0},{"$f":"SUMIF(Infrastructure!$L$11:$L$1814,Settings!$BI21,Infrastructure!AE$11:AE$1850)","v":0},{"$f":"SUMIF(Infrastructure!$L$11:$L$1814,Settings!$BI21,Infrastructure!AF$11:AF$1850)","v":0},{"$f":"SUMIF(Infrastructure!$L$11:$L$1814,Settings!$BI21,Infrastructure!AG$11:AG$1850)","v":0},{"$f":"SUMIF(Infrastructure!$L$11:$L$1814,Settings!$BI21,Infrastructure!AH$11:AH$1850)","v":0}]
[null,null,null,null,null,"Construction",null,{"$f":"SUMIF(Infrastructure!$L$11:$L$1814,Settings!$BI22,Infrastructure!O$11:O$1850)","v":0},{"$f":"SUMIF(Infrastructure!$L$11:$L$1814,Settings!$BI22,Infrastructure!P$11:P$1850)","v":0},{"$f":"SUMIF(Infrastructure!$L$11:$L$1814,Settings!$BI22,Infrastructure!Q$11:Q$1850)","v":0},{"$f":"SUMIF(Infrastructure!$L$11:$L$1814,Settings!$BI22,Infrastructure!R$11:R$1850)","v":0},{"$f":"SUMIF(Infrastructure!$L$11:$L$1814,Settings!$BI22,Infrastructure!S$11:S$1850)","v":0},{"$f":"SUMIF(Infrastructure!$L$11:$L$1814,Settings!$BI22,Infrastructure!T$11:T$1850)","v":0},{"$f":"SUMIF(Infrastructure!$L$11:$L$1814,Settings!$BI22,Infrastructure!U$11:U$1850)","v":0},{"$f":"SUMIF(Infrastructure!$L$11:$L$1814,Settings!$BI22,Infrastructure!V$11:V$1850)","v":0},{"$f":"SUMIF(Infrastructure!$L$11:$L$1814,Settings!$BI22,Infrastructure!W$11:W$1850)","v":0},{"$f":"SUMIF(Infrastructure!$L$11:$L$1814,Settings!$BI22,Infrastructure!X$11:X$1850)","v":0},{"$f":"SUMIF(Infrastructure!$L$11:$L$1814,Settings!$BI22,Infrastructure!Y$11:Y$1850)","v":0},{"$f":"SUMIF(Infrastructure!$L$11:$L$1814,Settings!$BI22,Infrastructure!Z$11:Z$1850)","v":0},{"$f":"SUMIF(Infrastructure!$L$11:$L$1814,Settings!$BI22,Infrastructure!AA$11:AA$1850)","v":0},{"$f":"SUMIF(Infrastructure!$L$11:$L$1814,Settings!$BI22,Infrastructure!AB$11:AB$1850)","v":0},{"$f":"SUMIF(Infrastructure!$L$11:$L$1814,Settings!$BI22,Infrastructure!AC$11:AC$1850)","v":0},{"$f":"SUMIF(Infrastructure!$L$11:$L$1814,Settings!$BI22,Infrastructure!AD$11:AD$1850)","v":0},{"$f":"SUMIF(Infrastructure!$L$11:$L$1814,Settings!$BI22,Infrastructure!AE$11:AE$1850)","v":0},{"$f":"SUMIF(Infrastructure!$L$11:$L$1814,Settings!$BI22,Infrastructure!AF$11:AF$1850)","v":0},{"$f":"SUMIF(Infrastructure!$L$11:$L$1814,Settings!$BI22,Infrastructure!AG$11:AG$1850)","v":0},{"$f":"SUMIF(Infrastructure!$L$11:$L$1814,Settings!$BI22,Infrastructure!AH$11:AH$1850)","v":0}]
[null,null,null,null,null,"Hand over",null,{"$f":"SUMIF(Infrastructure!$L$11:$L$1814,Settings!$BI23,Infrastructure!O$11:O$1850)","v":0},{"$f":"SUMIF(Infrastructure!$L$11:$L$1814,Settings!$BI23,Infrastructure!P$11:P$1850)","v":0},{"$f":"SUMIF(Infrastructure!$L$11:$L$1814,Settings!$BI23,Infrastructure!Q$11:Q$1850)","v":0},{"$f":"SUMIF(Infrastructure!$L$11:$L$1814,Settings!$BI23,Infrastructure!R$11:R$1850)","v":0},{"$f":"SUMIF(Infrastructure!$L$11:$L$1814,Settings!$BI23,Infrastructure!S$11:S$1850)","v":0},{"$f":"SUMIF(Infrastructure!$L$11:$L$1814,Settings!$BI23,Infrastructure!T$11:T$1850)","v":0},{"$f":"SUMIF(Infrastructure!$L$11:$L$1814,Settings!$BI23,Infrastructure!U$11:U$1850)","v":0},{"$f":"SUMIF(Infrastructure!$L$11:$L$1814,Settings!$BI23,Infrastructure!V$11:V$1850)","v":0},{"$f":"SUMIF(Infrastructure!$L$11:$L$1814,Settings!$BI23,Infrastructure!W$11:W$1850)","v":0},{"$f":"SUMIF(Infrastructure!$L$11:$L$1814,Settings!$BI23,Infrastructure!X$11:X$1850)","v":0},{"$f":"SUMIF(Infrastructure!$L$11:$L$1814,Settings!$BI23,Infrastructure!Y$11:Y$1850)","v":0},{"$f":"SUMIF(Infrastructure!$L$11:$L$1814,Settings!$BI23,Infrastructure!Z$11:Z$1850)","v":0},{"$f":"SUMIF(Infrastructure!$L$11:$L$1814,Settings!$BI23,Infrastructure!AA$11:AA$1850)","v":0},{"$f":"SUMIF(Infrastructure!$L$11:$L$1814,Settings!$BI23,Infrastructure!AB$11:AB$1850)","v":0},{"$f":"SUMIF(Infrastructure!$L$11:$L$1814,Settings!$BI23,Infrastructure!AC$11:AC$1850)","v":0},{"$f":"SUMIF(Infrastructure!$L$11:$L$1814,Settings!$BI23,Infrastructure!AD$11:AD$1850)","v":0},{"$f":"SUMIF(Infrastructure!$L$11:$L$1814,Settings!$BI23,Infrastructure!AE$11:AE$1850)","v":0},{"$f":"SUMIF(Infrastructure!$L$11:$L$1814,Settings!$BI23,Infrastructure!AF$11:AF$1850)","v":0},{"$f":"SUMIF(Infrastructure!$L$11:$L$1814,Settings!$BI23,Infrastructure!AG$11:AG$1850)","v":0},{"$f":"SUMIF(Infrastructure!$L$11:$L$1814,Settings!$BI23,Infrastructure!AH$11:AH$1850)","v":0}]
[null,null,null,null,null,"Handed over",null,{"$f":"SUMIF(Infrastructure!$L$11:$L$1814,Settings!$BI24,Infrastructure!O$11:O$1850)","v":0},{"$f":"SUMIF(Infrastructure!$L$11:$L$1814,Settings!$BI24,Infrastructure!P$11:P$1850)","v":0},{"$f":"SUMIF(Infrastructure!$L$11:$L$1814,Settings!$BI24,Infrastructure!Q$11:Q$1850)","v":0},{"$f":"SUMIF(Infrastructure!$L$11:$L$1814,Settings!$BI24,Infrastructure!R$11:R$1850)","v":0},{"$f":"SUMIF(Infrastructure!$L$11:$L$1814,Settings!$BI24,Infrastructure!S$11:S$1850)","v":0},{"$f":"SUMIF(Infrastructure!$L$11:$L$1814,Settings!$BI24,Infrastructure!T$11:T$1850)","v":0},{"$f":"SUMIF(Infrastructure!$L$11:$L$1814,Settings!$BI24,Infrastructure!U$11:U$1850)","v":0},{"$f":"SUMIF(Infrastructure!$L$11:$L$1814,Settings!$BI24,Infrastructure!V$11:V$1850)","v":0},{"$f":"SUMIF(Infrastructure!$L$11:$L$1814,Settings!$BI24,Infrastructure!W$11:W$1850)","v":0},{"$f":"SUMIF(Infrastructure!$L$11:$L$1814,Settings!$BI24,Infrastructure!X$11:X$1850)","v":0},{"$f":"SUMIF(Infrastructure!$L$11:$L$1814,Settings!$BI24,Infrastructure!Y$11:Y$1850)","v":0},{"$f":"SUMIF(Infrastructure!$L$11:$L$1814,Settings!$BI24,Infrastructure!Z$11:Z$1850)","v":0},{"$f":"SUMIF(Infrastructure!$L$11:$L$1814,Settings!$BI24,Infrastructure!AA$11:AA$1850)","v":0},{"$f":"SUMIF(Infrastructure!$L$11:$L$1814,Settings!$BI24,Infrastructure!AB$11:AB$1850)","v":0},{"$f":"SUMIF(Infrastructure!$L$11:$L$1814,Settings!$BI24,Infrastructure!AC$11:AC$1850)","v":0},{"$f":"SUMIF(Infrastructure!$L$11:$L$1814,Settings!$BI24,Infrastructure!AD$11:AD$1850)","v":0},{"$f":"SUMIF(Infrastructure!$L$11:$L$1814,Settings!$BI24,Infrastructure!AE$11:AE$1850)","v":0},{"$f":"SUMIF(Infrastructure!$L$11:$L$1814,Settings!$BI24,Infrastructure!AF$11:AF$1850)","v":0},{"$f":"SUMIF(Infrastructure!$L$11:$L$1814,Settings!$BI24,Infrastructure!AG$11:AG$1850)","v":0},{"$f":"SUMIF(Infrastructure!$L$11:$L$1814,Settings!$BI24,Infrastructure!AH$11:AH$1850)","v":0}]
[null,null,null,null,null,"On hold",null,{"$f":"SUMIF(Infrastructure!$L$11:$L$1814,Settings!$BI25,Infrastructure!O$11:O$1850)","v":0},{"$f":"SUMIF(Infrastructure!$L$11:$L$1814,Settings!$BI25,Infrastructure!P$11:P$1850)","v":0},{"$f":"SUMIF(Infrastructure!$L$11:$L$1814,Settings!$BI25,Infrastructure!Q$11:Q$1850)","v":0},{"$f":"SUMIF(Infrastructure!$L$11:$L$1814,Settings!$BI25,Infrastructure!R$11:R$1850)","v":0},{"$f":"SUMIF(Infrastructure!$L$11:$L$1814,Settings!$BI25,Infrastructure!S$11:S$1850)","v":0},{"$f":"SUMIF(Infrastructure!$L$11:$L$1814,Settings!$BI25,Infrastructure!T$11:T$1850)","v":0},{"$f":"SUMIF(Infrastructure!$L$11:$L$1814,Settings!$BI25,Infrastructure!U$11:U$1850)","v":0},{"$f":"SUMIF(Infrastructure!$L$11:$L$1814,Settings!$BI25,Infrastructure!V$11:V$1850)","v":0},{"$f":"SUMIF(Infrastructure!$L$11:$L$1814,Settings!$BI25,Infrastructure!W$11:W$1850)","v":0},{"$f":"SUMIF(Infrastructure!$L$11:$L$1814,Settings!$BI25,Infrastructure!X$11:X$1850)","v":0},{"$f":"SUMIF(Infrastructure!$L$11:$L$1814,Settings!$BI25,Infrastructure!Y$11:Y$1850)","v":0},{"$f":"SUMIF(Infrastructure!$L$11:$L$1814,Settings!$BI25,Infrastructure!Z$11:Z$1850)","v":0},{"$f":"SUMIF(Infrastructure!$L$11:$L$1814,Settings!$BI25,Infrastructure!AA$11:AA$1850)","v":0},{"$f":"SUMIF(Infrastructure!$L$11:$L$1814,Settings!$BI25,Infrastructure!AB$11:AB$1850)","v":0},{"$f":"SUMIF(Infrastructure!$L$11:$L$1814,Settings!$BI25,Infrastructure!AC$11:AC$1850)","v":0},{"$f":"SUMIF(Infrastructure!$L$11:$L$1814,Settings!$BI25,Infrastructure!AD$11:AD$1850)","v":0},{"$f":"SUMIF(Infrastructure!$L$11:$L$1814,Settings!$BI25,Infrastructure!AE$11:AE$1850)","v":0},{"$f":"SUMIF(Infrastructure!$L$11:$L$1814,Settings!$BI25,Infrastructure!AF$11:AF$1850)","v":0},{"$f":"SUMIF(Infrastructure!$L$11:$L$1814,Settings!$BI25,Infrastructure!AG$11:AG$1850)","v":0},{"$f":"SUMIF(Infrastructure!$L$11:$L$1814,Settings!$BI25,Infrastructure!AH$11:AH$1850)","v":0}]
[null,null,null,null,null,"Complete",null,{"$f":"SUMIF(Infrastructure!$L$11:$L$1814,Settings!$BI26,Infrastructure!O$11:O$1850)","v":0},{"$f":"SUMIF(Infrastructure!$L$11:$L$1814,Settings!$BI26,Infrastructure!P$11:P$1850)","v":0},{"$f":"SUMIF(Infrastructure!$L$11:$L$1814,Settings!$BI26,Infrastructure!Q$11:Q$1850)","v":0},{"$f":"SUMIF(Infrastructure!$L$11:$L$1814,Settings!$BI26,Infrastructure!R$11:R$1850)","v":0},{"$f":"SUMIF(Infrastructure!$L$11:$L$1814,Settings!$BI26,Infrastructure!S$11:S$1850)","v":0},{"$f":"SUMIF(Infrastructure!$L$11:$L$1814,Settings!$BI26,Infrastructure!T$11:T$1850)","v":0},{"$f":"SUMIF(Infrastructure!$L$11:$L$1814,Settings!$BI26,Infrastructure!U$11:U$1850)","v":0},{"$f":"SUMIF(Infrastructure!$L$11:$L$1814,Settings!$BI26,Infrastructure!V$11:V$1850)","v":0},{"$f":"SUMIF(Infrastructure!$L$11:$L$1814,Settings!$BI26,Infrastructure!W$11:W$1850)","v":0},{"$f":"SUMIF(Infrastructure!$L$11:$L$1814,Settings!$BI26,Infrastructure!X$11:X$1850)","v":0},{"$f":"SUMIF(Infrastructure!$L$11:$L$1814,Settings!$BI26,Infrastructure!Y$11:Y$1850)","v":0},{"$f":"SUMIF(Infrastructure!$L$11:$L$1814,Settings!$BI26,Infrastructure!Z$11:Z$1850)","v":0},{"$f":"SUMIF(Infrastructure!$L$11:$L$1814,Settings!$BI26,Infrastructure!AA$11:AA$1850)","v":0},{"$f":"SUMIF(Infrastructure!$L$11:$L$1814,Settings!$BI26,Infrastructure!AB$11:AB$1850)","v":0},{"$f":"SUMIF(Infrastructure!$L$11:$L$1814,Settings!$BI26,Infrastructure!AC$11:AC$1850)","v":0},{"$f":"SUMIF(Infrastructure!$L$11:$L$1814,Settings!$BI26,Infrastructure!AD$11:AD$1850)","v":0},{"$f":"SUMIF(Infrastructure!$L$11:$L$1814,Settings!$BI26,Infrastructure!AE$11:AE$1850)","v":0},{"$f":"SUMIF(Infrastructure!$L$11:$L$1814,Settings!$BI26,Infrastructure!AF$11:AF$1850)","v":0},{"$f":"SUMIF(Infrastructure!$L$11:$L$1814,Settings!$BI26,Infrastructure!AG$11:AG$1850)","v":0},{"$f":"SUMIF(Infrastructure!$L$11:$L$1814,Settings!$BI26,Infrastructure!AH$11:AH$1850)","v":0}]
[null,null,null,null,null,"On-going",null,{"$f":"SUMIF(Infrastructure!$L$11:$L$1814,Settings!$BI27,Infrastructure!O$11:O$1850)","v":0},{"$f":"SUMIF(Infrastructure!$L$11:$L$1814,Settings!$BI27,Infrastructure!P$11:P$1850)","v":0},{"$f":"SUMIF(Infrastructure!$L$11:$L$1814,Settings!$BI27,Infrastructure!Q$11:Q$1850)","v":0},{"$f":"SUMIF(Infrastructure!$L$11:$L$1814,Settings!$BI27,Infrastructure!R$11:R$1850)","v":0},{"$f":"SUMIF(Infrastructure!$L$11:$L$1814,Settings!$BI27,Infrastructure!S$11:S$1850)","v":0},{"$f":"SUMIF(Infrastructure!$L$11:$L$1814,Settings!$BI27,Infrastructure!T$11:T$1850)","v":0},{"$f":"SUMIF(Infrastructure!$L$11:$L$1814,Settings!$BI27,Infrastructure!U$11:U$1850)","v":0},{"$f":"SUMIF(Infrastructure!$L$11:$L$1814,Settings!$BI27,Infrastructure!V$11:V$1850)","v":0},{"$f":"SUMIF(Infrastructure!$L$11:$L$1814,Settings!$BI27,Infrastructure!W$11:W$1850)","v":0},{"$f":"SUMIF(Infrastructure!$L$11:$L$1814,Settings!$BI27,Infrastructure!X$11:X$1850)","v":0},{"$f":"SUMIF(Infrastructure!$L$11:$L$1814,Settings!$BI27,Infrastructure!Y$11:Y$1850)","v":0},{"$f":"SUMIF(Infrastructure!$L$11:$L$1814,Settings!$BI27,Infrastructure!Z$11:Z$1850)","v":0},{"$f":"SUMIF(Infrastructure!$L$11:$L$1814,Settings!$BI27,Infrastructure!AA$11:AA$1850)","v":0},{"$f":"SUMIF(Infrastructure!$L$11:$L$1814,Settings!$BI27,Infrastructure!AB$11:AB$1850)","v":0},{"$f":"SUMIF(Infrastructure!$L$11:$L$1814,Settings!$BI27,Infrastructure!AC$11:AC$1850)","v":0},{"$f":"SUMIF(Infrastructure!$L$11:$L$1814,Settings!$BI27,Infrastructure!AD$11:AD$1850)","v":0},{"$f":"SUMIF(Infrastructure!$L$11:$L$1814,Settings!$BI27,Infrastructure!AE$11:AE$1850)","v":0},{"$f":"SUMIF(Infrastructure!$L$11:$L$1814,Settings!$BI27,Infrastructure!AF$11:AF$1850)","v":0},{"$f":"SUMIF(Infrastructure!$L$11:$L$1814,Settings!$BI27,Infrastructure!AG$11:AG$1850)","v":0},{"$f":"SUMIF(Infrastructure!$L$11:$L$1814,Settings!$BI27,Infrastructure!AH$11:AH$1850)","v":0}]
[null,null,null,null,null,"Total Infrastructure",null,{"$f":"SUM(H28:H36)","v":0},{"$f":"SUM(I28:I36)","v":0},0,0,0,0,0,0,{"$f":"SUM(P28:P36)","v":0},{"$f":"SUM(Q28:Q36)","v":0},0,0,0,0,0,0,0,0,0,0]
[]
[]
[null,null,null,null,null,"SIP category",null,{"$f":"+H9","v":"Total Project Cost"},{"$f":"+I9","v":"2019/20"},"2020/21","2021/22",{"$f":"+L9","v":"2022/23"},null,null,"2023/24",null,null,"2024/25",null,null,"2025/26","2024/25","2025/26","2026/27","2027/28","2028/29","2029/30"]
[null,null,null,null,null,"Rand thousand",null,null,{"$f":"Hist_year3RestatedAudited","v":"Audited\noutcome"},{"$f":"Hist_year2RestatedAudited","v":"Audited\noutcome"},{"$f":"Hist_year1Audited","v":"Audited\noutcome"},{"$f":"Cur_YearBudgEst","v":"Budget\nestimate"},{"$f":"Cur_YearApprovedBudg","v":"Approved budget"},{"$f":"Cur_YearChangeFrRevBudg","v":"Changes from \nbudget estimate"},{"$f":"MTEF1BudgEst","v":"Budget\nestimate"},{"$f":"MTEF1RevBudgEst","v":"Revised\nbudget\nestimate"},{"$f":"MTEF1_ChangeFrBudgEst","v":"Changes from budget estimate"},{"$f":"MTEF2BudgEst","v":"Budget\nestimate"},{"$f":"MTEF2RevBudgEst","v":"Revised\nbudget\nestimate"},{"$f":"MTEF2_ChangeFrBudgEst","v":"Changes from budget estimate"},{"$f":"MTEF3PlanBudgetEst","v":"Planning\nbudget \nestimate"},"Long term planning"]
[null,null,null,null,null,"Not related to SIPs",null,{"$f":"SUMIF(Infrastructure!$N$11:$N$1814,Settings!$BF17,Infrastructure!O$11:O$1850)","v":0},{"$f":"SUMIF(Infrastructure!$N$11:$N$1814,Settings!$BF17,Infrastructure!P$11:P$1850)","v":0},{"$f":"SUMIF(Infrastructure!$N$11:$N$1814,Settings!$BF17,Infrastructure!Q$11:Q$1850)","v":0},{"$f":"SUMIF(Infrastructure!$N$11:$N$1814,Settings!$BF17,Infrastructure!R$11:R$1850)","v":0},{"$f":"SUMIF(Infrastructure!$N$11:$N$1814,Settings!$BF17,Infrastructure!S$11:S$1850)","v":0},{"$f":"SUMIF(Infrastructure!$N$11:$N$1814,Settings!$BF17,Infrastructure!T$11:T$1850)","v":0},{"$f":"SUMIF(Infrastructure!$N$11:$N$1814,Settings!$BF17,Infrastructure!U$11:U$1850)","v":0},{"$f":"SUMIF(Infrastructure!$N$11:$N$1814,Settings!$BF17,Infrastructure!V$11:V$1850)","v":0},{"$f":"SUMIF(Infrastructure!$N$11:$N$1814,Settings!$BF17,Infrastructure!W$11:W$1850)","v":0},{"$f":"SUMIF(Infrastructure!$N$11:$N$1814,Settings!$BF17,Infrastructure!X$11:X$1850)","v":0},{"$f":"SUMIF(Infrastructure!$N$11:$N$1814,Settings!$BF17,Infrastructure!Y$11:Y$1850)","v":0},{"$f":"SUMIF(Infrastructure!$N$11:$N$1814,Settings!$BF17,Infrastructure!Z$11:Z$1850)","v":0},{"$f":"SUMIF(Infrastructure!$N$11:$N$1814,Settings!$BF17,Infrastructure!AA$11:AA$1850)","v":0},{"$f":"SUMIF(Infrastructure!$N$11:$N$1814,Settings!$BF17,Infrastructure!AB$11:AB$1850)","v":0},{"$f":"SUMIF(Infrastructure!$N$11:$N$1814,Settings!$BF17,Infrastructure!AC$11:AC$1850)","v":0},{"$f":"SUMIF(Infrastructure!$N$11:$N$1814,Settings!$BF17,Infrastructure!AD$11:AD$1850)","v":0},{"$f":"SUMIF(Infrastructure!$N$11:$N$1814,Settings!$BF17,Infrastructure!AE$11:AE$1850)","v":0},{"$f":"SUMIF(Infrastructure!$N$11:$N$1814,Settings!$BF17,Infrastructure!AF$11:AF$1850)","v":0},{"$f":"SUMIF(Infrastructure!$N$11:$N$1814,Settings!$BF17,Infrastructure!AG$11:AG$1850)","v":0},{"$f":"SUMIF(Infrastructure!$N$11:$N$1814,Settings!$BF17,Infrastructure!AH$11:AH$1850)","v":0}]
[null,null,null,null,null,"SIP 1: Unlocking the northern mineral belt with Waterbrg as Catalyst",null,{"$f":"SUMIF(Infrastructure!$N$11:$N$1814,Settings!$BF18,Infrastructure!O$11:O$1850)","v":0},{"$f":"SUMIF(Infrastructure!$N$11:$N$1814,Settings!$BF18,Infrastructure!P$11:P$1850)","v":0},{"$f":"SUMIF(Infrastructure!$N$11:$N$1814,Settings!$BF18,Infrastructure!Q$11:Q$1850)","v":0},{"$f":"SUMIF(Infrastructure!$N$11:$N$1814,Settings!$BF18,Infrastructure!R$11:R$1850)","v":0},{"$f":"SUMIF(Infrastructure!$N$11:$N$1814,Settings!$BF18,Infrastructure!S$11:S$1850)","v":0},{"$f":"SUMIF(Infrastructure!$N$11:$N$1814,Settings!$BF18,Infrastructure!T$11:T$1850)","v":0},{"$f":"SUMIF(Infrastructure!$N$11:$N$1814,Settings!$BF18,Infrastructure!U$11:U$1850)","v":0},{"$f":"SUMIF(Infrastructure!$N$11:$N$1814,Settings!$BF18,Infrastructure!V$11:V$1850)","v":0},{"$f":"SUMIF(Infrastructure!$N$11:$N$1814,Settings!$BF18,Infrastructure!W$11:W$1850)","v":0},{"$f":"SUMIF(Infrastructure!$N$11:$N$1814,Settings!$BF18,Infrastructure!X$11:X$1850)","v":0},{"$f":"SUMIF(Infrastructure!$N$11:$N$1814,Settings!$BF18,Infrastructure!Y$11:Y$1850)","v":0},{"$f":"SUMIF(Infrastructure!$N$11:$N$1814,Settings!$BF18,Infrastructure!Z$11:Z$1850)","v":0},{"$f":"SUMIF(Infrastructure!$N$11:$N$1814,Settings!$BF18,Infrastructure!AA$11:AA$1850)","v":0},{"$f":"SUMIF(Infrastructure!$N$11:$N$1814,Settings!$BF18,Infrastructure!AB$11:AB$1850)","v":0},{"$f":"SUMIF(Infrastructure!$N$11:$N$1814,Settings!$BF18,Infrastructure!AC$11:AC$1850)","v":0},{"$f":"SUMIF(Infrastructure!$N$11:$N$1814,Settings!$BF18,Infrastructure!AD$11:AD$1850)","v":0},{"$f":"SUMIF(Infrastructure!$N$11:$N$1814,Settings!$BF18,Infrastructure!AE$11:AE$1850)","v":0},{"$f":"SUMIF(Infrastructure!$N$11:$N$1814,Settings!$BF18,Infrastructure!AF$11:AF$1850)","v":0},{"$f":"SUMIF(Infrastructure!$N$11:$N$1814,Settings!$BF18,Infrastructure!AG$11:AG$1850)","v":0},{"$f":"SUMIF(Infrastructure!$N$11:$N$1814,Settings!$BF18,Infrastructure!AH$11:AH$1850)","v":0}]
[null,null,null,null,null,"SIP 2: Durban-Free State Gauteng Logistics and Industrial Corridor",null,{"$f":"SUMIF(Infrastructure!$N$11:$N$1814,Settings!$BF19,Infrastructure!O$11:O$1850)","v":0},{"$f":"SUMIF(Infrastructure!$N$11:$N$1814,Settings!$BF19,Infrastructure!P$11:P$1850)","v":0},{"$f":"SUMIF(Infrastructure!$N$11:$N$1814,Settings!$BF19,Infrastructure!Q$11:Q$1850)","v":0},{"$f":"SUMIF(Infrastructure!$N$11:$N$1814,Settings!$BF19,Infrastructure!R$11:R$1850)","v":0},{"$f":"SUMIF(Infrastructure!$N$11:$N$1814,Settings!$BF19,Infrastructure!S$11:S$1850)","v":0},{"$f":"SUMIF(Infrastructure!$N$11:$N$1814,Settings!$BF19,Infrastructure!T$11:T$1850)","v":0},{"$f":"SUMIF(Infrastructure!$N$11:$N$1814,Settings!$BF19,Infrastructure!U$11:U$1850)","v":0},{"$f":"SUMIF(Infrastructure!$N$11:$N$1814,Settings!$BF19,Infrastructure!V$11:V$1850)","v":0},{"$f":"SUMIF(Infrastructure!$N$11:$N$1814,Settings!$BF19,Infrastructure!W$11:W$1850)","v":0},{"$f":"SUMIF(Infrastructure!$N$11:$N$1814,Settings!$BF19,Infrastructure!X$11:X$1850)","v":0},{"$f":"SUMIF(Infrastructure!$N$11:$N$1814,Settings!$BF19,Infrastructure!Y$11:Y$1850)","v":0},{"$f":"SUMIF(Infrastructure!$N$11:$N$1814,Settings!$BF19,Infrastructure!Z$11:Z$1850)","v":0},{"$f":"SUMIF(Infrastructure!$N$11:$N$1814,Settings!$BF19,Infrastructure!AA$11:AA$1850)","v":0},{"$f":"SUMIF(Infrastructure!$N$11:$N$1814,Settings!$BF19,Infrastructure!AB$11:AB$1850)","v":0},{"$f":"SUMIF(Infrastructure!$N$11:$N$1814,Settings!$BF19,Infrastructure!AC$11:AC$1850)","v":0},{"$f":"SUMIF(Infrastructure!$N$11:$N$1814,Settings!$BF19,Infrastructure!AD$11:AD$1850)","v":0},{"$f":"SUMIF(Infrastructure!$N$11:$N$1814,Settings!$BF19,Infrastructure!AE$11:AE$1850)","v":0},{"$f":"SUMIF(Infrastructure!$N$11:$N$1814,Settings!$BF19,Infrastructure!AF$11:AF$1850)","v":0},{"$f":"SUMIF(Infrastructure!$N$11:$N$1814,Settings!$BF19,Infrastructure!AG$11:AG$1850)","v":0},{"$f":"SUMIF(Infrastructure!$N$11:$N$1814,Settings!$BF19,Infrastructure!AH$11:AH$1850)","v":0}]
[null,null,null,null,null,"Sip 3: South eastern note and corridor development",null,{"$f":"SUMIF(Infrastructure!$N$11:$N$1814,Settings!$BF20,Infrastructure!O$11:O$1850)","v":0},{"$f":"SUMIF(Infrastructure!$N$11:$N$1814,Settings!$BF20,Infrastructure!P$11:P$1850)","v":0},{"$f":"SUMIF(Infrastructure!$N$11:$N$1814,Settings!$BF20,Infrastructure!Q$11:Q$1850)","v":0},{"$f":"SUMIF(Infrastructure!$N$11:$N$1814,Settings!$BF20,Infrastructure!R$11:R$1850)","v":0},{"$f":"SUMIF(Infrastructure!$N$11:$N$1814,Settings!$BF20,Infrastructure!S$11:S$1850)","v":0},{"$f":"SUMIF(Infrastructure!$N$11:$N$1814,Settings!$BF20,Infrastructure!T$11:T$1850)","v":0},{"$f":"SUMIF(Infrastructure!$N$11:$N$1814,Settings!$BF20,Infrastructure!U$11:U$1850)","v":0},{"$f":"SUMIF(Infrastructure!$N$11:$N$1814,Settings!$BF20,Infrastructure!V$11:V$1850)","v":0},{"$f":"SUMIF(Infrastructure!$N$11:$N$1814,Settings!$BF20,Infrastructure!W$11:W$1850)","v":0},{"$f":"SUMIF(Infrastructure!$N$11:$N$1814,Settings!$BF20,Infrastructure!X$11:X$1850)","v":0},{"$f":"SUMIF(Infrastructure!$N$11:$N$1814,Settings!$BF20,Infrastructure!Y$11:Y$1850)","v":0},{"$f":"SUMIF(Infrastructure!$N$11:$N$1814,Settings!$BF20,Infrastructure!Z$11:Z$1850)","v":0},{"$f":"SUMIF(Infrastructure!$N$11:$N$1814,Settings!$BF20,Infrastructure!AA$11:AA$1850)","v":0},{"$f":"SUMIF(Infrastructure!$N$11:$N$1814,Settings!$BF20,Infrastructure!AB$11:AB$1850)","v":0},{"$f":"SUMIF(Infrastructure!$N$11:$N$1814,Settings!$BF20,Infrastructure!AC$11:AC$1850)","v":0},{"$f":"SUMIF(Infrastructure!$N$11:$N$1814,Settings!$BF20,Infrastructure!AD$11:AD$1850)","v":0},{"$f":"SUMIF(Infrastructure!$N$11:$N$1814,Settings!$BF20,Infrastructure!AE$11:AE$1850)","v":0},{"$f":"SUMIF(Infrastructure!$N$11:$N$1814,Settings!$BF20,Infrastructure!AF$11:AF$1850)","v":0},{"$f":"SUMIF(Infrastructure!$N$11:$N$1814,Settings!$BF20,Infrastructure!AG$11:AG$1850)","v":0},{"$f":"SUMIF(Infrastructure!$N$11:$N$1814,Settings!$BF20,Infrastructure!AH$11:AH$1850)","v":0}]
[null,null,null,null,null,"SIP 4: Unlocking the economic opportunities in the Both West Province",null,{"$f":"SUMIF(Infrastructure!$N$11:$N$1814,Settings!$BF21,Infrastructure!O$11:O$1850)","v":0},{"$f":"SUMIF(Infrastructure!$N$11:$N$1814,Settings!$BF21,Infrastructure!P$11:P$1850)","v":0},{"$f":"SUMIF(Infrastructure!$N$11:$N$1814,Settings!$BF21,Infrastructure!Q$11:Q$1850)","v":0},{"$f":"SUMIF(Infrastructure!$N$11:$N$1814,Settings!$BF21,Infrastructure!R$11:R$1850)","v":0},{"$f":"SUMIF(Infrastructure!$N$11:$N$1814,Settings!$BF21,Infrastructure!S$11:S$1850)","v":0},{"$f":"SUMIF(Infrastructure!$N$11:$N$1814,Settings!$BF21,Infrastructure!T$11:T$1850)","v":0},{"$f":"SUMIF(Infrastructure!$N$11:$N$1814,Settings!$BF21,Infrastructure!U$11:U$1850)","v":0},{"$f":"SUMIF(Infrastructure!$N$11:$N$1814,Settings!$BF21,Infrastructure!V$11:V$1850)","v":0},{"$f":"SUMIF(Infrastructure!$N$11:$N$1814,Settings!$BF21,Infrastructure!W$11:W$1850)","v":0},{"$f":"SUMIF(Infrastructure!$N$11:$N$1814,Settings!$BF21,Infrastructure!X$11:X$1850)","v":0},{"$f":"SUMIF(Infrastructure!$N$11:$N$1814,Settings!$BF21,Infrastructure!Y$11:Y$1850)","v":0},{"$f":"SUMIF(Infrastructure!$N$11:$N$1814,Settings!$BF21,Infrastructure!Z$11:Z$1850)","v":0},{"$f":"SUMIF(Infrastructure!$N$11:$N$1814,Settings!$BF21,Infrastructure!AA$11:AA$1850)","v":0},{"$f":"SUMIF(Infrastructure!$N$11:$N$1814,Settings!$BF21,Infrastructure!AB$11:AB$1850)","v":0},{"$f":"SUMIF(Infrastructure!$N$11:$N$1814,Settings!$BF21,Infrastructure!AC$11:AC$1850)","v":0},{"$f":"SUMIF(Infrastructure!$N$11:$N$1814,Settings!$BF21,Infrastructure!AD$11:AD$1850)","v":0},{"$f":"SUMIF(Infrastructure!$N$11:$N$1814,Settings!$BF21,Infrastructure!AE$11:AE$1850)","v":0},{"$f":"SUMIF(Infrastructure!$N$11:$N$1814,Settings!$BF21,Infrastructure!AF$11:AF$1850)","v":0},{"$f":"SUMIF(Infrastructure!$N$11:$N$1814,Settings!$BF21,Infrastructure!AG$11:AG$1850)","v":0},{"$f":"SUMIF(Infrastructure!$N$11:$N$1814,Settings!$BF21,Infrastructure!AH$11:AH$1850)","v":0}]
[null,null,null,null,null,"SIP 5: Saldanha-Northern Cape Development Corridor",null,{"$f":"SUMIF(Infrastructure!$N$11:$N$1814,Settings!$BF22,Infrastructure!O$11:O$1850)","v":0},{"$f":"SUMIF(Infrastructure!$N$11:$N$1814,Settings!$BF22,Infrastructure!P$11:P$1850)","v":0},{"$f":"SUMIF(Infrastructure!$N$11:$N$1814,Settings!$BF22,Infrastructure!Q$11:Q$1850)","v":0},{"$f":"SUMIF(Infrastructure!$N$11:$N$1814,Settings!$BF22,Infrastructure!R$11:R$1850)","v":0},{"$f":"SUMIF(Infrastructure!$N$11:$N$1814,Settings!$BF22,Infrastructure!S$11:S$1850)","v":0},{"$f":"SUMIF(Infrastructure!$N$11:$N$1814,Settings!$BF22,Infrastructure!T$11:T$1850)","v":0},{"$f":"SUMIF(Infrastructure!$N$11:$N$1814,Settings!$BF22,Infrastructure!U$11:U$1850)","v":0},{"$f":"SUMIF(Infrastructure!$N$11:$N$1814,Settings!$BF22,Infrastructure!V$11:V$1850)","v":0},{"$f":"SUMIF(Infrastructure!$N$11:$N$1814,Settings!$BF22,Infrastructure!W$11:W$1850)","v":0},{"$f":"SUMIF(Infrastructure!$N$11:$N$1814,Settings!$BF22,Infrastructure!X$11:X$1850)","v":0},{"$f":"SUMIF(Infrastructure!$N$11:$N$1814,Settings!$BF22,Infrastructure!Y$11:Y$1850)","v":0},{"$f":"SUMIF(Infrastructure!$N$11:$N$1814,Settings!$BF22,Infrastructure!Z$11:Z$1850)","v":0},{"$f":"SUMIF(Infrastructure!$N$11:$N$1814,Settings!$BF22,Infrastructure!AA$11:AA$1850)","v":0},{"$f":"SUMIF(Infrastructure!$N$11:$N$1814,Settings!$BF22,Infrastructure!AB$11:AB$1850)","v":0},{"$f":"SUMIF(Infrastructure!$N$11:$N$1814,Settings!$BF22,Infrastructure!AC$11:AC$1850)","v":0},{"$f":"SUMIF(Infrastructure!$N$11:$N$1814,Settings!$BF22,Infrastructure!AD$11:AD$1850)","v":0},{"$f":"SUMIF(Infrastructure!$N$11:$N$1814,Settings!$BF22,Infrastructure!AE$11:AE$1850)","v":0},{"$f":"SUMIF(Infrastructure!$N$11:$N$1814,Settings!$BF22,Infrastructure!AF$11:AF$1850)","v":0},{"$f":"SUMIF(Infrastructure!$N$11:$N$1814,Settings!$BF22,Infrastructure!AG$11:AG$1850)","v":0},{"$f":"SUMIF(Infrastructure!$N$11:$N$1814,Settings!$BF22,Infrastructure!AH$11:AH$1850)","v":0}]
[null,null,null,null,null,"SIP 6: Integrated municipal infrastructure project",null,{"$f":"SUMIF(Infrastructure!$N$11:$N$1814,Settings!$BF23,Infrastructure!O$11:O$1850)","v":0},{"$f":"SUMIF(Infrastructure!$N$11:$N$1814,Settings!$BF23,Infrastructure!P$11:P$1850)","v":0},{"$f":"SUMIF(Infrastructure!$N$11:$N$1814,Settings!$BF23,Infrastructure!Q$11:Q$1850)","v":0},{"$f":"SUMIF(Infrastructure!$N$11:$N$1814,Settings!$BF23,Infrastructure!R$11:R$1850)","v":0},{"$f":"SUMIF(Infrastructure!$N$11:$N$1814,Settings!$BF23,Infrastructure!S$11:S$1850)","v":0},{"$f":"SUMIF(Infrastructure!$N$11:$N$1814,Settings!$BF23,Infrastructure!T$11:T$1850)","v":0},{"$f":"SUMIF(Infrastructure!$N$11:$N$1814,Settings!$BF23,Infrastructure!U$11:U$1850)","v":0},{"$f":"SUMIF(Infrastructure!$N$11:$N$1814,Settings!$BF23,Infrastructure!V$11:V$1850)","v":0},{"$f":"SUMIF(Infrastructure!$N$11:$N$1814,Settings!$BF23,Infrastructure!W$11:W$1850)","v":0},{"$f":"SUMIF(Infrastructure!$N$11:$N$1814,Settings!$BF23,Infrastructure!X$11:X$1850)","v":0},{"$f":"SUMIF(Infrastructure!$N$11:$N$1814,Settings!$BF23,Infrastructure!Y$11:Y$1850)","v":0},{"$f":"SUMIF(Infrastructure!$N$11:$N$1814,Settings!$BF23,Infrastructure!Z$11:Z$1850)","v":0},{"$f":"SUMIF(Infrastructure!$N$11:$N$1814,Settings!$BF23,Infrastructure!AA$11:AA$1850)","v":0},{"$f":"SUMIF(Infrastructure!$N$11:$N$1814,Settings!$BF23,Infrastructure!AB$11:AB$1850)","v":0},{"$f":"SUMIF(Infrastructure!$N$11:$N$1814,Settings!$BF23,Infrastructure!AC$11:AC$1850)","v":0},{"$f":"SUMIF(Infrastructure!$N$11:$N$1814,Settings!$BF23,Infrastructure!AD$11:AD$1850)","v":0},{"$f":"SUMIF(Infrastructure!$N$11:$N$1814,Settings!$BF23,Infrastructure!AE$11:AE$1850)","v":0},{"$f":"SUMIF(Infrastructure!$N$11:$N$1814,Settings!$BF23,Infrastructure!AF$11:AF$1850)","v":0},{"$f":"SUMIF(Infrastructure!$N$11:$N$1814,Settings!$BF23,Infrastructure!AG$11:AG$1850)","v":0},{"$f":"SUMIF(Infrastructure!$N$11:$N$1814,Settings!$BF23,Infrastructure!AH$11:AH$1850)","v":0}]
[null,null,null,null,null,"SIP 7: Integrated urban space and public transport programme",null,{"$f":"SUMIF(Infrastructure!$N$11:$N$1814,Settings!$BF24,Infrastructure!O$11:O$1850)","v":0},{"$f":"SUMIF(Infrastructure!$N$11:$N$1814,Settings!$BF24,Infrastructure!P$11:P$1850)","v":0},{"$f":"SUMIF(Infrastructure!$N$11:$N$1814,Settings!$BF24,Infrastructure!Q$11:Q$1850)","v":0},{"$f":"SUMIF(Infrastructure!$N$11:$N$1814,Settings!$BF24,Infrastructure!R$11:R$1850)","v":0},{"$f":"SUMIF(Infrastructure!$N$11:$N$1814,Settings!$BF24,Infrastructure!S$11:S$1850)","v":0},{"$f":"SUMIF(Infrastructure!$N$11:$N$1814,Settings!$BF24,Infrastructure!T$11:T$1850)","v":0},{"$f":"SUMIF(Infrastructure!$N$11:$N$1814,Settings!$BF24,Infrastructure!U$11:U$1850)","v":0},{"$f":"SUMIF(Infrastructure!$N$11:$N$1814,Settings!$BF24,Infrastructure!V$11:V$1850)","v":0},{"$f":"SUMIF(Infrastructure!$N$11:$N$1814,Settings!$BF24,Infrastructure!W$11:W$1850)","v":0},{"$f":"SUMIF(Infrastructure!$N$11:$N$1814,Settings!$BF24,Infrastructure!X$11:X$1850)","v":0},{"$f":"SUMIF(Infrastructure!$N$11:$N$1814,Settings!$BF24,Infrastructure!Y$11:Y$1850)","v":0},{"$f":"SUMIF(Infrastructure!$N$11:$N$1814,Settings!$BF24,Infrastructure!Z$11:Z$1850)","v":0},{"$f":"SUMIF(Infrastructure!$N$11:$N$1814,Settings!$BF24,Infrastructure!AA$11:AA$1850)","v":0},{"$f":"SUMIF(Infrastructure!$N$11:$N$1814,Settings!$BF24,Infrastructure!AB$11:AB$1850)","v":0},{"$f":"SUMIF(Infrastructure!$N$11:$N$1814,Settings!$BF24,Infrastructure!AC$11:AC$1850)","v":0},{"$f":"SUMIF(Infrastructure!$N$11:$N$1814,Settings!$BF24,Infrastructure!AD$11:AD$1850)","v":0},{"$f":"SUMIF(Infrastructure!$N$11:$N$1814,Settings!$BF24,Infrastructure!AE$11:AE$1850)","v":0},{"$f":"SUMIF(Infrastructure!$N$11:$N$1814,Settings!$BF24,Infrastructure!AF$11:AF$1850)","v":0},{"$f":"SUMIF(Infrastructure!$N$11:$N$1814,Settings!$BF24,Infrastructure!AG$11:AG$1850)","v":0},{"$f":"SUMIF(Infrastructure!$N$11:$N$1814,Settings!$BF24,Infrastructure!AH$11:AH$1850)","v":0}]
[null,null,null,null,null,"SIP 8: Green energy in support of the South African economy",null,{"$f":"SUMIF(Infrastructure!$N$11:$N$1814,Settings!$BF25,Infrastructure!O$11:O$1850)","v":0},{"$f":"SUMIF(Infrastructure!$N$11:$N$1814,Settings!$BF25,Infrastructure!P$11:P$1850)","v":0},{"$f":"SUMIF(Infrastructure!$N$11:$N$1814,Settings!$BF25,Infrastructure!Q$11:Q$1850)","v":0},{"$f":"SUMIF(Infrastructure!$N$11:$N$1814,Settings!$BF25,Infrastructure!R$11:R$1850)","v":0},{"$f":"SUMIF(Infrastructure!$N$11:$N$1814,Settings!$BF25,Infrastructure!S$11:S$1850)","v":0},{"$f":"SUMIF(Infrastructure!$N$11:$N$1814,Settings!$BF25,Infrastructure!T$11:T$1850)","v":0},{"$f":"SUMIF(Infrastructure!$N$11:$N$1814,Settings!$BF25,Infrastructure!U$11:U$1850)","v":0},{"$f":"SUMIF(Infrastructure!$N$11:$N$1814,Settings!$BF25,Infrastructure!V$11:V$1850)","v":0},{"$f":"SUMIF(Infrastructure!$N$11:$N$1814,Settings!$BF25,Infrastructure!W$11:W$1850)","v":0},{"$f":"SUMIF(Infrastructure!$N$11:$N$1814,Settings!$BF25,Infrastructure!X$11:X$1850)","v":0},{"$f":"SUMIF(Infrastructure!$N$11:$N$1814,Settings!$BF25,Infrastructure!Y$11:Y$1850)","v":0},{"$f":"SUMIF(Infrastructure!$N$11:$N$1814,Settings!$BF25,Infrastructure!Z$11:Z$1850)","v":0},{"$f":"SUMIF(Infrastructure!$N$11:$N$1814,Settings!$BF25,Infrastructure!AA$11:AA$1850)","v":0},{"$f":"SUMIF(Infrastructure!$N$11:$N$1814,Settings!$BF25,Infrastructure!AB$11:AB$1850)","v":0},{"$f":"SUMIF(Infrastructure!$N$11:$N$1814,Settings!$BF25,Infrastructure!AC$11:AC$1850)","v":0},{"$f":"SUMIF(Infrastructure!$N$11:$N$1814,Settings!$BF25,Infrastructure!AD$11:AD$1850)","v":0},{"$f":"SUMIF(Infrastructure!$N$11:$N$1814,Settings!$BF25,Infrastructure!AE$11:AE$1850)","v":0},{"$f":"SUMIF(Infrastructure!$N$11:$N$1814,Settings!$BF25,Infrastructure!AF$11:AF$1850)","v":0},{"$f":"SUMIF(Infrastructure!$N$11:$N$1814,Settings!$BF25,Infrastructure!AG$11:AG$1850)","v":0},{"$f":"SUMIF(Infrastructure!$N$11:$N$1814,Settings!$BF25,Infrastructure!AH$11:AH$1850)","v":0}]
[null,null,null,null,null,"SIP 9: Electricity generations to support socio-economic development",null,{"$f":"SUMIF(Infrastructure!$N$11:$N$1814,Settings!$BF26,Infrastructure!O$11:O$1850)","v":0},{"$f":"SUMIF(Infrastructure!$N$11:$N$1814,Settings!$BF26,Infrastructure!P$11:P$1850)","v":0},{"$f":"SUMIF(Infrastructure!$N$11:$N$1814,Settings!$BF26,Infrastructure!Q$11:Q$1850)","v":0},{"$f":"SUMIF(Infrastructure!$N$11:$N$1814,Settings!$BF26,Infrastructure!R$11:R$1850)","v":0},{"$f":"SUMIF(Infrastructure!$N$11:$N$1814,Settings!$BF26,Infrastructure!S$11:S$1850)","v":0},{"$f":"SUMIF(Infrastructure!$N$11:$N$1814,Settings!$BF26,Infrastructure!T$11:T$1850)","v":0},{"$f":"SUMIF(Infrastructure!$N$11:$N$1814,Settings!$BF26,Infrastructure!U$11:U$1850)","v":0},{"$f":"SUMIF(Infrastructure!$N$11:$N$1814,Settings!$BF26,Infrastructure!V$11:V$1850)","v":0},{"$f":"SUMIF(Infrastructure!$N$11:$N$1814,Settings!$BF26,Infrastructure!W$11:W$1850)","v":0},{"$f":"SUMIF(Infrastructure!$N$11:$N$1814,Settings!$BF26,Infrastructure!X$11:X$1850)","v":0},{"$f":"SUMIF(Infrastructure!$N$11:$N$1814,Settings!$BF26,Infrastructure!Y$11:Y$1850)","v":0},{"$f":"SUMIF(Infrastructure!$N$11:$N$1814,Settings!$BF26,Infrastructure!Z$11:Z$1850)","v":0},{"$f":"SUMIF(Infrastructure!$N$11:$N$1814,Settings!$BF26,Infrastructure!AA$11:AA$1850)","v":0},{"$f":"SUMIF(Infrastructure!$N$11:$N$1814,Settings!$BF26,Infrastructure!AB$11:AB$1850)","v":0},{"$f":"SUMIF(Infrastructure!$N$11:$N$1814,Settings!$BF26,Infrastructure!AC$11:AC$1850)","v":0},{"$f":"SUMIF(Infrastructure!$N$11:$N$1814,Settings!$BF26,Infrastructure!AD$11:AD$1850)","v":0},{"$f":"SUMIF(Infrastructure!$N$11:$N$1814,Settings!$BF26,Infrastructure!AE$11:AE$1850)","v":0},{"$f":"SUMIF(Infrastructure!$N$11:$N$1814,Settings!$BF26,Infrastructure!AF$11:AF$1850)","v":0},{"$f":"SUMIF(Infrastructure!$N$11:$N$1814,Settings!$BF26,Infrastructure!AG$11:AG$1850)","v":0},{"$f":"SUMIF(Infrastructure!$N$11:$N$1814,Settings!$BF26,Infrastructure!AH$11:AH$1850)","v":0}]
[null,null,null,null,null,"SIP 10: Electricity transmission and distribution for all",null,{"$f":"SUMIF(Infrastructure!$N$11:$N$1814,Settings!$BF27,Infrastructure!O$11:O$1850)","v":0},{"$f":"SUMIF(Infrastructure!$N$11:$N$1814,Settings!$BF27,Infrastructure!P$11:P$1850)","v":0},{"$f":"SUMIF(Infrastructure!$N$11:$N$1814,Settings!$BF27,Infrastructure!Q$11:Q$1850)","v":0},{"$f":"SUMIF(Infrastructure!$N$11:$N$1814,Settings!$BF27,Infrastructure!R$11:R$1850)","v":0},{"$f":"SUMIF(Infrastructure!$N$11:$N$1814,Settings!$BF27,Infrastructure!S$11:S$1850)","v":0},{"$f":"SUMIF(Infrastructure!$N$11:$N$1814,Settings!$BF27,Infrastructure!T$11:T$1850)","v":0},{"$f":"SUMIF(Infrastructure!$N$11:$N$1814,Settings!$BF27,Infrastructure!U$11:U$1850)","v":0},{"$f":"SUMIF(Infrastructure!$N$11:$N$1814,Settings!$BF27,Infrastructure!V$11:V$1850)","v":0},{"$f":"SUMIF(Infrastructure!$N$11:$N$1814,Settings!$BF27,Infrastructure!W$11:W$1850)","v":0},{"$f":"SUMIF(Infrastructure!$N$11:$N$1814,Settings!$BF27,Infrastructure!X$11:X$1850)","v":0},{"$f":"SUMIF(Infrastructure!$N$11:$N$1814,Settings!$BF27,Infrastructure!Y$11:Y$1850)","v":0},{"$f":"SUMIF(Infrastructure!$N$11:$N$1814,Settings!$BF27,Infrastructure!Z$11:Z$1850)","v":0},{"$f":"SUMIF(Infrastructure!$N$11:$N$1814,Settings!$BF27,Infrastructure!AA$11:AA$1850)","v":0},{"$f":"SUMIF(Infrastructure!$N$11:$N$1814,Settings!$BF27,Infrastructure!AB$11:AB$1850)","v":0},{"$f":"SUMIF(Infrastructure!$N$11:$N$1814,Settings!$BF27,Infrastructure!AC$11:AC$1850)","v":0},{"$f":"SUMIF(Infrastructure!$N$11:$N$1814,Settings!$BF27,Infrastructure!AD$11:AD$1850)","v":0},{"$f":"SUMIF(Infrastructure!$N$11:$N$1814,Settings!$BF27,Infrastructure!AE$11:AE$1850)","v":0},{"$f":"SUMIF(Infrastructure!$N$11:$N$1814,Settings!$BF27,Infrastructure!AF$11:AF$1850)","v":0},{"$f":"SUMIF(Infrastructure!$N$11:$N$1814,Settings!$BF27,Infrastructure!AG$11:AG$1850)","v":0},{"$f":"SUMIF(Infrastructure!$N$11:$N$1814,Settings!$BF27,Infrastructure!AH$11:AH$1850)","v":0}]
[null,null,null,null,null,"SIP 11: Agri-logistics and rural infrastructure",null,{"$f":"SUMIF(Infrastructure!$N$11:$N$1814,Settings!$BF28,Infrastructure!O$11:O$1850)","v":0},{"$f":"SUMIF(Infrastructure!$N$11:$N$1814,Settings!$BF28,Infrastructure!P$11:P$1850)","v":0},{"$f":"SUMIF(Infrastructure!$N$11:$N$1814,Settings!$BF28,Infrastructure!Q$11:Q$1850)","v":0},{"$f":"SUMIF(Infrastructure!$N$11:$N$1814,Settings!$BF28,Infrastructure!R$11:R$1850)","v":0},{"$f":"SUMIF(Infrastructure!$N$11:$N$1814,Settings!$BF28,Infrastructure!S$11:S$1850)","v":0},{"$f":"SUMIF(Infrastructure!$N$11:$N$1814,Settings!$BF28,Infrastructure!T$11:T$1850)","v":0},{"$f":"SUMIF(Infrastructure!$N$11:$N$1814,Settings!$BF28,Infrastructure!U$11:U$1850)","v":0},{"$f":"SUMIF(Infrastructure!$N$11:$N$1814,Settings!$BF28,Infrastructure!V$11:V$1850)","v":0},{"$f":"SUMIF(Infrastructure!$N$11:$N$1814,Settings!$BF28,Infrastructure!W$11:W$1850)","v":0},{"$f":"SUMIF(Infrastructure!$N$11:$N$1814,Settings!$BF28,Infrastructure!X$11:X$1850)","v":0},{"$f":"SUMIF(Infrastructure!$N$11:$N$1814,Settings!$BF28,Infrastructure!Y$11:Y$1850)","v":0},{"$f":"SUMIF(Infrastructure!$N$11:$N$1814,Settings!$BF28,Infrastructure!Z$11:Z$1850)","v":0},{"$f":"SUMIF(Infrastructure!$N$11:$N$1814,Settings!$BF28,Infrastructure!AA$11:AA$1850)","v":0},{"$f":"SUMIF(Infrastructure!$N$11:$N$1814,Settings!$BF28,Infrastructure!AB$11:AB$1850)","v":0},{"$f":"SUMIF(Infrastructure!$N$11:$N$1814,Settings!$BF28,Infrastructure!AC$11:AC$1850)","v":0},{"$f":"SUMIF(Infrastructure!$N$11:$N$1814,Settings!$BF28,Infrastructure!AD$11:AD$1850)","v":0},{"$f":"SUMIF(Infrastructure!$N$11:$N$1814,Settings!$BF28,Infrastructure!AE$11:AE$1850)","v":0},{"$f":"SUMIF(Infrastructure!$N$11:$N$1814,Settings!$BF28,Infrastructure!AF$11:AF$1850)","v":0},{"$f":"SUMIF(Infrastructure!$N$11:$N$1814,Settings!$BF28,Infrastructure!AG$11:AG$1850)","v":0},{"$f":"SUMIF(Infrastructure!$N$11:$N$1814,Settings!$BF28,Infrastructure!AH$11:AH$1850)","v":0}]
[null,null,null,null,null,"SIP 12: Revitalisation of public hospitals and other health facilities",null,{"$f":"SUMIF(Infrastructure!$N$11:$N$1814,Settings!$BF29,Infrastructure!O$11:O$1850)","v":0},{"$f":"SUMIF(Infrastructure!$N$11:$N$1814,Settings!$BF29,Infrastructure!P$11:P$1850)","v":0},{"$f":"SUMIF(Infrastructure!$N$11:$N$1814,Settings!$BF29,Infrastructure!Q$11:Q$1850)","v":0},{"$f":"SUMIF(Infrastructure!$N$11:$N$1814,Settings!$BF29,Infrastructure!R$11:R$1850)","v":0},{"$f":"SUMIF(Infrastructure!$N$11:$N$1814,Settings!$BF29,Infrastructure!S$11:S$1850)","v":0},{"$f":"SUMIF(Infrastructure!$N$11:$N$1814,Settings!$BF29,Infrastructure!T$11:T$1850)","v":0},{"$f":"SUMIF(Infrastructure!$N$11:$N$1814,Settings!$BF29,Infrastructure!U$11:U$1850)","v":0},{"$f":"SUMIF(Infrastructure!$N$11:$N$1814,Settings!$BF29,Infrastructure!V$11:V$1850)","v":0},{"$f":"SUMIF(Infrastructure!$N$11:$N$1814,Settings!$BF29,Infrastructure!W$11:W$1850)","v":0},{"$f":"SUMIF(Infrastructure!$N$11:$N$1814,Settings!$BF29,Infrastructure!X$11:X$1850)","v":0},{"$f":"SUMIF(Infrastructure!$N$11:$N$1814,Settings!$BF29,Infrastructure!Y$11:Y$1850)","v":0},{"$f":"SUMIF(Infrastructure!$N$11:$N$1814,Settings!$BF29,Infrastructure!Z$11:Z$1850)","v":0},{"$f":"SUMIF(Infrastructure!$N$11:$N$1814,Settings!$BF29,Infrastructure!AA$11:AA$1850)","v":0},{"$f":"SUMIF(Infrastructure!$N$11:$N$1814,Settings!$BF29,Infrastructure!AB$11:AB$1850)","v":0},{"$f":"SUMIF(Infrastructure!$N$11:$N$1814,Settings!$BF29,Infrastructure!AC$11:AC$1850)","v":0},{"$f":"SUMIF(Infrastructure!$N$11:$N$1814,Settings!$BF29,Infrastructure!AD$11:AD$1850)","v":0},{"$f":"SUMIF(Infrastructure!$N$11:$N$1814,Settings!$BF29,Infrastructure!AE$11:AE$1850)","v":0},{"$f":"SUMIF(Infrastructure!$N$11:$N$1814,Settings!$BF29,Infrastructure!AF$11:AF$1850)","v":0},{"$f":"SUMIF(Infrastructure!$N$11:$N$1814,Settings!$BF29,Infrastructure!AG$11:AG$1850)","v":0},{"$f":"SUMIF(Infrastructure!$N$11:$N$1814,Settings!$BF29,Infrastructure!AH$11:AH$1850)","v":0}]
[null,null,null,null,null,"SIP 13: National school build programme",null,{"$f":"SUMIF(Infrastructure!$N$11:$N$1814,Settings!$BF30,Infrastructure!O$11:O$1850)","v":0},{"$f":"SUMIF(Infrastructure!$N$11:$N$1814,Settings!$BF30,Infrastructure!P$11:P$1850)","v":0},{"$f":"SUMIF(Infrastructure!$N$11:$N$1814,Settings!$BF30,Infrastructure!Q$11:Q$1850)","v":0},{"$f":"SUMIF(Infrastructure!$N$11:$N$1814,Settings!$BF30,Infrastructure!R$11:R$1850)","v":0},{"$f":"SUMIF(Infrastructure!$N$11:$N$1814,Settings!$BF30,Infrastructure!S$11:S$1850)","v":0},{"$f":"SUMIF(Infrastructure!$N$11:$N$1814,Settings!$BF30,Infrastructure!T$11:T$1850)","v":0},{"$f":"SUMIF(Infrastructure!$N$11:$N$1814,Settings!$BF30,Infrastructure!U$11:U$1850)","v":0},{"$f":"SUMIF(Infrastructure!$N$11:$N$1814,Settings!$BF30,Infrastructure!V$11:V$1850)","v":0},{"$f":"SUMIF(Infrastructure!$N$11:$N$1814,Settings!$BF30,Infrastructure!W$11:W$1850)","v":0},{"$f":"SUMIF(Infrastructure!$N$11:$N$1814,Settings!$BF30,Infrastructure!X$11:X$1850)","v":0},{"$f":"SUMIF(Infrastructure!$N$11:$N$1814,Settings!$BF30,Infrastructure!Y$11:Y$1850)","v":0},{"$f":"SUMIF(Infrastructure!$N$11:$N$1814,Settings!$BF30,Infrastructure!Z$11:Z$1850)","v":0},{"$f":"SUMIF(Infrastructure!$N$11:$N$1814,Settings!$BF30,Infrastructure!AA$11:AA$1850)","v":0},{"$f":"SUMIF(Infrastructure!$N$11:$N$1814,Settings!$BF30,Infrastructure!AB$11:AB$1850)","v":0},{"$f":"SUMIF(Infrastructure!$N$11:$N$1814,Settings!$BF30,Infrastructure!AC$11:AC$1850)","v":0},{"$f":"SUMIF(Infrastructure!$N$11:$N$1814,Settings!$BF30,Infrastructure!AD$11:AD$1850)","v":0},{"$f":"SUMIF(Infrastructure!$N$11:$N$1814,Settings!$BF30,Infrastructure!AE$11:AE$1850)","v":0},{"$f":"SUMIF(Infrastructure!$N$11:$N$1814,Settings!$BF30,Infrastructure!AF$11:AF$1850)","v":0},{"$f":"SUMIF(Infrastructure!$N$11:$N$1814,Settings!$BF30,Infrastructure!AG$11:AG$1850)","v":0},{"$f":"SUMIF(Infrastructure!$N$11:$N$1814,Settings!$BF30,Infrastructure!AH$11:AH$1850)","v":0}]
[null,null,null,null,null,"SIP 14: Higher education infrastructure",null,{"$f":"SUMIF(Infrastructure!$N$11:$N$1814,Settings!$BF31,Infrastructure!O$11:O$1850)","v":0},{"$f":"SUMIF(Infrastructure!$N$11:$N$1814,Settings!$BF31,Infrastructure!P$11:P$1850)","v":0},{"$f":"SUMIF(Infrastructure!$N$11:$N$1814,Settings!$BF31,Infrastructure!Q$11:Q$1850)","v":0},{"$f":"SUMIF(Infrastructure!$N$11:$N$1814,Settings!$BF31,Infrastructure!R$11:R$1850)","v":0},{"$f":"SUMIF(Infrastructure!$N$11:$N$1814,Settings!$BF31,Infrastructure!S$11:S$1850)","v":0},{"$f":"SUMIF(Infrastructure!$N$11:$N$1814,Settings!$BF31,Infrastructure!T$11:T$1850)","v":0},{"$f":"SUMIF(Infrastructure!$N$11:$N$1814,Settings!$BF31,Infrastructure!U$11:U$1850)","v":0},{"$f":"SUMIF(Infrastructure!$N$11:$N$1814,Settings!$BF31,Infrastructure!V$11:V$1850)","v":0},{"$f":"SUMIF(Infrastructure!$N$11:$N$1814,Settings!$BF31,Infrastructure!W$11:W$1850)","v":0},{"$f":"SUMIF(Infrastructure!$N$11:$N$1814,Settings!$BF31,Infrastructure!X$11:X$1850)","v":0},{"$f":"SUMIF(Infrastructure!$N$11:$N$1814,Settings!$BF31,Infrastructure!Y$11:Y$1850)","v":0},{"$f":"SUMIF(Infrastructure!$N$11:$N$1814,Settings!$BF31,Infrastructure!Z$11:Z$1850)","v":0},{"$f":"SUMIF(Infrastructure!$N$11:$N$1814,Settings!$BF31,Infrastructure!AA$11:AA$1850)","v":0},{"$f":"SUMIF(Infrastructure!$N$11:$N$1814,Settings!$BF31,Infrastructure!AB$11:AB$1850)","v":0},{"$f":"SUMIF(Infrastructure!$N$11:$N$1814,Settings!$BF31,Infrastructure!AC$11:AC$1850)","v":0},{"$f":"SUMIF(Infrastructure!$N$11:$N$1814,Settings!$BF31,Infrastructure!AD$11:AD$1850)","v":0},{"$f":"SUMIF(Infrastructure!$N$11:$N$1814,Settings!$BF31,Infrastructure!AE$11:AE$1850)","v":0},{"$f":"SUMIF(Infrastructure!$N$11:$N$1814,Settings!$BF31,Infrastructure!AF$11:AF$1850)","v":0},{"$f":"SUMIF(Infrastructure!$N$11:$N$1814,Settings!$BF31,Infrastructure!AG$11:AG$1850)","v":0},{"$f":"SUMIF(Infrastructure!$N$11:$N$1814,Settings!$BF31,Infrastructure!AH$11:AH$1850)","v":0}]
[null,null,null,null,null,"SIP 15: Expanding eccess to communication technology",null,{"$f":"SUMIF(Infrastructure!$N$11:$N$1814,Settings!$BF32,Infrastructure!O$11:O$1850)","v":0},{"$f":"SUMIF(Infrastructure!$N$11:$N$1814,Settings!$BF32,Infrastructure!P$11:P$1850)","v":0},{"$f":"SUMIF(Infrastructure!$N$11:$N$1814,Settings!$BF32,Infrastructure!Q$11:Q$1850)","v":0},{"$f":"SUMIF(Infrastructure!$N$11:$N$1814,Settings!$BF32,Infrastructure!R$11:R$1850)","v":0},{"$f":"SUMIF(Infrastructure!$N$11:$N$1814,Settings!$BF32,Infrastructure!S$11:S$1850)","v":0},{"$f":"SUMIF(Infrastructure!$N$11:$N$1814,Settings!$BF32,Infrastructure!T$11:T$1850)","v":0},{"$f":"SUMIF(Infrastructure!$N$11:$N$1814,Settings!$BF32,Infrastructure!U$11:U$1850)","v":0},{"$f":"SUMIF(Infrastructure!$N$11:$N$1814,Settings!$BF32,Infrastructure!V$11:V$1850)","v":0},{"$f":"SUMIF(Infrastructure!$N$11:$N$1814,Settings!$BF32,Infrastructure!W$11:W$1850)","v":0},{"$f":"SUMIF(Infrastructure!$N$11:$N$1814,Settings!$BF32,Infrastructure!X$11:X$1850)","v":0},{"$f":"SUMIF(Infrastructure!$N$11:$N$1814,Settings!$BF32,Infrastructure!Y$11:Y$1850)","v":0},{"$f":"SUMIF(Infrastructure!$N$11:$N$1814,Settings!$BF32,Infrastructure!Z$11:Z$1850)","v":0},{"$f":"SUMIF(Infrastructure!$N$11:$N$1814,Settings!$BF32,Infrastructure!AA$11:AA$1850)","v":0},{"$f":"SUMIF(Infrastructure!$N$11:$N$1814,Settings!$BF32,Infrastructure!AB$11:AB$1850)","v":0},{"$f":"SUMIF(Infrastructure!$N$11:$N$1814,Settings!$BF32,Infrastructure!AC$11:AC$1850)","v":0},{"$f":"SUMIF(Infrastructure!$N$11:$N$1814,Settings!$BF32,Infrastructure!AD$11:AD$1850)","v":0},{"$f":"SUMIF(Infrastructure!$N$11:$N$1814,Settings!$BF32,Infrastructure!AE$11:AE$1850)","v":0},{"$f":"SUMIF(Infrastructure!$N$11:$N$1814,Settings!$BF32,Infrastructure!AF$11:AF$1850)","v":0},{"$f":"SUMIF(Infrastructure!$N$11:$N$1814,Settings!$BF32,Infrastructure!AG$11:AG$1850)","v":0},{"$f":"SUMIF(Infrastructure!$N$11:$N$1814,Settings!$BF32,Infrastructure!AH$11:AH$1850)","v":0}]
[null,null,null,null,null,"SIP 16: SKA and Meerkat",null,{"$f":"SUMIF(Infrastructure!$N$11:$N$1814,Settings!$BF33,Infrastructure!O$11:O$1850)","v":0},{"$f":"SUMIF(Infrastructure!$N$11:$N$1814,Settings!$BF33,Infrastructure!P$11:P$1850)","v":0},{"$f":"SUMIF(Infrastructure!$N$11:$N$1814,Settings!$BF33,Infrastructure!Q$11:Q$1850)","v":0},{"$f":"SUMIF(Infrastructure!$N$11:$N$1814,Settings!$BF33,Infrastructure!R$11:R$1850)","v":0},{"$f":"SUMIF(Infrastructure!$N$11:$N$1814,Settings!$BF33,Infrastructure!S$11:S$1850)","v":0},{"$f":"SUMIF(Infrastructure!$N$11:$N$1814,Settings!$BF33,Infrastructure!T$11:T$1850)","v":0},{"$f":"SUMIF(Infrastructure!$N$11:$N$1814,Settings!$BF33,Infrastructure!U$11:U$1850)","v":0},{"$f":"SUMIF(Infrastructure!$N$11:$N$1814,Settings!$BF33,Infrastructure!V$11:V$1850)","v":0},{"$f":"SUMIF(Infrastructure!$N$11:$N$1814,Settings!$BF33,Infrastructure!W$11:W$1850)","v":0},{"$f":"SUMIF(Infrastructure!$N$11:$N$1814,Settings!$BF33,Infrastructure!X$11:X$1850)","v":0},{"$f":"SUMIF(Infrastructure!$N$11:$N$1814,Settings!$BF33,Infrastructure!Y$11:Y$1850)","v":0},{"$f":"SUMIF(Infrastructure!$N$11:$N$1814,Settings!$BF33,Infrastructure!Z$11:Z$1850)","v":0},{"$f":"SUMIF(Infrastructure!$N$11:$N$1814,Settings!$BF33,Infrastructure!AA$11:AA$1850)","v":0},{"$f":"SUMIF(Infrastructure!$N$11:$N$1814,Settings!$BF33,Infrastructure!AB$11:AB$1850)","v":0},{"$f":"SUMIF(Infrastructure!$N$11:$N$1814,Settings!$BF33,Infrastructure!AC$11:AC$1850)","v":0},{"$f":"SUMIF(Infrastructure!$N$11:$N$1814,Settings!$BF33,Infrastructure!AD$11:AD$1850)","v":0},{"$f":"SUMIF(Infrastructure!$N$11:$N$1814,Settings!$BF33,Infrastructure!AE$11:AE$1850)","v":0},{"$f":"SUMIF(Infrastructure!$N$11:$N$1814,Settings!$BF33,Infrastructure!AF$11:AF$1850)","v":0},{"$f":"SUMIF(Infrastructure!$N$11:$N$1814,Settings!$BF33,Infrastructure!AG$11:AG$1850)","v":0},{"$f":"SUMIF(Infrastructure!$N$11:$N$1814,Settings!$BF33,Infrastructure!AH$11:AH$1850)","v":0}]
[null,null,null,null,null,"SIP 17: Regional integration for African Cooperation and development",null,{"$f":"SUMIF(Infrastructure!$N$11:$N$1814,Settings!$BF34,Infrastructure!O$11:O$1850)","v":0},{"$f":"SUMIF(Infrastructure!$N$11:$N$1814,Settings!$BF34,Infrastructure!P$11:P$1850)","v":0},{"$f":"SUMIF(Infrastructure!$N$11:$N$1814,Settings!$BF34,Infrastructure!Q$11:Q$1850)","v":0},{"$f":"SUMIF(Infrastructure!$N$11:$N$1814,Settings!$BF34,Infrastructure!R$11:R$1850)","v":0},{"$f":"SUMIF(Infrastructure!$N$11:$N$1814,Settings!$BF34,Infrastructure!S$11:S$1850)","v":0},{"$f":"SUMIF(Infrastructure!$N$11:$N$1814,Settings!$BF34,Infrastructure!T$11:T$1850)","v":0},{"$f":"SUMIF(Infrastructure!$N$11:$N$1814,Settings!$BF34,Infrastructure!U$11:U$1850)","v":0},{"$f":"SUMIF(Infrastructure!$N$11:$N$1814,Settings!$BF34,Infrastructure!V$11:V$1850)","v":0},{"$f":"SUMIF(Infrastructure!$N$11:$N$1814,Settings!$BF34,Infrastructure!W$11:W$1850)","v":0},{"$f":"SUMIF(Infrastructure!$N$11:$N$1814,Settings!$BF34,Infrastructure!X$11:X$1850)","v":0},{"$f":"SUMIF(Infrastructure!$N$11:$N$1814,Settings!$BF34,Infrastructure!Y$11:Y$1850)","v":0},{"$f":"SUMIF(Infrastructure!$N$11:$N$1814,Settings!$BF34,Infrastructure!Z$11:Z$1850)","v":0},{"$f":"SUMIF(Infrastructure!$N$11:$N$1814,Settings!$BF34,Infrastructure!AA$11:AA$1850)","v":0},{"$f":"SUMIF(Infrastructure!$N$11:$N$1814,Settings!$BF34,Infrastructure!AB$11:AB$1850)","v":0},{"$f":"SUMIF(Infrastructure!$N$11:$N$1814,Settings!$BF34,Infrastructure!AC$11:AC$1850)","v":0},{"$f":"SUMIF(Infrastructure!$N$11:$N$1814,Settings!$BF34,Infrastructure!AD$11:AD$1850)","v":0},{"$f":"SUMIF(Infrastructure!$N$11:$N$1814,Settings!$BF34,Infrastructure!AE$11:AE$1850)","v":0},{"$f":"SUMIF(Infrastructure!$N$11:$N$1814,Settings!$BF34,Infrastructure!AF$11:AF$1850)","v":0},{"$f":"SUMIF(Infrastructure!$N$11:$N$1814,Settings!$BF34,Infrastructure!AG$11:AG$1850)","v":0},{"$f":"SUMIF(Infrastructure!$N$11:$N$1814,Settings!$BF34,Infrastructure!AH$11:AH$1850)","v":0}]
[null,null,null,null,null,"SIP 18. Water and sanitation master plan",null,{"$f":"SUMIF(Infrastructure!$N$11:$N$1814,Settings!$BF35,Infrastructure!O$11:O$1850)","v":0},{"$f":"SUMIF(Infrastructure!$N$11:$N$1814,Settings!$BF35,Infrastructure!P$11:P$1850)","v":0},{"$f":"SUMIF(Infrastructure!$N$11:$N$1814,Settings!$BF35,Infrastructure!Q$11:Q$1850)","v":0},{"$f":"SUMIF(Infrastructure!$N$11:$N$1814,Settings!$BF35,Infrastructure!R$11:R$1850)","v":0},{"$f":"SUMIF(Infrastructure!$N$11:$N$1814,Settings!$BF35,Infrastructure!S$11:S$1850)","v":0},{"$f":"SUMIF(Infrastructure!$N$11:$N$1814,Settings!$BF35,Infrastructure!T$11:T$1850)","v":0},{"$f":"SUMIF(Infrastructure!$N$11:$N$1814,Settings!$BF35,Infrastructure!U$11:U$1850)","v":0},{"$f":"SUMIF(Infrastructure!$N$11:$N$1814,Settings!$BF35,Infrastructure!V$11:V$1850)","v":0},{"$f":"SUMIF(Infrastructure!$N$11:$N$1814,Settings!$BF35,Infrastructure!W$11:W$1850)","v":0},{"$f":"SUMIF(Infrastructure!$N$11:$N$1814,Settings!$BF35,Infrastructure!X$11:X$1850)","v":0},{"$f":"SUMIF(Infrastructure!$N$11:$N$1814,Settings!$BF35,Infrastructure!Y$11:Y$1850)","v":0},{"$f":"SUMIF(Infrastructure!$N$11:$N$1814,Settings!$BF35,Infrastructure!Z$11:Z$1850)","v":0},{"$f":"SUMIF(Infrastructure!$N$11:$N$1814,Settings!$BF35,Infrastructure!AA$11:AA$1850)","v":0},{"$f":"SUMIF(Infrastructure!$N$11:$N$1814,Settings!$BF35,Infrastructure!AB$11:AB$1850)","v":0},{"$f":"SUMIF(Infrastructure!$N$11:$N$1814,Settings!$BF35,Infrastructure!AC$11:AC$1850)","v":0},{"$f":"SUMIF(Infrastructure!$N$11:$N$1814,Settings!$BF35,Infrastructure!AD$11:AD$1850)","v":0},{"$f":"SUMIF(Infrastructure!$N$11:$N$1814,Settings!$BF35,Infrastructure!AE$11:AE$1850)","v":0},{"$f":"SUMIF(Infrastructure!$N$11:$N$1814,Settings!$BF35,Infrastructure!AF$11:AF$1850)","v":0},{"$f":"SUMIF(Infrastructure!$N$11:$N$1814,Settings!$BF35,Infrastructure!AG$11:AG$1850)","v":0},{"$f":"SUMIF(Infrastructure!$N$11:$N$1814,Settings!$BF35,Infrastructure!AH$11:AH$1850)","v":0}]
[null,null,null,null,null,"Total Infrastructure",null,{"$f":"SUM(H44:H62)","v":0},{"$f":"SUM(I44:I62)","v":0},{"$f":"SUM(J44:J62)","v":0},0,0,0,0,0,0,0,0,0,0,0,0,0,0,0,0,0]
[]
[]
[null,null,null,null,null,"SCOA Item (Departmental infrastructure)",null,{"$f":"+H9","v":"Total Project Cost"},{"$f":"+I9","v":"2019/20"},"2020/21","2021/22",{"$f":"+L9","v":"2022/23"},null,null,"2023/24",null,null,"2024/25",null,null,"2025/26","2024/25","2025/26","2026/27","2027/28","2028/29","2029/30"]
[null,null,null,null,null,"Rand thousand",null,null,{"$f":"Hist_year3RestatedAudited","v":"Audited\noutcome"},{"$f":"Hist_year2RestatedAudited","v":"Audited\noutcome"},{"$f":"Hist_year1Audited","v":"Audited\noutcome"},{"$f":"Cur_YearBudgEst","v":"Budget\nestimate"},{"$f":"Cur_YearApprovedBudg","v":"Approved budget"},{"$f":"Cur_YearChangeFrRevBudg","v":"Changes from \nbudget estimate"},{"$f":"MTEF1BudgEst","v":"Budget\nestimate"},{"$f":"MTEF1RevBudgEst","v":"Revised\nbudget\nestimate"},{"$f":"MTEF1_ChangeFrBudgEst","v":"Changes from budget estimate"},{"$f":"MTEF2BudgEst","v":"Budget\nestimate"},{"$f":"MTEF2RevBudgEst","v":"Revised\nbudget\nestimate"},{"$f":"MTEF2_ChangeFrBudgEst","v":"Changes from budget estimate"},{"$f":"MTEF3PlanBudgetEst","v":"Planning\nbudget \nestimate"},"Long term planning"]
[null,null,null,null,null,"Residential buildings",null,{"$f":"SUMIF(Infrastructure!$M$11:$M$1814,Settings!$BK17,Infrastructure!O$11:O$1850)","v":0},{"$f":"SUMIF(Infrastructure!$M$11:$M$1814,Settings!$BK17,Infrastructure!P$11:P$1850)","v":0},{"$f":"SUMIF(Infrastructure!$M$11:$M$1814,Settings!$BK17,Infrastructure!Q$11:Q$1850)","v":0},{"$f":"SUMIF(Infrastructure!$M$11:$M$1814,Settings!$BK17,Infrastructure!R$11:R$1850)","v":0},{"$f":"SUMIF(Infrastructure!$M$11:$M$1814,Settings!$BK17,Infrastructure!S$11:S$1850)","v":0},{"$f":"SUMIF(Infrastructure!$M$11:$M$1814,Settings!$BK17,Infrastructure!T$11:T$1850)","v":0},{"$f":"SUMIF(Infrastructure!$M$11:$M$1814,Settings!$BK17,Infrastructure!U$11:U$1850)","v":0},{"$f":"SUMIF(Infrastructure!$M$11:$M$1814,Settings!$BK17,Infrastructure!V$11:V$1850)","v":0},{"$f":"SUMIF(Infrastructure!$M$11:$M$1814,Settings!$BK17,Infrastructure!W$11:W$1850)","v":0},{"$f":"SUMIF(Infrastructure!$M$11:$M$1814,Settings!$BK17,Infrastructure!X$11:X$1850)","v":0},{"$f":"SUMIF(Infrastructure!$M$11:$M$1814,Settings!$BK17,Infrastructure!Y$11:Y$1850)","v":0},{"$f":"SUMIF(Infrastructure!$M$11:$M$1814,Settings!$BK17,Infrastructure!Z$11:Z$1850)","v":0},{"$f":"SUMIF(Infrastructure!$M$11:$M$1814,Settings!$BK17,Infrastructure!AA$11:AA$1850)","v":0},{"$f":"SUMIF(Infrastructure!$M$11:$M$1814,Settings!$BK17,Infrastructure!AB$11:AB$1850)","v":0},{"$f":"SUMIF(Infrastructure!$M$11:$M$1814,Settings!$BK17,Infrastructure!AC$11:AC$1850)","v":0},{"$f":"SUMIF(Infrastructure!$M$11:$M$1814,Settings!$BK17,Infrastructure!AD$11:AD$1850)","v":0},{"$f":"SUMIF(Infrastructure!$M$11:$M$1814,Settings!$BK17,Infrastructure!AE$11:AE$1850)","v":0},{"$f":"SUMIF(Infrastructure!$M$11:$M$1814,Settings!$BK17,Infrastructure!AF$11:AF$1850)","v":0},{"$f":"SUMIF(Infrastructure!$M$11:$M$1814,Settings!$BK17,Infrastructure!AG$11:AG$1850)","v":0},{"$f":"SUMIF(Infrastructure!$M$11:$M$1814,Settings!$BK17,Infrastructure!AH$11:AH$1850)","v":0}]
[null,null,null,null,null,"Non-residential buildings",null,{"$f":"SUMIF(Infrastructure!$M$11:$M$1814,Settings!$BK18,Infrastructure!O$11:O$1850)","v":0},{"$f":"SUMIF(Infrastructure!$M$11:$M$1814,Settings!$BK18,Infrastructure!P$11:P$1850)","v":0},{"$f":"SUMIF(Infrastructure!$M$11:$M$1814,Settings!$BK18,Infrastructure!Q$11:Q$1850)","v":0},{"$f":"SUMIF(Infrastructure!$M$11:$M$1814,Settings!$BK18,Infrastructure!R$11:R$1850)","v":0},{"$f":"SUMIF(Infrastructure!$M$11:$M$1814,Settings!$BK18,Infrastructure!S$11:S$1850)","v":0},{"$f":"SUMIF(Infrastructure!$M$11:$M$1814,Settings!$BK18,Infrastructure!T$11:T$1850)","v":0},{"$f":"SUMIF(Infrastructure!$M$11:$M$1814,Settings!$BK18,Infrastructure!U$11:U$1850)","v":0},{"$f":"SUMIF(Infrastructure!$M$11:$M$1814,Settings!$BK18,Infrastructure!V$11:V$1850)","v":0},{"$f":"SUMIF(Infrastructure!$M$11:$M$1814,Settings!$BK18,Infrastructure!W$11:W$1850)","v":0},{"$f":"SUMIF(Infrastructure!$M$11:$M$1814,Settings!$BK18,Infrastructure!X$11:X$1850)","v":0},{"$f":"SUMIF(Infrastructure!$M$11:$M$1814,Settings!$BK18,Infrastructure!Y$11:Y$1850)","v":0},{"$f":"SUMIF(Infrastructure!$M$11:$M$1814,Settings!$BK18,Infrastructure!Z$11:Z$1850)","v":0},{"$f":"SUMIF(Infrastructure!$M$11:$M$1814,Settings!$BK18,Infrastructure!AA$11:AA$1850)","v":0},{"$f":"SUMIF(Infrastructure!$M$11:$M$1814,Settings!$BK18,Infrastructure!AB$11:AB$1850)","v":0},{"$f":"SUMIF(Infrastructure!$M$11:$M$1814,Settings!$BK18,Infrastructure!AC$11:AC$1850)","v":0},{"$f":"SUMIF(Infrastructure!$M$11:$M$1814,Settings!$BK18,Infrastructure!AD$11:AD$1850)","v":0},{"$f":"SUMIF(Infrastructure!$M$11:$M$1814,Settings!$BK18,Infrastructure!AE$11:AE$1850)","v":0},{"$f":"SUMIF(Infrastructure!$M$11:$M$1814,Settings!$BK18,Infrastructure!AF$11:AF$1850)","v":0},{"$f":"SUMIF(Infrastructure!$M$11:$M$1814,Settings!$BK18,Infrastructure!AG$11:AG$1850)","v":0},{"$f":"SUMIF(Infrastructure!$M$11:$M$1814,Settings!$BK18,Infrastructure!AH$11:AH$1850)","v":0}]
[null,null,null,null,null,"Investment property",null,{"$f":"SUMIF(Infrastructure!$M$11:$M$1814,Settings!$BK19,Infrastructure!O$11:O$1850)","v":0},{"$f":"SUMIF(Infrastructure!$M$11:$M$1814,Settings!$BK19,Infrastructure!P$11:P$1850)","v":0},{"$f":"SUMIF(Infrastructure!$M$11:$M$1814,Settings!$BK19,Infrastructure!Q$11:Q$1850)","v":0},{"$f":"SUMIF(Infrastructure!$M$11:$M$1814,Settings!$BK19,Infrastructure!R$11:R$1850)","v":0},{"$f":"SUMIF(Infrastructure!$M$11:$M$1814,Settings!$BK19,Infrastructure!S$11:S$1850)","v":0},{"$f":"SUMIF(Infrastructure!$M$11:$M$1814,Settings!$BK19,Infrastructure!T$11:T$1850)","v":0},{"$f":"SUMIF(Infrastructure!$M$11:$M$1814,Settings!$BK19,Infrastructure!U$11:U$1850)","v":0},{"$f":"SUMIF(Infrastructure!$M$11:$M$1814,Settings!$BK19,Infrastructure!V$11:V$1850)","v":0},{"$f":"SUMIF(Infrastructure!$M$11:$M$1814,Settings!$BK19,Infrastructure!W$11:W$1850)","v":0},{"$f":"SUMIF(Infrastructure!$M$11:$M$1814,Settings!$BK19,Infrastructure!X$11:X$1850)","v":0},{"$f":"SUMIF(Infrastructure!$M$11:$M$1814,Settings!$BK19,Infrastructure!Y$11:Y$1850)","v":0},{"$f":"SUMIF(Infrastructure!$M$11:$M$1814,Settings!$BK19,Infrastructure!Z$11:Z$1850)","v":0},{"$f":"SUMIF(Infrastructure!$M$11:$M$1814,Settings!$BK19,Infrastructure!AA$11:AA$1850)","v":0},{"$f":"SUMIF(Infrastructure!$M$11:$M$1814,Settings!$BK19,Infrastructure!AB$11:AB$1850)","v":0},{"$f":"SUMIF(Infrastructure!$M$11:$M$1814,Settings!$BK19,Infrastructure!AC$11:AC$1850)","v":0},{"$f":"SUMIF(Infrastructure!$M$11:$M$1814,Settings!$BK19,Infrastructure!AD$11:AD$1850)","v":0},{"$f":"SUMIF(Infrastructure!$M$11:$M$1814,Settings!$BK19,Infrastructure!AE$11:AE$1850)","v":0},{"$f":"SUMIF(Infrastructure!$M$11:$M$1814,Settings!$BK19,Infrastructure!AF$11:AF$1850)","v":0},{"$f":"SUMIF(Infrastructure!$M$11:$M$1814,Settings!$BK19,Infrastructure!AG$11:AG$1850)","v":0},{"$f":"SUMIF(Infrastructure!$M$11:$M$1814,Settings!$BK19,Infrastructure!AH$11:AH$1850)","v":0}]
[null,null,null,null,null,"Heritage assets",null,{"$f":"SUMIF(Infrastructure!$M$11:$M$1814,Settings!$BK20,Infrastructure!O$11:O$1850)","v":0},{"$f":"SUMIF(Infrastructure!$M$11:$M$1814,Settings!$BK20,Infrastructure!P$11:P$1850)","v":0},{"$f":"SUMIF(Infrastructure!$M$11:$M$1814,Settings!$BK20,Infrastructure!Q$11:Q$1850)","v":0},{"$f":"SUMIF(Infrastructure!$M$11:$M$1814,Settings!$BK20,Infrastructure!R$11:R$1850)","v":0},{"$f":"SUMIF(Infrastructure!$M$11:$M$1814,Settings!$BK20,Infrastructure!S$11:S$1850)","v":0},{"$f":"SUMIF(Infrastructure!$M$11:$M$1814,Settings!$BK20,Infrastructure!T$11:T$1850)","v":0},{"$f":"SUMIF(Infrastructure!$M$11:$M$1814,Settings!$BK20,Infrastructure!U$11:U$1850)","v":0},{"$f":"SUMIF(Infrastructure!$M$11:$M$1814,Settings!$BK20,Infrastructure!V$11:V$1850)","v":0},{"$f":"SUMIF(Infrastructure!$M$11:$M$1814,Settings!$BK20,Infrastructure!W$11:W$1850)","v":0},{"$f":"SUMIF(Infrastructure!$M$11:$M$1814,Settings!$BK20,Infrastructure!X$11:X$1850)","v":0},{"$f":"SUMIF(Infrastructure!$M$11:$M$1814,Settings!$BK20,Infrastructure!Y$11:Y$1850)","v":0},{"$f":"SUMIF(Infrastructure!$M$11:$M$1814,Settings!$BK20,Infrastructure!Z$11:Z$1850)","v":0},{"$f":"SUMIF(Infrastructure!$M$11:$M$1814,Settings!$BK20,Infrastructure!AA$11:AA$1850)","v":0},{"$f":"SUMIF(Infrastructure!$M$11:$M$1814,Settings!$BK20,Infrastructure!AB$11:AB$1850)","v":0},{"$f":"SUMIF(Infrastructure!$M$11:$M$1814,Settings!$BK20,Infrastructure!AC$11:AC$1850)","v":0},{"$f":"SUMIF(Infrastructure!$M$11:$M$1814,Settings!$BK20,Infrastructure!AD$11:AD$1850)","v":0},{"$f":"SUMIF(Infrastructure!$M$11:$M$1814,Settings!$BK20,Infrastructure!AE$11:AE$1850)","v":0},{"$f":"SUMIF(Infrastructure!$M$11:$M$1814,Settings!$BK20,Infrastructure!AF$11:AF$1850)","v":0},{"$f":"SUMIF(Infrastructure!$M$11:$M$1814,Settings!$BK20,Infrastructure!AG$11:AG$1850)","v":0},{"$f":"SUMIF(Infrastructure!$M$11:$M$1814,Settings!$BK20,Infrastructure!AH$11:AH$1850)","v":0}]
[null,null,null,null,null,"Other fixed structures",null,{"$f":"SUMIF(Infrastructure!$M$11:$M$1814,Settings!$BK21,Infrastructure!O$11:O$1850)","v":0},{"$f":"SUMIF(Infrastructure!$M$11:$M$1814,Settings!$BK21,Infrastructure!P$11:P$1850)","v":0},{"$f":"SUMIF(Infrastructure!$M$11:$M$1814,Settings!$BK21,Infrastructure!Q$11:Q$1850)","v":0},{"$f":"SUMIF(Infrastructure!$M$11:$M$1814,Settings!$BK21,Infrastructure!R$11:R$1850)","v":0},{"$f":"SUMIF(Infrastructure!$M$11:$M$1814,Settings!$BK21,Infrastructure!S$11:S$1850)","v":0},{"$f":"SUMIF(Infrastructure!$M$11:$M$1814,Settings!$BK21,Infrastructure!T$11:T$1850)","v":0},{"$f":"SUMIF(Infrastructure!$M$11:$M$1814,Settings!$BK21,Infrastructure!U$11:U$1850)","v":0},{"$f":"SUMIF(Infrastructure!$M$11:$M$1814,Settings!$BK21,Infrastructure!V$11:V$1850)","v":0},{"$f":"SUMIF(Infrastructure!$M$11:$M$1814,Settings!$BK21,Infrastructure!W$11:W$1850)","v":0},{"$f":"SUMIF(Infrastructure!$M$11:$M$1814,Settings!$BK21,Infrastructure!X$11:X$1850)","v":0},{"$f":"SUMIF(Infrastructure!$M$11:$M$1814,Settings!$BK21,Infrastructure!Y$11:Y$1850)","v":0},{"$f":"SUMIF(Infrastructure!$M$11:$M$1814,Settings!$BK21,Infrastructure!Z$11:Z$1850)","v":0},{"$f":"SUMIF(Infrastructure!$M$11:$M$1814,Settings!$BK21,Infrastructure!AA$11:AA$1850)","v":0},{"$f":"SUMIF(Infrastructure!$M$11:$M$1814,Settings!$BK21,Infrastructure!AB$11:AB$1850)","v":0},{"$f":"SUMIF(Infrastructure!$M$11:$M$1814,Settings!$BK21,Infrastructure!AC$11:AC$1850)","v":0},{"$f":"SUMIF(Infrastructure!$M$11:$M$1814,Settings!$BK21,Infrastructure!AD$11:AD$1850)","v":0},{"$f":"SUMIF(Infrastructure!$M$11:$M$1814,Settings!$BK21,Infrastructure!AE$11:AE$1850)","v":0},{"$f":"SUMIF(Infrastructure!$M$11:$M$1814,Settings!$BK21,Infrastructure!AF$11:AF$1850)","v":0},{"$f":"SUMIF(Infrastructure!$M$11:$M$1814,Settings!$BK21,Infrastructure!AG$11:AG$1850)","v":0},{"$f":"SUMIF(Infrastructure!$M$11:$M$1814,Settings!$BK21,Infrastructure!AH$11:AH$1850)","v":0}]
[null,null,null,null,null,"Total Infrastructure",null,{"$f":"SUM(H68:H72)","v":0},{"$f":"SUM(I68:I72)","v":0},0,0,0,0,0,0,0,0,0,0,0,0,0,0,0,0,0,0]

{"sheet":"Checks","index":34,"n_rows":202,"n_cols":20,"rows_kept":202,"cut":false,"hidden":false,"merged":[[57,15,57,16],[57,17,57,18],[7,5,8,5],[57,7,57,8],[57,9,57,10],[57,11,57,12],[57,13,57,14]]}
[]
[]
[]
[]
[]
[null,null,null,null,null,"PE No",{"$f":"Settings!O2","v":"PE196"}]
[null,null,null,null,null,"Entity name",{"$f":"Settings!$D$2","v":"Transnet Limited"}]
[null,null,null,null,null,"Checks",null," Audited outcome ",null,null,"Revised estimate"," Medium-term estimate"]
[null,null,null,null,null,null,null,{"$f":"MyYearM3","v":"2019/20"},{"$f":"MyYearM2","v":"2020/21"},{"$f":"MyYearM1","v":"2021/22"},{"$f":"MyYear0","v":"2022/23"},{"$f":"MyYearP1","v":"2023/24"},{"$f":"MyYearP2","v":"2024/25"},{"$f":"MyYearP3","v":"2025/26"}]
[null,null,null,null,null,"ENE Summary",null,"There should be no balances here!!"]
[null,null,null,null,null,"Objectives/Activities",null,{"$f":"ROUND(ENESummary!G26,0)","v":0},{"$f":"ROUND(ENESummary!H26,0)","v":0},{"$f":"ROUND(ENESummary!I26,0)","v":0},{"$f":"ROUND(ENESummary!J26,0)","v":0},{"$f":"ROUND(ENESummary!M26,0)","v":0},{"$f":"ROUND(ENESummary!N26,0)","v":0},{"$f":"ROUND(ENESummary!O26,0)","v":0}]
[]
[null,null,null,null,null,"Objectives/Activities"]
[null,null,null,null,null,{"$f":"Admin!F37","v":"Administration"},null,{"$f":"Admin!I142","v":0},{"$f":"Admin!J142","v":0},{"$f":"Admin!K142","v":0},{"$f":"Admin!M142","v":0},{"$f":"Admin!P142","v":0},{"$f":"Admin!S142","v":0},{"$f":"Admin!U142","v":0}]
[null,null,null,null,null,{"$f":"'2'!F37","v":0},null,{"$f":"'2'!I142","v":0},{"$f":"'2'!J142","v":0},{"$f":"'2'!K142","v":0},{"$f":"'2'!M142","v":0},{"$f":"'2'!P142","v":0},{"$f":"'2'!S142","v":0},{"$f":"'2'!U142","v":0}]
[null,null,null,null,null,{"$f":"'3'!F37","v":0},null,{"$f":"'3'!I142","v":0},{"$f":"'3'!J142","v":0},{"$f":"'3'!K142","v":0},{"$f":"'3'!M142","v":0},{"$f":"'3'!P142","v":0},{"$f":"'3'!S142","v":0},{"$f":"'3'!U142","v":0}]
[null,null,null,null,null,{"$f":"'4'!F37","v":0},null,{"$f":"'4'!I142","v":0},{"$f":"'4'!J142","v":0},{"$f":"'4'!K142","v":0},{"$f":"'4'!M142","v":0},{"$f":"'4'!P142","v":0},{"$f":"'4'!S142","v":0},{"$f":"'4'!U142","v":0}]
[null,null,null,null,null,{"$f":"'5'!F37","v":0},null,{"$f":"'5'!I142","v":0},{"$f":"'5'!J142","v":0},{"$f":"'5'!K142","v":0},{"$f":"'5'!M142","v":0},{"$f":"'5'!P142","v":0},{"$f":"'5'!S142","v":0},{"$f":"'5'!U142","v":0}]
[null,null,null,null,null,{"$f":"'6'!F37","v":0},null,{"$f":"'6'!I142","v":0},{"$f":"'6'!J142","v":0},{"$f":"'6'!K142","v":0},{"$f":"'6'!M142","v":0},{"$f":"'6'!P142","v":0},{"$f":"'6'!S142","v":0},{"$f":"'6'!U142","v":0}]
[null,null,null,null,null,{"$f":"'7'!F37","v":0},null,{"$f":"'7'!I142","v":0},{"$f":"'7'!J142","v":0},{"$f":"'7'!K142","v":0},{"$f":"'7'!M142","v":0},{"$f":"'7'!P142","v":0},{"$f":"'7'!S142","v":0},{"$f":"'7'!U142","v":0}]
[null,null,null,null,null,{"$f":"'8'!F37","v":0},null,{"$f":"'8'!I142","v":0},{"$f":"'8'!J142","v":0},{"$f":"'8'!K142","v":0},{"$f":"'8'!M142","v":0},{"$f":"'8'!P142","v":0},{"$f":"'8'!S142","v":0},{"$f":"'8'!U142","v":0}]
[null,null,null,null,null,{"$f":"'9'!F37","v":0},null,{"$f":"'9'!I142","v":0},{"$f":"'9'!J142","v":0},{"$f":"'9'!K142","v":0},{"$f":"'9'!M142","v":0},{"$f":"'9'!P142","v":0},{"$f":"'9'!S142","v":0},{"$f":"'9'!U142","v":0}]
[null,null,null,null,null,{"$f":"'10'!F37","v":0},null,{"$f":"'10'!I142","v":0},{"$f":"'10'!J142","v":0},{"$f":"'10'!K142","v":0},{"$f":"'10'!M142","v":0},{"$f":"'10'!P142","v":0},{"$f":"'10'!S142","v":0},{"$f":"'10'!U142","v":0}]
[null,null,null,null,null,{"$f":"'11'!F37","v":0},null,{"$f":"'11'!I142","v":0},{"$f":"'11'!J142","v":0},{"$f":"'11'!K142","v":0},{"$f":"'11'!M142","v":0},{"$f":"'11'!P142","v":0},{"$f":"'11'!S142","v":0},{"$f":"'11'!U142","v":0}]
[null,null,null,null,null,{"$f":"'12'!F37","v":0},null,{"$f":"'12'!I142","v":0},{"$f":"'12'!J142","v":0},{"$f":"'12'!K142","v":0},{"$f":"'12'!M142","v":0},{"$f":"'12'!P142","v":0},{"$f":"'12'!S142","v":0},{"$f":"'12'!U142","v":0}]
[null,null,null,null,null,{"$f":"'13'!F37","v":0},null,{"$f":"'13'!I142","v":0},{"$f":"'13'!J142","v":0},{"$f":"'13'!K142","v":0},{"$f":"'13'!M142","v":0},{"$f":"'13'!P142","v":0},{"$f":"'13'!S142","v":0},{"$f":"'13'!U142","v":0}]
[null,null,null,null,null,{"$f":"'14'!F37","v":0},null,{"$f":"'14'!I142","v":0},{"$f":"'14'!J142","v":0},{"$f":"'14'!K142","v":0},{"$f":"'14'!M142","v":0},{"$f":"'14'!P142","v":0},{"$f":"'14'!S142","v":0},{"$f":"'14'!U142","v":0}]
[null,null,null,null,null,{"$f":"'15'!F37","v":0},null,{"$f":"'15'!I142","v":0},{"$f":"'15'!J142","v":0},{"$f":"'15'!K142","v":0},{"$f":"'15'!M142","v":0},{"$f":"'15'!P142","v":0},{"$f":"'15'!S142","v":0},{"$f":"'15'!U142","v":0}]
[null,null,null,null,null,"Expenditure summary",null,{"$f":"'Expend summary'!J142","v":0},{"$f":"'Expend summary'!L142","v":0},{"$f":"'Expend summary'!N142","v":0},{"$f":"'Expend summary'!P142","v":0},{"$f":"'Expend summary'!S142","v":0},{"$f":"'Expend summary'!V142","v":0},{"$f":"'Expend summary'!X142","v":0}]
[]
[null,null,null,null,null,"Audited AFS vs Economic classification"]
[null,null,null,null,null,"Revenue"]
[null,null,null,null,null,"Surplus/deficit as per the Audited Financial Statements",null,{"$f":"Revenue!J72","v":0},{"$f":"Revenue!L72","v":0},{"$f":"Revenue!N72","v":0}]
[]
[null,null,null,null,null,"Cash flow data"]
[null,null,null,null,null,"Net movement in cash and cash equivalents as per the Financial statements",null,{"$f":"CashFlow!J220","v":0},{"$f":"CashFlow!L220","v":0},{"$f":"CashFlow!N220","v":0}]
[]
[null,null,null,null,null,"Financial Position Data"]
[null,null,null,null,null,"Total assets as per the Financial statements",null,{"$f":"FinancialPosition!J99","v":0},{"$f":"FinancialPosition!L99","v":0},{"$f":"FinancialPosition!N99","v":0}]
[null,null,null,null,null,"Total assets less Total net assets and liabilities",null,{"$f":"FinancialPosition!J100","v":0},{"$f":"FinancialPosition!L100","v":0},{"$f":"FinancialPosition!N100","v":0},{"$f":"FinancialPosition!P100","v":0},{"$f":"FinancialPosition!R100","v":0},{"$f":"FinancialPosition!T100","v":0},{"$f":"FinancialPosition!U100","v":0}]
[]
[null,null,null,null,null,"Personnel"]
[null,null,null,null,null,"Compensation of employees",null,null,null,{"$f":"Personnel!L1502","v":0},{"$f":"Personnel!Q1502","v":0},{"$f":"Personnel!T1502","v":0},{"$f":"Personnel!W1502","v":0},{"$f":"Personnel!Z1502","v":0}]
[null,null,null,null,null,"Personnel Pub",null,null,null,{"$f":"PersonnelPub!J47","v":0},{"$f":"PersonnelPub!M47","v":0},{"$f":"PersonnelPub!P47","v":0},{"$f":"PersonnelPub!S47","v":0},{"$f":"PersonnelPub!V47","v":0}]
[null,null,null,null,null,"Related Sales"]
[null,null,null,null,null,"Related Sales",null,{"$f":"RelatedPartyRevenue!K363","v":0},{"$f":"RelatedPartyRevenue!M363","v":0},{"$f":"RelatedPartyRevenue!O363","v":0},{"$f":"RelatedPartyRevenue!Q363","v":0},{"$f":"RelatedPartyRevenue!R363","v":0},{"$f":"RelatedPartyRevenue!T363","v":0},{"$f":"RelatedPartyRevenue!V363","v":0}]
[]
[]
[null,null,null,null,null,"Checks for completeness",null,{"$f":"MyYearM3","v":"2019/20"},{"$f":"MyYearM2","v":"2020/21"},{"$f":"MyYearM1","v":"2021/22"},{"$f":"MyYear0","v":"2022/23"},{"$f":"MyYearP1","v":"2023/24"},{"$f":"MyYearP2","v":"2024/25"},{"$f":"MyYearP3","v":"2025/26"}]
[null,null,null,null,null,"Revenue",null,{"$f":"IF(Revenue!J65=0,\"Not Completed\",\"\")","v":"Not Completed"},{"$f":"IF(Revenue!L65=0,\"Not Completed\",\"\")","v":"Not Completed"},{"$f":"IF(Revenue!N65=0,\"Not Completed\",\"\")","v":"Not Completed"},{"$f":"IF(Revenue!P65=0,\"Not Completed\",\"\")","v":"Not Completed"},{"$f":"IF(Revenue!R65=0,\"Not Completed\",\"\")","v":"Not Completed"},{"$f":"IF(Revenue!T65=0,\"Not Completed\",\"\")","v":"Not Completed"},{"$f":"IF(Revenue!U65<Revenue!T65/2,\"Not Completed\",\"\")","v":""}]
[null,null,null,null,null,"Objectives/Activities",null,{"$f":"IF('Expend summary'!J140=0,\"Not Completed\",\"\")","v":"Not Completed"},{"$f":"IF('Expend summary'!L140=0,\"Not Completed\",\"\")","v":"Not Completed"},{"$f":"IF('Expend summary'!N140=0,\"Not Completed\",\"\")","v":"Not Completed"},{"$f":"IF('Expend summary'!P140=0,\"Not Completed\",\"\")","v":"Not Completed"},{"$f":"IF('Expend summary'!S140=0,\"Not Completed\",\"\")","v":"Not Completed"},{"$f":"IF('Expend summary'!V140=0,\"Not Completed\",\"\")","v":"Not Completed"},{"$f":"IF('Expend summary'!X140<'Expend summary'!V140/2,\"Not Completed\",\"\")","v":""}]
[null,null,null,null,null,"Cash flow data",null,{"$f":"IF(CashFlow!J215=0,\"Not Completed\",\"\")","v":"Not Completed"},{"$f":"IF(CashFlow!L215=0,\"Not Completed\",\"\")","v":"Not Completed"},{"$f":"IF(CashFlow!N215=0,\"Not Completed\",\"\")","v":"Not Completed"},{"$f":"IF(CashFlow!P215=0,\"Not Completed\",\"\")","v":"Not Completed"},{"$f":"IF(CashFlow!R215=0,\"Not Completed\",\"\")","v":"Not Completed"},{"$f":"IF(CashFlow!T215=0,\"Not Completed\",\"\")","v":"Not Completed"},{"$f":"IF(CashFlow!U12<CashFlow!T12/2,\"Not Completed\",\"\")","v":""}]
[null,null,null,null,null,"Financial Position Data",null,{"$f":"IF(FinancialPosition!J94=0,\"Not Completed\",\"\")","v":"Not Completed"},{"$f":"IF(FinancialPosition!L94=0,\"Not Completed\",\"\")","v":"Not Completed"},{"$f":"IF(FinancialPosition!N94=0,\"Not Completed\",\"\")","v":"Not Completed"},{"$f":"IF(FinancialPosition!P94=0,\"Not Completed\",\"\")","v":"Not Completed"},{"$f":"IF(FinancialPosition!R94=0,\"Not Completed\",\"\")","v":"Not Completed"},{"$f":"IF(FinancialPosition!T94=0,\"Not Completed\",\"\")","v":"Not Completed"},{"$f":"IF(FinancialPosition!U94<FinancialPosition!T94/2,\"Not Completed\",\"\")","v":""}]
[null,null,null,null,null,"Personnel",null,null,null,null,null,null,null,{"$f":"IF(Personnel!Z1500<Personnel!W1500/2,\"Not Completed\",\"\")","v":""}]
[null,null,null,null,null,"Related Sales",null,null,null,null,null,null,null,{"$f":"IF(RelatedPartyRevenue!V361<RelatedPartyRevenue!U361/2,\"Not Completed\",\"\")","v":""}]
[]
[null,null,null,null,null,"Comparison table"]
[null,null,null,null,null,null,null,{"$f":"MyYearM3","v":"2019/20"},null,{"$f":"MyYearM2","v":"2020/21"},null,{"$f":"MyYearM1","v":"2021/22"},null,{"$f":"MyYear0","v":"2022/23"},null,{"$f":"MyYearP1","v":"2023/24"},null,{"$f":"MyYearP2","v":"2024/25"},null,{"$f":"MyYearP3","v":"2025/26"}]
[null,null,null,null,null,null,null,"Budget","Audited\nOutcome","Budget","Audited\nOutcome","Budget","Audited\nOutcome","Budget\nestimate","Approved budget","Budget\nestimate","Revised\nBudget\nEstimate","Budget\nestimate","Revised\nBudget\nEstimate","Planning\nBudget \nEstimate"]
[null,null,null,null,null,"Revenue","Total",0,0,0,0,0,0,0,0,0,0,0,0]
[null,null,null,null,null,null,"Tax revenue",0,0,0,0,0,0,0,0,0,0,0,0]
[null,null,null,null,null,null,"Entity revenue",0,0,0,0,0,0,0,0,0,0,0,0]
[null,null,null,null,null,null,"Transfers received",0,0,0,0,0,0,0,0,0,0,0,0]
[null,null,null,null,null,null,"Tax benefit",0,0,0,0,0,0,0,0,0,0,0,0]
[null,null,null,null,null,null,"Outside shareholders interest",0,0,0,0,0,0,0,0,0,0,0,0]
[null,null,null,null,null,"Expend Summary","Total",0,0,0,0,0,0]
[null,null,null,null,null,null,"Current payments",0,0,0,0,0,0]
[null,null,null,null,null,null,"Transfers and subsidies",0,0,0,0,0,0]
[null,null,null,null,null,null,"Tax payment",0,0,0,0,0,0]
[null,null,null,null,null,null,"Outside shareholders Interest",0,0,0,0,0,0]
[null,null,null,null,null,"Cash Flow","Cash receipts from stakeholders",0,0,0,0,0,0,0,0,0,0,0,0]
[null,null,null,null,null,null,"Cash paid to stakeholders",0,0,0,0,0,0,0,0,0,0,0,0]
[null,null,null,null,null,null,"Cash flow from operating activities",0,0,0,0,0,0,0,0,0,0,0,0]
[null,null,null,null,null,null,"Cash flow from advancing activities (Financial Institutions only)",0,0,0,0,0,0,0,0,0,0,0,0]
[null,null,null,null,null,null,"Cash flow from investing activities",0,0,0,0,0,0,0,0,0,0,0,0]
[null,null,null,null,null,null,"Cash flow from financing activities",0,0,0,0,0,0,0,0,0,0,0,0]
[null,null,null,null,null,null,"Net increase / (decrease) in cash and cash equivalents",0,0,0,0,0,0,0,0,0,0,0,0]
[null,null,null,null,null,"CashFlowDiff","Cash receipts from stakeholders",0,null,0]
[null,null,null,null,null,null,"Cash paid to stakeholders",0,null,0]
[null,null,null,null,null,null,"Cash flow from operating activities",0,null,0]
[null,null,null,null,null,null,"Cash flow from advancing activities (Financial Institutions only)",0,null,0]
[null,null,null,null,null,null,"Acquisition of property, plant, equipment",0,null,0]
[null,null,null,null,null,null,"Deferred Income",0,null,0]
[null,null,null,null,null,"Financial Position","Total net assets and liabilities",0,0,0,0,0,0,0,0,0,0,0,0]
[null,null,null,null,null,null,"Current assets",0,0,0,0,0,0,0,0,0,0,0,0]
[null,null,null,null,null,null,"Non-current assets",0,0,0,0,0,0,0,0,0,0,0,0]
[null,null,null,null,null,null,"Current liabilities",0,0,0,0,0,0,0,0,0,0,0,0]
[null,null,null,null,null,null,"Non-current liabilities",0,0,0,0,0,0,0,0,0,0,0,0]
[null,null,null,null,null,null,"Net Assets",0,0,0,0,0,0,0,0,0,0,0,0]
[null,null,null,null,null,null,"Contingent liabilities",0,0,0,0,0,0,0,0,0,0,0,0]
[null,null,null,null,null,null,"Total assets",0,0,0,0,0,0,0,0,0,0,0,0]
[null,null,null,null,null,null,"Total liabilities",0,0,0,0,0,0,0,0,0,0,0,0]
[null,null,null,null,null,"Admin","Total",null,0,null,0,null,0,0,0,0,0,0,0]
[null,null,null,null,null,null,"Current payments",null,0,null,0,null,0,0,0,0,0,0,0]
[null,null,null,null,null,null,"Transfers and subsidies",null,0,null,0,null,0,0,0,0,0,0,0]
[null,null,null,null,null,null,"Tax payment",null,0,null,0,null,0,0,0,0,0,0,0]
[null,null,null,null,null,null,"Outside shareholders Interest",null,0,null,0,null,0,0,0,0,0,0,0]
[null,null,null,null,null,2,"Total",null,0,null,0,null,0,0,0,0,0,0,0]
[null,null,null,null,null,null,"Current payments",null,0,null,0,null,0,0,0,0,0,0,0]
[null,null,null,null,null,null,"Transfers and subsidies",null,0,null,0,null,0,0,0,0,0,0,0]
[null,null,null,null,null,null,"Tax payment",null,0,null,0,null,0,0,0,0,0,0,0]
[null,null,null,null,null,null,"Outside shareholders Interest",null,0,null,0,null,0,0,0,0,0,0,0]
[null,null,null,null,null,3,"Total",null,0,null,0,null,0,0,0,0,0,0,0]
[null,null,null,null,null,null,"Current payments",null,0,null,0,null,0,0,0,0,0,0,0]
[null,null,null,null,null,null,"Transfers and subsidies",null,0,null,0,null,0,0,0,0,0,0,0]
[null,null,null,null,null,null,"Tax payment",null,0,null,0,null,0,0,0,0,0,0,0]
[null,null,null,null,null,null,"Outside shareholders Interest",null,0,null,0,null,0,0,0,0,0,0,0]
[null,null,null,null,null,4,"Total",null,0,null,0,null,0,0,0,0,0,0,0]
[null,null,null,null,null,null,"Current payments",null,0,null,0,null,0,0,0,0,0,0,0]
[null,null,null,null,null,null,"Transfers and subsidies",null,0,null,0,null,0,0,0,0,0,0,0]
[null,null,null,null,null,null,"Tax payment",null,0,null,0,null,0,0,0,0,0,0,0]
[null,null,null,null,null,null,"Outside shareholders Interest",null,0,null,0,null,0,0,0,0,0,0,0]
[null,null,null,null,null,5,"Total",null,0,null,0,null,0,0,0,0,0,0,0]
[null,null,null,null,null,null,"Current payments",null,0,null,0,null,0,0,0,0,0,0,0]
[null,null,null,null,null,null,"Transfers and subsidies",null,0,null,0,null,0,0,0,0,0,0,0]
[null,null,null,null,null,null,"Tax payment",null,0,null,0,null,0,0,0,0,0,0,0]
[null,null,null,null,null,null,"Outside shareholders Interest",null,0,null,0,null,0,0,0,0,0,0,0]
[null,null,null,null,null,6,"Total",null,0,null,0,null,0,0,0,0,0,0,0]
[null,null,null,null,null,null,"Current payments",null,0,null,0,null,0,0,0,0,0,0,0]
[null,null,null,null,null,null,"Transfers and subsidies",null,0,null,0,null,0,0,0,0,0,0,0]
[null,null,null,null,null,null,"Tax payment",null,0,null,0,null,0,0,0,0,0,0,0]
[null,null,null,null,null,null,"Outside shareholders Interest",null,0,null,0,null,0,0,0,0,0,0,0]
[null,null,null,null,null,7,"Total",null,0,null,0,null,0,0,0,0,0,0,0]
[null,null,null,null,null,null,"Current payments",null,0,null,0,null,0,0,0,0,0,0,0]
[null,null,null,null,null,null,"Transfers and subsidies",null,0,null,0,null,0,0,0,0,0,0,0]
[null,null,null,null,null,null,"Tax payment",null,0,null,0,null,0,0,0,0,0,0,0]
[null,null,null,null,null,null,"Outside shareholders Interest",null,0,null,0,null,0,0,0,0,0,0,0]
[null,null,null,null,null,8,"Total",null,0,null,0,null,0,0,0,0,0,0,0]
[null,null,null,null,null,null,"Current payments",null,0,null,0,null,0,0,0,0,0,0,0]
[null,null,null,null,null,null,"Transfers and subsidies",null,0,null,0,null,0,0,0,0,0,0,0]
[null,null,null,null,null,null,"Tax payment",null,0,null,0,null,0,0,0,0,0,0,0]
[null,null,null,null,null,null,"Outside shareholders Interest",null,0,null,0,null,0,0,0,0,0,0,0]
[null,null,null,null,null,9,"Total",null,0,null,0,null,0,0,0,0,0,0,0]
[null,null,null,null,null,null,"Current payments",null,0,null,0,null,0,0,0,0,0,0,0]
[null,null,null,null,null,null,"Transfers and subsidies",null,0,null,0,null,0,0,0,0,0,0,0]
[null,null,null,null,null,null,"Tax payment",null,0,null,0,null,0,0,0,0,0,0,0]
[null,null,null,null,null,null,"Outside shareholders Interest",null,0,null,0,null,0,0,0,0,0,0,0]
[null,null,null,null,null,10,"Total",null,0,null,0,null,0,0,0,0,0,0,0]
[null,null,null,null,null,null,"Current payments",null,0,null,0,null,0,0,0,0,0,0,0]
[null,null,null,null,null,null,"Transfers and subsidies",null,0,null,0,null,0,0,0,0,0,0,0]
[null,null,null,null,null,null,"Tax payment",null,0,null,0,null,0,0,0,0,0,0,0]
[null,null,null,null,null,null,"Outside shareholders Interest",null,0,null,0,null,0,0,0,0,0,0,0]
[null,null,null,null,null,11,"Total",null,0,null,0,null,0,0,0,0,0,0,0]
[null,null,null,null,null,null,"Current payments",null,0,null,0,null,0,0,0,0,0,0,0]
[null,null,null,null,null,null,"Transfers and subsidies",null,0,null,0,null,0,0,0,0,0,0,0]
[null,null,null,null,null,null,"Tax payment",null,0,null,0,null,0,0,0,0,0,0,0]
[null,null,null,null,null,null,"Outside shareholders Interest",null,0,null,0,null,0,0,0,0,0,0,0]
[null,null,null,null,null,12,"Total",null,0,null,0,null,0,0,0,0,0,0,0]
[null,null,null,null,null,null,"Current payments",null,0,null,0,null,0,0,0,0,0,0,0]
[null,null,null,null,null,null,"Transfers and subsidies",null,0,null,0,null,0,0,0,0,0,0,0]
[null,null,null,null,null,null,"Tax payment",null,0,null,0,null,0,0,0,0,0,0,0]
[null,null,null,null,null,null,"Outside shareholders Interest",null,0,null,0,null,0,0,0,0,0,0,0]
[null,null,null,null,null,13,"Total",null,0,null,0,null,0,0,0,0,0,0,0]
[null,null,null,null,null,null,"Current payments",null,0,null,0,null,0,0,0,0,0,0,0]
[null,null,null,null,null,null,"Transfers and subsidies",null,0,null,0,null,0,0,0,0,0,0,0]
[null,null,null,null,null,null,"Tax payment",null,0,null,0,null,0,0,0,0,0,0,0]
[null,null,null,null,null,null,"Outside shareholders Interest",null,0,null,0,null,0,0,0,0,0,0,0]
[null,null,null,null,null,14,"Total",null,0,null,0,null,0,0,0,0,0,0,0]
[null,null,null,null,null,null,"Current payments",null,0,null,0,null,0,0,0,0,0,0,0]
[null,null,null,null,null,null,"Transfers and subsidies",null,0,null,0,null,0,0,0,0,0,0,0]
[null,null,null,null,null,null,"Tax payment",null,0,null,0,null,0,0,0,0,0,0,0]
[null,null,null,null,null,null,"Outside shareholders Interest",null,0,null,0,null,0,0,0,0,0,0,0]
[null,null,null,null,null,15,"Total",null,0,null,0,null,0,0,0,0,0,0,0]
[null,null,null,null,null,null,"Current payments",null,0,null,0,null,0,0,0,0,0,0,0]
[null,null,null,null,null,null,"Transfers and subsidies",null,0,null,0,null,0,0,0,0,0,0,0]
[null,null,null,null,null,null,"Tax payment",null,0,null,0,null,0,0,0,0,0,0,0]
[null,null,null,null,null,null,"Outside shareholders Interest",null,0,null,0,null,0,0,0,0,0,0,0]
[null,null,null,null,null,"Related Party  Revenue","Total",0,0,0,0,0,0,0,0,0,0,0,0]
[null,null,null,null,null,"Personnel","Total",null,null,null,null,null,0,null,0,null,0,null,0]
[null,null,null,null,null,"Infrastructure","Total",null,0,null,0,null,0,0,0,0,0,0,0]
[null,null,null,null,null,null,"Project 1",null,0,null,0,null,0,0,0,0,0,0,0]
[null,null,null,null,null,null,"Project 2",null,0,null,0,null,0,0,0,0,0,0,0]
[null,null,null,null,null,null,"Project 3",null,0,null,0,null,0,0,0,0,0,0,0]
[null,null,null,null,null,"ENE Summary","ENE Summary_Total revenue",{"$f":"ENESummary!G43-Revenue!I65","v":0},{"$f":"ENESummary!H43-Revenue!J65","v":0},{"$f":"ENESummary!I43-Revenue!K65","v":0},{"$f":"ENESummary!J43-Revenue!L65","v":0},{"$f":"ENESummary!K43-Revenue!M65","v":0},{"$f":"ENESummary!L43-Revenue!N65","v":0},{"$f":"ENESummary!M43-Revenue!O65","v":0},{"$f":"ENESummary!N43-Revenue!P65","v":0},null,{"$f":"ENESummary!R43-Revenue!R65","v":0},null,{"$f":"ENESummary!S43-Revenue!T65","v":0}]
[null,null,null,null,null,null,"ENE Summary_Total expenses",{"$f":"ENESummary!G51-Revenue!I69","v":0},{"$f":"ENESummary!H51-Revenue!J69","v":0},{"$f":"ENESummary!I51-Revenue!K69","v":0},{"$f":"ENESummary!J51-Revenue!L69","v":0},{"$f":"ENESummary!K51-Revenue!M69","v":0},{"$f":"ENESummary!L51-Revenue!N69","v":0},{"$f":"ENESummary!M51-Revenue!O69","v":0},{"$f":"ENESummary!N51-Revenue!P69","v":0},null,{"$f":"ENESummary!R51-Revenue!R69","v":0},null,{"$f":"ENESummary!S51-Revenue!T69","v":0}]
[null,null,null,null,null,null,"ENE Summary_Surplus/(deficit",{"$f":"ENESummary!G52-Revenue!I70","v":0},{"$f":"ENESummary!H52-Revenue!J70","v":0},{"$f":"ENESummary!I52-Revenue!K70","v":0},{"$f":"ENESummary!J52-Revenue!L70","v":0},{"$f":"ENESummary!K52-Revenue!M70","v":0},{"$f":"ENESummary!L52-Revenue!N70","v":0},{"$f":"ENESummary!M52-Revenue!O70","v":0},{"$f":"ENESummary!N52-Revenue!P70","v":0},null,{"$f":"ENESummary!R52-Revenue!R70","v":0},null,{"$f":"ENESummary!S52-Revenue!T70","v":0}]
[null,null,null,null,null,null,"ENE Summary_Cash flow from operating activities",{"$f":"ENESummary!G58-CashFlow!I11","v":0},{"$f":"ENESummary!H58-CashFlow!J11","v":0},{"$f":"ENESummary!I58-CashFlow!K11","v":0},{"$f":"ENESummary!J58-CashFlow!L11","v":0},{"$f":"ENESummary!K58-CashFlow!M11","v":0},{"$f":"ENESummary!L58-CashFlow!N11","v":0},{"$f":"ENESummary!M58-CashFlow!O11","v":0},{"$f":"ENESummary!N58-CashFlow!P11","v":0},null,{"$f":"ENESummary!R58-CashFlow!R11","v":0},null,{"$f":"ENESummary!S58-CashFlow!T11","v":0}]
[null,null,null,null,null,null,"ENE Summary_Total receipts",{"$f":"ENESummary!G72-CashFlow!I12","v":0},{"$f":"ENESummary!H72-CashFlow!J12","v":0},{"$f":"ENESummary!I72-CashFlow!K12","v":0},{"$f":"ENESummary!J72-CashFlow!L12","v":0},{"$f":"ENESummary!K72-CashFlow!M12","v":0},{"$f":"ENESummary!L72-CashFlow!N12","v":0},{"$f":"ENESummary!M72-CashFlow!O12","v":0},{"$f":"ENESummary!N72-CashFlow!P12","v":0},null,{"$f":"ENESummary!R72-CashFlow!R12","v":0},null,{"$f":"ENESummary!S72-CashFlow!T12","v":0}]
[null,null,null,null,null,null,"ENE Summary_Total payment",{"$f":"ENESummary!G80-CashFlow!I58","v":0},{"$f":"ENESummary!H80-CashFlow!J58","v":0},{"$f":"ENESummary!I80-CashFlow!K58","v":0},{"$f":"ENESummary!J80-CashFlow!L58","v":0},{"$f":"ENESummary!K80-CashFlow!M58","v":0},{"$f":"ENESummary!L80-CashFlow!N58","v":0},{"$f":"ENESummary!M80-CashFlow!O58","v":0},{"$f":"ENESummary!N80-CashFlow!P58","v":0},null,{"$f":"ENESummary!R80-CashFlow!R58","v":0},null,{"$f":"ENESummary!S80-CashFlow!T58","v":0}]
[null,null,null,null,null,null,"ENE Summary_Cash flow from advancing activities (Financial Institutions only)",{"$f":"ENESummary!G81-CashFlow!I157","v":0},{"$f":"ENESummary!H81-CashFlow!J157","v":0},{"$f":"ENESummary!I81-CashFlow!K157","v":0},{"$f":"ENESummary!J81-CashFlow!L157","v":0},{"$f":"ENESummary!K81-CashFlow!M157","v":0},{"$f":"ENESummary!L81-CashFlow!N157","v":0},{"$f":"ENESummary!M81-CashFlow!O157","v":0},{"$f":"ENESummary!N81-CashFlow!P157","v":0},null,{"$f":"ENESummary!R81-CashFlow!R157","v":0},null,{"$f":"ENESummary!S81-CashFlow!T157","v":0}]
[null,null,null,null,null,null,"ENE Summary_Investing activities",{"$f":"ENESummary!G84-CashFlow!I168","v":0},{"$f":"ENESummary!H84-CashFlow!J168","v":0},{"$f":"ENESummary!I84-CashFlow!K168","v":0},{"$f":"ENESummary!J84-CashFlow!L168","v":0},{"$f":"ENESummary!K84-CashFlow!M168","v":0},{"$f":"ENESummary!L84-CashFlow!N168","v":0},{"$f":"ENESummary!M84-CashFlow!O168","v":0},{"$f":"ENESummary!N84-CashFlow!P168","v":0},null,{"$f":"ENESummary!R84-CashFlow!R168","v":0},null,{"$f":"ENESummary!S84-CashFlow!T168","v":0}]
[null,null,null,null,null,null,"ENE Summary_Cash flow from financing activities",{"$f":"ENESummary!G90-CashFlow!I195","v":0},{"$f":"ENESummary!H90-CashFlow!J195","v":0},{"$f":"ENESummary!I90-CashFlow!K195","v":0},{"$f":"ENESummary!J90-CashFlow!L195","v":0},{"$f":"ENESummary!K90-CashFlow!M195","v":0},{"$f":"ENESummary!L90-CashFlow!N195","v":0},{"$f":"ENESummary!M90-CashFlow!O195","v":0},{"$f":"ENESummary!N90-CashFlow!P195","v":0},null,{"$f":"ENESummary!R90-CashFlow!R195","v":0},null,{"$f":"ENESummary!S90-CashFlow!T195","v":0}]
[null,null,null,null,null,null,"ENE Summary_Net increase / (decrease) in cash and cash equivalents",{"$f":"ENESummary!G95-CashFlow!I215","v":0},{"$f":"ENESummary!H95-CashFlow!J215","v":0},{"$f":"ENESummary!I95-CashFlow!K215","v":0},{"$f":"ENESummary!J95-CashFlow!L215","v":0},{"$f":"ENESummary!K95-CashFlow!M215","v":0},{"$f":"ENESummary!L95-CashFlow!N215","v":0},{"$f":"ENESummary!M95-CashFlow!O215","v":0},{"$f":"ENESummary!N95-CashFlow!P215","v":0},null,{"$f":"ENESummary!R95-CashFlow!R215","v":0},null,{"$f":"ENESummary!S95-CashFlow!T215","v":0}]
[null,null,null,null,null,null,"ENE Summary_Total assets",{"$f":"ENESummary!G114-FinancialPosition!I44","v":0},{"$f":"ENESummary!H114-FinancialPosition!J44","v":0},{"$f":"ENESummary!I114-FinancialPosition!K44","v":0},{"$f":"ENESummary!J114-FinancialPosition!L44","v":0},{"$f":"ENESummary!K114-FinancialPosition!M44","v":0},{"$f":"ENESummary!L114-FinancialPosition!N44","v":0},{"$f":"ENESummary!M114-FinancialPosition!O44","v":0},{"$f":"ENESummary!N114-FinancialPosition!P44","v":0},null,{"$f":"ENESummary!R114-FinancialPosition!R44","v":0},null,{"$f":"ENESummary!S114-FinancialPosition!T44","v":0}]
[null,null,null,null,null,null,"ENE Summary_Total equity and liabilities",{"$f":"ENESummary!G129-FinancialPosition!I94","v":0},{"$f":"ENESummary!H129-FinancialPosition!J94","v":0},{"$f":"ENESummary!I129-FinancialPosition!K94","v":0},{"$f":"ENESummary!J129-FinancialPosition!L94","v":0},{"$f":"ENESummary!K129-FinancialPosition!M94","v":0},{"$f":"ENESummary!L129-FinancialPosition!N94","v":0},{"$f":"ENESummary!M129-FinancialPosition!O94","v":0},{"$f":"ENESummary!N129-FinancialPosition!P94","v":0},null,{"$f":"ENESummary!R129-FinancialPosition!R94","v":0},null,{"$f":"ENESummary!S129-FinancialPosition!T94","v":0}]
[null,null,null,null,null,"Consolidation","Receipts",null,{"$f":"ROUND(Consolidation!H40-(CashFlow!J12+CashFlow!J163+CashFlow!J184+CashFlow!J196),0)","v":0},null,{"$f":"ROUND(Consolidation!I40-(CashFlow!L12+CashFlow!L163+CashFlow!L184+CashFlow!L196),0)","v":0},null,{"$f":"ROUND(Consolidation!J40-(CashFlow!N12+CashFlow!N163+CashFlow!N184+CashFlow!N196),0)","v":0},null,{"$f":"ROUND(Consolidation!K40-(CashFlow!P12+CashFlow!P163+CashFlow!P184+CashFlow!P196),0)","v":0},null,{"$f":"ROUND(Consolidation!L40-(CashFlow!R12+CashFlow!R163+CashFlow!R184+CashFlow!R196),0)","v":0},null,{"$f":"ROUND(Consolidation!M40-(CashFlow!T12+CashFlow!T163+CashFlow!T184+CashFlow!T196),0)","v":0}]
[null,null,null,null,null,null,"Expenses",null,{"$f":"ROUND(Consolidation!H129-CashFlow!J58+CashFlow!J158+CashFlow!J169+CashFlow!J182+CashFlow!J183,0)","v":0},null,{"$f":"ROUND(Consolidation!I129-CashFlow!L58+CashFlow!L158+CashFlow!L169+CashFlow!L182+CashFlow!L183,0)","v":0},null,{"$f":"ROUND(Consolidation!J129-CashFlow!N58+CashFlow!N158+CashFlow!N169+CashFlow!N182+CashFlow!N183,0)","v":0},null,{"$f":"ROUND(Consolidation!K129-CashFlow!P58+CashFlow!P158+CashFlow!P169+CashFlow!P182+CashFlow!P183,0)","v":0},null,{"$f":"ROUND(Consolidation!L129-CashFlow!R58+CashFlow!R158+CashFlow!R169+CashFlow!R182+CashFlow!R183,0)","v":0},null,{"$f":"ROUND(Consolidation!M129-CashFlow!T58+CashFlow!T158+CashFlow!T169+CashFlow!T182+CashFlow!T183,0)","v":0}]
[null,null,null,null,null,null,"Tax receipts",null,{"$f":"Consolidation!H12-(CashFlow!J13)","v":0},null,{"$f":"Consolidation!I12-(CashFlow!L13)","v":0},null,{"$f":"Consolidation!J12-(CashFlow!N13)","v":0},null,{"$f":"Consolidation!K12-(CashFlow!P13)","v":0},null,{"$f":"Consolidation!L12-(CashFlow!R13)","v":0},null,{"$f":"Consolidation!M12-(CashFlow!T13)","v":0}]
[null,null,null,null,null,null,"Sales of goods and services other than capital assets",null,{"$f":"Consolidation!H13-SUM((CashFlow!J14,CashFlow!J198))","v":0},null,{"$f":"Consolidation!I13-SUM((CashFlow!L14,CashFlow!L198))","v":0},null,{"$f":"Consolidation!J13-SUM((CashFlow!N14,CashFlow!N198))","v":0},null,{"$f":"Consolidation!K13-SUM((CashFlow!P14,CashFlow!P198))","v":0},null,{"$f":"Consolidation!L13-SUM((CashFlow!R14,CashFlow!R198))","v":0},null,{"$f":"Consolidation!M13-SUM((CashFlow!T14,CashFlow!T198))","v":0}]
[null,null,null,null,null,null,"Transfers received",null,{"$f":"Consolidation!H19-SUM(CashFlow!J30,CashFlow!J56,CashFlow!J197)","v":0},null,{"$f":"Consolidation!I19-SUM(CashFlow!L30,CashFlow!L56,CashFlow!L197)","v":0},null,{"$f":"Consolidation!J19-SUM(CashFlow!N30,CashFlow!N56,CashFlow!N197)","v":0},null,{"$f":"Consolidation!K19-SUM(CashFlow!P30,CashFlow!P56,CashFlow!P197)","v":0},null,{"$f":"Consolidation!L19-SUM(CashFlow!R30,CashFlow!R56,CashFlow!R197)","v":0},null,{"$f":"Consolidation!M19-SUM(CashFlow!T30,CashFlow!T56,CashFlow!T197)","v":0}]
[null,null,null,null,null,null,"Fines, penalties and forfeits",null,{"$f":"Consolidation!H29-(CashFlow!J48)","v":0},null,{"$f":"Consolidation!I29-(CashFlow!L48)","v":0},null,{"$f":"Consolidation!J29-(CashFlow!N48)","v":0},null,{"$f":"Consolidation!K29-(CashFlow!P48)","v":0},null,{"$f":"Consolidation!L29-(CashFlow!R48)","v":0},null,{"$f":"Consolidation!M29-(CashFlow!T48)","v":0}]
[null,null,null,null,null,null,"Interest, dividends and rent on land",null,{"$f":"Consolidation!H30-SUM(CashFlow!J49,CashFlow!J57)","v":0},null,{"$f":"Consolidation!I30-SUM(CashFlow!L49,CashFlow!L57)","v":0},null,{"$f":"Consolidation!J30-SUM(CashFlow!N49,CashFlow!N57)","v":0},null,{"$f":"Consolidation!K30-SUM(CashFlow!P49,CashFlow!P57)","v":0},null,{"$f":"Consolidation!L30-SUM(CashFlow!R49,CashFlow!R57)","v":0},null,{"$f":"Consolidation!M30-SUM(CashFlow!T49,CashFlow!T57)","v":0}]
[null,null,null,null,null,null,"Sales of capital assets",null,{"$f":"Consolidation!H34-(CashFlow!J184)","v":0},null,{"$f":"Consolidation!I34-(CashFlow!L184)","v":0},null,{"$f":"Consolidation!J34-(CashFlow!N184)","v":0},null,{"$f":"Consolidation!K34-(CashFlow!P184)","v":0},null,{"$f":"Consolidation!L34-(CashFlow!R184)","v":0},null,{"$f":"Consolidation!M34-(CashFlow!T184)","v":0}]
[null,null,null,null,null,null,"Financial transactions in assets and liabilities",null,{"$f":"Consolidation!H36-SUM(CashFlow!J53,CashFlow!J163)","v":0},null,{"$f":"Consolidation!I36-SUM(CashFlow!L53,CashFlow!L163)","v":0},null,{"$f":"Consolidation!J36-SUM(CashFlow!N53,CashFlow!N163)","v":0},null,{"$f":"Consolidation!K36-SUM(CashFlow!P53,CashFlow!P163)","v":0},null,{"$f":"Consolidation!L36-SUM(CashFlow!R53,CashFlow!R163)","v":0},null,{"$f":"Consolidation!M36-SUM(CashFlow!T53,CashFlow!T163)","v":0}]
[null,null,null,null,null,null,"Current payments",null,{"$f":"Consolidation!H42-(CashFlow!J59)","v":0},null,{"$f":"Consolidation!I42-(CashFlow!L59)","v":0},null,{"$f":"Consolidation!J42-(CashFlow!N59)","v":0},null,{"$f":"Consolidation!K42-(CashFlow!P59)","v":0},null,{"$f":"Consolidation!L42-(CashFlow!R59)","v":0},null,{"$f":"Consolidation!M42-(CashFlow!T59)","v":0}]
[null,null,null,null,null,null,"Transfers and subsidies",null,{"$f":"Consolidation!H97-SUM((CashFlow!J121,CashFlow!J155))","v":0},null,{"$f":"Consolidation!I97-SUM((CashFlow!L121,CashFlow!L155))","v":0},null,{"$f":"Consolidation!J97-SUM((CashFlow!N121,CashFlow!N155))","v":0},null,{"$f":"Consolidation!K97-SUM((CashFlow!P121,CashFlow!P155))","v":0},null,{"$f":"Consolidation!L97-SUM((CashFlow!R121,CashFlow!R155))","v":0},null,{"$f":"Consolidation!M97-SUM((CashFlow!T121,CashFlow!T155))","v":0}]
[null,null,null,null,null,null,"Payments for capital assets",null,{"$f":"Consolidation!H117+SUM(CashFlow!J169,CashFlow!J182:J183)","v":0},null,{"$f":"Consolidation!I117+SUM(CashFlow!L169,CashFlow!L182:L183)","v":0},null,{"$f":"Consolidation!J117+SUM(CashFlow!N169,CashFlow!N182:N183)","v":0},null,{"$f":"Consolidation!K117+SUM(CashFlow!P169,CashFlow!P182:P183)","v":0},null,{"$f":"Consolidation!L117+SUM(CashFlow!R169,CashFlow!R182:R183)","v":0},null,{"$f":"Consolidation!M117+SUM(CashFlow!T169,CashFlow!T182:T183)","v":0}]
[null,null,null,null,null,null,"Payments for financial assets",null,{"$f":"Consolidation!H128+(CashFlow!J158)-(CashFlow!J150)","v":0},null,{"$f":"Consolidation!I128+(CashFlow!L158)-(CashFlow!L150)","v":0},null,{"$f":"Consolidation!J128+(CashFlow!N158)-(CashFlow!N150)","v":0},null,{"$f":"Consolidation!K128+(CashFlow!P158)-(CashFlow!P150)","v":0},null,{"$f":"Consolidation!L128+(CashFlow!R158)-(CashFlow!R150)","v":0},null,{"$f":"Consolidation!M128+(CashFlow!T158)-(CashFlow!T150)","v":0}]
[null,null,null,null,null,null,"Surplus/deficit",null,{"$f":"Consolidation!H130-((CashFlow!J12+CashFlow!J163+CashFlow!J184+CashFlow!J196-CashFlow!J58+CashFlow!J158+CashFlow!J169+CashFlow!J182+CashFlow!J183))","v":0},null,{"$f":"Consolidation!I130-((CashFlow!L12+CashFlow!L163+CashFlow!L184+CashFlow!L196-CashFlow!L58+CashFlow!L158+CashFlow!L169+CashFlow!L182+CashFlow!L183))","v":0},null,{"$f":"Consolidation!J130-((CashFlow!N12+CashFlow!N163+CashFlow!N184+CashFlow!N196-CashFlow!N58+CashFlow!N158+CashFlow!N169+CashFlow!N182+CashFlow!N183))","v":0},null,{"$f":"Consolidation!K130-((CashFlow!P12+CashFlow!P163+CashFlow!P184+CashFlow!P196-CashFlow!P58+CashFlow!P158+CashFlow!P169+CashFlow!P182+CashFlow!P183))","v":0},null,{"$f":"Consolidation!L130-((CashFlow!R12+CashFlow!R163+CashFlow!R184+CashFlow!R196-CashFlow!R58+CashFlow!R158+CashFlow!R169+CashFlow!R182+CashFlow!R183))","v":0},null,{"$f":"Consolidation!M130-((CashFlow!T12+CashFlow!T163+CashFlow!T184+CashFlow!T196-CashFlow!T58+CashFlow!T158+CashFlow!T169+CashFlow!T182+CashFlow!T183))","v":0}]
[null,null,null,null,null,"SOSUC","Cash surplus/deficit",null,{"$f":"SOSUC!H36","v":0},null,{"$f":"SOSUC!I36","v":0},null,{"$f":"SOSUC!J36","v":0},{"$f":"SOSUC!K36","v":0},{"$f":"SOSUC!L36","v":0},null,{"$f":"SOSUC!M36","v":0},null,{"$f":"SOSUC!N36","v":0}]
[null,null,null,null,null,null,"Net change in the stock of cash",null,{"$f":"SOSUC!H46","v":0},null,{"$f":"SOSUC!I46","v":0},null,{"$f":"SOSUC!J46","v":0},{"$f":"SOSUC!K46","v":0},{"$f":"SOSUC!L46","v":0},null,{"$f":"SOSUC!M46","v":0},null,{"$f":"SOSUC!N46","v":0}]
[null,null,null,null,null,"Govt Acc financing table","Total financing (net)",null,{"$f":"'Govt Acc financing table'!H27","v":0},null,{"$f":"'Govt Acc financing table'!I27","v":0},null,{"$f":"'Govt Acc financing table'!J27","v":0},{"$f":"'Govt Acc financing table'!K27","v":0},{"$f":"'Govt Acc financing table'!L27","v":0},null,{"$f":"'Govt Acc financing table'!M27","v":0},null,{"$f":"'Govt Acc financing table'!N27","v":0}]

{"sheet":"Consolidation","index":35,"n_rows":134,"n_cols":43,"rows_kept":134,"cut":false,"hidden":false,"merged":[]}
[]
[]
[]
[]
[]
[null,null,null,null,null,"PE No",{"$f":"Settings!$O$2","v":"PE196"}]
[null,null,null,null,null,"Entity name",{"$f":"Settings!$D$2","v":"Transnet Limited"}]
[null,null,null,null,null,{"$f":"NOW()","v":"2022-05-31T13:09:26.050"}]
[null,null,null,null,null,"R thousand",null,null,null,null,null,null,null,null,null," ","Transfers from National-Exec Auth adjustments",null,null,null,null,null,null,null,"Estimated underspending / other adjustments",null,null,null,null,null,null,null,null,"Adjusted Consoldation",null,null,null,null,null,"Summary",null,null,"Comments"]
["ItemCat","Item code",null,null,null,"Data for consolidated accounts of general government"]
[1,null,null,null,null,"Receipts estimates",null,{"$f":"MyYearM3","v":"2019/20"},{"$f":"MyYearM2","v":"2020/21"},{"$f":"MyYearM1","v":"2021/22"},{"$f":"MyYear0","v":"2022/23"},{"$f":"MyYearP1","v":"2023/24"},{"$f":"MyYearP2","v":"2024/25"},{"$f":"MyYearP3","v":"2025/26"},null,null,{"$f":"H11","v":"2019/20"},"2020/21","2021/22","2022/23","2023/24","2024/25","2025/26",null,{"$f":"Q11","v":"2019/20"},"2020/21","2021/22","2022/23","2023/24","2024/25","2025/26",null,null,{"$f":"Y11","v":"2019/20"},"2020/21","2021/22","2022/23","2023/24","2024/25","2025/26"]
[1,"CR11",null,null,null,"Tax receipts",null,{"$f":"SUM(CashFlow!J13,CashFlow!J31)","v":0},{"$f":"SUM(CashFlow!L13,CashFlow!L31)","v":0},{"$f":"SUM(CashFlow!N13,CashFlow!N31)","v":0},{"$f":"SUM(CashFlow!P13,CashFlow!P31)","v":0},{"$f":"SUM(CashFlow!R13,CashFlow!R31)","v":0},{"$f":"SUM(CashFlow!T13,CashFlow!T31)","v":0},{"$f":"SUM(CashFlow!U13,CashFlow!U31)","v":0},null,null,0,0,null,null,null,null,null,null,null,null,null,null,null,null,null,null,null,{"$f":"SUM(H12,Q12,Y12)","v":0},{"$f":"SUM(I12,R12,Z12)","v":0},0,0,0,0,0]
[1,"CR12",null,null,null,"Sales of goods and services other than capital assets",null,{"$f":"SUM(H14,H18)","v":0},{"$f":"SUM(I14,I18)","v":0},0,0,0,0,0,null,null,{"$f":"SUM(Q14,Q18)","v":0},0,0,0,0,0,0,null,0,0,0,0,0,0,0,null,0,0,0,0,0,0,0,0]
[1,"CR121",null,null,null,"Sales of goods and services produced by department (excl. capital assets)",null,{"$f":"SUM(H15:H17)","v":0},{"$f":"SUM(I15:I17)","v":0},0,{"$f":"SUM(K15:K17)","v":0},0,0,0,null,null,{"$f":"SUM(Q15:Q17)","v":0},0,0,0,0,0,0,null,0,0,0,0,0,0,0,null,0,0,0,0,0,0,0,0]
[1,"CR1211",null,null,null,"Administrative fees",null,{"$f":"(CashFlow!J16+CashFlow!J198)","v":0},{"$f":"(CashFlow!L16+CashFlow!L198)","v":0},{"$f":"(CashFlow!N16+CashFlow!N198)","v":0},{"$f":"(CashFlow!P16+CashFlow!P198)","v":0},{"$f":"(CashFlow!R16+CashFlow!R198)","v":0},{"$f":"(CashFlow!T16+CashFlow!T198)","v":0},{"$f":"(CashFlow!U16+CashFlow!U198)","v":0},null,null,0,0,null,null,null,null,null,null,null,null,null,null,null,null,null,null,null,{"$f":"SUM(H15,Q15,Y15)","v":0},{"$f":"SUM(I15,R15,Z15)","v":0},0,0,0,0,0]
[1,"CR1212",null,null,null,"Sales by market establishments",null,{"$f":"(CashFlow!J21)","v":0},{"$f":"(CashFlow!L21)","v":0},{"$f":"(CashFlow!N21)","v":0},{"$f":"(CashFlow!P21)","v":0},{"$f":"(CashFlow!R21)","v":0},{"$f":"(CashFlow!T21)","v":0},{"$f":"(CashFlow!U21)","v":0},null,null,0,0,null,null,null,null,null,null,null,null,null,null,null,null,null,null,null,{"$f":"SUM(H16,Q16,Y16)","v":0},0,0,0,0,0,0]
[1,"CR1213",null,null,null,"Other sales",null,{"$f":"SUM(CashFlow!J26)","v":0},{"$f":"SUM(CashFlow!L26)","v":0},{"$f":"SUM(CashFlow!N26)","v":0},{"$f":"SUM(CashFlow!P26)","v":0},{"$f":"SUM(CashFlow!R26)","v":0},{"$f":"SUM(CashFlow!T26)","v":0},{"$f":"SUM(CashFlow!U26)","v":0},null,null,0,0,null,null,null,null,null,null,null,null,null,null,null,null,null,null,null,{"$f":"SUM(H17,Q17,Y17)","v":0},0,0,0,0,0,0]
[1,"CR1214",null,null,null,"Sales of scrap, waste, arms and other used current goods (excl capital assets)",null,{"$f":"SUM(CashFlow!J29)","v":0},{"$f":"SUM(CashFlow!L29)","v":0},{"$f":"SUM(CashFlow!N29)","v":0},{"$f":"SUM(CashFlow!P29)","v":0},{"$f":"SUM(CashFlow!R29)","v":0},{"$f":"SUM(CashFlow!T29)","v":0},{"$f":"SUM(CashFlow!U29)","v":0},null,null,0,0]
[1,"CR13",null,null,null,"Transfers received",null,{"$f":"SUM(H20,H21,H26:H28)","v":0},0,0,{"$f":"SUM(K20,K21,K26:K28)","v":0},0,0,0,null,null,{"$f":"SUM(Q20,Q21,Q26:Q28)","v":0},0,0,0,0,0,0,null,{"$f":"SUM(Y20,Y21,Y26:Y28)","v":0},{"$f":"SUM(Z20,Z21,Z26:Z28)","v":0},0,0,0,0,0,null,null,{"$f":"SUM(AH20,AH21,AH26:AH28)","v":0},0,0,0,0,0,0]
[1,"CR131",null,null,null,"Social contributions",null,0,0,0,0,0,0,0,null,null,0,0,null,null,null,null,null,null,null,null,null,null,null,null,null,null,null,{"$f":"SUM(H20,Q20,Y20)","v":0},{"$f":"SUM(I20,R20,Z20)","v":0},0,0,0,0,0]
[1,"CR132",null,null,null,"Other goverment units",null,{"$f":"SUM(H22:H25)","v":0},0,0,{"$f":"SUM(K22:K25)","v":0},0,0,0,null,null,{"$f":"SUM(Q22:Q25)","v":0},0,0,0,0,0,0,null,{"$f":"SUM(Y22:Y25)","v":0},{"$f":"SUM(Z22:Z25)","v":0},0,0,0,0,0,null,null,{"$f":"SUM(AH22:AH25)","v":0},{"$f":"SUM(AI22:AI25)","v":0},0,0,0,0,0]
[1,"CR1321",null,null,null,"Departmental transfers",null,{"$f":"(CashFlow!J34+CashFlow!J197)","v":0},{"$f":"(CashFlow!L34+CashFlow!L197)","v":0},{"$f":"(CashFlow!N34+CashFlow!N197)","v":0},{"$f":"(CashFlow!P34+CashFlow!P197)","v":0},{"$f":"(CashFlow!R34+CashFlow!R197)","v":0},{"$f":"(CashFlow!T34+CashFlow!T197)","v":0},{"$f":"(CashFlow!U34+CashFlow!U197)","v":0},null,null,0,0,null,null,null,null,null,null,null,null,null,null,null,null,null,null,null,{"$f":"SUM(H22,Q22,Y22)","v":0},{"$f":"SUM(I22,R22,Z22)","v":0},{"$f":"SUM(J22,S22,AA22)","v":0},{"$f":"SUM(K22,T22,AB22)","v":0},{"$f":"SUM(L22,U22,AC22)","v":0},{"$f":"SUM(M22,V22,AD22)","v":0},{"$f":"SUM(N22,W22,AE22)","v":0}]
[1,"CR1322",null,null,null,"Departmental agencies and accounts",null,{"$f":"(CashFlow!J42+CashFlow!J56)","v":0},{"$f":"(CashFlow!L42+CashFlow!L56)","v":0},{"$f":"(CashFlow!N42+CashFlow!N56)","v":0},{"$f":"(CashFlow!P42+CashFlow!P56)","v":0},{"$f":"(CashFlow!R42+CashFlow!R56)","v":0},{"$f":"(CashFlow!T42+CashFlow!T56)","v":0},{"$f":"(CashFlow!U42+CashFlow!U56)","v":0},null,null,0,0,null,null,null,null,null,null,null,null,null,null,null,null,null,null,null,0,0,0,0,0,0,0]
[1,"CR1323",null,null,null,"Skills development (SETAs)",null,{"$f":"SUM(CashFlow!J37,CashFlow!J41)","v":0},{"$f":"SUM(CashFlow!L37,CashFlow!L41)","v":0},{"$f":"SUM(CashFlow!N37,CashFlow!N41)","v":0},{"$f":"SUM(CashFlow!P37,CashFlow!P41)","v":0},{"$f":"SUM(CashFlow!R37,CashFlow!R41)","v":0},{"$f":"SUM(CashFlow!T37,CashFlow!T41)","v":0},{"$f":"SUM(CashFlow!U37,CashFlow!U41)","v":0},null,null,0,0,null,null,null,null,null,null,null,null,null,null,null,null,null,null,null,0,0,0,0,0,0,0]
[1,"CR1324",null,null,null,"Other transfers",null,{"$f":"SUM(CashFlow!J35,CashFlow!J43:'CashFlow'!J44)","v":0},{"$f":"SUM(CashFlow!L35,CashFlow!L43:'CashFlow'!L44)","v":0},{"$f":"SUM(CashFlow!N35,CashFlow!N43:'CashFlow'!N44)","v":0},{"$f":"SUM(CashFlow!P35,CashFlow!P43:'CashFlow'!P44)","v":0},{"$f":"SUM(CashFlow!R35,CashFlow!R43:'CashFlow'!R44)","v":0},{"$f":"SUM(CashFlow!T35,CashFlow!T43:'CashFlow'!T44)","v":0},{"$f":"SUM(CashFlow!U35,CashFlow!U43:'CashFlow'!U44)","v":0},null,null,0,0,null,null,null,null,null,null,null,null,null,null,null,null,null,null,null,0,0,0,0,0,0,0]
[1,"CR133",null,null,null,"Higher education institutions",null,{"$f":"(CashFlow!J45)","v":0},{"$f":"(CashFlow!L45)","v":0},{"$f":"(CashFlow!N45)","v":0},{"$f":"(CashFlow!P45)","v":0},{"$f":"(CashFlow!R45)","v":0},{"$f":"(CashFlow!T45)","v":0},{"$f":"(CashFlow!U45)","v":0},null,null,0,0,null,null,null,null,null,null,null,null,null,null,null,null,null,null,null,0,0,0,0,0,0,0]
[1,"CR134",null,null,null,"Foreign governments and international organisations",null,{"$f":"(CashFlow!J46)","v":0},{"$f":"(CashFlow!L46)","v":0},{"$f":"(CashFlow!N46)","v":0},{"$f":"(CashFlow!P46)","v":0},{"$f":"(CashFlow!R46)","v":0},{"$f":"(CashFlow!T46)","v":0},{"$f":"(CashFlow!U46)","v":0},null,null,0,0,null,null,null,null,null,null,null,null,null,null,null,null,null,null,null,0,0,0,0,0,0,0]
[1,"CR135",null,null,null,"Local non-government donors",null,{"$f":"(CashFlow!J47)","v":0},{"$f":"(CashFlow!L47)","v":0},{"$f":"(CashFlow!N47)","v":0},{"$f":"(CashFlow!P47)","v":0},{"$f":"(CashFlow!R47)","v":0},{"$f":"(CashFlow!T47)","v":0},{"$f":"(CashFlow!U47)","v":0},null,null,0,0,null,null,null,null,null,null,null,null,null,null,null,null,null,null,null,0,0,0,0,0,0,0]
[1,"CR14",null,null,null,"Fines, penalties and forfeits",null,{"$f":"(CashFlow!J48)","v":0},{"$f":"(CashFlow!L48)","v":0},{"$f":"(CashFlow!N48)","v":0},{"$f":"(CashFlow!P48)","v":0},{"$f":"(CashFlow!R48)","v":0},{"$f":"(CashFlow!T48)","v":0},{"$f":"(CashFlow!U48)","v":0},null,null,0,0,null,null,null,null,null,null,null,null,null,null,null,null,null,null,null,0,0,0,0,0,0,0]
[1,"CR15",null,null,null,"Interest and rent on land",null,{"$f":"SUM(H31:H33)","v":0},0,0,{"$f":"SUM(K31:K33)","v":0},0,0,0,null,null,{"$f":"SUM(Q31:Q33)","v":0},0,0,0,0,0,0,null,{"$f":"SUM(Y31:Y33)","v":0},{"$f":"SUM(Z31:Z33)","v":0},0,0,0,0,0,null,null,{"$f":"SUM(AH31:AH33)","v":0},0,0,0,0,0,0]
[1,"CR151",null,null,null,"Interest",null,{"$f":"(CashFlow!J50+CashFlow!J57)","v":0},{"$f":"(CashFlow!L50+CashFlow!L57)","v":0},{"$f":"(CashFlow!N50+CashFlow!N57)","v":0},{"$f":"(CashFlow!P50+CashFlow!P57)","v":0},{"$f":"(CashFlow!R50+CashFlow!R57)","v":0},{"$f":"(CashFlow!T50+CashFlow!T57)","v":0},{"$f":"(CashFlow!U50+CashFlow!U57)","v":0},null,null,0,0,null,null,null,null,null,null,null,null,null,null,null,null,null,null,null,{"$f":"SUM(H31,Q31,Y31)","v":0},{"$f":"SUM(I31,R31,Z31)","v":0},0,0,0,0,0]
[1,"CR153",null,null,null,"Dividends",null,{"$f":"(CashFlow!J51)","v":0},{"$f":"(CashFlow!L51)","v":0},{"$f":"(CashFlow!N51)","v":0},{"$f":"(CashFlow!P51)","v":0},{"$f":"(CashFlow!R51)","v":0},{"$f":"(CashFlow!T51)","v":0},{"$f":"(CashFlow!U51)","v":0},null,null,0,0,null,null,null,null,null,null,null,null,null,null,null,null,null,null,null,{"$f":"SUM(H32,Q32,Y32)","v":0},0,0,0,0,0,0]
[1,"CR152",null,null,null,"Rent on land",null,{"$f":"(CashFlow!J52)","v":0},{"$f":"(CashFlow!L52)","v":0},{"$f":"(CashFlow!N52)","v":0},{"$f":"(CashFlow!P52)","v":0},{"$f":"(CashFlow!R52)","v":0},{"$f":"(CashFlow!T52)","v":0},{"$f":"(CashFlow!U52)","v":0},null,null,0,0,null,null,null,null,null,null,null,null,null,null,null,null,null,null,null,{"$f":"SUM(H33,Q33,Y33)","v":0},0,0,0,0,0,0]
[1,"CR16",null,null,null,"Sales of capital assets",null,{"$f":"SUM(H35:H35)","v":0},0,0,0,0,0,0,null,null,{"$f":"SUM(Q35:Q35)","v":0},0,0,0,0,0,0,null,0,0,0,0,0,0,0,null,null,{"$f":"SUM(AH35:AH35)","v":0},0,0,0,0,0,0]
[1,"CR162",null,null,null,"Other capital assets",null,{"$f":"(CashFlow!J184)","v":0},{"$f":"(CashFlow!L184)","v":0},{"$f":"(CashFlow!N184)","v":0},{"$f":"(CashFlow!P184)","v":0},{"$f":"(CashFlow!R184)","v":0},{"$f":"(CashFlow!T184)","v":0},{"$f":"(CashFlow!U184)","v":0},null,null,0,0,null,null,null,null,null,null,null,null,null,null,null,null,null,null,null,{"$f":"SUM(H35,Q35,Y35)","v":0},{"$f":"SUM(I35,R35,Z35)","v":0},0,0,0,0,0]
[1,"CR17",null,null,null,"Financial transactions in assets and liabilities",null,{"$f":"SUM(H37:H39)","v":0},{"$f":"SUM(I37:I39)","v":0},0,{"$f":"SUM(K37:K39)","v":0},0,0,0,null,null,{"$f":"SUM(Q37:Q39)","v":0},0,0,0,0,0,0,null,{"$f":"SUM(Y37:Y39)","v":0},{"$f":"SUM(Z37:Z39)","v":0},0,0,0,0,0,{"$f":"SUM(AF37:AF39)","v":0},0,{"$f":"SUM(AH37:AH39)","v":0},0,0,0,0,0,0]
[1,"CR171",null,null,null,"Loans",null,{"$f":"(CashFlow!J163)","v":0},{"$f":"(CashFlow!L163)","v":0},{"$f":"(CashFlow!N163)","v":0},{"$f":"(CashFlow!P163)","v":0},{"$f":"(CashFlow!R163)","v":0},{"$f":"(CashFlow!T163)","v":0},{"$f":"(CashFlow!U163)","v":0},null,null,0,0,null,null,null,null,null,null,null,null,null,null,null,null,null,null,null,{"$f":"SUM(H37,Q37,Y37)","v":0},0,0,0,0,0,0]
[1,"CR173",null,null,null,"Forex gains",null,{"$f":"(CashFlow!J54)","v":0},{"$f":"(CashFlow!L54)","v":0},{"$f":"(CashFlow!N54)","v":0},{"$f":"(CashFlow!P54)","v":0},{"$f":"(CashFlow!R54)","v":0},{"$f":"(CashFlow!T54)","v":0},{"$f":"(CashFlow!U54)","v":0},null,null,0,0]
[1,"CR172",null,null,null,"Other receipts",null,{"$f":"(CashFlow!J55)","v":0},{"$f":"(CashFlow!L55)","v":0},{"$f":"(CashFlow!N55)","v":0},{"$f":"(CashFlow!P55)","v":0},{"$f":"(CashFlow!R55)","v":0},{"$f":"(CashFlow!T55)","v":0},{"$f":"(CashFlow!U55)","v":0},null,null,0,0,null,null,null,null,null,null,null,null,null,null,null,null,null,null,null,{"$f":"SUM(H39,Q39,Y39)","v":0},0,0,0,0,0,0]
[1,"CR1",null,null,null,"Total receipts",null,{"$f":"SUM(H12,H13,H19,H29,H30,H34,H36)","v":0},0,0,0,0,0,0,null,null,{"$f":"SUM(Q12,Q13,Q19,Q29,Q30,Q34,Q36)","v":0},0,0,0,0,0,0,null,{"$f":"SUM(Y12,Y13,Y19,Y29,Y30,Y34,Y36)","v":0},0,0,0,0,0,0,null,null,{"$f":"SUM(AH12,AH13,AH19,AH29,AH30,AH34,AH36)","v":0},0,0,0,0,0,0]
[1,null,null,null,null,"Expenditure"]
[1,"CP11",null,null,null,"Current payments",null,{"$f":"SUM(H43,H46,H94)","v":0},0,0,{"$f":"SUM(K43,K46,K94)","v":0},0,0,0,null,null,{"$f":"SUM(Q43,Q46,Q94)","v":0},0,0,0,0,0,0,null,{"$f":"SUM(Y43,Y46,Y94)","v":0},0,0,0,0,0,0,null,null,{"$f":"SUM(AH43,AH46,AH94)","v":0},0,0,0,0,0,0]
[1,"CP111",null,null,null,"Compensation of employees",null,{"$f":"SUM(H44:H45)","v":0},0,0,{"$f":"SUM(K44:K45)","v":0},0,0,{"$f":"SUM(N44:N45)","v":0},null,null,{"$f":"SUM(Q44:Q45)","v":0},{"$f":"SUM(R44:R45)","v":0},0,0,0,0,0,null,{"$f":"SUM(Y44:Y45)","v":0},0,0,0,0,0,0,null,null,{"$f":"SUM(AH44:AH45)","v":0},0,0,0,0,0,0]
[1,"CP1111",null,null,null,"Salaries and wages",null,{"$f":"(CashFlow!J61)","v":0},{"$f":"(CashFlow!L61)","v":0},{"$f":"(CashFlow!N61)","v":0},{"$f":"(CashFlow!P61)","v":0},{"$f":"(CashFlow!R61)","v":0},{"$f":"(CashFlow!T61)","v":0},{"$f":"(CashFlow!U61)","v":0},null,null,0,0,null,null,null,null,null,null,null,null,null,null,null,null,null,null,null,{"$f":"SUM(H44,Q44,Y44)","v":0},{"$f":"SUM(I44,R44,Z44)","v":0},0,0,0,0,0]
[1,"CP1112",null,null,null,"Social contributions",null,{"$f":"(CashFlow!J62)","v":0},{"$f":"(CashFlow!L62)","v":0},{"$f":"(CashFlow!N62)","v":0},{"$f":"(CashFlow!P62)","v":0},{"$f":"(CashFlow!R62)","v":0},{"$f":"(CashFlow!T62)","v":0},{"$f":"(CashFlow!U62)","v":0},null,null,0,0,null,null,null,null,null,null,null,null,null,null,null,null,null,null,null,{"$f":"SUM(H45,Q45,Y45)","v":0},0,0,0,0,0,0]
[1,"CP112",null,null,null,"Goods and services",null,{"$f":"(SUM(H47:H56,H60:H63,H70:H93))","v":0},0,0,0,0,0,0,null,null,{"$f":"(SUM(Q47:Q56,Q60:Q63,Q70:Q93))","v":0},0,0,0,0,0,0,null,{"$f":"(SUM(Y47:Y56,Y60:Y63,Y70:Y93))","v":0},0,0,0,0,0,0,null,null,{"$f":"(SUM(AH47:AH56,AH60:AH63,AH70:AH93))","v":0},0,0,0,0,0,0]
[1,"CP1121",null,null,null,"Administrative fees",null,{"$f":"(CashFlow!J64)","v":0},{"$f":"(CashFlow!L64)","v":0},{"$f":"(CashFlow!N64)","v":0},{"$f":"(CashFlow!P64)","v":0},{"$f":"(CashFlow!R64)","v":0},{"$f":"(CashFlow!T64)","v":0},{"$f":"(CashFlow!U64)","v":0},null,null,0,0,null,null,null,null,null,null,null,null,null,null,null,null,null,null,null,{"$f":"SUM(H47,Q47,Y47)","v":0},{"$f":"SUM(I47,R47,Z47)","v":0},{"$f":"SUM(J47,S47,AA47)","v":0},{"$f":"SUM(K47,T47,AB47)","v":0},{"$f":"SUM(L47,U47,AC47)","v":0},{"$f":"SUM(M47,V47,AD47)","v":0},{"$f":"SUM(N47,W47,AE47)","v":0}]
[1,"CP1122",null,null,null,"Advertising",null,{"$f":"(CashFlow!J65)","v":0},{"$f":"(CashFlow!L65)","v":0},{"$f":"(CashFlow!N65)","v":0},{"$f":"(CashFlow!P65)","v":0},{"$f":"(CashFlow!R65)","v":0},{"$f":"(CashFlow!T65)","v":0},{"$f":"(CashFlow!U65)","v":0},null,null,0,0,null,null,null,null,null,null,null,null,null,null,null,null,null,null,null,0,0,0,0,0,0,0]
[1,"CP1123",null,null,null,"Minor assets",null,{"$f":"(CashFlow!J66)","v":0},{"$f":"(CashFlow!L66)","v":0},{"$f":"(CashFlow!N66)","v":0},{"$f":"(CashFlow!P66)","v":0},{"$f":"(CashFlow!R66)","v":0},{"$f":"(CashFlow!T66)","v":0},{"$f":"(CashFlow!U66)","v":0},null,null,0,0,null,null,null,null,null,null,null,null,null,null,null,null,null,null,null,0,0,0,0,0,0,0]
[1,"CP1124",null,null,null,"Audit costs: External",null,{"$f":"(CashFlow!J67)","v":0},{"$f":"(CashFlow!L67)","v":0},{"$f":"(CashFlow!N67)","v":0},{"$f":"(CashFlow!P67)","v":0},{"$f":"(CashFlow!R67)","v":0},{"$f":"(CashFlow!T67)","v":0},{"$f":"(CashFlow!U67)","v":0},null,null,0,0,null,null,null,null,null,null,null,null,null,null,null,null,null,null,null,0,0,0,0,0,0,0]
[1,"CP1125",null,null,null,"Bursaries: Employees",null,{"$f":"(CashFlow!J68)","v":0},{"$f":"(CashFlow!L68)","v":0},{"$f":"(CashFlow!N68)","v":0},{"$f":"(CashFlow!P68)","v":0},{"$f":"(CashFlow!R68)","v":0},{"$f":"(CashFlow!T68)","v":0},{"$f":"(CashFlow!U68)","v":0},null,null,0,0,null,null,null,null,null,null,null,null,null,null,null,null,null,null,null,0,0,0,0,0,0,0]
[1,"CP1126",null,null,null,"Catering: Departmental activities",null,{"$f":"(CashFlow!J69)","v":0},{"$f":"(CashFlow!L69)","v":0},{"$f":"(CashFlow!N69)","v":0},{"$f":"(CashFlow!P69)","v":0},{"$f":"(CashFlow!R69)","v":0},{"$f":"(CashFlow!T69)","v":0},{"$f":"(CashFlow!U69)","v":0},null,null,0,0,null,null,null,null,null,null,null,null,null,null,null,null,null,null,null,0,0,0,0,0,0,0]
[1,"CP1127",null,null,null,"Communication (G&S)",null,{"$f":"(CashFlow!J70)","v":0},{"$f":"(CashFlow!L70)","v":0},{"$f":"(CashFlow!N70)","v":0},{"$f":"(CashFlow!P70)","v":0},{"$f":"(CashFlow!R70)","v":0},{"$f":"(CashFlow!T70)","v":0},{"$f":"(CashFlow!U70)","v":0},null,null,0,0,null,null,null,null,null,null,null,null,null,null,null,null,null,null,null,0,0,0,0,0,0,0]
[1,"CP1128",null,null,null,"Computer services",null,{"$f":"(CashFlow!J71)","v":0},{"$f":"(CashFlow!L71)","v":0},{"$f":"(CashFlow!N71)","v":0},{"$f":"(CashFlow!P71)","v":0},{"$f":"(CashFlow!R71)","v":0},{"$f":"(CashFlow!T71)","v":0},{"$f":"(CashFlow!U71)","v":0},null,null,0,0,null,null,null,null,null,null,null,null,null,null,null,null,null,null,null,0,0,0,0,0,0,0]
[1,"CP1129",null,null,null,"Consultants: Business and advisory services",null,{"$f":"(CashFlow!J72)","v":0},{"$f":"(CashFlow!L72)","v":0},{"$f":"(CashFlow!N72)","v":0},{"$f":"(CashFlow!P72)","v":0},{"$f":"(CashFlow!R72)","v":0},{"$f":"(CashFlow!T72)","v":0},{"$f":"(CashFlow!U72)","v":0},null,null,0,0,null,null,null,null,null,null,null,null,null,null,null,null,null,null,null,0,0,0,0,0,0,0]
[1,"CP1178",null,null,null,"Infrastructure and planning services",null,{"$f":"SUM(H57:H59)","v":0},0,0,{"$f":"SUM(K57:K59)","v":0},0,0,0,null,null,{"$f":"SUM(Q57:Q59)","v":0},0,0,0,0,0,0,null,{"$f":"SUM(Y57:Y59)","v":0},{"$f":"SUM(Z57:Z59)","v":0},0,0,0,0,0,null,null,{"$f":"SUM(AH57:AH59)","v":0},{"$f":"SUM(AI57:AI59)","v":0},0,0,0,0,0]
[1,"CP11781",null,null,null,"Maintenance and repairs: Buildings: Consultants",null,{"$f":"(CashFlow!J74)","v":0},{"$f":"(CashFlow!L74)","v":0},{"$f":"(CashFlow!N74)","v":0},{"$f":"(CashFlow!P74)","v":0},{"$f":"(CashFlow!R74)","v":0},{"$f":"(CashFlow!T74)","v":0},{"$f":"(CashFlow!U74)","v":0},null,null,0,0,null,null,null,null,null,null,null,null,null,null,null,null,null,null,null,0,0,0,0,0,0,0]
[1,"CP11782",null,null,null,"Maintenance and repairs: Other fixed structures: Consultants",null,{"$f":"(CashFlow!J75)","v":0},{"$f":"(CashFlow!L75)","v":0},{"$f":"(CashFlow!N75)","v":0},{"$f":"(CashFlow!P75)","v":0},{"$f":"(CashFlow!R75)","v":0},{"$f":"(CashFlow!T75)","v":0},{"$f":"(CashFlow!U75)","v":0},null,null,0,0,null,null,null,null,null,null,null,null,null,null,null,null,null,null,null,0,0,0,0,0,0,0]
[1,"CP11783",null,null,null,"Other",null,{"$f":"(CashFlow!J76)","v":0},{"$f":"(CashFlow!L76)","v":0},{"$f":"(CashFlow!N76)","v":0},{"$f":"(CashFlow!P76)","v":0},{"$f":"(CashFlow!R76)","v":0},{"$f":"(CashFlow!T76)","v":0},{"$f":"(CashFlow!U76)","v":0},null,null,0,0,null,null,null,null,null,null,null,null,null,null,null,null,null,null,null,0,0,0,0,0,0,0]
[1,"CP1160",null,null,null,"Laboratory services",null,{"$f":"(CashFlow!J77)","v":0},{"$f":"(CashFlow!L77)","v":0},{"$f":"(CashFlow!N77)","v":0},{"$f":"(CashFlow!P77)","v":0},{"$f":"(CashFlow!R77)","v":0},{"$f":"(CashFlow!T77)","v":0},{"$f":"(CashFlow!U77)","v":0},null,null,0,0,null,null,null,null,null,null,null,null,null,null,null,null,null,null,null,0,0,0,0,0,0,0]
[1,"CP1161",null,null,null,"Legal services (G&S)",null,{"$f":"(CashFlow!J78)","v":0},{"$f":"(CashFlow!L78)","v":0},{"$f":"(CashFlow!N78)","v":0},{"$f":"(CashFlow!P78)","v":0},{"$f":"(CashFlow!R78)","v":0},{"$f":"(CashFlow!T78)","v":0},{"$f":"(CashFlow!U78)","v":0},null,null,0,0,null,null,null,null,null,null,null,null,null,null,null,null,null,null,null,0,0,0,0,0,0,0]
[1,"CP1162",null,null,null,"Science and technological services",null,{"$f":"(CashFlow!J79)","v":0},{"$f":"(CashFlow!L79)","v":0},{"$f":"(CashFlow!N79)","v":0},{"$f":"(CashFlow!P79)","v":0},{"$f":"(CashFlow!R79)","v":0},{"$f":"(CashFlow!T79)","v":0},{"$f":"(CashFlow!U79)","v":0},null,null,0,0,null,null,null,null,null,null,null,null,null,null,null,null,null,null,null,0,0,0,0,0,0,0]
[1,"CP1134",null,null,null,"Contractors",null,{"$f":"SUM(H64:H69)","v":0},0,0,{"$f":"SUM(K64:K69)","v":0},0,0,0,null,null,{"$f":"SUM(Q64:Q69)","v":0},0,0,0,0,0,0,null,{"$f":"SUM(Y64:Y69)","v":0},{"$f":"SUM(Z64:Z69)","v":0},0,0,0,0,0,null,null,{"$f":"SUM(AH64:AH69)","v":0},{"$f":"SUM(AI64:AI69)","v":0},0,0,0,0,0]
[1,"CP11341",null,null,null,"Maintenance and repairs of other fixed structures",null,{"$f":"(CashFlow!J81)","v":0},{"$f":"(CashFlow!L81)","v":0},{"$f":"(CashFlow!N81)","v":0},{"$f":"(CashFlow!P81)","v":0},{"$f":"(CashFlow!R81)","v":0},{"$f":"(CashFlow!T81)","v":0},{"$f":"(CashFlow!U81)","v":0},null,null,0,0,null,null,null,null,null,null,null,null,null,null,null,null,null,null,null,0,0,0,0,0,0,0]
[1,"CP11342",null,null,null,"Maintenance and repairs of other machinery and equipment",null,{"$f":"(CashFlow!J82)","v":0},{"$f":"(CashFlow!L82)","v":0},{"$f":"(CashFlow!N82)","v":0},{"$f":"(CashFlow!P82)","v":0},{"$f":"(CashFlow!R82)","v":0},{"$f":"(CashFlow!T82)","v":0},{"$f":"(CashFlow!U82)","v":0},null,null,0,0,null,null,null,null,null,null,null,null,null,null,null,null,null,null,null,0,0,0,0,0,0,0]
[1,"CP11343",null,null,null,"Maintenance and repairs of heritage buildings",null,{"$f":"(CashFlow!J83)","v":0},{"$f":"(CashFlow!L83)","v":0},{"$f":"(CashFlow!N83)","v":0},{"$f":"(CashFlow!P83)","v":0},{"$f":"(CashFlow!R83)","v":0},{"$f":"(CashFlow!T83)","v":0},{"$f":"(CashFlow!U83)","v":0},null,null,0,0,null,null,null,null,null,null,null,null,null,null,null,null,null,null,null,0,0,0,0,0,0,0]
[1,"CP11344",null,null,null,"Maintenance and repairs of other heritage fixed structures",null,{"$f":"(CashFlow!J84)","v":0},{"$f":"(CashFlow!L84)","v":0},{"$f":"(CashFlow!N84)","v":0},{"$f":"(CashFlow!P84)","v":0},{"$f":"(CashFlow!R84)","v":0},{"$f":"(CashFlow!T84)","v":0},{"$f":"(CashFlow!U84)","v":0},null,null,0,0,null,null,null,null,null,null,null,null,null,null,null,null,null,null,null,0,0,0,0,0,0,0]
[1,"CP11345",null,null,null,"South african social security agency payment contractors",null,{"$f":"(CashFlow!J85)","v":0},{"$f":"(CashFlow!L85)","v":0},{"$f":"(CashFlow!N85)","v":0},{"$f":"(CashFlow!P85)","v":0},{"$f":"(CashFlow!R85)","v":0},{"$f":"(CashFlow!T85)","v":0},{"$f":"(CashFlow!U85)","v":0},null,null,0,0,null,null,null,null,null,null,null,null,null,null,null,null,null,null,null,{"$f":"SUM(H68,Q68,Y68)","v":0},0,0,0,0,0,0]
[1,"CP11346",null,null,null,"Other",null,{"$f":"(CashFlow!J91)","v":0},{"$f":"(CashFlow!L91)","v":0},{"$f":"(CashFlow!N91)","v":0},{"$f":"(CashFlow!P91)","v":0},{"$f":"(CashFlow!R91)","v":0},{"$f":"(CashFlow!T91)","v":0},{"$f":"(CashFlow!U91)","v":0},null,null,0,0,null,null,null,null,null,null,null,null,null,null,null,null,null,null,null,0,0,0,0,0,0,0]
[1,"CP1135",null,null,null,"Agency and support/outsourced services",null,{"$f":"(CashFlow!J92)","v":0},{"$f":"(CashFlow!L92)","v":0},{"$f":"(CashFlow!N92)","v":0},{"$f":"(CashFlow!P92)","v":0},{"$f":"(CashFlow!R92)","v":0},{"$f":"(CashFlow!T92)","v":0},{"$f":"(CashFlow!U92)","v":0},null,null,0,0,null,null,null,null,null,null,null,null,null,null,null,null,null,null,null,0,0,0,0,0,0,0]
[1,"CP1136",null,null,null,"Entertainment",null,{"$f":"(CashFlow!J94)","v":0},{"$f":"(CashFlow!L94)","v":0},{"$f":"(CashFlow!N94)","v":0},{"$f":"(CashFlow!P94)","v":0},{"$f":"(CashFlow!R94)","v":0},{"$f":"(CashFlow!T94)","v":0},{"$f":"(CashFlow!U94)","v":0},null,null,0,0,null,null,null,null,null,null,null,null,null,null,null,null,null,null,null,0,0,0,0,0,0,0]
[1,"CP1163",null,null,null,"Fleet services (including government motor transport)",null,{"$f":"(CashFlow!J95)","v":0},{"$f":"(CashFlow!L95)","v":0},{"$f":"(CashFlow!N95)","v":0},{"$f":"(CashFlow!P95)","v":0},{"$f":"(CashFlow!R95)","v":0},{"$f":"(CashFlow!T95)","v":0},{"$f":"(CashFlow!U95)","v":0},null,null,0,0,null,null,null,null,null,null,null,null,null,null,null,null,null,null,null,0,0,0,0,0,0,0]
[1,"CP1164",null,null,null,"Housing",null,{"$f":"(CashFlow!J96)","v":0},{"$f":"(CashFlow!L96)","v":0},{"$f":"(CashFlow!N96)","v":0},{"$f":"(CashFlow!P96)","v":0},{"$f":"(CashFlow!R96)","v":0},{"$f":"(CashFlow!T96)","v":0},{"$f":"(CashFlow!U96)","v":0},null,null,0,0,null,null,null,null,null,null,null,null,null,null,null,null,null,null,null,0,0,0,0,0,0,0]
[1,"CP1165",null,null,null,"Inventory: Clothing material and accessories",null,{"$f":"(CashFlow!J97)","v":0},{"$f":"(CashFlow!L97)","v":0},{"$f":"(CashFlow!N97)","v":0},{"$f":"(CashFlow!P97)","v":0},{"$f":"(CashFlow!R97)","v":0},{"$f":"(CashFlow!T97)","v":0},{"$f":"(CashFlow!U97)","v":0},null,null,0,0,null,null,null,null,null,null,null,null,null,null,null,null,null,null,null,0,0,0,0,0,0,0]
[1,"CP1166",null,null,null,"Inventory: Farming supplies",null,{"$f":"(CashFlow!J98)","v":0},{"$f":"(CashFlow!L98)","v":0},{"$f":"(CashFlow!N98)","v":0},{"$f":"(CashFlow!P98)","v":0},{"$f":"(CashFlow!R98)","v":0},{"$f":"(CashFlow!T98)","v":0},{"$f":"(CashFlow!U98)","v":0},null,null,0,0,null,null,null,null,null,null,null,null,null,null,null,null,null,null,null,0,0,0,0,0,0,0]
[1,"CP1167",null,null,null,"Inventory: Food and food supplies",null,{"$f":"(CashFlow!J99)","v":0},{"$f":"(CashFlow!L99)","v":0},{"$f":"(CashFlow!N99)","v":0},{"$f":"(CashFlow!P99)","v":0},{"$f":"(CashFlow!R99)","v":0},{"$f":"(CashFlow!T99)","v":0},{"$f":"(CashFlow!U99)","v":0},null,null,0,0,null,null,null,null,null,null,null,null,null,null,null,null,null,null,null,0,0,0,0,0,0,0]
[1,"CP1168",null,null,null,"Inventory: Fuel, oil and gas",null,{"$f":"(CashFlow!J100)","v":0},{"$f":"(CashFlow!L100)","v":0},{"$f":"(CashFlow!N100)","v":0},{"$f":"(CashFlow!P100)","v":0},{"$f":"(CashFlow!R100)","v":0},{"$f":"(CashFlow!T100)","v":0},{"$f":"(CashFlow!U100)","v":0},null,null,0,0,null,null,null,null,null,null,null,null,null,null,null,null,null,null,null,0,0,0,0,0,0,0]
[1,"CP1169",null,null,null,"Inventory: Learner and teacher support material",null,{"$f":"(CashFlow!J101)","v":0},{"$f":"(CashFlow!L101)","v":0},{"$f":"(CashFlow!N101)","v":0},{"$f":"(CashFlow!P101)","v":0},{"$f":"(CashFlow!R101)","v":0},{"$f":"(CashFlow!T101)","v":0},{"$f":"(CashFlow!U101)","v":0},null,null,0,0,null,null,null,null,null,null,null,null,null,null,null,null,null,null,null,0,0,0,0,0,0,0]
[1,"CP1144",null,null,null,"Inventory: Materials and supplies",null,{"$f":"(CashFlow!J102)","v":0},{"$f":"(CashFlow!L102)","v":0},{"$f":"(CashFlow!N102)","v":0},{"$f":"(CashFlow!P102)","v":0},{"$f":"(CashFlow!R102)","v":0},{"$f":"(CashFlow!T102)","v":0},{"$f":"(CashFlow!U102)","v":0},null,null,0,0,null,null,null,null,null,null,null,null,null,null,null,null,null,null,null,0,0,0,0,0,0,0]
[1,"CP1170",null,null,null,"Inventory: Medical supplies",null,{"$f":"(CashFlow!J103)","v":0},{"$f":"(CashFlow!L103)","v":0},{"$f":"(CashFlow!N103)","v":0},{"$f":"(CashFlow!P103)","v":0},{"$f":"(CashFlow!R103)","v":0},{"$f":"(CashFlow!T103)","v":0},{"$f":"(CashFlow!U103)","v":0},null,null,0,0,null,null,null,null,null,null,null,null,null,null,null,null,null,null,null,0,0,0,0,0,0,0]
[1,"CP1171",null,null,null,"Inventory: Medicine",null,{"$f":"(CashFlow!J104)","v":0},{"$f":"(CashFlow!L104)","v":0},{"$f":"(CashFlow!N104)","v":0},{"$f":"(CashFlow!P104)","v":0},{"$f":"(CashFlow!R104)","v":0},{"$f":"(CashFlow!T104)","v":0},{"$f":"(CashFlow!U104)","v":0},null,null,0,0,null,null,null,null,null,null,null,null,null,null,null,null,null,null,null,0,0,0,0,0,0,0]
[1,"CP1172",null,null,null,"Medsas inventory interface",null,{"$f":"(CashFlow!J105)","v":0},{"$f":"(CashFlow!L105)","v":0},{"$f":"(CashFlow!N105)","v":0},{"$f":"(CashFlow!P105)","v":0},{"$f":"(CashFlow!R105)","v":0},{"$f":"(CashFlow!T105)","v":0},{"$f":"(CashFlow!U105)","v":0},null,null,0,0,null,null,null,null,null,null,null,null,null,null,null,null,null,null,null,0,0,0,0,0,0,0]
[1,"CP1173",null,null,null,"Inventory: Other supplies",null,{"$f":"(CashFlow!J106)","v":0},{"$f":"(CashFlow!L106)","v":0},{"$f":"(CashFlow!N106)","v":0},{"$f":"(CashFlow!P106)","v":0},{"$f":"(CashFlow!R106)","v":0},{"$f":"(CashFlow!T106)","v":0},{"$f":"(CashFlow!U106)","v":0},null,null,0,0,null,null,null,null,null,null,null,null,null,null,null,null,null,null,null,0,0,0,0,0,0,0]
[1,"CP1174",null,null,null,"Consumable supplies",null,{"$f":"(CashFlow!J107)","v":0},{"$f":"(CashFlow!L107)","v":0},{"$f":"(CashFlow!N107)","v":0},{"$f":"(CashFlow!P107)","v":0},{"$f":"(CashFlow!R107)","v":0},{"$f":"(CashFlow!T107)","v":0},{"$f":"(CashFlow!U107)","v":0},null,null,0,0,null,null,null,null,null,null,null,null,null,null,null,null,null,null,null,0,0,0,0,0,0,0]
[1,"CP1175",null,null,null,"Consumables: Stationery, printing and office supplies",null,{"$f":"(CashFlow!J108)","v":0},{"$f":"(CashFlow!L108)","v":0},{"$f":"(CashFlow!N108)","v":0},{"$f":"(CashFlow!P108)","v":0},{"$f":"(CashFlow!R108)","v":0},{"$f":"(CashFlow!T108)","v":0},{"$f":"(CashFlow!U108)","v":0},null,null,0,0,null,null,null,null,null,null,null,null,null,null,null,null,null,null,null,0,0,0,0,0,0,0]
[1,"CP1151",null,null,null,"Operating leases",null,{"$f":"(CashFlow!J109)","v":0},{"$f":"(CashFlow!L109)","v":0},{"$f":"(CashFlow!N109)","v":0},{"$f":"(CashFlow!P109)","v":0},{"$f":"(CashFlow!R109)","v":0},{"$f":"(CashFlow!T109)","v":0},{"$f":"(CashFlow!U109)","v":0},null,null,0,0,null,null,null,null,null,null,null,null,null,null,null,null,null,null,null,0,0,0,0,0,0,0]
[1,"CP1176",null,null,null,"Rental and hiring",null,{"$f":"(CashFlow!J110)","v":0},{"$f":"(CashFlow!L110)","v":0},{"$f":"(CashFlow!N110)","v":0},{"$f":"(CashFlow!P110)","v":0},{"$f":"(CashFlow!R110)","v":0},{"$f":"(CashFlow!T110)","v":0},{"$f":"(CashFlow!U110)","v":0},null,null,0,0,null,null,null,null,null,null,null,null,null,null,null,null,null,null,null,0,0,0,0,0,0,0]
[1,"CP1152",null,null,null,"Property payments",null,{"$f":"(CashFlow!J111)","v":0},{"$f":"(CashFlow!L111)","v":0},{"$f":"(CashFlow!N111)","v":0},{"$f":"(CashFlow!P111)","v":0},{"$f":"(CashFlow!R111)","v":0},{"$f":"(CashFlow!T111)","v":0},{"$f":"(CashFlow!U111)","v":0},null,null,0,0,null,null,null,null,null,null,null,null,null,null,null,null,null,null,null,0,0,0,0,0,0,0]
[1,"CP1177",null,null,null,"Transport provided: Departmental activity",null,{"$f":"(CashFlow!J112)","v":0},{"$f":"(CashFlow!L112)","v":0},{"$f":"(CashFlow!N112)","v":0},{"$f":"(CashFlow!P112)","v":0},{"$f":"(CashFlow!R112)","v":0},{"$f":"(CashFlow!T112)","v":0},{"$f":"(CashFlow!U112)","v":0},null,null,0,0,null,null,null,null,null,null,null,null,null,null,null,null,null,null,null,0,0,0,0,0,0,0]
[1,"CP1154",null,null,null,"Travel and subsistence",null,{"$f":"(CashFlow!J113)","v":0},{"$f":"(CashFlow!L113)","v":0},{"$f":"(CashFlow!N113)","v":0},{"$f":"(CashFlow!P113)","v":0},{"$f":"(CashFlow!R113)","v":0},{"$f":"(CashFlow!T113)","v":0},{"$f":"(CashFlow!U113)","v":0},null,null,0,0,null,null,null,null,null,null,null,null,null,null,null,null,null,null,null,0,0,0,0,0,0,0]
[1,"CP1155",null,null,null,"Training and development",null,{"$f":"(CashFlow!J114)","v":0},{"$f":"(CashFlow!L114)","v":0},{"$f":"(CashFlow!N114)","v":0},{"$f":"(CashFlow!P114)","v":0},{"$f":"(CashFlow!R114)","v":0},{"$f":"(CashFlow!T114)","v":0},{"$f":"(CashFlow!U114)","v":0},null,null,0,0,null,null,null,null,null,null,null,null,null,null,null,null,null,null,null,0,0,0,0,0,0,0]
[1,"CP1158",null,null,null,"Operating payments",null,{"$f":"(CashFlow!J115)","v":0},{"$f":"(CashFlow!L115)","v":0},{"$f":"(CashFlow!N115)","v":0},{"$f":"(CashFlow!P115)","v":0},{"$f":"(CashFlow!R115)","v":0},{"$f":"(CashFlow!T115)","v":0},{"$f":"(CashFlow!U115)","v":0},null,null,0,0,null,null,null,null,null,null,null,null,null,null,null,null,null,null,null,0,0,0,0,0,0,0]
[1,"CP1156",null,null,null,"Venues and facilities",null,{"$f":"(CashFlow!J116)","v":0},{"$f":"(CashFlow!L116)","v":0},{"$f":"(CashFlow!N116)","v":0},{"$f":"(CashFlow!P116)","v":0},{"$f":"(CashFlow!R116)","v":0},{"$f":"(CashFlow!T116)","v":0},{"$f":"(CashFlow!U116)","v":0},null,null,0,0,null,null,null,null,null,null,null,null,null,null,null,null,null,null,null,0,0,0,0,0,0,0]
[1,"CP113",null,null,null,"Interest and rent on land",null,{"$f":"SUM(H95,H96)","v":0},0,0,{"$f":"SUM(K95,K96)","v":0},0,0,0,null,null,{"$f":"SUM(Q95,Q96)","v":0},0,0,0,0,0,0,null,{"$f":"SUM(Y95,Y96)","v":0},{"$f":"SUM(Z95,Z96)","v":0},0,0,0,0,0,null,null,{"$f":"SUM(AH95,AH96)","v":0},{"$f":"SUM(AI95,AI96)","v":0},0,0,0,0,0]
[1,"CP11311",null,null,null,"Interest (Incl. interest on unitary payments (PPP))",null,{"$f":"(CashFlow!J118+CashFlow!J119+CashFlow!J156)","v":0},{"$f":"(CashFlow!L118+CashFlow!L119+CashFlow!L156)","v":0},{"$f":"(CashFlow!N118+CashFlow!N119+CashFlow!N156)","v":0},{"$f":"(CashFlow!P118+CashFlow!P119+CashFlow!P156)","v":0},{"$f":"(CashFlow!R118+CashFlow!R119+CashFlow!R156)","v":0},{"$f":"(CashFlow!T118+CashFlow!T119+CashFlow!T156)","v":0},{"$f":"(CashFlow!U118+CashFlow!U119+CashFlow!U156)","v":0},null,null,0,0,null,null,null,null,null,null,null,null,null,null,null,null,null,null,null,{"$f":"SUM(H95,Q95,Y95)","v":0},{"$f":"SUM(I95,R95,Z95)","v":0},0,0,0,0,0]
[1,"CP11312",null,null,null,"Rent on land",null,{"$f":"(CashFlow!J120)","v":0},{"$f":"(CashFlow!L120)","v":0},{"$f":"(CashFlow!N120)","v":0},{"$f":"(CashFlow!P120)","v":0},{"$f":"(CashFlow!R120)","v":0},{"$f":"(CashFlow!T120)","v":0},{"$f":"(CashFlow!U120)","v":0},null,null,0,0,null,null,null,null,null,null,null,null,null,null,null,null,null,null,null,{"$f":"SUM(H96,Q96,Y96)","v":0},0,0,0,0,0,0]
[1,"CP12",null,null,null,"Transfers and subsidies",null,{"$f":"SUM(H98,H99,H104,H106,H108,H107,H113,H114)","v":0},0,0,{"$f":"SUM(K98,K99,K104,K106,K108,K107,K113,K114)","v":0},0,0,0,null,null,{"$f":"SUM(Q98,Q99,Q104,Q106,Q108,Q107,Q113,Q114)","v":0},0,0,0,0,0,0,null,{"$f":"SUM(Y98,Y99,Y104,Y106,Y108,Y107,Y113,Y114)","v":0},{"$f":"SUM(Z98,Z99,Z104,Z106,Z108,Z107,Z113,Z114)","v":0},0,0,0,0,0,null,null,{"$f":"SUM(AH98,AH99,AH104,AH106,AH108,AH107,AH113,AH114)","v":0},{"$f":"SUM(AI98,AI99,AI104,AI106,AI108,AI107,AI113,AI114)","v":0},0,0,0,0,0]
[1,"CP121",null,null,null,"National department",null,{"$f":"SUM(CashFlow!J124,CashFlow!J135)","v":0},{"$f":"SUM(CashFlow!L124,CashFlow!L135)","v":0},{"$f":"SUM(CashFlow!N124,CashFlow!N135)","v":0},{"$f":"SUM(CashFlow!P124,CashFlow!P135)","v":0},{"$f":"SUM(CashFlow!R124,CashFlow!R135)","v":0},{"$f":"SUM(CashFlow!T124,CashFlow!T135)","v":0},{"$f":"SUM(CashFlow!U124,CashFlow!U135)","v":0},null,null,0,0,null,null,null,null,null,null,null,null,null,null,null,null,null,null,null,{"$f":"SUM(H98,Q98,Y98)","v":0},{"$f":"SUM(I98,R98,Z98)","v":0},0,0,0,0,0]
[1,"CP122",null,null,null,"Provinces and municipalities",null,{"$f":"SUM(H100,H102)","v":0},0,0,{"$f":"SUM(K100,K102)","v":0},0,0,0,null,null,{"$f":"SUM(Q100,Q102)","v":0},{"$f":"SUM(R100,R102)","v":0},0,0,0,0,0,null,{"$f":"SUM(Y100,Y102)","v":0},0,0,0,0,0,0,null,null,{"$f":"SUM(AH100,AH102)","v":0},0,0,0,0,0,0]
[1,"CP1221",null,null,null,"Provinces",null,{"$f":"SUM(H101:H101)","v":0},0,0,0,0,0,0,null,null,{"$f":"SUM(Q101:Q101)","v":0},0,0,0,0,0,0,null,0,0,0,0,0,0,0,null,null,{"$f":"SUM(AH101:AH101)","v":0},0,0,0,0,0,0]
[1,"CP12212",null,null,null,"Provincial agencies and funds",null,{"$f":"SUM(CashFlow!J126,CashFlow!J137)","v":0},{"$f":"SUM(CashFlow!L126,CashFlow!L137)","v":0},{"$f":"SUM(CashFlow!N126,CashFlow!N137)","v":0},{"$f":"SUM(CashFlow!P126,CashFlow!P137)","v":0},{"$f":"SUM(CashFlow!R126,CashFlow!R137)","v":0},{"$f":"SUM(CashFlow!T126,CashFlow!T137)","v":0},{"$f":"SUM(CashFlow!U126,CashFlow!U137)","v":0},null,null,0,0,null,null,null,null,null,null,null,null,null,null,null,null,null,null,null,{"$f":"SUM(H101,Q101,Y101)","v":0},{"$f":"SUM(I101,R101,Z101)","v":0},0,0,0,0,0]
[1,"CP1222",null,null,null,"Municipalities",null,{"$f":"SUM(H103:H103)","v":0},0,0,0,0,0,0,null,null,{"$f":"SUM(Q103:Q103)","v":0},0,0,0,0,0,0,null,0,0,0,0,0,0,0,null,null,{"$f":"SUM(AH103:AH103)","v":0},{"$f":"SUM(AI103:AI103)","v":0},0,0,0,0,0]
[1,"CP12222",null,null,null,"Municipal agencies and funds",null,{"$f":"(SUM(CashFlow!J127,CashFlow!J138))","v":0},{"$f":"(SUM(CashFlow!L127,CashFlow!L138))","v":0},{"$f":"(SUM(CashFlow!N127,CashFlow!N138))","v":0},{"$f":"(SUM(CashFlow!P127,CashFlow!P138))","v":0},{"$f":"(SUM(CashFlow!R127,CashFlow!R138))","v":0},{"$f":"(SUM(CashFlow!T127,CashFlow!T138))","v":0},{"$f":"(SUM(CashFlow!U127,CashFlow!U138))","v":0},null,null,0,0,null,null,null,null,null,null,null,null,null,null,null,null,null,null,null,{"$f":"SUM(H103,Q103,Y103)","v":0},{"$f":"SUM(I103,R103,Z103)","v":0},0,0,0,0,0]
[1,"CP123",null,null,null,"Departmental agencies and accounts",null,{"$f":"SUM(H105:H105)","v":0},0,0,0,0,0,0,null,null,{"$f":"SUM(Q105:Q105)","v":0},0,0,0,0,0,0,null,0,0,0,0,0,0,0,null,null,{"$f":"SUM(AH105:AH105)","v":0},0,0,0,0,0,0]
[1,"CP1232",null,null,null,"Departmental agencies (non-business entities)",null,{"$f":"(SUM(CashFlow!J125,CashFlow!J136,CashFlow!J128,CashFlow!J139,CashFlow!J155))","v":0},{"$f":"(SUM(CashFlow!L125,CashFlow!L136,CashFlow!L128,CashFlow!L139,+CashFlow!L155))","v":0},{"$f":"(SUM(CashFlow!N125,CashFlow!N136,CashFlow!N128,CashFlow!N139,+CashFlow!N155))","v":0},{"$f":"(SUM(CashFlow!P125,CashFlow!P136,CashFlow!P128,CashFlow!P139,+CashFlow!P155))","v":0},{"$f":"(SUM(CashFlow!R125,CashFlow!R136,CashFlow!R128,CashFlow!R139,+CashFlow!R155))","v":0},{"$f":"(SUM(CashFlow!T125,CashFlow!T136,CashFlow!T128,CashFlow!T139,+CashFlow!T155))","v":0},{"$f":"(SUM(CashFlow!U125,CashFlow!U136,CashFlow!U128,CashFlow!U139,+CashFlow!U155))","v":0},null,null,0,0,null,null,null,null,null,null,null,null,null,null,null,null,null,null,null,{"$f":"SUM(H105,Q105,Y105)","v":0},{"$f":"SUM(I105,R105,Z105)","v":0},0,0,0,0,0]
[1,"CP124",null,null,null,"Higher education institutions",null,{"$f":"(CashFlow!J144)","v":0},{"$f":"(CashFlow!L144)","v":0},{"$f":"(CashFlow!N144)","v":0},{"$f":"(CashFlow!P144)","v":0},{"$f":"(CashFlow!R144)","v":0},{"$f":"(CashFlow!T144)","v":0},{"$f":"(CashFlow!U144)","v":0},null,null,0,0,null,null,null,null,null,null,null,null,null,null,null,null,null,null,null,{"$f":"SUM(H106,Q106,Y106)","v":0},0,0,0,0,0,0]
[1,"CP125",null,null,null,"Foreign governments and international organisations",null,{"$f":"(CashFlow!J145)","v":0},{"$f":"(CashFlow!L145)","v":0},{"$f":"(CashFlow!N145)","v":0},{"$f":"(CashFlow!P145)","v":0},{"$f":"(CashFlow!R145)","v":0},{"$f":"(CashFlow!T145)","v":0},{"$f":"(CashFlow!U145)","v":0},null,null,0,0,null,null,null,null,null,null,null,null,null,null,null,null,null,null,null,{"$f":"SUM(H107,Q107,Y107)","v":0},0,0,0,0,0,0]
[1,"CP126",null,null,null,"Public corporations and private enterprises",null,{"$f":"SUM(H109,H111)","v":0},0,0,{"$f":"SUM(K109,K111)","v":0},0,0,0,null,null,{"$f":"SUM(Q109,Q111)","v":0},{"$f":"SUM(R109,R111)","v":0},0,0,0,0,0,null,{"$f":"SUM(Y109,Y111)","v":0},0,0,0,0,0,0,null,null,{"$f":"SUM(AH109,AH111)","v":0},{"$f":"SUM(AI109,AI111)","v":0},0,0,0,0,0]
[1,"CP1261",null,null,null,"Public corporations",null,{"$f":"SUM(H110:H110)","v":0},0,0,0,0,0,0,null,null,{"$f":"SUM(Q110:Q110)","v":0},0,0,0,0,0,0,null,0,0,0,0,0,0,0,null,null,{"$f":"SUM(AH110:AH110)","v":0},0,0,0,0,0,0]
[1,"CP12611",null,null,null,"Subsidies on products and production (pc)",null,{"$f":"SUM(CashFlow!J130,CashFlow!J141)","v":0},{"$f":"SUM(CashFlow!L130,CashFlow!L141)","v":0},{"$f":"SUM(CashFlow!N130,CashFlow!N141)","v":0},{"$f":"SUM(CashFlow!P130,CashFlow!P141)","v":0},{"$f":"SUM(CashFlow!R130,CashFlow!R141)","v":0},{"$f":"SUM(CashFlow!T130,CashFlow!T141)","v":0},{"$f":"SUM(CashFlow!U130,CashFlow!U141)","v":0},null,null,0,0,null,null,null,null,null,null,null,null,null,null,null,null,null,null,null,{"$f":"SUM(H110,Q110,Y110)","v":0},{"$f":"SUM(I110,R110,Z110)","v":0},0,0,0,0,0]
[1,"CP1262",null,null,null,"Private enterprises",null,{"$f":"SUM(H112:H112)","v":0},0,0,0,0,0,0,null,null,{"$f":"SUM(Q112:Q112)","v":0},0,0,0,0,0,0,null,0,0,0,0,0,0,0,null,null,{"$f":"SUM(AH112:AH112)","v":0},0,0,0,0,0,0]
[1,"CP12621",null,null,null,"Subsidies on products and production (pe)",null,{"$f":"SUM(CashFlow!J131,CashFlow!J142)","v":0},{"$f":"SUM(CashFlow!L131,CashFlow!L142)","v":0},{"$f":"SUM(CashFlow!N131,CashFlow!N142)","v":0},{"$f":"SUM(CashFlow!P131,CashFlow!P142)","v":0},{"$f":"SUM(CashFlow!R131,CashFlow!R142)","v":0},{"$f":"SUM(CashFlow!T131,CashFlow!T142)","v":0},{"$f":"SUM(CashFlow!U131,CashFlow!U142)","v":0},null,null,0,0,null,null,null,null,null,null,null,null,null,null,null,null,null,null,null,{"$f":"SUM(H112,Q112,Y112)","v":0},{"$f":"SUM(I112,R112,Z112)","v":0},0,0,0,0,0]
[1,"CP127",null,null,null,"Non-profit institutions",null,{"$f":"(CashFlow!J146)","v":0},{"$f":"(CashFlow!L146)","v":0},{"$f":"(CashFlow!N146)","v":0},{"$f":"(CashFlow!P146)","v":0},{"$f":"(CashFlow!R146)","v":0},{"$f":"(CashFlow!T146)","v":0},{"$f":"(CashFlow!U146)","v":0},null,null,0,0,null,null,null,null,null,null,null,null,null,null,null,null,null,null,null,{"$f":"SUM(H113,Q113,Y113)","v":0},0,0,0,0,0,0]
[1,"CP128",null,null,null,"Households",null,{"$f":"SUM(H115:H116)","v":0},0,0,{"$f":"SUM(K115:K116)","v":0},0,0,0,null,null,{"$f":"SUM(Q115:Q116)","v":0},{"$f":"SUM(R115:R116)","v":0},0,0,0,0,0,null,{"$f":"SUM(Y115:Y116)","v":0},0,0,0,0,0,0,null,null,{"$f":"SUM(AH115:AH116)","v":0},{"$f":"SUM(AI115:AI116)","v":0},0,0,0,0,0]
[1,"CP1281",null,null,null,"Social benefits",null,{"$f":"(CashFlow!J148)","v":0},{"$f":"(CashFlow!L148)","v":0},{"$f":"(CashFlow!N148)","v":0},{"$f":"(CashFlow!P148)","v":0},{"$f":"(CashFlow!R148)","v":0},{"$f":"(CashFlow!T148)","v":0},{"$f":"(CashFlow!U148)","v":0},null,null,0,0,null,null,null,null,null,null,null,null,null,null,null,null,null,null,null,{"$f":"SUM(H115,Q115,Y115)","v":0},{"$f":"SUM(I115,R115,Z115)","v":0},0,0,0,0,0]
[1,"CP1282",null,null,null,"Other transfers to households",null,{"$f":"SUM(CashFlow!J149+CashFlow!J132+CashFlow!J143)","v":0},{"$f":"SUM(CashFlow!L149+CashFlow!L132+CashFlow!L143)","v":0},{"$f":"SUM(CashFlow!N149+CashFlow!N132+CashFlow!N143)","v":0},{"$f":"SUM(CashFlow!P149+CashFlow!P132+CashFlow!P143)","v":0},{"$f":"SUM(CashFlow!R149+CashFlow!R132+CashFlow!R143)","v":0},{"$f":"SUM(CashFlow!T149+CashFlow!T132+CashFlow!T143)","v":0},{"$f":"SUM(CashFlow!U149+CashFlow!U132+CashFlow!U143)","v":0},null,null,0,0,null,null,null,null,null,null,null,null,null,null,null,null,null,null,null,{"$f":"SUM(H116,Q116,Y116)","v":0},0,0,0,0,0,0]
[1,"CP13",null,null,null,"Payments for capital assets",null,{"$f":"SUM(H118,H121,SUM(H124:H127))","v":0},0,0,0,0,0,0,null,null,{"$f":"SUM(Q118,Q121,SUM(Q124:Q127))","v":0},{"$f":"SUM(R118,R121,SUM(R124:R127))","v":0},0,0,0,0,0,null,{"$f":"SUM(Y118,Y121,SUM(Y124:Y127))","v":0},0,0,0,0,0,0,null,null,{"$f":"SUM(AH118,AH121,SUM(AH124:AH127))","v":0},{"$f":"SUM(AI118,AI121,SUM(AI124:AI127))","v":0},0,0,0,0,0]
[1,"CP131",null,null,null,"Buildings and other fixed structures",null,{"$f":"SUM(H119:H120)","v":0},0,0,0,0,0,0,null,null,{"$f":"SUM(Q119:Q120)","v":0},{"$f":"SUM(R119:R120)","v":0},0,0,0,0,0,null,{"$f":"SUM(Y119:Y120)","v":0},0,0,0,0,0,0,null,null,{"$f":"SUM(AH119:AH120)","v":0},{"$f":"SUM(AI119:AI120)","v":0},0,0,0,0,0]
[1,"CP1311",null,null,null,"Buildings",null,{"$f":"-(SUM(CashFlow!J170:J171,CashFlow!J182))","v":0},{"$f":"-(SUM(CashFlow!L170:L171,CashFlow!L182))","v":0},{"$f":"-(SUM(CashFlow!N170:N171,CashFlow!N182))","v":0},{"$f":"-(SUM(CashFlow!P170:P171,CashFlow!P182))","v":0},{"$f":"-(SUM(CashFlow!R170:R171,CashFlow!R182))","v":0},{"$f":"-(SUM(CashFlow!T170:T171,CashFlow!T182))","v":0},{"$f":"-(SUM(CashFlow!U170:U171,CashFlow!U182))","v":0},null,null,0,0,null,null,null,null,null,null,null,null,null,null,null,null,null,null,null,{"$f":"SUM(H119,Q119,Y119)","v":0},{"$f":"SUM(I119,R119,Z119)","v":0},0,0,0,0,0]
[1,"CP1312",null,null,null,"Other fixed structures",null,{"$f":"-(CashFlow!J172)","v":0},{"$f":"-(CashFlow!L172)","v":0},{"$f":"-(CashFlow!N172)","v":0},{"$f":"-(CashFlow!P172)","v":0},{"$f":"-(CashFlow!R172)","v":0},{"$f":"-(CashFlow!T172)","v":0},{"$f":"-(CashFlow!U172)","v":0},null,null,0,0,null,null,null,null,null,null,null,null,null,null,null,null,null,null,null,{"$f":"SUM(H120,Q120,Y120)","v":0},0,0,0,0,0,0]
[1,"CP132",null,null,null,"Machinery and equipment",null,{"$f":"SUM(H122:H123)","v":0},0,0,{"$f":"SUM(K122:K123)","v":0},0,0,0,null,null,{"$f":"SUM(Q122:Q123)","v":0},{"$f":"SUM(R122:R123)","v":0},0,0,0,0,0,null,{"$f":"SUM(Y122:Y123)","v":0},0,0,0,0,0,0,null,null,{"$f":"SUM(AH122:AH123)","v":0},{"$f":"SUM(AI122:AI123)","v":0},0,0,0,0,0]
[1,"CP1321",null,null,null,"Transport equipment",null,{"$f":"-(CashFlow!J173)","v":0},{"$f":"-(CashFlow!L173)","v":0},{"$f":"-(CashFlow!N173)","v":0},{"$f":"-(CashFlow!P173)","v":0},{"$f":"-(CashFlow!R173)","v":0},{"$f":"-(CashFlow!T173)","v":0},{"$f":"-(CashFlow!U173)","v":0},null,null,0,0,null,null,null,null,null,null,null,null,null,null,null,null,null,null,null,{"$f":"SUM(H122,Q122,Y122)","v":0},{"$f":"SUM(I122,R122,Z122)","v":0},{"$f":"SUM(J122,S122,AA122)","v":0},{"$f":"SUM(K122,T122,AB122)","v":0},{"$f":"SUM(L122,U122,AC122)","v":0},{"$f":"SUM(M122,V122,AD122)","v":0},{"$f":"SUM(N122,W122,AE122)","v":0}]
[1,"CP1322",null,null,null,"Other machinery and equipment",null,{"$f":"-(SUM(CashFlow!J174:J175,CashFlow!J181))","v":0},{"$f":"-(SUM(CashFlow!L174:L175,CashFlow!L181))","v":0},{"$f":"-(SUM(CashFlow!N174:N175,CashFlow!N181))","v":0},{"$f":"-(SUM(CashFlow!P174:P175,CashFlow!P181))","v":0},{"$f":"-(SUM(CashFlow!R174:R175,CashFlow!R181))","v":0},{"$f":"-(SUM(CashFlow!T174:T175,CashFlow!T181))","v":0},{"$f":"-(SUM(CashFlow!U174:U175,CashFlow!U181))","v":0},null,null,0,0,null,null,null,null,null,null,null,null,null,null,null,null,null,null,null,0,0,0,0,0,0,0]
[1,"CP133",null,null,null,"Heritage assets",null,{"$f":"-(CashFlow!J176)","v":0},{"$f":"-(CashFlow!L176)","v":0},{"$f":"-(CashFlow!N176)","v":0},{"$f":"-(CashFlow!P176)","v":0},{"$f":"-(CashFlow!R176)","v":0},{"$f":"-(CashFlow!T176)","v":0},{"$f":"-(CashFlow!U176)","v":0},null,null,0,0,null,null,null,null,null,null,null,null,null,null,null,null,null,null,null,0,0,0,0,0,0,0]
[1,"CP135",null,null,null,"Biological assets",null,{"$f":"-(CashFlow!J179)","v":0},{"$f":"-(CashFlow!L179)","v":0},{"$f":"-(CashFlow!N179)","v":0},{"$f":"-(CashFlow!P179)","v":0},{"$f":"-(CashFlow!R179)","v":0},{"$f":"-(CashFlow!T179)","v":0},{"$f":"-(CashFlow!U179)","v":0},null,null,0,0,null,null,null,null,null,null,null,null,null,null,null,null,null,null,null,0,0,0,0,0,0,0]
[1,"CP136",null,null,null,"Land and sub-soil assets",null,{"$f":"-(CashFlow!J180)","v":0},{"$f":"-(CashFlow!L180)","v":0},{"$f":"-(CashFlow!N180)","v":0},{"$f":"-(CashFlow!P180)","v":0},{"$f":"-(CashFlow!R180)","v":0},{"$f":"-(CashFlow!T180)","v":0},{"$f":"-(CashFlow!U180)","v":0},null,null,0,0,null,null,null,null,null,null,null,null,null,null,null,null,null,null,null,0,0,0,0,0,0,0]
[1,"CP137",null,null,null,"Software and other intangible assets",null,{"$f":"-(CashFlow!J183)","v":0},{"$f":"-(CashFlow!L183)","v":0},{"$f":"-(CashFlow!N183)","v":0},{"$f":"-(CashFlow!P183)","v":0},{"$f":"-(CashFlow!R183)","v":0},{"$f":"-(CashFlow!T183)","v":0},{"$f":"-(CashFlow!U183)","v":0},null,null,0,0,null,null,null,null,null,null,null,null,null,null,null,null,null,null,null,0,0,0,0,0,0,0]
[1,"CP14",null,null,null,"Payments for financial assets",null,{"$f":"SUM(CashFlow!J150,-CashFlow!J158)","v":0},{"$f":"SUM(CashFlow!L150,-CashFlow!L158)","v":0},{"$f":"SUM(CashFlow!N150,-CashFlow!N158)","v":0},{"$f":"SUM(CashFlow!P150,-CashFlow!P158)","v":0},{"$f":"SUM(CashFlow!R150,-CashFlow!R158)","v":0},{"$f":"SUM(CashFlow!T150,-CashFlow!T158)","v":0},{"$f":"SUM(CashFlow!U150,-CashFlow!U158)","v":0},null,null,0,0,null,null,null,null,null,null,null,null,null,null,null,null,null,null,null,0,0,0,0,0,0,0]
[1,"CP1",null,null,null,"Total expenditure",null,{"$f":"SUM(H42,H97,H117,H128)","v":0},0,0,{"$f":"SUM(K42,K97,K117,K128)","v":0},0,0,0,null,null,{"$f":"SUM(Q42,Q97,Q117,Q128)","v":0},0,0,0,0,0,0,null,{"$f":"SUM(Y42,Y97,Y117,Y128)","v":0},0,0,0,0,0,0,null,null,{"$f":"SUM(AH42,AH97,AH117,AH128)","v":0},{"$f":"SUM(AI42,AI97,AI117,AI128)","v":0},0,0,0,0,0]
[1,"SD1",null,null,null,"Surplus/deficit",null,{"$f":"H40-H129","v":0},0,0,{"$f":"K40-K129","v":0},0,0,0,null,null,{"$f":"Q40-Q129","v":0},0,0,0,0,0,0,null,{"$f":"Y40-Y129","v":0},0,0,0,0,0,0,null,null,{"$f":"AH40-AH129","v":0},{"$f":"AI40-AI129","v":0},0,0,0,0,0]
[]
[null,null,null,null,null,"Check "]
[null,null,null,null,null,"Receipts",null,{"$f":"ROUND($H$40-(CashFlow!$J$12+CashFlow!$J$163+CashFlow!$J$184+CashFlow!$J$196),0)","v":0},{"$f":"ROUND($I$40-(CashFlow!$L$12+CashFlow!$L$163+CashFlow!$L$184+CashFlow!$L$196),0)","v":0},{"$f":"ROUND($J$40-(CashFlow!$N$12+CashFlow!$N$163+CashFlow!$N$184+CashFlow!$N$196),0)","v":0},{"$f":"ROUND($K$40-(CashFlow!$P$12+CashFlow!$P$163+CashFlow!$P$184+CashFlow!$P$196),0)","v":0},{"$f":"ROUND($L$40-(CashFlow!$R$12+CashFlow!$R$163+CashFlow!$R$184+CashFlow!$R$196),0)","v":0},{"$f":"ROUND($M$40-(CashFlow!$T$12+CashFlow!$T$163+CashFlow!$T$184+CashFlow!$T$196),0)","v":0},{"$f":"$N$40-(CashFlow!$U$12+CashFlow!$U$163+CashFlow!$U$184+CashFlow!$U$196)","v":0}]
[null,"CP000",null,null,null,"Payments",null,{"$f":"ROUND($H$129-CashFlow!$J$58+CashFlow!$J$158+CashFlow!$J$169+CashFlow!$J$182+CashFlow!$J$183,0)","v":0},{"$f":"ROUND($I$129-CashFlow!$L$58+CashFlow!$L$158+CashFlow!$L$169+CashFlow!$L$182+CashFlow!$L$183,0)","v":0},{"$f":"ROUND($J$129-CashFlow!$N$58+CashFlow!$N$158+CashFlow!$N$169+CashFlow!$N$182+CashFlow!$N$183,0)","v":0},{"$f":"ROUND($K$129-CashFlow!$P$58+CashFlow!$P$158+CashFlow!$P$169+CashFlow!$P$182+CashFlow!$P$183,0)","v":0},{"$f":"ROUND($L$129-CashFlow!$R$58+CashFlow!$R$158+CashFlow!$R$169+CashFlow!$R$182+CashFlow!$R$183,0)","v":0},{"$f":"ROUND($M$129-CashFlow!$T$58+CashFlow!$T$158+CashFlow!$T$169+CashFlow!$T$182+CashFlow!$T$183,0)","v":0},{"$f":"ROUND($N$129-CashFlow!$U$58+CashFlow!$U$158+CashFlow!$U$169+CashFlow!$U$182+CashFlow!$U$183,0)","v":0}]

{"sheet":"SOSUC","index":36,"n_rows":51,"n_cols":15,"rows_kept":51,"cut":false,"hidden":true,"merged":[[7,10,7,11],[8,13,8,14]]}
[]
[]
[]
[]
[]
[null,null,null,null,null,"PE No",{"$f":"Settings!O2","v":"PE196"}]
[null,null,null,null,null,"Entity name",{"$f":"Settings!D2","v":"Transnet Limited"}]
[null,null,null,null,null,"Statement of Sources and Uses of Cash",null,{"$f":"MyYearM3","v":"2019/20"},{"$f":"MyYearM2","v":"2020/21"},{"$f":"MyYearM1","v":"2021/22"},{"$f":"MyYear0","v":"2022/23"},null,{"$f":"MyYearP1","v":"2023/24"},{"$f":"MyYearP2","v":"2024/25"},{"$f":"MyYearP3","v":"2025/26"}]
[null,"ItemCode",null,null,null,"R thousands",null,"Outcomes","Outcomes","Outcomes","Budget Estimate","Revised Estimate","Budget Estimate","Medium term estimates"]
[null,"FI1",null,null,null,"Revenue cash flows",null,{"$f":"SUM(H11:H12,H15)","v":0},{"$f":"SUM(I11:I12,I15)","v":0},0,0,0,0,0,0]
[null,"FI11",null,null,null,"Taxes",null,{"$f":"CashFlow!J13","v":0},{"$f":"CashFlow!L13","v":0},{"$f":"CashFlow!N13","v":0},{"$f":"CashFlow!O13","v":0},{"$f":"CashFlow!P13","v":0},{"$f":"CashFlow!R13","v":0},{"$f":"CashFlow!T13","v":0},{"$f":"CashFlow!U13","v":0}]
[null,"FI12",null,null,null,"Transfers",null,{"$f":"SUM(H13:H14)","v":0},{"$f":"SUM(I13:I14)","v":0},0,0,0,0,0,0]
[null,"FI121",null,null,null,"Social contributions",null,{"$f":"CashFlow!J31","v":0},{"$f":"CashFlow!L31","v":0},{"$f":"CashFlow!N31","v":0},{"$f":"CashFlow!O31","v":0},{"$f":"CashFlow!P31","v":0},{"$f":"CashFlow!R31","v":0},{"$f":"CashFlow!T31","v":0},{"$f":"CashFlow!U31","v":0}]
[null,"FI122",null,null,null,"Other transfers",null,{"$f":"SUM(CashFlow!J32,CashFlow!J36,CashFlow!J45:J47,CashFlow!J197)","v":0},{"$f":"SUM(CashFlow!L32,CashFlow!L36,CashFlow!L45:L47,CashFlow!L197)","v":0},{"$f":"SUM(CashFlow!N32,CashFlow!N36,CashFlow!N45:N47,CashFlow!N197)","v":0},{"$f":"SUM(CashFlow!O32,CashFlow!O36,CashFlow!O45:O47,CashFlow!O197)","v":0},{"$f":"SUM(CashFlow!P32,CashFlow!P36,CashFlow!P45:P47,CashFlow!P197)","v":0},{"$f":"SUM(CashFlow!R32,CashFlow!R36,CashFlow!R45:R47,CashFlow!R197)","v":0},{"$f":"SUM(CashFlow!T32,CashFlow!T36,CashFlow!T45:T47,CashFlow!T197)","v":0},{"$f":"SUM(CashFlow!U32,CashFlow!U36,CashFlow!U45:U47,CashFlow!U197)","v":0}]
[null,"FI13",null,null,null,"Other receipts not from sale of capital assets",null,{"$f":"SUM(H16:H18)","v":0},{"$f":"SUM(I16:I18)","v":0},0,0,0,0,0,0]
[null,"FI131",null,null,null,"Sales of goods and services",null,{"$f":"CashFlow!J15+CashFlow!J198","v":0},{"$f":"CashFlow!L15+CashFlow!L198","v":0},{"$f":"CashFlow!N15+CashFlow!N198","v":0},{"$f":"CashFlow!O15+CashFlow!O198","v":0},{"$f":"CashFlow!P15+CashFlow!P198","v":0},{"$f":"CashFlow!R15+CashFlow!R198","v":0},{"$f":"CashFlow!T15+CashFlow!T198","v":0},{"$f":"CashFlow!U15+CashFlow!U198","v":0}]
[null,"FI132",null,null,null,"Interest, dividends and rent on land",null,{"$f":"CashFlow!J49+CashFlow!J57","v":0},{"$f":"CashFlow!L49+CashFlow!L57","v":0},{"$f":"CashFlow!N49+CashFlow!N57","v":0},{"$f":"CashFlow!O49+CashFlow!O57","v":0},{"$f":"CashFlow!P49+CashFlow!P57","v":0},{"$f":"CashFlow!R49+CashFlow!R57","v":0},{"$f":"CashFlow!T49+CashFlow!T57","v":0},{"$f":"CashFlow!U49+CashFlow!U57","v":0}]
[null,"FI133",null,null,null,"Other  ",null,{"$f":"SUM(CashFlow!J48,CashFlow!J53,CashFlow!J56,CashFlow!J163)","v":0},{"$f":"SUM(CashFlow!L48,CashFlow!L53,CashFlow!L56,CashFlow!L163)","v":0},{"$f":"SUM(CashFlow!N48,CashFlow!N53,CashFlow!N56,CashFlow!N163)","v":0},{"$f":"SUM(CashFlow!O48,CashFlow!O53,CashFlow!O56,CashFlow!O163)","v":0},{"$f":"SUM(CashFlow!P48,CashFlow!P53,CashFlow!P56,CashFlow!P163)","v":0},{"$f":"SUM(CashFlow!R48,CashFlow!R53,CashFlow!R56,CashFlow!R163)","v":0},{"$f":"SUM(CashFlow!T48,CashFlow!T53,CashFlow!T56,CashFlow!T163)","v":0},{"$f":"SUM(CashFlow!U48,CashFlow!U53,CashFlow!U56,CashFlow!U163)","v":0}]
[null,"FI2",null,null,null,"Expense cash flows",null,{"$f":"SUM(H20:H23,H26)","v":0},{"$f":"SUM(I20:I23,I26)","v":0},0,0,0,0,0,0]
[null,"FI24",null,null,null,"Compensation of employees",null,{"$f":"CashFlow!J60","v":0},{"$f":"CashFlow!L60","v":0},{"$f":"CashFlow!N60","v":0},{"$f":"CashFlow!O60","v":0},{"$f":"CashFlow!P60","v":0},{"$f":"CashFlow!R60","v":0},{"$f":"CashFlow!T60","v":0},{"$f":"CashFlow!U60","v":0}]
[null,"FI25",null,null,null,"Purchases of goods and services",null,{"$f":"CashFlow!J63","v":0},{"$f":"CashFlow!L63","v":0},{"$f":"CashFlow!N63","v":0},{"$f":"CashFlow!O63","v":0},{"$f":"CashFlow!P63","v":0},{"$f":"CashFlow!R63","v":0},{"$f":"CashFlow!T63","v":0},{"$f":"CashFlow!U63","v":0}]
[null,"FI26",null,null,null,"Interest, dividends, rent on land",null,{"$f":"CashFlow!J117+CashFlow!J156","v":0},{"$f":"CashFlow!L117+CashFlow!L156","v":0},{"$f":"CashFlow!N117+CashFlow!N156","v":0},{"$f":"CashFlow!O117+CashFlow!O156","v":0},{"$f":"CashFlow!P117+CashFlow!P156","v":0},{"$f":"CashFlow!R117+CashFlow!R156","v":0},{"$f":"CashFlow!T117+CashFlow!T156","v":0},{"$f":"CashFlow!U117+CashFlow!U156","v":0}]
[null,"FI27",null,null,null,"Transfers",null,{"$f":"SUM(H24:H25)","v":0},{"$f":"SUM(I24:I25)","v":0},0,0,0,0,0,0]
[null,"FI271",null,null,null,"Social benefits",null,{"$f":"CashFlow!J148","v":0},{"$f":"CashFlow!L148","v":0},{"$f":"CashFlow!N148","v":0},{"$f":"CashFlow!O148","v":0},{"$f":"CashFlow!P148","v":0},{"$f":"CashFlow!R148","v":0},{"$f":"CashFlow!T148","v":0},{"$f":"CashFlow!U148","v":0}]
[null,"FI272",null,null,null,"Other transfers",null,{"$f":"SUM(CashFlow!J121-CashFlow!J148)","v":0},{"$f":"SUM(CashFlow!L121-CashFlow!L148)","v":0},{"$f":"SUM(CashFlow!N121-CashFlow!N148)","v":0},{"$f":"SUM(CashFlow!O121-CashFlow!O148)","v":0},{"$f":"SUM(CashFlow!P121-CashFlow!P148)","v":0},{"$f":"SUM(CashFlow!R121-CashFlow!R148)","v":0},{"$f":"SUM(CashFlow!T121-CashFlow!T148)","v":0},{"$f":"SUM(CashFlow!U121-CashFlow!U148)","v":0}]
[null,"FI28",null,null,null,"Other payments",null,{"$f":"SUM(CashFlow!J155,-CashFlow!J158,CashFlow!J150)","v":0},{"$f":"SUM(CashFlow!L155,-CashFlow!L158,CashFlow!L150)","v":0},{"$f":"SUM(CashFlow!N155,-CashFlow!N158,CashFlow!N150)","v":0},{"$f":"SUM(CashFlow!O155,-CashFlow!O158,CashFlow!O150)","v":0},{"$f":"SUM(CashFlow!P155,-CashFlow!P158,CashFlow!P150)","v":0},{"$f":"SUM(CashFlow!R155,-CashFlow!R158,CashFlow!R150)","v":0},{"$f":"SUM(CashFlow!T155,-CashFlow!T158,CashFlow!T150)","v":0},{"$f":"SUM(CashFlow!U155,-CashFlow!U158,CashFlow!U150)","v":0}]
[null,"FI3",null,null,null,"Net cash inflow from operating activities",null,{"$f":"H10-H19","v":0},{"$f":"I10-I19","v":0},0,0,0,0,0,0]
[null,"FI4",null,null,null,"Cash Flows from Transactions in Nonfinancial Assets:"]
[null,"FI41",null,null,null,"Net cash outflow from investment in nonfinancial assets1 ",null,{"$f":"SUM(H30:H33)","v":0},0,0,0,0,0,0,0]
[null,"FI411",null,null,null,"Fixed assets",null,{"$f":"CashFlow!J169-CashFlow!J180+CashFlow!J182+CashFlow!J183","v":0},{"$f":"CashFlow!L169-CashFlow!L180+CashFlow!L182+CashFlow!L183","v":0},{"$f":"CashFlow!N169-CashFlow!N180+CashFlow!N182+CashFlow!N183","v":0},{"$f":"CashFlow!O169-CashFlow!O180+CashFlow!O182+CashFlow!O183","v":0},{"$f":"CashFlow!P169-CashFlow!P180+CashFlow!P182+CashFlow!P183","v":0},{"$f":"CashFlow!R169-CashFlow!R180+CashFlow!R182+CashFlow!R183","v":0},{"$f":"CashFlow!T169-CashFlow!T180+CashFlow!T182+CashFlow!T183","v":0},{"$f":"CashFlow!U169-CashFlow!U180+CashFlow!U182+CashFlow!U183","v":0}]
[null,"FI412",null,null,null,"Inventories2"]
[null,"FI413",null,null,null,"Nonproduced assets",null,{"$f":"CashFlow!J180","v":0},{"$f":"CashFlow!L180","v":0},{"$f":"CashFlow!N180","v":0},{"$f":"CashFlow!O180","v":0},{"$f":"CashFlow!P180","v":0},{"$f":"CashFlow!R180","v":0},{"$f":"CashFlow!T180","v":0},{"$f":"CashFlow!U180","v":0}]
[null,"FI414",null,null,null,"Sales of non-financial assets",null,{"$f":"CashFlow!J184","v":0},{"$f":"CashFlow!L184","v":0},{"$f":"CashFlow!N184","v":0},{"$f":"CashFlow!O184","v":0},{"$f":"CashFlow!P184","v":0},{"$f":"CashFlow!R184","v":0},{"$f":"CashFlow!T184","v":0},{"$f":"CashFlow!U184","v":0}]
[null,"FI5",null,null,null,"Expenditure cash flows",null,{"$f":"SUM(H19,H30:H33)","v":0},0,0,0,0,0,0,0]
[null,"FI6",null,null,null,"Cash surplus/deficit",null,{"$f":"H10-H19+H29","v":0},0,0,0,0,0,0,0]
[null,0,null,null,null,"Check",null,{"$f":"H35-Consolidation!H130","v":0},{"$f":"I35-Consolidation!I130","v":0},{"$f":"J35-Consolidation!J130","v":0},null,{"$f":"L35-Consolidation!K130","v":0},{"$f":"M35-Consolidation!L130","v":0},{"$f":"N35-Consolidation!M130","v":0},{"$f":"O35-Consolidation!N130","v":0}]
[null,"FI7",null,null,null,"Cash Flows from Transactions in Financial Assets and Liabilities (Financing): "]
[null,"FI71",null,null,null,"Net acquisition of financial assets other than cash",null,{"$f":"SUM(H39:H40)","v":0},{"$f":"SUM(I39:I40)","v":0},{"$f":"SUM(J39:J40)","v":0},0,0,0,0,0]
[null,"FI711",null,null,null,"Domestic3",null,{"$f":"SUM(CashFlow!J186,CashFlow!J192:J194)","v":0},{"$f":"SUM(CashFlow!L186,CashFlow!L192:L194)","v":0},{"$f":"SUM(CashFlow!N186,CashFlow!N192:N194)","v":0},{"$f":"SUM(CashFlow!O186,CashFlow!O192:O194)","v":0},{"$f":"SUM(CashFlow!P186,CashFlow!P192:P194)","v":0},{"$f":"SUM(CashFlow!R186,CashFlow!R192:R194)","v":0},{"$f":"SUM(CashFlow!T186,CashFlow!T192:T194)","v":0},{"$f":"SUM(CashFlow!U186,CashFlow!U192:U194)","v":0}]
[null,"FI712",null,null,null,"External3",null,{"$f":"CashFlow!J189","v":0},{"$f":"CashFlow!L189","v":0},{"$f":"CashFlow!N189","v":0},{"$f":"CashFlow!O189","v":0},{"$f":"CashFlow!P189","v":0},{"$f":"CashFlow!R189","v":0},{"$f":"CashFlow!T189","v":0},{"$f":"CashFlow!U189","v":0}]
[null,"FI72",null,null,null,"Net incurrance of liabilities",null,{"$f":"SUM(H42:H43)","v":0},{"$f":"SUM(I42:I43)","v":0},0,0,0,0,0,0]
[null,"FI721",null,null,null,"Domestic3",null,{"$f":"SUM(CashFlow!J200,CashFlow!J211:J214)","v":0},{"$f":"SUM(CashFlow!L200,CashFlow!L211:L214)","v":0},{"$f":"SUM(CashFlow!N200,CashFlow!N211:N214)","v":0},{"$f":"SUM(CashFlow!O200,CashFlow!O211:O214)","v":0},{"$f":"SUM(CashFlow!P200,CashFlow!P211:P214)","v":0},{"$f":"SUM(CashFlow!R200,CashFlow!R211:R214)","v":0},{"$f":"SUM(CashFlow!T200,CashFlow!T211:T214)","v":0},{"$f":"SUM(CashFlow!U200,CashFlow!U211:U214)","v":0}]
[null,"FI722",null,null,null,"External3",null,{"$f":"CashFlow!J207","v":0},{"$f":"CashFlow!L207","v":0},{"$f":"CashFlow!N207","v":0},{"$f":"CashFlow!O207","v":0},{"$f":"CashFlow!P207","v":0},{"$f":"CashFlow!R207","v":0},{"$f":"CashFlow!T207","v":0},{"$f":"CashFlow!U207","v":0}]
[null,"FI8",null,null,null,"Net cash inflow from financing activities",null,{"$f":"SUM(H38,H41)","v":0},{"$f":"SUM(I38,I41)","v":0},0,0,0,0,0,0]
[null,"FI9",null,null,null,"Net change in the stock of cash",null,{"$f":"SUM(H35,H44)","v":0},{"$f":"SUM(I35,I44)","v":0},0,0,0,0,0,0]
[null,null,null,null,null,"Check",null,{"$f":"H45-CashFlow!J215","v":0},{"$f":"I45-CashFlow!L215","v":0},{"$f":"J45-CashFlow!N215","v":0},{"$f":"K45-CashFlow!O215","v":0},{"$f":"L45-CashFlow!P215","v":0},{"$f":"M45-CashFlow!R215","v":0},{"$f":"N45-CashFlow!T215","v":0},{"$f":"O45-CashFlow!U215","v":0}]
[]
[null,null,null,null,null,"Notes:"]
[null,null,null,null,null,"1. The net cash outﬂow from investment in nonﬁ nancial assets equals purchases minus sales."]
[null,null,null,null,null,"2. On a cash basis, the category inventories (C312) is limited to changes in strategic stocks. Other inventories are, by deﬁ nition of the cash basis of recording, considered an expense when acquired."]
[null,null,null,null,null,"3. Classiﬁed by instrument and/or sector of the counterparty "]

{"sheet":"Govt Acc financing table","index":37,"n_rows":33,"n_cols":15,"rows_kept":33,"cut":false,"hidden":true,"merged":[[7,10,7,11]]}
[]
[]
[]
[]
[]
[null,null,null,null,null,"PE No",{"$f":"Settings!O2","v":"PE196"}]
[null,null,null,null,null,"Entity name",{"$f":"Settings!D2","v":"Transnet Limited"}]
[null,null,null,null,null,"National Treasury Budget Review (Cash IS)",null,{"$f":"MyYearM3","v":"2019/20"},{"$f":"MyYearM2","v":"2020/21"},{"$f":"MyYearM1","v":"2021/22"},{"$f":"MyYear0","v":"2022/23"},{"$f":"MyYearP1","v":"2023/24"},{"$f":"MyYearP1","v":"2023/24"},{"$f":"MyYearP2","v":"2024/25"},{"$f":"MyYearP3","v":"2025/26"}]
[null,null,null,null,null,null,null,"Outcomes","Outcomes","Outcomes","Budget Estimate","Revised Estimate","Budget Estimate","Medium term estimates"]
[]
[null,null,null,null,null,"Cash receipts",null,{"$f":"SOSUC!H10+SOSUC!H33","v":0},{"$f":"SOSUC!I10+SOSUC!I33","v":0},{"$f":"SOSUC!J10+SOSUC!J33","v":0},{"$f":"SOSUC!K10+SOSUC!K33","v":0},{"$f":"SOSUC!L10+SOSUC!L33","v":0},{"$f":"SOSUC!M10+SOSUC!M33","v":0},{"$f":"SOSUC!N10+SOSUC!N33","v":0},{"$f":"SOSUC!O10+SOSUC!O33","v":0}]
[null,null,null,null,null,"Cash payments",null,{"$f":"SOSUC!H19-(SUM(SOSUC!H30:H32))","v":0},{"$f":"SOSUC!I19-(SUM(SOSUC!I30:I32))","v":0},{"$f":"SOSUC!J19-(SUM(SOSUC!J30:J32))","v":0},{"$f":"SOSUC!K19-(SUM(SOSUC!K30:K32))","v":0},{"$f":"SOSUC!L19-(SUM(SOSUC!L30:L32))","v":0},{"$f":"SOSUC!M19-(SUM(SOSUC!M30:M32))","v":0},{"$f":"SOSUC!N19-(SUM(SOSUC!N30:N32))","v":0},{"$f":"SOSUC!O19-(SUM(SOSUC!O30:O32))","v":0}]
[null,null,null,null,null,"Consolidated budget balance1",null,{"$f":"H11-H12","v":0},{"$f":"I11-I12","v":0},0,0,0,0,0,0]
[null,null,null,null,null,"Extra-ordinary payments2"]
[null,null,null,null,null,"Extra-ordinary receipts2"]
[null,null,null,null,null,"Consolidated borrowing requirement",null,{"$f":"SUM(H13:H15)","v":0},{"$f":"SUM(I13:I15)","v":0},0,0,0,0,0,0]
[]
[null,null,null,null,null,"Financing"]
[]
[null,null,null,null,null,"Net Financing",null,{"$f":"SUM(H21)","v":0},{"$f":"SUM(I21)","v":0},0,0,0,0,0,0]
[null,null,null,null,null,"Borrowing Activities",null,{"$f":"SUM(H22:H23)","v":0},{"$f":"SUM(I22:I23)","v":0},{"$f":"SUM(J22:J23)","v":0},0,0,0,0,0]
[null,null,null,null,null,"Domestic loans (net)3",null,{"$f":"SOSUC!H39+SOSUC!H42","v":0},{"$f":"SOSUC!I39+SOSUC!I42","v":0},{"$f":"SOSUC!J39+SOSUC!J42","v":0},{"$f":"SOSUC!K39+SOSUC!K42","v":0},{"$f":"SOSUC!L39+SOSUC!L42","v":0},{"$f":"SOSUC!M39+SOSUC!M42","v":0},{"$f":"SOSUC!N39+SOSUC!N42","v":0},{"$f":"SOSUC!O39+SOSUC!O42","v":0}]
[null,null,null,null,null,"Foreign loans (net)3",null,{"$f":"SOSUC!H40+SOSUC!H43","v":0},{"$f":"SOSUC!I40+SOSUC!I43","v":0},{"$f":"SOSUC!J40+SOSUC!J43","v":0},{"$f":"SOSUC!K40+SOSUC!K43","v":0},{"$f":"SOSUC!L40+SOSUC!L43","v":0},{"$f":"SOSUC!M40+SOSUC!M43","v":0},{"$f":"SOSUC!N40+SOSUC!N43","v":0},{"$f":"SOSUC!O40+SOSUC!O43","v":0}]
[null,null,null,null,null,"Less: Change in cash and other balances(-consolidated borrowing requirement plus net financing)4",null,{"$f":"H16-H20","v":0},{"$f":"I16-I20","v":0},0,0,0,0,0,0]
[]
[null,null,null,null,null,"Total financing (net)",null,{"$f":"SUM(H20,H24)","v":0},{"$f":"SUM(I20,I24)","v":0},0,0,0,0,0,0]
[null,null,null,null,null,"Check",null,{"$f":"H16-H26","v":0},{"$f":"I16-I26","v":0},0,0,0,0,0,0]
[]
[null,null,null,null,null,"Notes:"]
[null,null,null,null,null,"1. This balance already includes acquistions of non-financial assets and deferred income.  In a cash environment these are expensed."]
[null,null,null,null,null,"2. These are payments and receipts outside of the normal government operations transactions.  Examples are privatisation income and FDIs"]
[null,null,null,null,null,"3. Net is equal to acqusitions plus (redemption)  of loans"]
[null,null,null,null,null,"4. Change in cash and other balances includes the investments (acquisition of financial assets)"]

{"sheet":"Sign-Off","index":38,"n_rows":46,"n_cols":6,"rows_kept":46,"cut":false,"hidden":false,"merged":[]}
[]
[]
[]
[null,null,null,null,null,{"$f":"Settings!O2","v":"PE196"}]
[null,null,null,null,null,{"$f":"Settings!D2","v":"Transnet Limited"}]
[]
[]
[]
[1]
[1]
[1]
[1]
[1]
[1]
[1]
[1]
[1]
[1]
[1,null,null,null,null,{"$f":"F5","v":"Transnet Limited"}]
[1]
[1]
[1]
[1,null,null,null,null,"I, …………………………………………………………………………………… , certify that"]
[1,null,null,null,null,"the information in this template is complete, true and accurate, and has been compiled in line with the requirements in the MTEC Guidelines: For the preparation of expenditure estimates for the 2023 Medium Term Expenditure Framework (MTEF)."]
[1]
[{"$f":"PersonnelPub!$A$43","v":0},null,null,null,null,"Performance Bonuses"]
[{"$f":"PersonnelPub!$A$43","v":0}]
[{"$f":"PersonnelPub!$A$43","v":0},null,null,null,null,"The entity has not captured the performance bonus expenditure on the Personnel sheet because there was no budget nor payments for such bonuses.  I hereby certify that this information is true and correct."]
[{"$f":"PersonnelPub!$A$43","v":0}]
[1,null,null,null,null,"Signed by: Accounting Officer/Authority/CEO ………………………………………………………………"]
[1]
[1,null,null,null,null,"Date: ………………………………………………………………"]
[1]
[1]
[1]
[1]
[1]
[1]
[1]
[1]
[1]
[1]
[1]
[1]
[1]
[1]

{"sheet":"Metadata","index":39,"n_rows":91,"n_cols":5,"rows_kept":91,"cut":false,"hidden":true,"merged":[[79,1,79,4],[18,1,25,1],[60,1,60,4],[1,1,1,3],[11,1,14,1],[15,1,17,1],[2,1,10,1]]}
[]
[null,"Metadata"]
[null,"ContextData","ProcessActivity","ENT_MTEC"]
[null,null,"Province","National"]
[null,null,"Department",{"$f":"Information!A14","v":"Transnet Limited"}]
[null,null,"PublicEntity",{"$f":"Information!A17","v":0}]
[null,null,"FinYear","2023/24"]
[null,null,"VoteNo",0]
[null,null,"Identifier",{"$f":"PENo","v":"PE196"}]
[null,null,"ProgSectionCount",{"$f":"COUNTA(Objectives)","v":15}]
[null,null,"SubprogSectionCount2","0"]
[null,"SourceRef","name",{"$f":"Information!C14","v":0}]
[null,null,"email",{"$f":"Information!C16","v":0}]
[null,null,"telephone",{"$f":"Information!C18","v":0}]
[null,null,"mobile"]
[null,"Platform","file modified",{"$f":"NOW()","v":44712.548218171294}]
[null,null,"OS version",{"$f":"INFO(\"OSVERSION\")","v":"Windows (64-bit) NT 6.03"}]
[null,null,"Excel version",{"$f":"INFO(\"RELEASE\")","v":"16.0"}]
[null,"SourceControl","SourceIdentifier",{"$f":"CONCATENATE(D3,\"_\",D9,\"_\",D16)","v":"ENT_MTEC_PE196_44712.5482181713"}]
[null,null,"Filename",{"$f":"MID(CELL(\"filename\",A1),FIND(\"[\",CELL(\"filename\",A1))+1,FIND(\"]\",CELL(\"filename\",A1))-FIND(\"[\",CELL(\"filename\",A1))-1)","v":"Transnet_MTEC_PE197.xlsm"}]
[null,null,"FilePath",{"$f":"LEFT(CELL(\"filename\",A1),FIND(\"[\",CELL(\"filename\",A1),1)-1)","v":"P:\\1. Budget\\2023\\1. MTEC\\Public Entities\\Distribution templates\\Public Enterprises\\"}]
[null,null,"template_versionDate","=DATE(2022,5,24)"]
[null,null,"LockDate1"]
[null,null,"lockDate2"]
[null,null,"LockStatus1"]
[null,null,"LockStatus2"]
[]
[]
[]
[]
[]
[]
[]
[]
[]
[]
[]
[]
[]
[]
[]
[]
[]
[]
[]
[]
[]
[]
[]
[]
[]
[]
[]
[]
[]
[]
[]
[]
[]
[]
[null,"Macros applied on the Template"]
[null,"Macro #","Reason/Description","Date","MacroFileName"]
[null,1]
[null,2]
[null,3]
[null,4]
[null,5]
[null,6]
[null,7]
[null,8]
[null,9]
[null,10]
[]
[]
[]
[]
[]
[]
[]
[null,"Macros for individual Entity"]
[null,"Macro #","Reason/Description","Date","MacroFileName"]
[null,1]
[null,2]
[null,3]
[null,4]
[null,5]
[null,6]
[null,7]
[null,8]
[null,9]
[null,10]